{"text_format":"1","workbook":"xlsx","n_sheets":10,"sheets":["CycleTime","DataSerch","ModelData","LeadData","StrokeData","MassDataLink","AccVelDataLink","Message","LangData","LangData_Model"],"not_rendered":{"charts":0,"images":3,"macros":1,"external_links":0,"defined_names":2,"comments":3,"pivot_tables":0},"unopened":[],"bounds":{"document_bytes":16777216,"sheet_cells":100000,"rows_first":2000,"rows_last":500,"rows_between":2000,"halvings":0,"cell_chars":16384,"cell_head_chars":4096},"cells_cut":0,"cells_raw":0,"read":"whole","date_system":"1900"}

{"sheet":"CycleTime","index":0,"n_rows":3231,"n_cols":48,"rows_kept":1125,"cut":true,"hidden":false,"merged":[[1,0,1,9],[24,2,24,9],[23,6,23,9],[0,11,0,43],[28,14,28,20],[8,11,8,12],[2,27,2,28],[3,27,3,28],[2,11,2,12],[7,11,7,12],[6,11,6,12],[9,11,9,12],[3,2,3,3],[5,11,5,12],[5,2,5,4],[13,11,13,12],[41,37,42,37],[35,25,36,25],[41,34,42,34],[41,29,42,29],[41,36,42,36],[41,32,42,32],[41,35,42,35],[41,33,42,33],[35,33,36,33],[35,30,36,30],[41,31,42,31],[35,29,36,29],[35,36,36,36],[4,11,4,12],[3,11,3,12],[15,1,15,2],[13,1,13,2],[10,11,10,12],[11,11,11,12],[28,44,28,47],[23,1,23,2],[17,1,17,2],[21,1,21,2],[19,6,21,7],[19,8,21,8],[35,24,36,24],[41,26,42,26],[41,30,42,30],[35,35,36,35],[35,34,36,34],[35,32,36,32],[35,31,36,31],[41,24,42,24],[30,23,30,24],[19,1,19,2],[43,22,44,22],[41,28,42,28],[35,28,36,28],[41,22,42,22],[41,27,42,27],[35,26,36,26],[41,23,42,23],[41,25,42,25],[35,27,36,27],[31,22,32,22],[37,22,38,22],[35,22,36,22],[35,23,36,23],[31,23,32,24]],"bounds":{"rows_first":500,"rows_last":125,"rows_between":500,"halvings":2}}
[null,null,null,null,null,null,null,null,null,null,null,"↓　W～AQ　「表示しない」列　↓　↓　W～AQ　「表示しない」列　↓　↓　W～AQ　「表示しない」列　↓　↓　W～AQ　「表示しない」列　↓　↓　W～AQ　「表示しない」列　↓　↓　W～AQ　「表示しない」列　↓　↓　W～AQ　「表示しない」列　↓　↓　W～AQ　「表示しない」列　↓　↓　W～AQ　「表示しない」列　↓　　↓　W～AQ　「表示しない」列　↓　",null,null,null,null,null,null,null,null,null,null,null,null,null,null,null,null,null,null,null,null,null,null,null,null,null,null,null,null,null,null,null,null,null,"残す列",null,"残す列"]
[{"$f":"Message!C5","v":"通过速度・加减速度・移动距离自动计算单轴机械手的定位时间（Cycle Time）。\n请在以下<a>～<e>项目中选择使用的产品。　在<1>～<5>中输入需要的运行条件。\n点击「最快运行设定」按钮后，将根据移动距离与负载质量，计算速度与加减速度。"},null,null,null,null,null,null,null,null,null,null,"参考表示"]
[null,null,null,null,null,null,null,null,null,null,null,"Vmax[㎜/s]",null,{"$f":"SQRT(D14*(2*N4*N5)/(N4+N5))","v":221.43452756966335},null,null,null,null,null,null,null,null,null,null,null,null,null,"feedforward",null,null,"物理計算用変換係数"]
["<a>",{"$f":"Message!C6","v":"系列"},"RCP3",null,null,null,null,null,null,null,null,{"$f":"IF(AE33=0,\"加速度[㎜/s^2]\",\"加速度[deg/s^2]\")","v":"加速度[㎜/s^2]"},null,{"$f":"D20*AH5*1000","v":1961.33},null,null,null,null,null,null,null,null,null,null,null,null,null,{"$f":"AF45/100","v":0},null,null,"ﾓｰﾀ軸角速度及び角加速度",null,null,"Ｇ"]
[null,null,null,null,null,null,null,null,null,null,null,{"$f":"IF(AE33=0,\"減速度[㎜/s^2]\",\"減速度[deg/s^2]\")","v":"減速度[㎜/s^2]"},null,{"$f":"D22*AH5*1000","v":1961.33},null,null,null,null,null,null,null,null,null,null,null,null,null,"Kf",{"$f":"IF( AB4=1,1,1-EXP(-((N11/(1-AB4))-N11)*N8) )","v":0},null,{"$f":"IF(AE33=0,1000,360/(2*PI()))","v":1000},null,null,{"$f":"LeadData!$A$1","v":9.8066499999999994}]
["<b>",{"$f":"Message!C7","v":"型号"},"RCP3-SA2AC-20P-*S",null,null,null,null,null,null,null,null,"最高速度[㎜/s]",null,{"$f":"IF(D18<N3,D18,N3)","v":50},null,null,null,null,null,null,null,null,null,null,null,null,null,null,null,null,null,null,null,null,null,null,null,null,null,null,"(Tkp+2Kf)",{"$f":"($N$8*$N$11+2*$AB$4)","v":1.2980475224152696E-2}]
[null,null,null,null,null,null,null,null,null,null,null,"分割数",null,{"$f":"ROUND(3200/(AP18+AP20*10)*AP18,0)","v":2429},null,null,null,null,null,null,null,null,null,null,null,null,null,null,null,null,null,null,null,null,null,null,null,null,null,null,"(Tkp-2Kf)",{"$f":"($N$8*$N$11-2*$AB$4)","v":1.2980475224152696E-2}]
["<c>",{"$f":"IF(AE33=0,Message!C8,Message!C9)","v":"导程"},1,{"$f":"IF(AE33=0,\"㎜\",\"：1\")","v":"㎜"},null,null,null,null,null,null,null,"⊿ｔ[s]",null,{"$f":"AT32-AT31","v":2.1634125373587828E-4},null,null,null,null,null,null,null,null,null,null,null,null,null,null,null,null,null,null,null,null,null,null,null,null,null,null,"(2+TKp)",{"$f":"(2+$N$8*$N$11)","v":2.0129804752241527}]
[null,null,null,null,null,null,null,null,null,null,null,"最終時刻[s]",null,{"$f":"AT3231","v":0.69229201195481049},null,null,null,null,null,null,null,null,null,null,null,null,null,null,null,null,null,null,null,null,null,null,null,null,null,null,"(2-TKp)",{"$f":"(2-$N$8*$N$11)","v":1.9870195247758473}]
["<d>",{"$f":"Message!C10","v":"行程"},25,"㎜",null,null,null,null,null,null,null,"最終位置[㎜]",null,{"$f":"AV3231","v":24.999980779621087},null,null,null,null,null,null,null,null,null,null,null,null,null,null,null,null,null,null,null,null,null,null,null,null,null,null,"減速時間",{"$f":"N6/N5","v":2.5492905324448208E-2},"s"]
[null,null,null,null,null,null,null,null,null,null,null,"位置ｹﾞｲﾝ",null,{"$f":"AE45","v":60},null,null,null,null,null,null,null,null,null,null,null,null,null,null,null,null,null,null,null,null,null,null,null,null,null,null,"減速距離",{"$f":"N5*AP10*AP10/2","v":0.63732263311120518},"㎜"]
["<e>",{"$f":"Message!C11","v":"安装姿态"},"水平",null,null,null,null,null,null,null,null,"速度制御帯域",null,{"$f":"AG45","v":800},null,null,null,null,null,null,null,null,null,null,null,null,null,null,null,null,null,null,null,null,null,null,null,null,null,null,"加速時間",{"$f":"N6/N4","v":2.5492905324448208E-2},"s"]
[null,null,null,null,null,null,null,null,null,null,null,null,null,null,null,null,null,null,null,null,null,null,null,null,null,null,null,null,null,null,null,null,null,null,null,null,null,null,null,null,"加速距離",{"$f":"N4*AP12*AP12/2","v":0.63732263311120518},"㎜"]
["<1>",{"$f":"IF(AE33=0,Message!C12,Message!C13)","v":"移动距离[mm]"},null,25,null,null,null,null,null,null,null,"移動可能距離[㎜]",null,{"$f":"X45+Y45","v":25},null,null,null,null,null,null,null,null,null,null,null,null,null,null,null,null,null,null,null,null,null,null,null,null,null,null,"等速時間",{"$f":"IF(D18<N3,(D14-AP13-AP11)/D18,0)","v":0.47450709467555185},"s"]
[null,null,null,null,null,null,null,null,null,null,null,null,null,null,null,null,null,null,null,null,null,null,null,null,null,null,null,null,null,null,null,null,null,null,null,null,null,null,null,null,"等速距離",{"$f":"AP14*N6","v":23.725354733777593},"㎜"]
["<2>",{"$f":"IF(AE33=0,Message!C14,Message!C15)","v":"负载质量[kg]"},null,1,null,null,null,null,null,null,null,null,null,null,null,null,null,null,null,null,null,null,null,null,null,null,null,null,null,null,null,null,null,null,null,null,null,null,null,null,"減速時刻",{"$f":"AP12+AP14","v":0.50000000000000011},"s"]
[null,null,null,null,null,null,null,null,null,null,null,null,null,null,null,null,null,null,null,null,null,null,null,null,null,null,null,null,null,null,null,null,null,null,null,null,null,null,null,null,"減速位置",{"$f":"AP13+AP15","v":24.362677366888796},"㎜"]
["<3>",{"$f":"IF(AE33=0,Message!C16,Message!C17)","v":"速度[㎜/s]"},null,50,null,null,{"$f":"Message!C25","v":"●计算结果"},null,null,null,null,null,null,null,null,null,null,null,null,null,null,null,null,null,null,null,null,null,null,null,null,null,null,null,null,null,null,null,null,null,"TotalTime",{"$f":"AP14+AP12+AP10","v":0.52549290532444837},"s"]
[null,null,null,null,null,null,null,null,null,null,null,null,null,null,null,null,null,null,null,null,null,null,null,null,null,null,null,null,null,null,"運転姿勢","←初期値",null,null,null,null,null,null,null,null,"Spdτ",{"$f":"1/N12","v":1.25E-3},"s"]
["<4>",{"$f":"Message!C18","v":"加速度[G]"},null,0.2,null,null,{"$f":"Message!C26","v":"定位时间 [s]"},null,{"$f":"LOOKUP((D14-D24),AV31:AV3231,AT31:AT3231)","v":0.54950678448913082},null,null,null,null,null,null,null,null,null,null,null,null,null,null,null,null,null,null,null,null,null,{"$f":"Message!C81","v":"水平"},"水平",null,null,null,null,null,null,null,null,"Posτ",{"$f":"1/N11","v":1.6666666666666666E-2},"s"]
[null,null,null,null,null,null,null,null,null,null,null,null,null,null,null,null,null,null,null,null,null,null,null,null,null,null,null,null,null,null,{"$f":"Message!C82","v":"垂直"},null,null,null,null,null,null,null,null,null,"収束時間",{"$f":"I20-AP18","v":2.401387916468245E-2},"s"]
["<5>",{"$f":"Message!C19","v":"减速度[G]"},null,0.2]
[]
["<6>",{"$f":"IF(AE33=0,Message!C20,Message!C21)","v":"定位宽度 [㎜]"},null,0.1,null,null,{"$f":"IF(N9<=I20,Message!C22,Message!C23)","v":"※代表进入定位宽度范围内需要的时间"}]
[null,null,{"$f":"IF(N10<=I21,\"\",Message!C24)","v":"※计算结果供参考。 根据负载情况变化，实际的定位时间也会发生变化。\n※伺服增益调整后，可能比计算结果更快定位完成。\n　 详情请参考控制器的使用说明书。"}]
[]
[]
[1,{"$f":"A28+1","v":2},3,4,5,6,7,8,9,10,11,12,13,14,15,{"$f":"O28+1","v":16},{"$f":"P28+1","v":17},{"$f":"Q28+1","v":18},{"$f":"R28+1","v":19},{"$f":"S28+1","v":20},21,22,23,24,25,26,27,28,29,30,31,32,33,34,35,36,37,38,{"$f":"AL28+1","v":39},40,41,42,43,44,45,46,47,48]
[null,null,null,null,null,null,null,null,null,null,null,null,null,null,"↓↓↓↓↓↓↓↓　フォント色を白にする列　O29～U193　↓↓↓↓↓↓↓↓",null,null,null,null,null,null,null,null,null,null,null,null,null,null,null,null,null,null,null,null,null,null,null,null,null,null,null,null,null,"↓↓↓↓↓↓↓↓↓↓↓↓↓↓↓　フォント色を白に、数式は非表示に、する列　A29～J3231　↓↓↓↓↓↓↓↓↓↓↓↓↓↓↓"]
[null,"可搬質量","加減速度","最高速度","実加速度","到達速度","運転時間","三角速度",null,null,null,null,null,null,"№","メカ型式リスト","絞込み","ﾀｲﾌﾟﾘｽﾄ","ﾘｰﾄﾞﾘｽﾄ","ｽﾄﾛｰｸﾘｽﾄ","型式総数",null,{"$f":"DataSerch!B1","v":"メカ機種データレコード"},null,null,null,null,null,null,null,null,null,null,null,null,null,null,null,null,null,null,null,null,null,"№","時刻","位置計画","位置"]
[{"$f":"A30+1","v":1},1,0.2,50,1961.33,50,0.52549290532444826,221.43452756966335,null,null,null,null,null,null,1,"RCP3-SA2AC-20P-*S","RCP3-SA2AC-20P-*S","RCP3",1,25,86,null,"ﾚｺｰﾄﾞ№",{"$f":"DataSerch!$C$2","v":"ｱｸﾁｭｴｰﾀ型式"},null,{"$f":"DataSerch!$E$2","v":0},{"$f":"DataSerch!$F$2","v":0},{"$f":"DataSerch!$G$2","v":0},{"$f":"DataSerch!$H$2","v":"最小ｽﾄﾛｰｸ"},{"$f":"DataSerch!$I$2","v":"最大ｽﾄﾛｰｸ"},{"$f":"DataSerch!$J$2","v":"動作種別"},{"$f":"DataSerch!$K$2","v":0},null,null,null,null,null,null,null,null,null,null,null,null,0,{"$f":"$AP$18/$N$7*AS31","v":0},0,0]
[2,-1,-1,-1,-1,-1,-1,-1,null,null,null,null,null,null,{"$f":"O31+1","v":2},"RCP3-SA2BC-20P-*S","RCP3-SA2BC-20P-*S","RCP2",2,50,"絞込み数",null,{"$f":"DataSerch!$B$3","v":1},{"$f":"DataSerch!$C$3","v":"RCP3-SA2AC-20P-*S"},null,{"$f":"DataSerch!$E$4","v":"[kg]"},{"$f":"DataSerch!$F$4","v":"[mm]"},{"$f":"DataSerch!$G$4","v":"[mm]"},{"$f":"DataSerch!$H$4","v":"[mm]"},{"$f":"DataSerch!$I$4","v":"[mm]"},{"$f":"DataSerch!$J$4","v":"0/1"},{"$f":"DataSerch!$K$4","v":"[K]"},null,null,null,null,null,null,null,null,null,null,null,null,{"$f":"AS31+1","v":1},2.1634125373587828E-4,{"$f":"IF(($N$4*AT32^2/2)<=$AP$13,($N$4*AT32^2/2), IF(($AP$13+$N$6*(AT32-$AP$12))<=$AP$17, ($AP$13+$N$6*(AT32-$AP$12)), IF(AU31<$D$14, ($AP$17+($N$6-$N$5*(AT32-$AP$16)/2)*(AT32-$AP$16)), $D$14)))","v":4.5898591659466659E-5},{"$f":"( $AP$6*AU32 + $AP$7*AU31 + $AP$9*AV31 )/$AP$8","v":2.9597183837208635E-7}]
[3,-1,-1,-1,-1,-1,-1,-1,null,null,null,null,null,null,{"$f":"O32+1","v":3},"RCP3-SA3C","RCP3-SA3C","ERC2",4,75,34,null,null,null,null,{"$f":"DataSerch!$E$5","v":0},{"$f":"IF(0<DataSerch!$F$5,DataSerch!$F$5,0)","v":0},{"$f":"DataSerch!$G$5","v":0},{"$f":"DataSerch!$H$5","v":25},{"$f":"DataSerch!$I$5","v":100},{"$f":"DataSerch!$J$5","v":0},{"$f":"DataSerch!$K$5","v":0},null,null,null,null,null,null,null,null,null,null,null,null,{"$f":"AS32+1","v":2},4.3268250747175655E-4,1.8359436663786664E-4,{"$f":"( $AP$6*AU33 + $AP$7*AU32 + $AP$9*AV32 )/$AP$8","v":1.7720139488824291E-6}]
[4,-1,-1,-1,-1,-1,-1,-1,null,null,null,null,null,null,4,"RCP3-SA4C","RCP3-SA4C","RCP3-S","- - -",100,null,null,null,null,null,null,null,null,null,null,null,null,null,null,null,null,null,null,null,null,null,null,null,null,3,6.4902376120763478E-4,4.1308732493519987E-4,5.5967945876473097E-6]
[5,-1,-1,-1,-1,-1,-1,-1,null,null,null,null,null,null,5,"RCP3-SA5C","RCP3-SA5C","RCP3-R","- - -","- - -","ﾘｰﾄﾞ総数",null,"リードデータレコード",null,null,null,null,null,null,null,null,null,null,null,null,null,null,null,null,null,null,null,null,null,4,8.6536501494351311E-4,7.3437746655146655E-4,1.2923909962613161E-5]
[6,-1,-1,-1,-1,-1,-1,-1,null,null,null,null,null,null,6,"RCP3-SA6C","RCP3-SA6C","RCP3-T","- - -","- - -",3,null,"リスト№",{"$f":"DataSerch!$F$24","v":"ﾘｰﾄﾞ長"},{"$f":"DataSerch!$G$24","v":0},{"$f":"DataSerch!$H$24","v":"水平定格加速度"},{"$f":"DataSerch!$I$24","v":"垂直定格加速度"},{"$f":"DataSerch!$J$24","v":"水平最大加速度"},{"$f":"DataSerch!$K$24","v":"垂直最大加速度"},{"$f":"DataSerch!$L$24","v":0},{"$f":"DataSerch!$M$24","v":0},{"$f":"DataSerch!$N$24","v":0},{"$f":"DataSerch!$O$24","v":"ｷﾞｱ比分子"},{"$f":"DataSerch!$P$24","v":"ｷﾞｱ比分母"},{"$f":"DataSerch!$Q$24","v":0},{"$f":"DataSerch!$R$24","v":"ｽﾄﾛｰｸ刻み"},{"$f":"DataSerch!$S$24","v":"位置決め幅\n初期値"},null,null,null,null,null,null,null,5,1.0817062686793914E-3,1.1474647914866667E-3,2.4892078614327032E-5]
[7,-1,-1,-1,-1,-1,-1,-1,null,null,null,null,null,null,7,"RCP3-SA2AR-20P-*S","RCP3-SA2AR-20P-*S","RCP2-S","- - -","- - -",null,null,null,null,null,null,null,null,null,null,null,null,null,null,null,null,null,null,null,null,null,null,null,null,6,1.2980475224152696E-3,1.6523492997407995E-3,4.2625333289822525E-5]
[8,-1,-1,-1,-1,-1,-1,-1,null,null,null,null,null,null,8,"RCP3-SA2BR-20P-*S","RCP3-SA2BR-20P-*S","RCP2-H","- - -","- - -","ｽﾄﾛｰｸ総数",null,{"$f":"DataSerch!$D$35","v":1},{"$f":"DataSerch!$F$25","v":"[mm]"},{"$f":"DataSerch!$G$25","v":"[kgm^2]"},{"$f":"DataSerch!$H$25","v":"[m/s^2]"},{"$f":"DataSerch!$I$25","v":"[m/s^2]"},{"$f":"DataSerch!$J$25","v":"[m/s^2]"},{"$f":"DataSerch!$K$25","v":"[m/s^2]"},{"$f":"DataSerch!$L$25","v":"[Nm]"},{"$f":"DataSerch!$M$25","v":"[Nms]"},{"$f":"DataSerch!$N$25","v":"[Nm]"},{"$f":"DataSerch!$O$25","v":0},{"$f":"DataSerch!$P$25","v":0},{"$f":"DataSerch!$Q$25","v":0},{"$f":"DataSerch!$R$25","v":"[mm]"},{"$f":"DataSerch!$S$25","v":"[mm]"},null,null,null,null,null,null,null,7,1.5143887761511479E-3,2.249030991313866E-3,6.7233210341952011E-5]
[9,-1,-1,-1,-1,-1,-1,-1,null,null,null,null,null,null,9,"RCP3-SA3R","RCP3-SA3R","RCP2-B",null,"- - -",4,null,null,{"$f":"LOOKUP(W38,DataSerch!$B$26:$B$33,DataSerch!$F$26:$F$33)","v":1},{"$f":"LOOKUP(W38,DataSerch!$B$26:$B$33,DataSerch!$G$26:$G$33)","v":0},{"$f":"LOOKUP(W38,DataSerch!$B$26:$B$33,DataSerch!$H$26:$H$33)","v":1.96133},{"$f":"LOOKUP(W38,DataSerch!$B$26:$B$33,DataSerch!$I$26:$I$33)","v":-9.9999999999999995E-7},{"$f":"LOOKUP(W38,DataSerch!$B$26:$B$33,DataSerch!$J$26:$J$33)","v":1.96133},{"$f":"LOOKUP(W38,DataSerch!$B$26:$B$33,DataSerch!$K$26:$K$33)","v":-9.9999999999999995E-7},{"$f":"LOOKUP(W38,DataSerch!$B$26:$B$33,DataSerch!$L$26:$L$33)","v":0},{"$f":"LOOKUP(W38,DataSerch!$B$26:$B$33,DataSerch!$M$26:$M$33)","v":0},{"$f":"LOOKUP(W38,DataSerch!$B$26:$B$33,DataSerch!$N$26:$N$33)","v":0},{"$f":"LOOKUP(W38,DataSerch!$B$26:$B$33,DataSerch!$O$26:$O$33)","v":1},{"$f":"LOOKUP(W38,DataSerch!$B$26:$B$33,DataSerch!$P$26:$P$33)","v":1},{"$f":"LOOKUP(W38,DataSerch!$B$26:$B$33,DataSerch!$Q$26:$Q$33)","v":0},{"$f":"LOOKUP(W38,DataSerch!$B$26:$B$33,DataSerch!$R$26:$R$33)","v":25},{"$f":"LOOKUP(W38,DataSerch!$B$26:$B$33,DataSerch!$S$26:$S$33)","v":0.1},null,null,null,null,null,null,null,8,1.7307300298870262E-3,2.9375098662058662E-3,9.9810936686078752E-5]
[10,-1,-1,-1,-1,-1,-1,-1,null,null,null,null,null,null,10,"RCP3-SA4R","RCP3-SA4R","RCP2-R",null,"- - -",null,null,null,null,null,null,null,null,null,null,null,null,null,null,null,null,null,null,null,null,null,null,null,null,9,1.9470712836229045E-3,3.7177859244168E-3,1.4143961434563121E-4]
[11,-1,-1,-1,-1,-1,-1,-1,null,null,null,null,null,null,11,"RCP3-SA5R","RCP3-SA5R","RCP2CR",null,"- - -",null,null,"ストロークデータレコード",null,null,null,null,null,null,null,null,null,null,null,null,null,null,null,null,null,null,null,null,null,10,2.1634125373587829E-3,4.589859165946667E-3,1.9318640261761544E-4]
[12,-1,-1,-1,-1,-1,-1,-1,null,null,null,null,null,null,12,"RCP3-SA6R","RCP3-SA6R","RCP2W",null,"- - -",null,null,"リスト№",{"$f":"DataSerch!$E$58","v":"ｽﾄﾛｰｸ長"},{"$f":"DataSerch!$G$58","v":"有効ｽﾄﾛｰｸ補正"},{"$f":"DataSerch!$H$58","v":0},{"$f":"DataSerch!$I$58","v":0},{"$f":"DataSerch!$J$58","v":"水平可搬質量"},{"$f":"DataSerch!$K$58","v":"垂直可搬質量"},{"$f":"DataSerch!$L$58","v":"最大速度"},{"$f":"DataSerch!$M$58","v":"位置ｹﾞｲﾝ"},{"$f":"DataSerch!$N$58","v":"FFｹﾞｲﾝ"},{"$f":"DataSerch!$O$58","v":"速度制御帯域"},{"$f":"DataSerch!$P$58","v":0},{"$f":"DataSerch!$Q$58","v":0},{"$f":"DataSerch!$R$58","v":0},{"$f":"DataSerch!$S$58","v":0},{"$f":"DataSerch!$T$58","v":0},null,null,null,null,null,null,11,2.3797537910946612E-3,5.5537295907954667E-3,2.5610469788878024E-4]
[13,-1,-1,-1,-1,-1,-1,-1,null,null,null,null,null,null,13,"RCP2-SA5C","RCP3-RA2AC-20P-*S",null,null,"- - -",null,null,null,null,null,null,null,null,null,null,null,null,null,null,null,null,null,null,null,null,null,null,null,null,12,2.5960950448305391E-3,6.6093971989631978E-3,3.3123431113273434E-4]
[14,-1,-1,-1,-1,-1,-1,-1,null,null,null,null,null,null,14,"RCP2-SA6C","RCP3-RA2BC-20P-*S",null,null,"- - -",null,null,{"$f":"MATCH(C10,DataSerch!$E$60:$E$109,0)","v":1},{"$f":"DataSerch!$E$59","v":"[mm]"},{"$f":"DataSerch!$G$59","v":"[mm]"},{"$f":"DataSerch!$H$59","v":"[kg/mm]"},{"$f":"DataSerch!$I$59","v":"[kg]"},{"$f":"DataSerch!$J$59","v":"[kg]"},{"$f":"DataSerch!$K$59","v":"[kg]"},{"$f":"DataSerch!$L$59","v":"[mm/s]"},{"$f":"DataSerch!$M$59","v":"[1/s]"},{"$f":"DataSerch!$N$59","v":"[%]"},{"$f":"DataSerch!$O$59","v":"[rad/s]"},{"$f":"DataSerch!$P$59","v":0},{"$f":"DataSerch!$Q$59","v":"[s]"},{"$f":"DataSerch!$R$59","v":0},{"$f":"DataSerch!$S$59","v":0},{"$f":"DataSerch!$T$59","v":"[Nm/rad]"},null,null,null,null,null,null,13,2.8124362985664174E-3,7.7568619904498648E-3,4.1960164311792368E-4]
[15,-1,-1,-1,-1,-1,-1,-1,null,null,null,null,null,null,15,"RCP2-SA7C","RCP3-RA2AR-20P-*S",null,null,"- - -",null,null,null,{"$f":"LOOKUP(W44,DataSerch!$D$60:$D$109,DataSerch!$E$60:$E$109)","v":25},{"$f":"LOOKUP(W44,DataSerch!$D$60:$D$109,DataSerch!$G$60:$G$109)","v":0},{"$f":"LOOKUP(W44,DataSerch!$D$60:$D$109,DataSerch!$H$60:$H$109)","v":0},{"$f":"LOOKUP(W44,DataSerch!$D$60:$D$109,DataSerch!$I$60:$I$109)","v":0},{"$f":"LOOKUP(W44,DataSerch!$D$60:$D$109,DataSerch!$J$60:$J$109)","v":1},{"$f":"LOOKUP(W44,DataSerch!$D$60:$D$109,DataSerch!$K$60:$K$109)","v":-1E-3},{"$f":"LOOKUP(W44,DataSerch!$D$60:$D$109,DataSerch!$L$60:$L$109)","v":50},{"$f":"LOOKUP(W44,DataSerch!$D$60:$D$109,DataSerch!$M$60:$M$109)","v":60},{"$f":"LOOKUP(W44,DataSerch!$D$60:$D$109,DataSerch!$N$60:$N$109)","v":0},{"$f":"LOOKUP(W44,DataSerch!$D$60:$D$109,DataSerch!$O$60:$O$109)","v":800},{"$f":"LOOKUP(W44,DataSerch!$D$60:$D$109,DataSerch!$P$60:$P$109)","v":0},{"$f":"LOOKUP(W44,DataSerch!$D$60:$D$109,DataSerch!$Q$60:$Q$109)","v":0},{"$f":"LOOKUP(W44,DataSerch!$D$60:$D$109,DataSerch!$R$60:$R$109)","v":0},{"$f":"LOOKUP(W44,DataSerch!$D$60:$D$109,DataSerch!$S$60:$S$109)","v":0},{"$f":"LOOKUP(W44,DataSerch!$D$60:$D$109,DataSerch!$T$60:$T$109)","v":0},null,null,null,null,null,null,14,3.0287775523022958E-3,8.9961239652554641E-3,5.222198573559913E-4]
[16,-1,-1,-1,-1,-1,-1,-1,null,null,null,null,null,null,16,"RCP2-SS7C","RCP3-RA2BR-20P-*S",null,null,"- - -",null,null,null,null,null,null,null,null,null,null,null,null,null,null,null,null,null,null,null,null,null,null,null,null,15,3.2451188060381741E-3,1.0327183123379999E-2,6.4008905081966167E-4]
[17,-1,-1,-1,-1,-1,-1,-1,null,null,null,null,null,null,17,"RCP2-SS8C","RCP3-TA3C",null,null,"- - -",null,null,null,null,null,null,null,null,null,null,null,null,null,null,null,null,null,null,null,null,null,null,null,null,16,3.4614600597740524E-3,1.1750039464823465E-2,7.741964224589155E-4]
[18,-1,-1,-1,-1,-1,-1,-1,null,null,null,null,null,null,18,"RCP2-HS8C","RCP3-TA4C",null,null,"- - -",null,null,null,null,null,null,null,null,null,null,null,null,null,null,null,null,null,null,null,null,null,null,null,null,17,3.6778013135099308E-3,1.3264692989585866E-2,9.2551643954384959E-4]
[19,-1,-1,-1,-1,-1,-1,-1,null,null,null,null,null,null,19,"RCP2-SA5R","RCP3-TA5C",null,null,"- - -",null,null,null,null,null,null,null,null,null,null,null,null,null,null,null,null,null,null,null,null,null,null,null,null,18,3.8941425672458091E-3,1.48711436976672E-2,1.0950110018622509E-3]
[20,-1,-1,-1,-1,-1,-1,-1,null,null,null,null,null,null,20,"RCP2-SA6R","RCP3-TA6C",null,null,"- - -","リンクリスト総数",null,null,null,null,null,null,null,null,null,null,null,null,null,null,null,null,null,null,null,null,null,null,null,19,4.110483820981687E-3,1.6569391589067464E-2,1.2836296037995515E-3]
[21,-1,-1,-1,-1,-1,-1,-1,null,null,null,null,null,null,21,"RCP2-SA7R","RCP3-TA7C",null,null,"- - -",1,null,null,null,null,null,null,null,null,null,null,null,null,null,null,null,null,null,null,null,null,null,null,null,20,4.3268250747175658E-3,1.8359436663786668E-2,1.4923094943284764E-3]
[22,-1,-1,-1,-1,-1,-1,-1,null,null,null,null,null,null,22,"RCP2-SS7R","RCP3-TA3R",null,null,"- - -",null,null,null,null,null,null,null,null,null,null,null,null,null,null,null,null,null,null,null,null,null,null,null,null,21,4.5431663284534437E-3,2.0241278921824795E-2,1.7219758349353404E-3]
[23,-1,-1,-1,-1,-1,-1,-1,null,null,null,null,null,null,23,"RCP2-SS8R","RCP3-TA4R",null,null,"- - -",null,null,null,null,null,null,null,null,null,null,null,null,null,null,null,null,null,null,null,null,null,null,null,null,22,4.7595075821893224E-3,2.2214918363181867E-2,1.9735418555096051E-3]
[24,-1,-1,-1,-1,-1,-1,-1,null,null,null,null,null,null,24,"RCP2-HS8R","RCP3-TA5R",null,null,"- - -",null,null,null,null,null,null,null,null,null,null,null,null,null,null,null,null,null,null,null,null,null,null,null,null,23,4.9758488359252003E-3,2.4280354987857862E-2,2.247909008222965E-3]
[25,-1,-1,-1,-1,-1,-1,-1,null,null,null,null,null,null,25,"RCP2-BA6","RCP3-TA6R",null,null,"- - -",null,null,null,null,null,null,null,null,null,null,null,null,null,null,null,null,null,null,null,null,null,null,null,null,24,5.1921900896610782E-3,2.6437588795852791E-2,2.5459671194238893E-3]
[26,-1,-1,-1,-1,-1,-1,-1,null,null,null,null,null,null,26,"RCP2-BA7","RCP3-TA7R",null,null,"- - -",null,null,null,null,null,null,null,null,null,null,null,null,null,null,null,null,null,null,null,null,null,null,null,null,25,5.408531343396957E-3,2.8686619787166662E-2,2.8685945395732146E-3]
[27,-1,-1,-1,-1,-1,-1,-1,null,null,null,null,null,null,27,"ERC2-SA6C","RCP3-RA2AC-20P",null,null,"- - -",null,null,null,null,null,null,null,null,null,null,null,null,null,null,null,null,null,null,null,null,null,null,null,null,26,5.6248725971328349E-3,3.1027447961799459E-2,3.2166582912460527E-3]
[28,-1,-1,-1,-1,-1,-1,-1,null,null,null,null,null,null,28,"ERC2-SA7C","RCP3-RA2AC-20SP",null,null,"- - -",null,null,null,null,null,null,null,null,null,null,null,null,null,null,null,null,null,null,null,null,null,null,null,null,27,5.8412138508687136E-3,3.3460073319751198E-2,3.5910142152249512E-3]
[29,-1,-1,-1,-1,-1,-1,-1,null,null,null,null,null,null,29,"RCP3-RA2AC-20P-*S","RCP3-RA2BC-20P",null,null,"- - -",null,null,null,null,null,null,null,null,null,null,null,null,null,null,null,null,null,null,null,null,null,null,null,null,28,6.0575551046045915E-3,3.5984495861021856E-2,3.9925071147089222E-3]
[30,-1,-1,-1,-1,-1,-1,-1,null,null,null,null,null,null,30,"RCP3-RA2BC-20P-*S","RCP3-RA2BC-20SP",null,null,"- - -",null,null,null,null,null,null,null,null,null,null,null,null,null,null,null,null,null,null,null,null,null,null,null,null,29,6.2738963583404703E-3,3.8600715585611463E-2,4.4219708976626455E-3]
[31,-1,-1,-1,-1,-1,-1,-1,null,null,null,null,null,null,31,"RCP3-RA2AR-20P-*S","RCP3-RA2AR-20P",null,null,"- - -",null,null,null,null,null,null,null,null,null,null,null,null,null,null,null,null,null,null,null,null,null,null,null,null,30,6.4902376120763482E-3,4.1308732493519996E-2,4.88022871732982E-3]
[32,-1,-1,-1,-1,-1,-1,-1,null,null,null,null,null,null,32,"RCP3-RA2BR-20P-*S","RCP3-RA2AR-20SP",null,null,"- - -",null,null,null,null,null,null,null,null,null,null,null,null,null,null,null,null,null,null,null,null,null,null,null,null,31,6.706578865812227E-3,4.4108546584747464E-2,5.3680931109343511E-3]
[33,-1,-1,-1,-1,-1,-1,-1,null,null,null,null,null,null,33,"RCP2-RA2C","RCP3-RA2BR-20P",null,null,"- - -",null,null,null,null,null,null,null,null,null,null,null,null,null,null,null,null,null,null,null,null,null,null,null,null,32,6.9229201195481049E-3,4.7000157859293859E-2,5.8863661365927359E-3]
[34,-1,-1,-1,-1,-1,-1,-1,null,null,null,null,null,null,34,"RCP2-RA3C","RCP3-RA2BR-20SP",null,null,"- - -",null,null,null,null,null,null,null,null,null,null,null,null,null,null,null,null,null,null,null,null,null,null,null,null,33,7.1392613732839828E-3,4.9983566317159181E-2,6.4358395084607245E-3]
[35,-1,-1,-1,-1,-1,-1,-1,null,null,null,null,null,null,35,"RCP2-RA4C","- - -",null,null,"- - -",null,null,null,null,null,null,null,null,null,null,null,null,null,null,null,null,null,null,null,null,null,null,null,null,34,7.3556026270198615E-3,5.3058771958343465E-2,7.0172947301370275E-3]
[36,-1,-1,-1,-1,-1,-1,-1,null,null,null,null,null,null,36,"RCP2-RA6C","- - -",null,null,"- - -",null,null,null,null,null,null,null,null,null,null,null,null,null,null,null,null,null,null,null,null,null,null,null,null,35,7.5719438807557394E-3,5.6225774782846655E-2,7.6315032263465383E-3]
[37,-1,-1,-1,-1,-1,-1,-1,null,null,null,null,null,null,37,"RCP2-RA10C","- - -",null,null,"- - -",null,null,null,null,null,null,null,null,null,null,null,null,null,null,null,null,null,null,null,null,null,null,null,null,36,7.7882851344916182E-3,5.94845747906688E-2,8.279226472925276E-3]
[38,-1,-1,-1,-1,-1,-1,-1,null,null,null,null,null,null,38,"RCP2-SRA4R","- - -",null,null,"- - -",null,null,null,null,null,null,null,null,null,null,null,null,null,null,null,null,null,null,null,null,null,null,null,null,37,8.0046263882274961E-3,6.2835171981809851E-2,8.961216125128936E-3]
[39,-1,-1,-1,-1,-1,-1,-1,null,null,null,null,null,null,39,"RCP2-RGS4C","- - -",null,null,"- - -",null,null,null,null,null,null,null,null,null,null,null,null,null,null,null,null,null,null,null,null,null,null,null,null,38,8.220967641963374E-3,6.6277566356269857E-2,9.6782141442866773E-3]
[40,-1,-1,-1,-1,-1,-1,-1,null,null,null,null,null,null,40,"RCP2-RGS6C","- - -",null,null,"- - -",null,null,null,null,null,null,null,null,null,null,null,null,null,null,null,null,null,null,null,null,null,null,null,null,39,8.4373088956992536E-3,6.9811757914048797E-2,1.0430952922821483E-2]
[41,-1,-1,-1,-1,-1,-1,-1,null,null,null,null,null,null,41,"RCP2-SRGS4R","- - -",null,null,"- - -",null,null,null,null,null,null,null,null,null,null,null,null,null,null,null,null,null,null,null,null,null,null,null,null,40,8.6536501494351315E-3,7.3437746655146671E-2,1.122015540765816E-2]
[42,-1,-1,-1,-1,-1,-1,-1,null,null,null,null,null,null,42,"RCP2-RGD3C","- - -",null,null,"- - -",null,null,null,null,null,null,null,null,null,null,null,null,null,null,null,null,null,null,null,null,null,null,null,null,41,8.8699914031710094E-3,7.7155532579563452E-2,1.2046535222039781E-2]
[43,-1,-1,-1,-1,-1,-1,-1,null,null,null,null,null,null,43,"RCP2-RGD4C","- - -",null,null,"- - -",null,null,null,null,null,null,null,null,null,null,null,null,null,null,null,null,null,null,null,null,null,null,null,null,42,9.0863326569068873E-3,8.096511568729918E-2,1.2910796785773084E-2]
[44,-1,-1,-1,-1,-1,-1,-1,null,null,null,null,null,null,44,"RCP2-RGD6C","- - -",null,null,"- - -",null,null,null,null,null,null,null,null,null,null,null,null,null,null,null,null,null,null,null,null,null,null,null,null,43,9.3026739106427652E-3,8.4866495978353843E-2,1.3813635433923086E-2]
[45,-1,-1,-1,-1,-1,-1,-1,null,null,null,null,null,null,45,"RCP2-SRGD4R","- - -",null,null,"- - -",null,null,null,null,null,null,null,null,null,null,null,null,null,null,null,null,null,null,null,null,null,null,null,null,44,9.5190151643786448E-3,8.8859673452727467E-2,1.4755737533976937E-2]
[46,-1,-1,-1,-1,-1,-1,-1,null,null,null,null,null,null,46,"ERC2-RA6C","- - -",null,null,"- - -",null,null,null,null,null,null,null,null,null,null,null,null,null,null,null,null,null,null,null,null,null,null,null,null,45,9.7353564181145227E-3,9.2944648110419997E-2,1.5737780601496717E-2]
[47,-1,-1,-1,-1,-1,-1,-1,null,null,null,null,null,null,47,"ERC2-RA7C","- - -",null,null,"- - -",null,null,null,null,null,null,null,null,null,null,null,null,null,null,null,null,null,null,null,null,null,null,null,null,46,9.9516976718504006E-3,9.7121419951431448E-2,1.6760433414280702E-2]
[48,-1,-1,-1,-1,-1,-1,-1,null,null,null,null,null,null,48,"ERC2-RGS6C","- - -",null,null,"- - -",null,null,null,null,null,null,null,null,null,null,null,null,null,null,null,null,null,null,null,null,null,null,null,null,47,1.0168038925586279E-2,0.10138998897576183,1.7824356125052315E-2]
[49,-1,-1,-1,-1,-1,-1,-1,null,null,null,null,null,null,49,"ERC2-RGS7C","- - -",null,null,"- - -",null,null,null,null,null,null,null,null,null,null,null,null,null,null,null,null,null,null,null,null,null,null,null,null,48,1.0384380179322156E-2,0.10575035518341117,1.8930200372695747E-2]
[50,-1,-1,-1,-1,-1,-1,-1,null,null,null,null,null,null,50,"ERC2-RGD6C","- - -",null,null,"- - -",null,null,null,null,null,null,null,null,null,null,null,null,null,null,null,null,null,null,null,null,null,null,null,null,49,1.0600721433058036E-2,0.11020251857437946,2.0078609392057006E-2]
[51,-1,-1,-1,-1,-1,-1,-1,null,null,null,null,null,null,51,"ERC2-RGD7C","- - -",null,null,null,null,null,null,null,null,null,null,null,null,null,null,null,null,null,null,null,null,null,null,null,null,null,null,null,50,1.0817062686793914E-2,0.11474647914866665,2.1270218122328873E-2]
[52,-1,-1,-1,-1,-1,-1,-1,null,null,null,null,null,null,52,"RCP3-TA3C","- - -",null,null,null,null,null,null,null,null,null,null,null,null,null,null,null,null,null,null,null,null,null,null,null,null,null,null,null,51,1.1033403940529792E-2,0.11938223690627278,2.2505653314038056E-2]
[53,-1,-1,-1,-1,-1,-1,-1,null,null,null,null,null,null,53,"RCP3-TA4C","- - -",null,null,null,null,null,null,null,null,null,null,null,null,null,null,null,null,null,null,null,null,null,null,null,null,null,null,null,52,1.124974519426567E-2,0.12410979184719784,2.3785533634652557E-2]
[54,-1,-1,-1,-1,-1,-1,-1,null,null,null,null,null,null,54,"RCP3-TA5C","- - -",null,null,null,null,null,null,null,null,null,null,null,null,null,null,null,null,null,null,null,null,null,null,null,null,null,null,null,53,1.1466086448001549E-2,0.12892914397144187,2.5110469772827028E-2]
[55,-1,-1,-1,-1,-1,-1,-1,null,null,null,null,null,null,55,"RCP3-TA6C","- - -",null,null,null,null,null,null,null,null,null,null,null,null,null,null,null,null,null,null,null,null,null,null,null,null,null,null,null,54,1.1682427701737427E-2,0.13384029327900479,2.6481064541303712E-2]
[56,-1,-1,-1,-1,-1,-1,-1,null,null,null,null,null,null,56,"RCP3-TA7C","- - -",null,null,null,null,null,null,null,null,null,null,null,null,null,null,null,null,null,null,null,null,null,null,null,null,null,null,null,55,1.1898768955473305E-2,0.13884323976988663,2.7897912978486296E-2]
[57,-1,-1,-1,-1,-1,-1,-1,null,null,null,null,null,null,57,"RCP3-TA3R","- - -",null,null,null,null,null,null,null,null,null,null,null,null,null,null,null,null,null,null,null,null,null,null,null,null,null,null,null,56,1.2115110209209183E-2,0.14393798344408743,2.9361602448703776E-2]
[58,-1,-1,-1,-1,-1,-1,-1,null,null,null,null,null,null,58,"RCP3-TA4R","- - -",null,null,null,null,null,null,null,null,null,null,null,null,null,null,null,null,null,null,null,null,null,null,null,null,null,null,null,57,1.2331451462945061E-2,0.14912452430160714,3.0872712741181248E-2]
[59,-1,-1,-1,-1,-1,-1,-1,null,null,null,null,null,null,59,"RCP3-TA5R","- - -",null,null,null,null,null,null,null,null,null,null,null,null,null,null,null,null,null,null,null,null,null,null,null,null,null,null,null,58,1.2547792716680941E-2,0.15440286234244585,3.2431816167734301E-2]
[60,-1,-1,-1,-1,-1,-1,-1,null,null,null,null,null,null,60,"RCP3-TA6R","- - -",null,null,null,null,null,null,null,null,null,null,null,null,null,null,null,null,null,null,null,null,null,null,null,null,null,null,null,59,1.2764133970416819E-2,0.15977299756660346,3.4039477659203475E-2]
[61,-1,-1,-1,-1,-1,-1,-1,null,null,null,null,null,null,61,"RCP3-TA7R","- - -",null,null,null,null,null,null,null,null,null,null,null,null,null,null,null,null,null,null,null,null,null,null,null,null,null,null,null,60,1.2980475224152696E-2,0.16523492997407999,3.5696254860644989E-2]
[62,-1,-1,-1,-1,-1,-1,-1,null,null,null,null,null,null,62,"RCP2-RTBSL","- - -",null,null,null,null,null,null,null,null,null,null,null,null,null,null,null,null,null,null,null,null,null,null,null,null,null,null,null,61,1.3196816477888574E-2,0.17078865956487543,3.7402698225293851E-2]
[63,-1,-1,-1,-1,-1,-1,-1,null,null,null,null,null,null,63,"RCP2-RTCSL","- - -",null,null,null,null,null,null,null,null,null,null,null,null,null,null,null,null,null,null,null,null,null,null,null,null,null,null,null,62,1.3413157731624454E-2,0.17643418633898986,3.9159351107315166E-2]
[64,-1,-1,-1,-1,-1,-1,-1,null,null,null,null,null,null,64,"RCP2-RTBL","- - -",null,null,null,null,null,null,null,null,null,null,null,null,null,null,null,null,null,null,null,null,null,null,null,null,null,null,null,63,1.3629498985360332E-2,0.1821715102964232,4.0966749853359165E-2]
[{"$f":"A94+1","v":65},-1,-1,-1,-1,-1,-1,-1,null,null,null,null,null,null,65,"RCP2-RTCL","- - -",null,null,null,null,null,null,null,null,null,null,null,null,null,null,null,null,null,null,null,null,null,null,null,null,null,null,null,64,{"$f":"$AP$18/$N$7*AS95","v":1.384584023909621E-2},0.18800063143717544,4.2825423892935581E-2]
[66,-1,-1,-1,-1,-1,-1,-1,null,null,null,null,null,null,66,"RCP2-RTBBL","- - -",null,null,null,null,null,null,null,null,null,null,null,null,null,null,null,null,null,null,null,null,null,null,null,null,null,null,null,65,1.4062181492832088E-2,{"$f":"IF(($N$4*AT96^2/2)<=$AP$13,($N$4*AT96^2/2), IF(($AP$13+$N$6*(AT96-$AP$12))<=$AP$17, ($AP$13+$N$6*(AT96-$AP$12)), IF(AU95<$D$14, ($AP$17+($N$6-$N$5*(AT96-$AP$16)/2)*(AT96-$AP$16)), $D$14)))","v":0.19392154976124665},4.4735895827622413E-2]
[67,-1,-1,-1,-1,-1,-1,-1,null,null,null,null,null,null,{"$f":"O96+1","v":67},"RCP2-RTCBL","- - -",null,null,null,null,null,null,null,null,null,null,null,null,null,null,null,null,null,null,null,null,null,null,null,null,null,null,null,{"$f":"AS96+1","v":66},1.4278522746567966E-2,0.19993426526863672,{"$f":"( $AP$6*AU97 + $AP$7*AU96 + $AP$9*AV96 )/$AP$8","v":4.6698681519124194E-2}]
[68,-1,-1,-1,-1,-1,-1,-1,null,null,null,null,null,null,68,"RCP2CR-SA5C","- - -",null,null,null,null,null,null,null,null,null,null,null,null,null,null,null,null,null,null,null,null,null,null,null,null,null,null,null,67,1.4494864000303845E-2,0.20603877795934586,4.8714290176194608E-2]
[69,-1,-1,-1,-1,-1,-1,-1,null,null,null,null,null,null,69,"RCP2CR-SA6C","- - -",null,null,null,null,null,null,null,null,null,null,null,null,null,null,null,null,null,null,null,null,null,null,null,null,null,null,null,68,1.4711205254039723E-2,0.21223508783337386,5.0783224440438111E-2]
[70,-1,-1,-1,-1,-1,-1,-1,null,null,null,null,null,null,70,"RCP2CR-SA7C","- - -",null,null,null,null,null,null,null,null,null,null,null,null,null,null,null,null,null,null,null,null,null,null,null,null,null,null,null,69,1.4927546507775601E-2,0.21852319489072075,5.2905980471004907E-2]
[71,-1,-1,-1,-1,-1,-1,-1,null,null,null,null,null,null,71,"RCP2CR-SS7C","- - -",null,null,null,null,null,null,null,null,null,null,null,null,null,null,null,null,null,null,null,null,null,null,null,null,null,null,null,70,1.5143887761511479E-2,0.22490309913138662,5.5083048028193728E-2]
[72,-1,-1,-1,-1,-1,-1,-1,null,null,null,null,null,null,72,"RCP2CR-SS8C","- - -",null,null,null,null,null,null,null,null,null,null,null,null,null,null,null,null,null,null,null,null,null,null,null,null,null,null,null,71,1.5360229015247358E-2,0.23137480055537146,5.7314910555976345E-2]
[73,-1,-1,-1,-1,-1,-1,-1,null,null,null,null,null,null,73,"RCP2CR-HS8C","- - -",null,null,null,null,null,null,null,null,null,null,null,null,null,null,null,null,null,null,null,null,null,null,null,null,null,null,null,72,1.5576570268983236E-2,0.2379382991626752,5.960204526345779E-2]
[74,-1,-1,-1,-1,-1,-1,-1,null,null,null,null,null,null,74,"RCP2W-RA4C","- - -",null,null,null,null,null,null,null,null,null,null,null,null,null,null,null,null,null,null,null,null,null,null,null,null,null,null,null,73,1.5792911522719114E-2,0.2445935949532978,6.1944923205286016E-2]
[75,-1,-1,-1,-1,-1,-1,-1,null,null,null,null,null,null,75,"RCP2W-RA6C","- - -",null,null,null,null,null,null,null,null,null,null,null,null,null,null,null,null,null,null,null,null,null,null,null,null,null,null,null,74,1.6009252776454992E-2,0.2513406879272394,6.4344009361024537E-2]
[76,-1,-1,-1,-1,-1,-1,-1,null,null,null,null,null,null,{"$f":"O105+1","v":76},"RCP2W-RA10C","- - -",null,null,null,null,null,null,null,null,null,null,null,null,null,null,null,null,null,null,null,null,null,null,null,null,null,null,null,75,1.622559403019087E-2,0.25817957808449993,6.6799762713501409E-2]
[77,-1,-1,-1,-1,-1,-1,-1,null,null,null,null,null,null,77,"RCP3-RA2AC-20P","- - -",null,null,null,null,null,null,null,null,null,null,null,null,null,null,null,null,null,null,null,null,null,null,null,null,null,null,null,76,1.6441935283926748E-2,0.26511026542507943,6.9312636326147758E-2]
[78,-1,-1,-1,-1,-1,-1,-1,null,null,null,null,null,null,78,"RCP3-RA2AC-20SP","- - -",null,null,null,null,null,null,null,null,null,null,null,null,null,null,null,null,null,null,null,null,null,null,null,null,null,null,null,77,1.6658276537662626E-2,0.27213274994897779,7.1883077419338859E-2]
[79,-1,-1,-1,-1,-1,-1,-1,null,null,null,null,null,null,79,"RCP3-RA2BC-20P","- - -",null,null,null,null,null,null,null,null,null,null,null,null,null,null,null,null,null,null,null,null,null,null,null,null,null,null,null,78,1.6874617791398507E-2,0.27924703165619519,7.4511527445750722E-2]
[80,-1,-1,-1,-1,-1,-1,-1,null,null,null,null,null,null,80,"RCP3-RA2BC-20SP","- - -",null,null,null,null,null,null,null,null,null,null,null,null,null,null,null,null,null,null,null,null,null,null,null,null,null,null,null,79,1.7090959045134385E-2,0.28645311054673145,7.7198422164744845E-2]
[81,-1,-1,-1,-1,-1,-1,-1,null,null,null,null,null,null,81,"RCP3-RA2AR-20P","- - -",null,null,null,null,null,null,null,null,null,null,null,null,null,null,null,null,null,null,null,null,null,null,null,null,null,null,null,80,1.7307300298870263E-2,0.29375098662058668,7.9944191715793506E-2]
[82,-1,-1,-1,-1,-1,-1,-1,null,null,null,null,null,null,82,"RCP3-RA2AR-20SP","- - -",null,null,null,null,null,null,null,null,null,null,null,null,null,null,null,null,null,null,null,null,null,null,null,null,null,null,null,81,1.7523641552606141E-2,0.30114065987776079,8.2749260690958254E-2]
[83,-1,-1,-1,-1,-1,-1,-1,null,null,null,null,null,null,83,"RCP3-RA2BR-20P","- - -",null,null,null,null,null,null,null,null,null,null,null,null,null,null,null,null,null,null,null,null,null,null,null,null,null,null,null,82,1.7739982806342019E-2,0.30862213031825381,8.5614048206433563E-2]
[84,-1,-1,-1,-1,-1,-1,-1,null,null,null,null,null,null,{"$f":"O113+1","v":84},"RCP3-RA2BR-20SP","- - -",null,null,null,null,null,null,null,null,null,null,null,null,null,null,null,null,null,null,null,null,null,null,null,null,null,null,null,83,1.7956324060077897E-2,0.3161953979420658,8.8538967973167876E-2]
[85,-1,-1,-1,-1,-1,-1,-1,null,null,null,null,null,null,{"$f":"O114+1","v":85},"RCP2-RA8C","- - -",null,null,null,null,null,null,null,null,null,null,null,null,null,null,null,null,null,null,null,null,null,null,null,null,null,null,null,84,1.8172665313813775E-2,0.32386046274919672,9.152442836657379E-2]
[86,-1,-1,-1,-1,-1,-1,-1,null,null,null,null,null,null,{"$f":"O115+1","v":86},"RCP2-RA8R","- - -",null,null,null,null,null,null,null,null,null,null,null,null,null,null,null,null,null,null,null,null,null,null,null,null,null,null,null,85,1.8389006567549653E-2,0.33161732473964661,9.4570832495339319E-2]
[87,-1,-1,-1,-1,-1,-1,-1,null,null,null,null,null,null,null,null,null,null,null,null,null,null,null,null,null,null,null,null,null,null,null,null,null,null,null,null,null,null,null,null,null,null,null,null,86,1.860534782128553E-2,0.33946598391341537,9.7678578269351543E-2]
[88,-1,-1,-1,-1,-1,-1,-1,null,null,null,null,null,null,null,null,null,null,null,null,null,null,null,null,null,null,null,null,null,null,null,null,null,null,null,null,null,null,null,null,null,null,null,null,87,1.8821689075021412E-2,0.34740644027050321,0.10084805846674444]
[89,-1,-1,-1,-1,-1,-1,-1,null,null,null,null,null,null,null,null,null,null,null,null,null,null,null,null,null,null,null,null,null,null,null,null,null,null,null,null,null,null,null,null,null,null,null,null,88,1.903803032875729E-2,0.35543869381090987,0.10407966080008189]
[90,-1,-1,-1,-1,-1,-1,-1,null,null,null,null,null,null,null,null,null,null,null,null,null,null,null,null,null,null,null,null,null,null,null,null,null,null,null,null,null,null,null,null,null,null,null,null,89,1.9254371582493168E-2,0.36356274453463544,0.1073737679816872]
[91,-1,-1,-1,-1,-1,-1,-1,null,null,null,null,null,null,null,null,null,null,null,null,null,null,null,null,null,null,null,null,null,null,null,null,null,null,null,null,null,null,null,null,null,null,null,null,90,1.9470712836229045E-2,0.37177859244167999,0.11073075778813005]
[92,-1,-1,-1,-1,-1,-1,-1,null,null,null,null,null,null,null,null,null,null,null,null,null,null,null,null,null,null,null,null,null,null,null,null,null,null,null,null,null,null,null,null,null,null,null,null,91,1.9687054089964923E-2,0.3800862375320434,0.11415100312388179]
[93,-1,-1,-1,-1,-1,-1,-1,null,null,null,null,null,null,null,null,null,null,null,null,null,null,null,null,null,null,null,null,null,null,null,null,null,null,null,null,null,null,null,null,null,null,null,null,92,1.9903395343700801E-2,0.38848567980572579,0.11763487208414983]
[94,-1,-1,-1,-1,-1,-1,-1,null,null,null,null,null,null,null,null,null,null,null,null,null,null,null,null,null,null,null,null,null,null,null,null,null,null,null,null,null,null,null,null,null,null,null,null,93,2.0119736597436679E-2,0.39697691926272716,0.1211827280169015]
[95,-1,-1,-1,-1,-1,-1,-1,null,null,null,null,null,null,null,null,null,null,null,null,null,null,null,null,null,null,null,null,null,null,null,null,null,null,null,null,null,null,null,null,null,null,null,null,94,2.0336077851172557E-2,0.40555995590304733,0.12479492958408826]
[96,-1,-1,-1,-1,-1,-1,-1,null,null,null,null,null,null,null,null,null,null,null,null,null,null,null,null,null,null,null,null,null,null,null,null,null,null,null,null,null,null,null,null,null,null,null,null,95,2.0552419104908435E-2,0.41423478972668654,0.12847183082208008]
[97,-1,-1,-1,-1,-1,-1,-1,null,null,null,null,null,null,null,null,null,null,null,null,null,null,null,null,null,null,null,null,null,null,null,null,null,null,null,null,null,null,null,null,null,null,null,null,96,2.0768760358644313E-2,0.42300142073364466,0.13221378120132057]
[98,-1,-1,-1,-1,-1,-1,-1,null,null,null,null,null,null,null,null,null,null,null,null,null,null,null,null,null,null,null,null,null,null,null,null,null,null,null,null,null,null,null,null,null,null,null,null,97,2.0985101612380194E-2,0.43185984892392187,0.13602112568521268]
[99,-1,-1,-1,-1,-1,-1,-1,null,null,null,null,null,null,null,null,null,null,null,null,null,null,null,null,null,null,null,null,null,null,null,null,null,null,null,null,null,null,null,null,null,null,null,null,98,2.1201442866116072E-2,0.44081007429751784,0.13989420478824494]
[100,-1,-1,-1,-1,-1,-1,-1,null,null,null,null,null,null,null,null,null,null,null,null,null,null,null,null,null,null,null,null,null,null,null,null,null,null,null,null,null,null,null,null,null,null,null,null,99,2.141778411985195E-2,0.44985209685443278,0.14383335463336813]
[101,-1,-1,-1,-1,-1,-1,-1,null,null,null,null,null,null,null,null,null,null,null,null,null,null,null,null,null,null,null,null,null,null,null,null,null,null,null,null,null,null,null,null,null,null,null,null,100,2.1634125373587828E-2,0.45898591659466659,0.14783890700863195]
[102,-1,-1,-1,-1,-1,-1,-1,null,null,null,null,null,null,null,null,null,null,null,null,null,null,null,null,null,null,null,null,null,null,null,null,null,null,null,null,null,null,null,null,null,null,null,null,{"$f":"AS131+1","v":101},2.1850466627323706E-2,0.46821153351821937,0.15191118942309118]
[103,-1,-1,-1,-1,-1,-1,-1,null,null,null,null,null,null,null,null,null,null,null,null,null,null,null,null,null,null,null,null,null,null,null,null,null,null,null,null,null,null,null,null,null,null,null,null,102,2.2066807881059584E-2,0.47752894762509113,0.15605052516199103]
[104,-1,-1,-1,-1,-1,-1,-1,null,null,null,null,null,null,null,null,null,null,null,null,null,null,null,null,null,null,null,null,null,null,null,null,null,null,null,null,null,null,null,null,null,null,null,null,103,2.2283149134795462E-2,0.48693815891528175,0.16025723334124056]
[105,-1,-1,-1,-1,-1,-1,-1,null,null,null,null,null,null,null,null,null,null,null,null,null,null,null,null,null,null,null,null,null,null,null,null,null,null,null,null,null,null,null,null,null,null,null,null,104,2.249949038853134E-2,0.49643916738879135,0.16453162896118365]
[106,-1,-1,-1,-1,-1,-1,-1,null,null,null,null,null,null,null,null,null,null,null,null,null,null,null,null,null,null,null,null,null,null,null,null,null,null,null,null,null,null,null,null,null,null,null,null,105,2.2715831642267217E-2,0.50603197304561987,0.16887402295967652]
[107,-1,-1,-1,-1,-1,-1,-1,null,null,null,null,null,null,null,null,null,null,null,null,null,null,null,null,null,null,null,null,null,null,null,null,null,null,null,null,null,null,null,null,null,null,null,null,106,2.2932172896003099E-2,0.51571657588576747,0.17328472226448075]
[108,-1,-1,-1,-1,-1,-1,-1,null,null,null,null,null,null,null,null,null,null,null,null,null,null,null,null,null,null,null,null,null,null,null,null,null,null,null,null,null,null,null,null,null,null,null,null,107,2.3148514149738977E-2,0.52549297590923383,0.17776402984498049]
[109,-1,-1,-1,-1,-1,-1,-1,null,null,null,null,null,null,null,null,null,null,null,null,null,null,null,null,null,null,null,null,null,null,null,null,null,null,null,null,null,null,null,null,null,null,null,null,108,2.3364855403474855E-2,0.53536117311601916,0.18231224476323285]
[110,-1,-1,-1,-1,-1,-1,-1,null,null,null,null,null,null,null,null,null,null,null,null,null,null,null,null,null,null,null,null,null,null,null,null,null,null,null,null,null,null,null,null,null,null,null,null,109,2.3581196657210732E-2,0.54532116750612336,0.18692966222435972]
[111,-1,-1,-1,-1,-1,-1,-1,null,null,null,null,null,null,null,null,null,null,null,null,null,null,null,null,null,null,null,null,null,null,null,null,null,null,null,null,null,null,null,null,null,null,null,null,110,2.379753791094661E-2,0.55537295907954654,0.19161657362628975]
[112,-1,-1,-1,-1,-1,-1,-1,null,null,null,null,null,null,null,null,null,null,null,null,null,null,null,null,null,null,null,null,null,null,null,null,null,null,null,null,null,null,null,null,null,null,null,null,111,2.4013879164682488E-2,0.56551654783628869,0.19637326660885895]
[113,-1,-1,-1,-1,-1,-1,-1,null,null,null,null,null,null,null,null,null,null,null,null,null,null,null,null,null,null,null,null,null,null,null,null,null,null,null,null,null,null,null,null,null,null,null,null,112,2.4230220418418366E-2,0.5757519337763497,0.20120002510227794]
[114,-1,-1,-1,-1,-1,-1,-1,null,null,null,null,null,null,null,null,null,null,null,null,null,null,null,null,null,null,null,null,null,null,null,null,null,null,null,null,null,null,null,null,null,null,null,null,113,2.4446561672154244E-2,0.58607911689972969,0.20609712937497407]
[115,-1,-1,-1,-1,-1,-1,-1,null,null,null,null,null,null,null,null,null,null,null,null,null,null,null,null,null,null,null,null,null,null,null,null,null,null,null,null,null,null,null,null,null,null,null,null,114,2.4662902925890122E-2,0.59649809720642855,0.21106485608081668]
[116,-1,-1,-1,-1,-1,-1,-1,null,null,null,null,null,null,null,null,null,null,null,null,null,null,null,null,null,null,null,null,null,null,null,null,null,null,null,null,null,null,null,null,null,null,null,null,115,2.4879244179626003E-2,0.60700887469644671,0.21610347830573323]
[117,-1,-1,-1,-1,-1,-1,-1,null,null,null,null,null,null,null,null,null,null,null,null,null,null,null,null,null,null,null,null,null,null,null,null,null,null,null,null,null,null,null,null,null,null,null,null,116,2.5095585433361881E-2,0.61761144936978341,0.22121326561372417]
[118,-1,-1,-1,-1,-1,-1,-1,null,null,null,null,null,null,null,null,null,null,null,null,null,null,null,null,null,null,null,null,null,null,null,null,null,null,null,null,null,null,null,null,null,null,null,null,117,2.5311926687097759E-2,0.62830582122643919,0.22639448409228446]
[119,-1,-1,-1,-1,-1,-1,-1,null,null,null,null,null,null,null,null,null,null,null,null,null,null,null,null,null,null,null,null,null,null,null,null,null,null,null,null,null,null,null,null,null,null,null,null,118,2.5528267940833637E-2,0.6390907639304767,0.23164738848935179]
[120,-1,-1,-1,-1,-1,-1,-1,null,null,null,null,null,null,null,null,null,null,null,null,null,null,null,null,null,null,null,null,null,null,null,null,null,null,null,null,null,null,null,null,null,null,null,null,119,2.5744609194569515E-2,0.64990782661727053,0.23697184544580979]
[121,-1,-1,-1,-1,-1,-1,-1,null,null,null,null,null,null,null,null,null,null,null,null,null,null,null,null,null,null,null,null,null,null,null,null,null,null,null,null,null,null,null,null,null,null,null,null,120,2.5960950448305393E-2,0.66072488930406448,0.24236713928665507]
[122,-1,-1,-1,-1,-1,-1,-1,null,null,null,null,null,null,null,null,null,null,null,null,null,null,null,null,null,null,null,null,null,null,null,null,null,null,null,null,null,null,null,null,null,null,null,null,121,2.6177291702041271E-2,0.67154195199085831,0.24783235644473281]
[123,-1,-1,-1,-1,-1,-1,-1,null,null,null,null,null,null,null,null,null,null,null,null,null,null,null,null,null,null,null,null,null,null,null,null,null,null,null,null,null,null,null,null,null,null,null,null,122,2.6393632955777149E-2,0.68235901467765225,0.25336659513495557]
[124,-1,-1,-1,-1,-1,-1,-1,null,null,null,null,null,null,null,null,null,null,null,null,null,null,null,null,null,null,null,null,null,null,null,null,null,null,null,null,null,null,null,null,null,null,null,null,123,2.6609974209513026E-2,0.69317607736444609,0.25896896520235269]
[125,-1,-1,-1,-1,-1,-1,-1,null,null,null,null,null,null,null,null,null,null,null,null,null,null,null,null,null,null,null,null,null,null,null,null,null,null,null,null,null,null,null,null,null,null,null,null,124,2.6826315463248908E-2,0.70399314005124025,0.26463858797207929]
[126,-1,-1,-1,-1,-1,-1,-1,null,null,null,null,null,null,null,null,null,null,null,null,null,null,null,null,null,null,null,null,null,null,null,null,null,null,null,null,null,null,null,null,null,null,null,null,125,2.7042656716984786E-2,0.71481020273803408,0.27037459610135972]
[127,-1,-1,-1,-1,-1,-1,-1,null,null,null,null,null,null,null,null,null,null,null,null,null,null,null,null,null,null,null,null,null,null,null,null,null,null,null,null,null,null,null,null,null,null,null,null,126,2.7258997970720664E-2,0.72562726542482803,0.27617613343334046]
[128,-1,-1,-1,-1,-1,-1,-1,null,null,null,null,null,null,null,null,null,null,null,null,null,null,null,null,null,null,null,null,null,null,null,null,null,null,null,null,null,null,null,null,null,null,null,null,127,2.7475339224456542E-2,0.73644432811162186,0.2820423548528278]
[{"$f":"A158+1","v":129},-1,-1,-1,-1,-1,-1,-1,null,null,null,null,null,null,null,null,null,null,null,null,null,null,null,null,null,null,null,null,null,null,null,null,null,null,null,null,null,null,null,null,null,null,null,null,128,{"$f":"$AP$18/$N$7*AS159","v":2.7691680478192419E-2},0.7472613907984158,0.28797242614388613]
[130,-1,-1,-1,-1,-1,-1,-1,null,null,null,null,null,null,null,null,null,null,null,null,null,null,null,null,null,null,null,null,null,null,null,null,null,null,null,null,null,null,null,null,null,null,null,null,129,2.7908021731928297E-2,{"$f":"IF(($N$4*AT160^2/2)<=$AP$13,($N$4*AT160^2/2), IF(($AP$13+$N$6*(AT160-$AP$12))<=$AP$17, ($AP$13+$N$6*(AT160-$AP$12)), IF(AU159<$D$14, ($AP$17+($N$6-$N$5*(AT160-$AP$16)/2)*(AT160-$AP$16)), $D$14)))","v":0.75807845348520964},0.29396552384927266]
[131,-1,-1,-1,-1,-1,-1,-1,null,null,null,null,null,null,null,null,null,null,null,null,null,null,null,null,null,null,null,null,null,null,null,null,null,null,null,null,null,null,null,null,null,null,null,null,130,2.8124362985664175E-2,0.76889551617200358,{"$f":"( $AP$6*AU161 + $AP$7*AU160 + $AP$9*AV160 )/$AP$8","v":0.30002083513168493}]
[132,-1,-1,-1,-1,-1,-1,-1,null,null,null,null,null,null,null,null,null,null,null,null,null,null,null,null,null,null,null,null,null,null,null,null,null,null,null,null,null,null,null,null,null,null,null,null,131,2.8340704239400053E-2,0.77971257885879752,0.30613755763679801]
[133,-1,-1,-1,-1,-1,-1,-1,null,null,null,null,null,null,null,null,null,null,null,null,null,null,null,null,null,null,null,null,null,null,null,null,null,null,null,null,null,null,null,null,null,null,null,null,132,2.8557045493135931E-2,0.79052964154559136,0.31231489935806772]
[134,-1,-1,-1,-1,-1,-1,-1,null,null,null,null,null,null,null,null,null,null,null,null,null,null,null,null,null,null,null,null,null,null,null,null,null,null,null,null,null,null,null,null,null,null,null,null,133,2.8773386746871812E-2,0.80134670423238541,0.31855207850327794]
[135,-1,-1,-1,-1,-1,-1,-1,null,null,null,null,null,null,null,null,null,null,null,null,null,null,null,null,null,null,null,null,null,null,null,null,null,null,null,null,null,null,null,null,null,null,null,null,134,2.898972800060769E-2,0.81216376691917935,0.32484832336280856]
[136,-1,-1,-1,-1,-1,-1,-1,null,null,null,null,null,null,null,null,null,null,null,null,null,null,null,null,null,null,null,null,null,null,null,null,null,null,null,null,null,null,null,null,null,null,null,null,135,2.9206069254343568E-2,0.82298082960597319,0.33120287217960248]
[137,-1,-1,-1,-1,-1,-1,-1,null,null,null,null,null,null,null,null,null,null,null,null,null,null,null,null,null,null,null,null,null,null,null,null,null,null,null,null,null,null,null,null,null,null,null,null,136,2.9422410508079446E-2,0.83379789229276713,0.33761497302080989]
[138,-1,-1,-1,-1,-1,-1,-1,null,null,null,null,null,null,null,null,null,null,null,null,null,null,null,null,null,null,null,null,null,null,null,null,null,null,null,null,null,null,null,null,null,null,null,null,137,2.9638751761815324E-2,0.84461495497956096,0.34408388365108755]
[139,-1,-1,-1,-1,-1,-1,-1,null,null,null,null,null,null,null,null,null,null,null,null,null,null,null,null,null,null,null,null,null,null,null,null,null,null,null,null,null,null,null,null,null,null,null,null,138,2.9855093015551202E-2,0.8554320176663549,0.35060887140753222]
[140,-1,-1,-1,-1,-1,-1,-1,null,null,null,null,null,null,null,null,null,null,null,null,null,null,null,null,null,null,null,null,null,null,null,null,null,null,null,null,null,null,null,null,null,null,null,null,139,3.007143426928708E-2,0.86624908035314885,0.35718921307622725]
[141,-1,-1,-1,-1,-1,-1,-1,null,null,null,null,null,null,null,null,null,null,null,null,null,null,null,null,null,null,null,null,null,null,null,null,null,null,null,null,null,null,null,null,null,null,null,null,140,3.0287775523022958E-2,0.87706614303994268,0.36382419477038097]
[142,-1,-1,-1,-1,-1,-1,-1,null,null,null,null,null,null,null,null,null,null,null,null,null,null,null,null,null,null,null,null,null,null,null,null,null,null,null,null,null,null,null,null,null,null,null,null,141,3.0504116776758836E-2,0.88788320572673651,0.37051311181003704]
[143,-1,-1,-1,-1,-1,-1,-1,null,null,null,null,null,null,null,null,null,null,null,null,null,null,null,null,null,null,null,null,null,null,null,null,null,null,null,null,null,null,null,null,null,null,null,null,142,3.0720458030494717E-2,0.89870026841353068,0.37725526860333597]
[144,-1,-1,-1,-1,-1,-1,-1,null,null,null,null,null,null,null,null,null,null,null,null,null,null,null,null,null,null,null,null,null,null,null,null,null,null,null,null,null,null,null,null,null,null,null,null,143,3.0936799284230595E-2,0.90951733110032462,0.38404997852930783]
[145,-1,-1,-1,-1,-1,-1,-1,null,null,null,null,null,null,null,null,null,null,null,null,null,null,null,null,null,null,null,null,null,null,null,null,null,null,null,null,null,null,null,null,null,null,null,null,144,3.1153140537966473E-2,0.92033439378711845,0.39089656382217697]
[146,-1,-1,-1,-1,-1,-1,-1,null,null,null,null,null,null,null,null,null,null,null,null,null,null,null,null,null,null,null,null,null,null,null,null,null,null,null,null,null,null,null,null,null,null,null,null,145,3.1369481791702347E-2,0.93115145647391218,0.39779435545715847]
[147,-1,-1,-1,-1,-1,-1,-1,null,null,null,null,null,null,null,null,null,null,null,null,null,null,null,null,null,null,null,null,null,null,null,null,null,null,null,null,null,null,null,null,null,null,null,null,146,3.1585823045438229E-2,0.94196851916070623,0.40474269303772753]
[148,-1,-1,-1,-1,-1,-1,-1,null,null,null,null,null,null,null,null,null,null,null,null,null,null,null,null,null,null,null,null,null,null,null,null,null,null,null,null,null,null,null,null,null,null,null,null,147,3.180216429917411E-2,0.95278558184750028,0.41174092468434298]
[149,-1,-1,-1,-1,-1,-1,-1,null,null,null,null,null,null,null,null,null,null,null,null,null,null,null,null,null,null,null,null,null,null,null,null,null,null,null,null,null,null,null,null,null,null,null,null,148,3.2018505552909984E-2,0.96360264453429401,0.41878840692460534]
[150,-1,-1,-1,-1,-1,-1,-1,null,null,null,null,null,null,null,null,null,null,null,null,null,null,null,null,null,null,null,null,null,null,null,null,null,null,null,null,null,null,null,null,null,null,null,null,149,3.2234846806645866E-2,0.97441970722108806,0.42588450458483218]
[151,-1,-1,-1,-1,-1,-1,-1,null,null,null,null,null,null,null,null,null,null,null,null,null,null,null,null,null,null,null,null,null,null,null,null,null,null,null,null,null,null,null,null,null,null,null,null,150,3.245118806038174E-2,0.98523676990788178,0.43302859068303129]
[152,-1,-1,-1,-1,-1,-1,-1,null,null,null,null,null,null,null,null,null,null,null,null,null,null,null,null,null,null,null,null,null,null,null,null,null,null,null,null,null,null,null,null,null,null,null,null,151,3.2667529314117622E-2,0.99605383259467595,0.44022004632325418]
[153,-1,-1,-1,-1,-1,-1,-1,null,null,null,null,null,null,null,null,null,null,null,null,null,null,null,null,null,null,null,null,null,null,null,null,null,null,null,null,null,null,null,null,null,null,null,null,{"$f":"AS182+1","v":152},3.2883870567853496E-2,1.0068708952814696,0.44745826059131255]
[154,-1,-1,-1,-1,-1,-1,-1,null,null,null,null,null,null,null,null,null,null,null,null,null,null,null,null,null,null,null,null,null,null,null,null,null,null,null,null,null,null,null,null,null,null,null,null,153,3.3100211821589377E-2,1.0176879579682636,0.45474263045183905]
[155,-1,-1,-1,-1,-1,-1,-1,null,null,null,null,null,null,null,null,null,null,null,null,null,null,null,null,null,null,null,null,null,null,null,null,null,null,null,null,null,null,null,null,null,null,null,null,154,3.3316553075325252E-2,1.0285050206550574,0.46207256064667612]
[156,-1,-1,-1,-1,-1,-1,-1,null,null,null,null,null,null,null,null,null,null,null,null,null,null,null,null,null,null,null,null,null,null,null,null,null,null,null,null,null,null,null,null,null,null,null,null,155,3.3532894329061133E-2,1.0393220833418515,0.46944746359457495]
[157,-1,-1,-1,-1,-1,-1,-1,null,null,null,null,null,null,null,null,null,null,null,null,null,null,null,null,null,null,null,null,null,null,null,null,null,null,null,null,null,null,null,null,null,null,null,null,156,3.3749235582797014E-2,1.0501391460286456,0.47686675929218814]
[158,-1,-1,-1,-1,-1,-1,-1,null,null,null,null,null,null,null,null,null,null,null,null,null,null,null,null,null,null,null,null,null,null,null,null,null,null,null,null,null,null,null,null,null,null,null,null,157,3.3965576836532889E-2,1.0609562087154392,0.48432987521633941]
[159,-1,-1,-1,-1,-1,-1,-1,null,null,null,null,null,null,null,null,null,null,null,null,null,null,null,null,null,null,null,null,null,null,null,null,null,null,null,null,null,null,null,null,null,null,null,null,158,3.418191809026877E-2,1.0717732714022334,0.49183624622755334]
[160,-1,-1,-1,-1,-1,-1,-1,null,null,null,null,null,null,null,null,null,null,null,null,null,null,null,null,null,null,null,null,null,null,null,null,null,null,null,null,null,null,null,null,null,null,null,null,159,3.4398259344004645E-2,1.0825903340890271,0.49938531447482948]
[161,-1,-1,-1,-1,-1,-1,-1,null,null,null,null,null,null,null,null,null,null,null,null,null,null,null,null,null,null,null,null,null,null,null,null,null,null,null,null,null,null,null,null,null,null,null,null,160,3.4614600597740526E-2,1.0934073967758211,0.50697652930164472]
[162,-1,-1,-1,-1,-1,-1,-1,null,null,null,null,null,null,null,null,null,null,null,null,null,null,null,null,null,null,null,null,null,null,null,null,null,null,null,null,null,null,null,null,null,null,null,null,161,3.48309418514764E-2,1.1042244594626149,0.51460934715316764]
[163,-1,-1,-1,-1,-1,-1,-1,null,null,null,null,null,null,null,null,null,null,null,null,null,null,null,null,null,null,null,null,null,null,null,null,null,null,null,null,null,null,null,null,null,null,null,null,162,3.5047283105212282E-2,1.1150415221494088,0.52228323148466937]
[164,-1,-1,-1,-1,-1,-1,-1,null,null,null,null,null,null,null,null,null,null,null,null,null,null,null,null,null,null,null,null,null,null,null,null,null,null,null,null,null,null,null,null,null,null,null,null,163,3.5263624358948156E-2,1.1258585848362026,0.52999765267111643]
[165,-1,-1,-1,-1,-1,-1,-1,null,null,null,null,null,null,null,null,null,null,null,null,null,null,null,null,null,null,null,null,null,null,null,null,null,null,null,null,null,null,null,null,null,null,null,null,164,3.5479965612684038E-2,1.1366756475229967,0.53775208791792861]
[166,-1,-1,-1,-1,-1,-1,-1,null,null,null,null,null,null,null,null,null,null,null,null,null,null,null,null,null,null,null,null,null,null,null,null,null,null,null,null,null,null,null,null,null,null,null,null,165,3.5696306866419919E-2,1.1474927102097907,0.5455460211728882]
[167,-1,-1,-1,-1,-1,-1,-1,null,null,null,null,null,null,null,null,null,null,null,null,null,null,null,null,null,null,null,null,null,null,null,null,null,null,null,null,null,null,null,null,null,null,null,null,166,3.5912648120155793E-2,1.1583097728965845,0.55337894303918533]
[168,-1,-1,-1,-1,-1,-1,-1,null,null,null,null,null,null,null,null,null,null,null,null,null,null,null,null,null,null,null,null,null,null,null,null,null,null,null,null,null,null,null,null,null,null,null,null,167,3.6128989373891675E-2,1.1691268355833786,0.56125035068958484]
[169,-1,-1,-1,-1,-1,-1,-1,null,null,null,null,null,null,null,null,null,null,null,null,null,null,null,null,null,null,null,null,null,null,null,null,null,null,null,null,null,null,null,null,null,null,null,null,168,3.6345330627627549E-2,1.1799438982701722,0.56915974778169975]
[170,-1,-1,-1,-1,-1,-1,-1,null,null,null,null,null,null,null,null,null,null,null,null,null,null,null,null,null,null,null,null,null,null,null,null,null,null,null,null,null,null,null,null,null,null,null,null,169,3.6561671881363431E-2,1.1907609609569665,0.57710664437435766]
[171,-1,-1,-1,-1,-1,-1,-1,null,null,null,null,null,null,null,null,null,null,null,null,null,null,null,null,null,null,null,null,null,null,null,null,null,null,null,null,null,null,null,null,null,null,null,null,170,3.6778013135099305E-2,1.2015780236437601,0.58509055684504574]
[172,-1,-1,-1,-1,-1,-1,-1,null,null,null,null,null,null,null,null,null,null,null,null,null,null,null,null,null,null,null,null,null,null,null,null,null,null,null,null,null,null,null,null,null,null,null,null,171,3.6994354388835186E-2,1.2123950863305542,0.59311100780842085]
[173,-1,-1,-1,-1,-1,-1,-1,null,null,null,null,null,null,null,null,null,null,null,null,null,null,null,null,null,null,null,null,null,null,null,null,null,null,null,null,null,null,null,null,null,null,null,null,172,3.7210695642571061E-2,1.223212149017348,0.60116752603586954]
[174,-1,-1,-1,-1,-1,-1,-1,null,null,null,null,null,null,null,null,null,null,null,null,null,null,null,null,null,null,null,null,null,null,null,null,null,null,null,null,null,null,null,null,null,null,null,null,173,3.7427036896306942E-2,1.2340292117041418,0.60925964637610641]
[175,-1,-1,-1,-1,-1,-1,-1,null,null,null,null,null,null,null,null,null,null,null,null,null,null,null,null,null,null,null,null,null,null,null,null,null,null,null,null,null,null,null,null,null,null,null,null,174,3.7643378150042824E-2,1.2448462743909361,0.61738690967679632]
[176,-1,-1,-1,-1,-1,-1,-1,null,null,null,null,null,null,null,null,null,null,null,null,null,null,null,null,null,null,null,null,null,null,null,null,null,null,null,null,null,null,null,null,null,null,null,null,175,3.7859719403778698E-2,1.2556633370777297,0.62554886270718701]
[177,-1,-1,-1,-1,-1,-1,-1,null,null,null,null,null,null,null,null,null,null,null,null,null,null,null,null,null,null,null,null,null,null,null,null,null,null,null,null,null,null,null,null,null,null,null,null,176,3.8076060657514579E-2,1.2664803997645238,0.63374505808174009]
[178,-1,-1,-1,-1,-1,-1,-1,null,null,null,null,null,null,null,null,null,null,null,null,null,null,null,null,null,null,null,null,null,null,null,null,null,null,null,null,null,null,null,null,null,null,null,null,177,3.8292401911250454E-2,1.2772974624513176,0.64197505418474643]
[179,-1,-1,-1,-1,-1,-1,-1,null,null,null,null,null,null,null,null,null,null,null,null,null,null,null,null,null,null,null,null,null,null,null,null,null,null,null,null,null,null,null,null,null,null,null,null,178,3.8508743164986335E-2,1.2881145251381114,0.65023841509591396]
[180,-1,-1,-1,-1,-1,-1,-1,null,null,null,null,null,null,null,null,null,null,null,null,null,null,null,null,null,null,null,null,null,null,null,null,null,null,null,null,null,null,null,null,null,null,null,null,179,3.872508441872221E-2,1.2989315878249053,0.65853471051691537]
[181,-1,-1,-1,-1,-1,-1,-1,null,null,null,null,null,null,null,null,null,null,null,null,null,null,null,null,null,null,null,null,null,null,null,null,null,null,null,null,null,null,null,null,null,null,null,null,180,3.8941425672458091E-2,1.3097486505116993,0.66686351569888291]
[182,-1,-1,-1,-1,-1,-1,-1,null,null,null,null,null,null,null,null,null,null,null,null,null,null,null,null,null,null,null,null,null,null,null,null,null,null,null,null,null,null,null,null,null,null,null,null,181,3.9157766926193965E-2,1.3205657131984929,0.675224411370838]
[183,-1,-1,-1,-1,-1,-1,-1,null,null,null,null,null,null,null,null,null,null,null,null,null,null,null,null,null,null,null,null,null,null,null,null,null,null,null,null,null,null,null,null,null,null,null,null,182,3.9374108179929847E-2,1.3313827758852872,0.68361698366904444]
[184,-1,-1,-1,-1,-1,-1,-1,null,null,null,null,null,null,null,null,null,null,null,null,null,null,null,null,null,null,null,null,null,null,null,null,null,null,null,null,null,null,null,null,null,null,null,null,183,3.9590449433665728E-2,1.3421998385720812,0.6920408240672723]
[185,-1,-1,-1,-1,-1,-1,-1,null,null,null,null,null,null,null,null,null,null,null,null,null,null,null,null,null,null,null,null,null,null,null,null,null,null,null,null,null,null,null,null,null,null,null,null,184,3.9806790687401603E-2,1.3530169012588749,0.70049552930796144]
[186,-1,-1,-1,-1,-1,-1,-1,null,null,null,null,null,null,null,null,null,null,null,null,null,null,null,null,null,null,null,null,null,null,null,null,null,null,null,null,null,null,null,null,null,null,null,null,185,4.0023131941137484E-2,1.3638339639456691,0.70898070133427238]
[187,-1,-1,-1,-1,-1,-1,-1,null,null,null,null,null,null,null,null,null,null,null,null,null,null,null,null,null,null,null,null,null,null,null,null,null,null,null,null,null,null,null,null,null,null,null,null,186,4.0239473194873358E-2,1.3746510266324627,0.71749594722301402]
[188,-1,-1,-1,-1,-1,-1,-1,null,null,null,null,null,null,null,null,null,null,null,null,null,null,null,null,null,null,null,null,null,null,null,null,null,null,null,null,null,null,null,null,null,null,null,null,187,4.045581444860924E-2,1.3854680893192568,0.72604087911843629]
[189,-1,-1,-1,-1,-1,-1,-1,null,null,null,null,null,null,null,null,null,null,null,null,null,null,null,null,null,null,null,null,null,null,null,null,null,null,null,null,null,null,null,null,null,null,null,null,188,4.0672155702345114E-2,1.3962851520060506,0.73461511416687608]
[190,-1,-1,-1,-1,-1,-1,-1,null,null,null,null,null,null,null,null,null,null,null,null,null,null,null,null,null,null,null,null,null,null,null,null,null,null,null,null,null,null,null,null,null,null,null,null,189,4.0888496956080995E-2,1.4071022146928445,0.74321827445224686]
[191,-1,-1,-1,-1,-1,-1,-1,null,null,null,null,null,null,null,null,null,null,null,null,null,null,null,null,null,null,null,null,null,null,null,null,null,null,null,null,null,null,null,null,null,null,null,null,190,4.110483820981687E-2,1.4179192773796383,0.75184998693235983]
[192,-1,-1,-1,-1,-1,-1,-1,null,null,null,null,null,null,null,null,null,null,null,null,null,null,null,null,null,null,null,null,null,null,null,null,null,null,null,null,null,null,null,null,null,null,null,null,191,4.1321179463552751E-2,1.4287363400664324,0.76050988337606606]
[{"$f":"A222+1","v":193},-1,-1,-1,-1,-1,-1,-1,null,null,null,null,null,null,null,null,null,null,null,null,null,null,null,null,null,null,null,null,null,null,null,null,null,null,null,null,null,null,null,null,null,null,null,null,192,{"$f":"$AP$18/$N$7*AS223","v":4.1537520717288626E-2},1.439553402753226,0.76919760030121009]
[194,-1,-1,-1,-1,-1,-1,-1,null,null,null,null,null,null,null,null,null,null,null,null,null,null,null,null,null,null,null,null,null,null,null,null,null,null,null,null,null,null,null,null,null,null,null,null,193,4.1753861971024507E-2,{"$f":"IF(($N$4*AT224^2/2)<=$AP$13,($N$4*AT224^2/2), IF(($AP$13+$N$6*(AT224-$AP$12))<=$AP$17, ($AP$13+$N$6*(AT224-$AP$12)), IF(AU223<$D$14, ($AP$17+($N$6-$N$5*(AT224-$AP$16)/2)*(AT224-$AP$16)), $D$14)))","v":1.4503704654400202},0.77791277891338295]
[195,-1,-1,-1,-1,-1,-1,-1,null,null,null,null,null,null,null,null,null,null,null,null,null,null,null,null,null,null,null,null,null,null,null,null,null,null,null,null,null,null,null,null,null,null,null,null,194,4.1970203224760388E-2,1.4611875281268141,{"$f":"( $AP$6*AU225 + $AP$7*AU224 + $AP$9*AV224 )/$AP$8","v":0.78665506504546512}]
[196,-1,-1,-1,-1,-1,-1,-1,null,null,null,null,null,null,null,null,null,null,null,null,null,null,null,null,null,null,null,null,null,null,null,null,null,null,null,null,null,null,null,null,null,null,null,null,195,4.2186544478496263E-2,1.4720045908136079,0.79542410909794992]
[197,-1,-1,-1,-1,-1,-1,-1,null,null,null,null,null,null,null,null,null,null,null,null,null,null,null,null,null,null,null,null,null,null,null,null,null,null,null,null,null,null,null,null,null,null,null,null,196,4.2402885732232144E-2,1.482821653500402,0.80421956598003574]
[198,-1,-1,-1,-1,-1,-1,-1,null,null,null,null,null,null,null,null,null,null,null,null,null,null,null,null,null,null,null,null,null,null,null,null,null,null,null,null,null,null,null,null,null,null,null,null,197,4.2619226985968019E-2,1.4936387161871958,0.81304109505147859]
[199,-1,-1,-1,-1,-1,-1,-1,null,null,null,null,null,null,null,null,null,null,null,null,null,null,null,null,null,null,null,null,null,null,null,null,null,null,null,null,null,null,null,null,null,null,null,null,198,4.28355682397039E-2,1.5044557788739898,0.82188836006519395]
[200,-1,-1,-1,-1,-1,-1,-1,null,null,null,null,null,null,null,null,null,null,null,null,null,null,null,null,null,null,null,null,null,null,null,null,null,null,null,null,null,null,null,null,null,null,null,null,199,4.3051909493439774E-2,1.5152728415607837,0.83076102911059935]
[201,-1,-1,-1,-1,-1,-1,-1,null,null,null,null,null,null,null,null,null,null,null,null,null,null,null,null,null,null,null,null,null,null,null,null,null,null,null,null,null,null,null,null,null,null,null,null,200,4.3268250747175656E-2,1.5260899042475775,0.83965877455768756]
[202,-1,-1,-1,-1,-1,-1,-1,null,null,null,null,null,null,null,null,null,null,null,null,null,null,null,null,null,null,null,null,null,null,null,null,null,null,null,null,null,null,null,null,null,null,null,null,{"$f":"AS231+1","v":201},4.348459200091153E-2,1.5369069669343713,0.84858127300182062]
[203,-1,-1,-1,-1,-1,-1,-1,null,null,null,null,null,null,null,null,null,null,null,null,null,null,null,null,null,null,null,null,null,null,null,null,null,null,null,null,null,null,null,null,null,null,null,null,202,4.3700933254647412E-2,1.5477240296211654,0.85752820520923656]
[204,-1,-1,-1,-1,-1,-1,-1,null,null,null,null,null,null,null,null,null,null,null,null,null,null,null,null,null,null,null,null,null,null,null,null,null,null,null,null,null,null,null,null,null,null,null,null,203,4.3917274508383293E-2,1.5585410923079595,0.86649925606325873]
[205,-1,-1,-1,-1,-1,-1,-1,null,null,null,null,null,null,null,null,null,null,null,null,null,null,null,null,null,null,null,null,null,null,null,null,null,null,null,null,null,null,null,null,null,null,null,null,204,4.4133615762119167E-2,1.5693581549947533,0.87549411451119818]
[206,-1,-1,-1,-1,-1,-1,-1,null,null,null,null,null,null,null,null,null,null,null,null,null,null,null,null,null,null,null,null,null,null,null,null,null,null,null,null,null,null,null,null,null,null,null,null,205,4.4349957015855049E-2,1.5801752176815471,0.88451247351194162]
[207,-1,-1,-1,-1,-1,-1,-1,null,null,null,null,null,null,null,null,null,null,null,null,null,null,null,null,null,null,null,null,null,null,null,null,null,null,null,null,null,null,null,null,null,null,null,null,206,4.4566298269590923E-2,1.5909922803683409,0.89355402998421529]
[208,-1,-1,-1,-1,-1,-1,-1,null,null,null,null,null,null,null,null,null,null,null,null,null,null,null,null,null,null,null,null,null,null,null,null,null,null,null,null,null,null,null,null,null,null,null,null,207,4.4782639523326805E-2,1.601809343055135,0.90261848475551532]
[209,-1,-1,-1,-1,-1,-1,-1,null,null,null,null,null,null,null,null,null,null,null,null,null,null,null,null,null,null,null,null,null,null,null,null,null,null,null,null,null,null,null,null,null,null,null,null,208,4.4998980777062679E-2,1.6126264057419286,0.91170554251169733]
[210,-1,-1,-1,-1,-1,-1,-1,null,null,null,null,null,null,null,null,null,null,null,null,null,null,null,null,null,null,null,null,null,null,null,null,null,null,null,null,null,null,null,null,null,null,null,null,209,4.521532203079856E-2,1.6234434684287229,0.9208149117472163]
[211,-1,-1,-1,-1,-1,-1,-1,null,null,null,null,null,null,null,null,null,null,null,null,null,null,null,null,null,null,null,null,null,null,null,null,null,null,null,null,null,null,null,null,null,null,null,null,210,4.5431663284534435E-2,1.6342605311155165,0.92994630471600803]
[212,-1,-1,-1,-1,-1,-1,-1,null,null,null,null,null,null,null,null,null,null,null,null,null,null,null,null,null,null,null,null,null,null,null,null,null,null,null,null,null,null,null,null,null,null,null,null,211,4.5648004538270316E-2,1.6450775938023106,0.9390994373830035]
[213,-1,-1,-1,-1,-1,-1,-1,null,null,null,null,null,null,null,null,null,null,null,null,null,null,null,null,null,null,null,null,null,null,null,null,null,null,null,null,null,null,null,null,null,null,null,null,212,4.5864345792006198E-2,1.6558946564891046,0.94827402937626915]
[214,-1,-1,-1,-1,-1,-1,-1,null,null,null,null,null,null,null,null,null,null,null,null,null,null,null,null,null,null,null,null,null,null,null,null,null,null,null,null,null,null,null,null,null,null,null,null,213,4.6080687045742072E-2,1.6667117191758984,0.95746980393976455]
[215,-1,-1,-1,-1,-1,-1,-1,null,null,null,null,null,null,null,null,null,null,null,null,null,null,null,null,null,null,null,null,null,null,null,null,null,null,null,null,null,null,null,null,null,null,null,null,214,4.6297028299477953E-2,1.6775287818626925,0.96668648788670875]
[216,-1,-1,-1,-1,-1,-1,-1,null,null,null,null,null,null,null,null,null,null,null,null,null,null,null,null,null,null,null,null,null,null,null,null,null,null,null,null,null,null,null,null,null,null,null,null,215,4.6513369553213828E-2,1.6883458445494861,0.97592381155354846]
[217,-1,-1,-1,-1,-1,-1,-1,null,null,null,null,null,null,null,null,null,null,null,null,null,null,null,null,null,null,null,null,null,null,null,null,null,null,null,null,null,null,null,null,null,null,null,null,216,4.6729710806949709E-2,1.6991629072362802,0.98518150875451993]
[218,-1,-1,-1,-1,-1,-1,-1,null,null,null,null,null,null,null,null,null,null,null,null,null,null,null,null,null,null,null,null,null,null,null,null,null,null,null,null,null,null,null,null,null,null,null,null,217,4.6946052060685584E-2,1.709979969923074,0.99445931673679633]
[219,-1,-1,-1,-1,-1,-1,-1,null,null,null,null,null,null,null,null,null,null,null,null,null,null,null,null,null,null,null,null,null,null,null,null,null,null,null,null,null,null,null,null,null,null,null,null,218,4.7162393314421465E-2,1.720797032609868,1.0037569761362142]
[220,-1,-1,-1,-1,-1,-1,-1,null,null,null,null,null,null,null,null,null,null,null,null,null,null,null,null,null,null,null,null,null,null,null,null,null,null,null,null,null,null,null,null,null,null,null,null,219,4.7378734568157339E-2,1.7316140952966619,1.0130742309335703]
[221,-1,-1,-1,-1,-1,-1,-1,null,null,null,null,null,null,null,null,null,null,null,null,null,null,null,null,null,null,null,null,null,null,null,null,null,null,null,null,null,null,null,null,null,null,null,null,220,4.7595075821893221E-2,1.7424311579834559,1.0224108284114835]
[222,-1,-1,-1,-1,-1,-1,-1,null,null,null,null,null,null,null,null,null,null,null,null,null,null,null,null,null,null,null,null,null,null,null,null,null,null,null,null,null,null,null,null,null,null,null,null,221,4.7811417075629102E-2,1.75324822067025,1.0317665191118104]
[223,-1,-1,-1,-1,-1,-1,-1,null,null,null,null,null,null,null,null,null,null,null,null,null,null,null,null,null,null,null,null,null,null,null,null,null,null,null,null,null,null,null,null,null,null,null,null,222,4.8027758329364977E-2,1.7640652833570436,1.0411410567936128]
[224,-1,-1,-1,-1,-1,-1,-1,null,null,null,null,null,null,null,null,null,null,null,null,null,null,null,null,null,null,null,null,null,null,null,null,null,null,null,null,null,null,null,null,null,null,null,null,223,4.8244099583100858E-2,1.7748823460438377,1.0505341983916658]
[225,-1,-1,-1,-1,-1,-1,-1,null,null,null,null,null,null,null,null,null,null,null,null,null,null,null,null,null,null,null,null,null,null,null,null,null,null,null,null,null,null,null,null,null,null,null,null,224,4.8460440836836732E-2,1.7856994087306315,1.0599457039755016]
[null,-1,-1,-1,-1,-1,-1,-1,null,null,null,null,null,null,null,null,null,null,null,null,null,null,null,null,null,null,null,null,null,null,null,null,null,null,null,null,null,null,null,null,null,null,null,null,225,4.8676782090572614E-2,1.7965164714174255,1.0693753367089798]
[null,-1,-1,-1,-1,-1,-1,-1,null,null,null,null,null,null,null,null,null,null,null,null,null,null,null,null,null,null,null,null,null,null,null,null,null,null,null,null,null,null,null,null,null,null,null,null,226,4.8893123344308488E-2,1.8073335341042192,1.0788228628103826]
[null,-1,-1,-1,-1,-1,-1,-1,null,null,null,null,null,null,null,null,null,null,null,null,null,null,null,null,null,null,null,null,null,null,null,null,null,null,null,null,null,null,null,null,null,null,null,null,227,4.9109464598044369E-2,1.8181505967910132,1.088288051513022]
[null,-1,-1,-1,-1,-1,-1,-1,null,null,null,null,null,null,null,null,null,null,null,null,null,null,null,null,null,null,null,null,null,null,null,null,null,null,null,null,null,null,null,null,null,null,null,null,228,4.9325805851780244E-2,1.828967659477807,1.0977706750263547]
[null,-1,-1,-1,-1,-1,-1,-1,null,null,null,null,null,null,null,null,null,null,null,null,null,null,null,null,null,null,null,null,null,null,null,null,null,null,null,null,null,null,null,null,null,null,null,null,229,4.9542147105516125E-2,1.8397847221646011,1.1072705084976004]
[null,-1,-1,-1,-1,-1,-1,-1,null,null,null,null,null,null,null,null,null,null,null,null,null,null,null,null,null,null,null,null,null,null,null,null,null,null,null,null,null,null,null,null,null,null,null,null,230,4.9758488359252007E-2,1.8506017848513951,1.116787329973854]
[null,-1,-1,-1,-1,-1,-1,-1,null,null,null,null,null,null,null,null,null,null,null,null,null,null,null,null,null,null,null,null,null,null,null,null,null,null,null,null,null,null,null,null,null,null,null,null,231,4.9974829612987881E-2,1.8614188475381888,1.1263209203646865]
[null,-1,-1,-1,-1,-1,-1,-1,null,null,null,null,null,null,null,null,null,null,null,null,null,null,null,null,null,null,null,null,null,null,null,null,null,null,null,null,null,null,null,null,null,null,null,null,232,5.0191170866723762E-2,1.872235910224983,1.1358710634052278]
[null,-1,-1,-1,-1,-1,-1,-1,null,null,null,null,null,null,null,null,null,null,null,null,null,null,null,null,null,null,null,null,null,null,null,null,null,null,null,null,null,null,null,null,null,null,null,null,233,5.0407512120459637E-2,1.8830529729117766,1.145437545619727]
[null,-1,-1,-1,-1,-1,-1,-1,null,null,null,null,null,null,null,null,null,null,null,null,null,null,null,null,null,null,null,null,null,null,null,null,null,null,null,null,null,null,null,null,null,null,null,null,234,5.0623853374195518E-2,1.8938700355985707,1.1550201562855809]
[null,-1,-1,-1,-1,-1,-1,-1,null,null,null,null,null,null,null,null,null,null,null,null,null,null,null,null,null,null,null,null,null,null,null,null,null,null,null,null,null,null,null,null,null,null,null,null,235,5.0840194627931393E-2,1.9046870982853645,1.1646186873978279]
[null,-1,-1,-1,-1,-1,-1,-1,null,null,null,null,null,null,null,null,null,null,null,null,null,null,null,null,null,null,null,null,null,null,null,null,null,null,null,null,null,null,null,null,null,null,null,null,236,5.1056535881667274E-2,1.9155041609721586,1.1742329336340993]
[null,-1,-1,-1,-1,-1,-1,-1,null,null,null,null,null,null,null,null,null,null,null,null,null,null,null,null,null,null,null,null,null,null,null,null,null,null,null,null,null,null,null,null,null,null,null,null,237,5.1272877135403148E-2,1.9263212236589522,1.1838626923200219]
[null,-1,-1,-1,-1,-1,-1,-1,null,null,null,null,null,null,null,null,null,null,null,null,null,null,null,null,null,null,null,null,null,null,null,null,null,null,null,null,null,null,null,null,null,null,null,null,238,5.148921838913903E-2,1.9371382863457463,1.1935077633950675]
[null,-1,-1,-1,-1,-1,-1,-1,null,null,null,null,null,null,null,null,null,null,null,null,null,null,null,null,null,null,null,null,null,null,null,null,null,null,null,null,null,null,null,null,null,null,null,null,239,5.1705559642874911E-2,1.9479553490325403,1.203167949378843]
[null,-1,-1,-1,-1,-1,-1,-1,null,null,null,null,null,null,null,null,null,null,null,null,null,null,null,null,null,null,null,null,null,null,null,null,null,null,null,null,null,null,null,null,null,null,null,null,240,5.1921900896610786E-2,1.9587724117193341,1.2128430553378151]
[null,-1,-1,-1,-1,-1,-1,-1,null,null,null,null,null,null,null,null,null,null,null,null,null,null,null,null,null,null,null,null,null,null,null,null,null,null,null,null,null,null,null,null,null,null,null,null,241,5.2138242150346667E-2,1.9695894744061282,1.222532888852464]
[null,-1,-1,-1,-1,-1,-1,-1,null,null,null,null,null,null,null,null,null,null,null,null,null,null,null,null,null,null,null,null,null,null,null,null,null,null,null,null,null,null,null,null,null,null,null,null,242,5.2354583404082541E-2,1.9804065370929218,1.2322372599848603]
[null,-1,-1,-1,-1,-1,-1,-1,null,null,null,null,null,null,null,null,null,null,null,null,null,null,null,null,null,null,null,null,null,null,null,null,null,null,null,null,null,null,null,null,null,null,null,null,243,5.2570924657818423E-2,1.9912235997797159,1.2419559812466612]
[null,-1,-1,-1,-1,-1,-1,-1,null,null,null,null,null,null,null,null,null,null,null,null,null,null,null,null,null,null,null,null,null,null,null,null,null,null,null,null,null,null,null,null,null,null,null,null,244,5.2787265911554297E-2,2.0020406624665097,1.2516888675675177]
[null,-1,-1,-1,-1,-1,-1,-1,null,null,null,null,null,null,null,null,null,null,null,null,null,null,null,null,null,null,null,null,null,null,null,null,null,null,null,null,null,null,null,null,null,null,null,null,245,5.3003607165290179E-2,2.012857725153304,1.2614357362638915]
[null,-1,-1,-1,-1,-1,-1,-1,null,null,null,null,null,null,null,null,null,null,null,null,null,null,null,null,null,null,null,null,null,null,null,null,null,null,null,null,null,null,null,null,null,null,null,null,246,5.3219948419026053E-2,2.0236747878400974,1.271196407008272]
[null,-1,-1,-1,-1,-1,-1,-1,null,null,null,null,null,null,null,null,null,null,null,null,null,null,null,null,null,null,null,null,null,null,null,null,null,null,null,null,null,null,null,null,null,null,null,null,247,5.3436289672761934E-2,2.0344918505268916,1.2809707017987912]
[null,-1,-1,-1,-1,-1,-1,-1,null,null,null,null,null,null,null,null,null,null,null,null,null,null,null,null,null,null,null,null,null,null,null,null,null,null,null,null,null,null,null,null,null,null,null,null,248,5.3652630926497816E-2,2.0453089132136855,1.2907584449292309]
[null,-1,-1,-1,-1,-1,-1,-1,null,null,null,null,null,null,null,null,null,null,null,null,null,null,null,null,null,null,null,null,null,null,null,null,null,null,null,null,null,null,null,null,null,null,null,null,249,5.386897218023369E-2,2.0561259759004793,1.3005594629594157]
[null,-1,-1,-1,-1,-1,-1,-1,null,null,null,null,null,null,null,null,null,null,null,null,null,null,null,null,null,null,null,null,null,null,null,null,null,null,null,null,null,null,null,null,null,null,null,null,250,5.4085313433969572E-2,2.0669430385872731,1.3103735846859894]
[null,-1,-1,-1,-1,-1,-1,-1,null,null,null,null,null,null,null,null,null,null,null,null,null,null,null,null,null,null,null,null,null,null,null,null,null,null,null,null,null,null,null,null,null,null,null,null,251,5.4301654687705446E-2,2.077760101274067,1.3202006411135656]
[null,-1,-1,-1,-1,-1,-1,-1,null,null,null,null,null,null,null,null,null,null,null,null,null,null,null,null,null,null,null,null,null,null,null,null,null,null,null,null,null,null,null,null,null,null,null,null,{"$f":"AS282+1","v":252},5.4517995941441327E-2,2.0885771639608612,1.3300404654262532]
[null,-1,-1,-1,-1,-1,-1,-1,null,null,null,null,null,null,null,null,null,null,null,null,null,null,null,null,null,null,null,null,null,null,null,null,null,null,null,null,null,null,null,null,null,null,null,null,253,5.4734337195177202E-2,2.0993942266476546,1.3398928929595475]
[null,-1,-1,-1,-1,-1,-1,-1,null,null,null,null,null,null,null,null,null,null,null,null,null,null,null,null,null,null,null,null,null,null,null,null,null,null,null,null,null,null,null,null,null,null,null,null,254,5.4950678448913083E-2,2.1102112893344489,1.3497577611725844]
[null,-1,-1,-1,-1,-1,-1,-1,null,null,null,null,null,null,null,null,null,null,null,null,null,null,null,null,null,null,null,null,null,null,null,null,null,null,null,null,null,null,null,null,null,null,null,null,255,5.5167019702648958E-2,2.1210283520212427,1.3596349096207525]
[null,-1,-1,-1,-1,-1,-1,-1,null,null,null,null,null,null,null,null,null,null,null,null,null,null,null,null,null,null,null,null,null,null,null,null,null,null,null,null,null,null,null,null,null,null,null,null,256,{"$f":"$AP$18/$N$7*AS287","v":5.5383360956384839E-2},2.131845414708037,1.3695241799286582]
[null,-1,-1,-1,-1,-1,-1,-1,null,null,null,null,null,null,null,null,null,null,null,null,null,null,null,null,null,null,null,null,null,null,null,null,null,null,null,null,null,null,null,null,null,null,null,null,257,5.559970221012072E-2,{"$f":"IF(($N$4*AT288^2/2)<=$AP$13,($N$4*AT288^2/2), IF(($AP$13+$N$6*(AT288-$AP$12))<=$AP$17, ($AP$13+$N$6*(AT288-$AP$12)), IF(AU287<$D$14, ($AP$17+($N$6-$N$5*(AT288-$AP$16)/2)*(AT288-$AP$16)), $D$14)))","v":2.1426624773948308},1.3794254157634385]
[null,-1,-1,-1,-1,-1,-1,-1,null,null,null,null,null,null,null,null,null,null,null,null,null,null,null,null,null,null,null,null,null,null,null,null,null,null,null,null,null,null,null,null,null,null,null,null,258,5.5816043463856595E-2,2.1534795400816247,{"$f":"( $AP$6*AU289 + $AP$7*AU288 + $AP$9*AV288 )/$AP$8","v":1.3893384628084202}]
[null,-1,-1,-1,-1,-1,-1,-1,null,null,null,null,null,null,null,null,null,null,null,null,null,null,null,null,null,null,null,null,null,null,null,null,null,null,null,null,null,null,null,null,null,null,null,null,259,5.6032384717592476E-2,2.1642966027684185,1.3992631687371171]
[null,-1,-1,-1,-1,-1,-1,-1,null,null,null,null,null,null,null,null,null,null,null,null,null,null,null,null,null,null,null,null,null,null,null,null,null,null,null,null,null,null,null,null,null,null,null,null,260,5.6248725971328351E-2,2.1751136654552123,1.4091993831875629]
[null,-1,-1,-1,-1,-1,-1,-1,null,null,null,null,null,null,null,null,null,null,null,null,null,null,null,null,null,null,null,null,null,null,null,null,null,null,null,null,null,null,null,null,null,null,null,null,261,5.6465067225064232E-2,2.1859307281420062,1.4191469577369753]
[null,-1,-1,-1,-1,-1,-1,-1,null,null,null,null,null,null,null,null,null,null,null,null,null,null,null,null,null,null,null,null,null,null,null,null,null,null,null,null,null,null,null,null,null,null,null,null,262,5.6681408478800106E-2,2.1967477908288,1.4291057458767467]
[null,-1,-1,-1,-1,-1,-1,-1,null,null,null,null,null,null,null,null,null,null,null,null,null,null,null,null,null,null,null,null,null,null,null,null,null,null,null,null,null,null,null,null,null,null,null,null,263,5.6897749732535988E-2,2.2075648535155943,1.4390756029877578]
[null,-1,-1,-1,-1,-1,-1,-1,null,null,null,null,null,null,null,null,null,null,null,null,null,null,null,null,null,null,null,null,null,null,null,null,null,null,null,null,null,null,null,null,null,null,null,null,264,5.7114090986271862E-2,2.2183819162023877,1.4490563863160091]
[null,-1,-1,-1,-1,-1,-1,-1,null,null,null,null,null,null,null,null,null,null,null,null,null,null,null,null,null,null,null,null,null,null,null,null,null,null,null,null,null,null,null,null,null,null,null,null,265,5.7330432240007743E-2,2.2291989788891819,1.4590479549485666]
[null,-1,-1,-1,-1,-1,-1,-1,null,null,null,null,null,null,null,null,null,null,null,null,null,null,null,null,null,null,null,null,null,null,null,null,null,null,null,null,null,null,null,null,null,null,null,null,266,5.7546773493743625E-2,2.2400160415759762,1.4690501697898188]
[null,-1,-1,-1,-1,-1,-1,-1,null,null,null,null,null,null,null,null,null,null,null,null,null,null,null,null,null,null,null,null,null,null,null,null,null,null,null,null,null,null,null,null,null,null,null,null,267,5.7763114747479499E-2,2.2508331042627701,1.4790628935380383]
[null,-1,-1,-1,-1,-1,-1,-1,null,null,null,null,null,null,null,null,null,null,null,null,null,null,null,null,null,null,null,null,null,null,null,null,null,null,null,null,null,null,null,null,null,null,null,null,268,5.7979456001215381E-2,2.2616501669495639,1.4890859906622467]
[null,-1,-1,-1,-1,-1,-1,-1,null,null,null,null,null,null,null,null,null,null,null,null,null,null,null,null,null,null,null,null,null,null,null,null,null,null,null,null,null,null,null,null,null,null,null,null,269,5.8195797254951255E-2,2.2724672296363577,1.4991193273793779]
[null,-1,-1,-1,-1,-1,-1,-1,null,null,null,null,null,null,null,null,null,null,null,null,null,null,null,null,null,null,null,null,null,null,null,null,null,null,null,null,null,null,null,null,null,null,null,null,270,5.8412138508687136E-2,2.2832842923231516,1.5091627716317357]
[null,-1,-1,-1,-1,-1,-1,-1,null,null,null,null,null,null,null,null,null,null,null,null,null,null,null,null,null,null,null,null,null,null,null,null,null,null,null,null,null,null,null,null,null,null,null,null,271,5.8628479762423011E-2,2.2941013550099454,1.5192161930647416]
[null,-1,-1,-1,-1,-1,-1,-1,null,null,null,null,null,null,null,null,null,null,null,null,null,null,null,null,null,null,null,null,null,null,null,null,null,null,null,null,null,null,null,null,null,null,null,null,272,5.8844821016158892E-2,2.3049184176967392,1.5292794630049704]
[null,-1,-1,-1,-1,-1,-1,-1,null,null,null,null,null,null,null,null,null,null,null,null,null,null,null,null,null,null,null,null,null,null,null,null,null,null,null,null,null,null,null,null,null,null,null,null,273,5.9061162269894767E-2,2.3157354803835331,1.5393524544384689]
[null,-1,-1,-1,-1,-1,-1,-1,null,null,null,null,null,null,null,null,null,null,null,null,null,null,null,null,null,null,null,null,null,null,null,null,null,null,null,null,null,null,null,null,null,null,null,null,274,5.9277503523630648E-2,2.3265525430703269,1.5494350419893537]
[null,-1,-1,-1,-1,-1,-1,-1,null,null,null,null,null,null,null,null,null,null,null,null,null,null,null,null,null,null,null,null,null,null,null,null,null,null,null,null,null,null,null,null,null,null,null,null,275,5.9493844777366529E-2,2.3373696057571216,1.5595271018986856]
[null,-1,-1,-1,-1,-1,-1,-1,null,null,null,null,null,null,null,null,null,null,null,null,null,null,null,null,null,null,null,null,null,null,null,null,null,null,null,null,null,null,null,null,null,null,null,null,276,5.9710186031102404E-2,2.348186668443915,1.5696285120036169]
[null,-1,-1,-1,-1,-1,-1,-1,null,null,null,null,null,null,null,null,null,null,null,null,null,null,null,null,null,null,null,null,null,null,null,null,null,null,null,null,null,null,null,null,null,null,null,null,277,5.9926527284838285E-2,2.3590037311307093,1.5797391517168053]
[null,-1,-1,-1,-1,-1,-1,-1,null,null,null,null,null,null,null,null,null,null,null,null,null,null,null,null,null,null,null,null,null,null,null,null,null,null,null,null,null,null,null,null,null,null,null,null,278,6.014286853857416E-2,2.3698207938175031,1.5898589020060969]
[null,-1,-1,-1,-1,-1,-1,-1,null,null,null,null,null,null,null,null,null,null,null,null,null,null,null,null,null,null,null,null,null,null,null,null,null,null,null,null,null,null,null,null,null,null,null,null,279,6.0359209792310041E-2,2.3806378565042969,1.5999876453744677]
[null,-1,-1,-1,-1,-1,-1,-1,null,null,null,null,null,null,null,null,null,null,null,null,null,null,null,null,null,null,null,null,null,null,null,null,null,null,null,null,null,null,null,null,null,null,null,null,280,6.0575551046045915E-2,2.3914549191910908,1.6101252658402261]
[null,-1,-1,-1,-1,-1,-1,-1,null,null,null,null,null,null,null,null,null,null,null,null,null,null,null,null,null,null,null,null,null,null,null,null,null,null,null,null,null,null,null,null,null,null,null,null,281,6.0791892299781797E-2,2.4022719818778846,1.6202716489174702]
[null,-1,-1,-1,-1,-1,-1,-1,null,null,null,null,null,null,null,null,null,null,null,null,null,null,null,null,null,null,null,null,null,null,null,null,null,null,null,null,null,null,null,null,null,null,null,null,282,6.1008233553517671E-2,2.4130890445646784,1.6304266815967969]
[null,-1,-1,-1,-1,-1,-1,-1,null,null,null,null,null,null,null,null,null,null,null,null,null,null,null,null,null,null,null,null,null,null,null,null,null,null,null,null,null,null,null,null,null,null,null,null,283,6.1224574807253553E-2,2.4239061072514723,1.640590252326259]
[null,-1,-1,-1,-1,-1,-1,-1,null,null,null,null,null,null,null,null,null,null,null,null,null,null,null,null,null,null,null,null,null,null,null,null,null,null,null,null,null,null,null,null,null,null,null,null,284,6.1440916060989434E-2,2.4347231699382665,1.6507622509925697]
[null,-1,-1,-1,-1,-1,-1,-1,null,null,null,null,null,null,null,null,null,null,null,null,null,null,null,null,null,null,null,null,null,null,null,null,null,null,null,null,null,null,null,null,null,null,null,null,285,6.1657257314725308E-2,2.4455402326250599,1.6609425689025481]
[null,-1,-1,-1,-1,-1,-1,-1,null,null,null,null,null,null,null,null,null,null,null,null,null,null,null,null,null,null,null,null,null,null,null,null,null,null,null,null,null,null,null,null,null,null,null,null,286,6.187359856846119E-2,2.4563572953118542,1.6711310987648045]
[null,-1,-1,-1,-1,-1,-1,-1,null,null,null,null,null,null,null,null,null,null,null,null,null,null,null,null,null,null,null,null,null,null,null,null,null,null,null,null,null,null,null,null,null,null,null,null,287,6.2089939822197064E-2,2.467174357998648,1.6813277346716617]
[null,-1,-1,-1,-1,-1,-1,-1,null,null,null,null,null,null,null,null,null,null,null,null,null,null,null,null,null,null,null,null,null,null,null,null,null,null,null,null,null,null,null,null,null,null,null,null,288,6.2306281075932946E-2,2.4779914206854423,1.69153237208131]
[null,-1,-1,-1,-1,-1,-1,-1,null,null,null,null,null,null,null,null,null,null,null,null,null,null,null,null,null,null,null,null,null,null,null,null,null,null,null,null,null,null,null,null,null,null,null,null,289,6.252262232966882E-2,2.4888084833722357,1.7017449078001916]
[null,-1,-1,-1,-1,-1,-1,-1,null,null,null,null,null,null,null,null,null,null,null,null,null,null,null,null,null,null,null,null,null,null,null,null,null,null,null,null,null,null,null,null,null,null,null,null,290,6.2738963583404694E-2,2.4996255460590295,1.7119652399656118]
[null,-1,-1,-1,-1,-1,-1,-1,null,null,null,null,null,null,null,null,null,null,null,null,null,null,null,null,null,null,null,null,null,null,null,null,null,null,null,null,null,null,null,null,null,null,null,null,291,6.2955304837140583E-2,2.5104426087458238,1.7221932680285763]
[null,-1,-1,-1,-1,-1,-1,-1,null,null,null,null,null,null,null,null,null,null,null,null,null,null,null,null,null,null,null,null,null,null,null,null,null,null,null,null,null,null,null,null,null,null,null,null,292,6.3171646090876457E-2,2.5212596714326176,1.7324288927368485]
[null,-1,-1,-1,-1,-1,-1,-1,null,null,null,null,null,null,null,null,null,null,null,null,null,null,null,null,null,null,null,null,null,null,null,null,null,null,null,null,null,null,null,null,null,null,null,null,293,6.3387987344612332E-2,2.5320767341194115,1.742672016118225]
[null,-1,-1,-1,-1,-1,-1,-1,null,null,null,null,null,null,null,null,null,null,null,null,null,null,null,null,null,null,null,null,null,null,null,null,null,null,null,null,null,null,null,null,null,null,null,null,294,6.360432859834822E-2,2.5428937968062058,1.7529225414640275]
[null,-1,-1,-1,-1,-1,-1,-1,null,null,null,null,null,null,null,null,null,null,null,null,null,null,null,null,null,null,null,null,null,null,null,null,null,null,null,null,null,null,null,null,null,null,null,null,295,6.3820669852084094E-2,2.5537108594929996,1.7631803733128082]
[null,-1,-1,-1,-1,-1,-1,-1,null,null,null,null,null,null,null,null,null,null,null,null,null,null,null,null,null,null,null,null,null,null,null,null,null,null,null,null,null,null,null,null,null,null,null,null,296,6.4037011105819969E-2,2.564527922179793,1.7734454174342631]
[null,-1,-1,-1,-1,-1,-1,-1,null,null,null,null,null,null,null,null,null,null,null,null,null,null,null,null,null,null,null,null,null,null,null,null,null,null,null,null,null,null,null,null,null,null,null,null,297,6.4253352359555843E-2,2.5753449848665868,1.783717580813355]
[null,-1,-1,-1,-1,-1,-1,-1,null,null,null,null,null,null,null,null,null,null,null,null,null,null,null,null,null,null,null,null,null,null,null,null,null,null,null,null,null,null,null,null,null,null,null,null,298,6.4469693613291731E-2,2.5861620475533815,1.7939967716346403]
[null,-1,-1,-1,-1,-1,-1,-1,null,null,null,null,null,null,null,null,null,null,null,null,null,null,null,null,null,null,null,null,null,null,null,null,null,null,null,null,null,null,null,null,null,null,null,null,299,6.4686034867027606E-2,2.5969791102401754,1.8042828992667987]
[null,-1,-1,-1,-1,-1,-1,-1,null,null,null,null,null,null,null,null,null,null,null,null,null,null,null,null,null,null,null,null,null,null,null,null,null,null,null,null,null,null,null,null,null,null,null,null,300,6.490237612076348E-2,2.6077961729269687,1.8145758742473612]
[null,-1,-1,-1,-1,-1,-1,-1,null,null,null,null,null,null,null,null,null,null,null,null,null,null,null,null,null,null,null,null,null,null,null,null,null,null,null,null,null,null,null,null,null,null,null,null,301,6.5118717374499355E-2,2.6186132356137626,1.8248756082676358]
[null,-1,-1,-1,-1,-1,-1,-1,null,null,null,null,null,null,null,null,null,null,null,null,null,null,null,null,null,null,null,null,null,null,null,null,null,null,null,null,null,null,null,null,null,null,null,null,302,6.5335058628235243E-2,2.6294302983005569,1.8351820141578281]
[null,-1,-1,-1,-1,-1,-1,-1,null,null,null,null,null,null,null,null,null,null,null,null,null,null,null,null,null,null,null,null,null,null,null,null,null,null,null,null,null,null,null,null,null,null,null,null,303,6.5551399881971117E-2,2.6402473609873507,1.845495005872352]
[null,-1,-1,-1,-1,-1,-1,-1,null,null,null,null,null,null,null,null,null,null,null,null,null,null,null,null,null,null,null,null,null,null,null,null,null,null,null,null,null,null,null,null,null,null,null,null,304,6.5767741135706992E-2,2.6510644236741445,1.855814498475332]
[null,-1,-1,-1,-1,-1,-1,-1,null,null,null,null,null,null,null,null,null,null,null,null,null,null,null,null,null,null,null,null,null,null,null,null,null,null,null,null,null,null,null,null,null,null,null,null,305,6.598408238944288E-2,2.6618814863609392,1.8661404081262909]
[null,-1,-1,-1,-1,-1,-1,-1,null,null,null,null,null,null,null,null,null,null,null,null,null,null,null,null,null,null,null,null,null,null,null,null,null,null,null,null,null,null,null,null,null,null,null,null,306,6.6200423643178755E-2,2.6726985490477322,1.8764726520660235]
[null,-1,-1,-1,-1,-1,-1,-1,null,null,null,null,null,null,null,null,null,null,null,null,null,null,null,null,null,null,null,null,null,null,null,null,null,null,null,null,null,null,null,null,null,null,null,null,307,6.6416764896914629E-2,2.683515611734526,1.8868111486026511]
[null,-1,-1,-1,-1,-1,-1,-1,null,null,null,null,null,null,null,null,null,null,null,null,null,null,null,null,null,null,null,null,null,null,null,null,null,null,null,null,null,null,null,null,null,null,null,null,308,6.6633106150650503E-2,2.6943326744213199,1.8971558170978564]
[null,-1,-1,-1,-1,-1,-1,-1,null,null,null,null,null,null,null,null,null,null,null,null,null,null,null,null,null,null,null,null,null,null,null,null,null,null,null,null,null,null,null,null,null,null,null,null,309,6.6849447404386392E-2,2.7051497371081146,1.907506577953296]
[null,-1,-1,-1,-1,-1,-1,-1,null,null,null,null,null,null,null,null,null,null,null,null,null,null,null,null,null,null,null,null,null,null,null,null,null,null,null,null,null,null,null,null,null,null,null,null,310,6.7065788658122266E-2,2.7159667997949084,1.9178633525971884]
[null,-1,-1,-1,-1,-1,-1,-1,null,null,null,null,null,null,null,null,null,null,null,null,null,null,null,null,null,null,null,null,null,null,null,null,null,null,null,null,null,null,null,null,null,null,null,null,311,6.7282129911858141E-2,2.7267838624817022,1.9282260634710744]
[null,-1,-1,-1,-1,-1,-1,-1,null,null,null,null,null,null,null,null,null,null,null,null,null,null,null,null,null,null,null,null,null,null,null,null,null,null,null,null,null,null,null,null,null,null,null,null,312,6.7498471165594029E-2,2.7376009251684961,1.9385946340167486]
[null,-1,-1,-1,-1,-1,-1,-1,null,null,null,null,null,null,null,null,null,null,null,null,null,null,null,null,null,null,null,null,null,null,null,null,null,null,null,null,null,null,null,null,null,null,null,null,313,6.7714812419329903E-2,2.7484179878552899,1.9489689886633594]
[null,-1,-1,-1,-1,-1,-1,-1,null,null,null,null,null,null,null,null,null,null,null,null,null,null,null,null,null,null,null,null,null,null,null,null,null,null,null,null,null,null,null,null,null,null,null,null,314,6.7931153673065778E-2,2.7592350505420837,1.9593490528146753]
[null,-1,-1,-1,-1,-1,-1,-1,null,null,null,null,null,null,null,null,null,null,null,null,null,null,null,null,null,null,null,null,null,null,null,null,null,null,null,null,null,null,null,null,null,null,null,null,315,6.8147494926801652E-2,2.7700521132288776,1.9697347528365152]
[null,-1,-1,-1,-1,-1,-1,-1,null,null,null,null,null,null,null,null,null,null,null,null,null,null,null,null,null,null,null,null,null,null,null,null,null,null,null,null,null,null,null,null,null,null,null,null,{"$f":"AS346+1","v":316},6.8363836180537541E-2,2.7808691759156714,1.9801260160443412]
[null,-1,-1,-1,-1,-1,-1,-1,null,null,null,null,null,null,null,null,null,null,null,null,null,null,null,null,null,null,null,null,null,null,null,null,null,null,null,null,null,null,null,null,null,null,null,null,317,6.8580177434273415E-2,2.7916862386024652,1.9905227706910114]
[null,-1,-1,-1,-1,-1,-1,-1,null,null,null,null,null,null,null,null,null,null,null,null,null,null,null,null,null,null,null,null,null,null,null,null,null,null,null,null,null,null,null,null,null,null,null,null,318,6.8796518688009289E-2,2.8025033012892591,2.0009249459546909]
[null,-1,-1,-1,-1,-1,-1,-1,null,null,null,null,null,null,null,null,null,null,null,null,null,null,null,null,null,null,null,null,null,null,null,null,null,null,null,null,null,null,null,null,null,null,null,null,319,6.9012859941745164E-2,2.8133203639760529,2.0113324719269166]
[null,-1,-1,-1,-1,-1,-1,-1,null,null,null,null,null,null,null,null,null,null,null,null,null,null,null,null,null,null,null,null,null,null,null,null,null,null,null,null,null,null,null,null,null,null,null,null,320,{"$f":"$AP$18/$N$7*AS351","v":6.9229201195481052E-2},2.8241374266628476,2.0217452796008204]
[null,-1,-1,-1,-1,-1,-1,-1,null,null,null,null,null,null,null,null,null,null,null,null,null,null,null,null,null,null,null,null,null,null,null,null,null,null,null,null,null,null,null,null,null,null,null,null,321,6.9445542449216927E-2,{"$f":"IF(($N$4*AT352^2/2)<=$AP$13,($N$4*AT352^2/2), IF(($AP$13+$N$6*(AT352-$AP$12))<=$AP$17, ($AP$13+$N$6*(AT352-$AP$12)), IF(AU351<$D$14, ($AP$17+($N$6-$N$5*(AT352-$AP$16)/2)*(AT352-$AP$16)), $D$14)))","v":2.8349544893496414},2.0321633008594993]
[null,-1,-1,-1,-1,-1,-1,-1,null,null,null,null,null,null,null,null,null,null,null,null,null,null,null,null,null,null,null,null,null,null,null,null,null,null,null,null,null,null,null,null,null,null,null,null,322,6.9661883702952801E-2,2.8457715520364353,{"$f":"( $AP$6*AU353 + $AP$7*AU352 + $AP$9*AV352 )/$AP$8","v":2.0425864684645383}]
[null,-1,-1,-1,-1,-1,-1,-1,null,null,null,null,null,null,null,null,null,null,null,null,null,null,null,null,null,null,null,null,null,null,null,null,null,null,null,null,null,null,null,null,null,null,null,null,323,6.9878224956688689E-2,2.8565886147232291,2.0530147160446814]
[null,-1,-1,-1,-1,-1,-1,-1,null,null,null,null,null,null,null,null,null,null,null,null,null,null,null,null,null,null,null,null,null,null,null,null,null,null,null,null,null,null,null,null,null,null,null,null,324,7.0094566210424564E-2,2.8674056774100229,2.0634479780846475]
[null,-1,-1,-1,-1,-1,-1,-1,null,null,null,null,null,null,null,null,null,null,null,null,null,null,null,null,null,null,null,null,null,null,null,null,null,null,null,null,null,null,null,null,null,null,null,null,325,7.0310907464160438E-2,2.8782227400968168,2.073886189914091]
[null,-1,-1,-1,-1,-1,-1,-1,null,null,null,null,null,null,null,null,null,null,null,null,null,null,null,null,null,null,null,null,null,null,null,null,null,null,null,null,null,null,null,null,null,null,null,null,326,7.0527248717896313E-2,2.8890398027836106,2.084329287696705]
[null,-1,-1,-1,-1,-1,-1,-1,null,null,null,null,null,null,null,null,null,null,null,null,null,null,null,null,null,null,null,null,null,null,null,null,null,null,null,null,null,null,null,null,null,null,null,null,327,7.0743589971632201E-2,2.8998568654704044,2.0947772084194649]
[null,-1,-1,-1,-1,-1,-1,-1,null,null,null,null,null,null,null,null,null,null,null,null,null,null,null,null,null,null,null,null,null,null,null,null,null,null,null,null,null,null,null,null,null,null,null,null,328,7.0959931225368075E-2,2.9106739281571983,2.1052298898820108]
[null,-1,-1,-1,-1,-1,-1,-1,null,null,null,null,null,null,null,null,null,null,null,null,null,null,null,null,null,null,null,null,null,null,null,null,null,null,null,null,null,null,null,null,null,null,null,null,329,7.117627247910395E-2,2.9214909908439921,2.1156872706861662]
[null,-1,-1,-1,-1,-1,-1,-1,null,null,null,null,null,null,null,null,null,null,null,null,null,null,null,null,null,null,null,null,null,null,null,null,null,null,null,null,null,null,null,null,null,null,null,null,330,7.1392613732839838E-2,2.9323080535307868,2.1261492902255936]
[null,-1,-1,-1,-1,-1,-1,-1,null,null,null,null,null,null,null,null,null,null,null,null,null,null,null,null,null,null,null,null,null,null,null,null,null,null,null,null,null,null,null,null,null,null,null,null,331,7.1608954986575712E-2,2.9431251162175807,2.1366158886755819]
[null,-1,-1,-1,-1,-1,-1,-1,null,null,null,null,null,null,null,null,null,null,null,null,null,null,null,null,null,null,null,null,null,null,null,null,null,null,null,null,null,null,null,null,null,null,null,null,332,7.1825296240311587E-2,2.9539421789043745,2.1470870069829644]
[null,-1,-1,-1,-1,-1,-1,-1,null,null,null,null,null,null,null,null,null,null,null,null,null,null,null,null,null,null,null,null,null,null,null,null,null,null,null,null,null,null,null,null,null,null,null,null,333,7.2041637494047461E-2,2.9647592415911674,2.1575625868561703]
[null,-1,-1,-1,-1,-1,-1,-1,null,null,null,null,null,null,null,null,null,null,null,null,null,null,null,null,null,null,null,null,null,null,null,null,null,null,null,null,null,null,null,null,null,null,null,null,334,7.225797874778335E-2,2.9755763042779622,2.1680425707554023]
[null,-1,-1,-1,-1,-1,-1,-1,null,null,null,null,null,null,null,null,null,null,null,null,null,null,null,null,null,null,null,null,null,null,null,null,null,null,null,null,null,null,null,null,null,null,null,null,335,7.2474320001519224E-2,2.986393366964756,2.1785269018829401]
[null,-1,-1,-1,-1,-1,-1,-1,null,null,null,null,null,null,null,null,null,null,null,null,null,null,null,null,null,null,null,null,null,null,null,null,null,null,null,null,null,null,null,null,null,null,null,null,336,7.2690661255255098E-2,2.9972104296515498,2.1890155241735707]
[null,-1,-1,-1,-1,-1,-1,-1,null,null,null,null,null,null,null,null,null,null,null,null,null,null,null,null,null,null,null,null,null,null,null,null,null,null,null,null,null,null,null,null,null,null,null,null,337,7.2907002508990973E-2,3.0080274923383437,2.199508382285142]
[null,-1,-1,-1,-1,-1,-1,-1,null,null,null,null,null,null,null,null,null,null,null,null,null,null,null,null,null,null,null,null,null,null,null,null,null,null,null,null,null,null,null,null,null,null,null,null,338,7.3123343762726861E-2,3.0188445550251375,2.2100054215892366]
[null,-1,-1,-1,-1,-1,-1,-1,null,null,null,null,null,null,null,null,null,null,null,null,null,null,null,null,null,null,null,null,null,null,null,null,null,null,null,null,null,null,null,null,null,null,null,null,339,7.3339685016462736E-2,3.0296616177119313,2.2205065881619674]
[null,-1,-1,-1,-1,-1,-1,-1,null,null,null,null,null,null,null,null,null,null,null,null,null,null,null,null,null,null,null,null,null,null,null,null,null,null,null,null,null,null,null,null,null,null,null,null,340,7.355602627019861E-2,3.0404786803987252,2.2310118287748915]
[null,-1,-1,-1,-1,-1,-1,-1,null,null,null,null,null,null,null,null,null,null,null,null,null,null,null,null,null,null,null,null,null,null,null,null,null,null,null,null,null,null,null,null,null,null,null,null,341,7.3772367523934498E-2,3.0512957430855199,2.2415210908860406]
[null,-1,-1,-1,-1,-1,-1,-1,null,null,null,null,null,null,null,null,null,null,null,null,null,null,null,null,null,null,null,null,null,null,null,null,null,null,null,null,null,null,null,null,null,null,null,null,342,7.3988708777670373E-2,3.0621128057723137,2.2520343226310686]
[null,-1,-1,-1,-1,-1,-1,-1,null,null,null,null,null,null,null,null,null,null,null,null,null,null,null,null,null,null,null,null,null,null,null,null,null,null,null,null,null,null,null,null,null,null,null,null,343,7.4205050031406247E-2,3.0729298684591075,2.2625514728145126]
[null,-1,-1,-1,-1,-1,-1,-1,null,null,null,null,null,null,null,null,null,null,null,null,null,null,null,null,null,null,null,null,null,null,null,null,null,null,null,null,null,null,null,null,null,null,null,null,344,7.4421391285142122E-2,3.0837469311459005,2.273072490901165]
[null,-1,-1,-1,-1,-1,-1,-1,null,null,null,null,null,null,null,null,null,null,null,null,null,null,null,null,null,null,null,null,null,null,null,null,null,null,null,null,null,null,null,null,null,null,null,null,345,7.463773253887801E-2,3.0945639938326952,2.2835973270075596]
[null,-1,-1,-1,-1,-1,-1,-1,null,null,null,null,null,null,null,null,null,null,null,null,null,null,null,null,null,null,null,null,null,null,null,null,null,null,null,null,null,null,null,null,null,null,null,null,346,7.4854073792613884E-2,3.105381056519489,2.2941259318935656]
[null,-1,-1,-1,-1,-1,-1,-1,null,null,null,null,null,null,null,null,null,null,null,null,null,null,null,null,null,null,null,null,null,null,null,null,null,null,null,null,null,null,null,null,null,null,null,null,347,7.5070415046349759E-2,3.1161981192062829,2.3046582569540912]
[null,-1,-1,-1,-1,-1,-1,-1,null,null,null,null,null,null,null,null,null,null,null,null,null,null,null,null,null,null,null,null,null,null,null,null,null,null,null,null,null,null,null,null,null,null,null,null,348,7.5286756300085647E-2,3.1270151818930776,2.3151942542108932]
[null,-1,-1,-1,-1,-1,-1,-1,null,null,null,null,null,null,null,null,null,null,null,null,null,null,null,null,null,null,null,null,null,null,null,null,null,null,null,null,null,null,null,null,null,null,null,null,349,7.5503097553821522E-2,3.1378322445798705,2.3257338763044935]
[null,-1,-1,-1,-1,-1,-1,-1,null,null,null,null,null,null,null,null,null,null,null,null,null,null,null,null,null,null,null,null,null,null,null,null,null,null,null,null,null,null,null,null,null,null,null,null,350,7.5719438807557396E-2,3.1486493072666644,2.3362770764861978]
[null,-1,-1,-1,-1,-1,-1,-1,null,null,null,null,null,null,null,null,null,null,null,null,null,null,null,null,null,null,null,null,null,null,null,null,null,null,null,null,null,null,null,null,null,null,null,null,351,7.593578006129327E-2,3.1594663699534582,2.3468238086102193]
[null,-1,-1,-1,-1,-1,-1,-1,null,null,null,null,null,null,null,null,null,null,null,null,null,null,null,null,null,null,null,null,null,null,null,null,null,null,null,null,null,null,null,null,null,null,null,null,352,7.6152121315029159E-2,3.1702834326402529,2.3573740271259034]
[null,-1,-1,-1,-1,-1,-1,-1,null,null,null,null,null,null,null,null,null,null,null,null,null,null,null,null,null,null,null,null,null,null,null,null,null,null,null,null,null,null,null,null,null,null,null,null,353,7.6368462568765033E-2,3.1811004953270468,2.3679276870700505]
[null,-1,-1,-1,-1,-1,-1,-1,null,null,null,null,null,null,null,null,null,null,null,null,null,null,null,null,null,null,null,null,null,null,null,null,null,null,null,null,null,null,null,null,null,null,null,null,354,7.6584803822500908E-2,3.1919175580138406,2.378484744059342]
[null,-1,-1,-1,-1,-1,-1,-1,null,null,null,null,null,null,null,null,null,null,null,null,null,null,null,null,null,null,null,null,null,null,null,null,null,null,null,null,null,null,null,null,null,null,null,null,355,7.6801145076236782E-2,3.2027346207006335,2.389045154282861]
[null,-1,-1,-1,-1,-1,-1,-1,null,null,null,null,null,null,null,null,null,null,null,null,null,null,null,null,null,null,null,null,null,null,null,null,null,null,null,null,null,null,null,null,null,null,null,null,356,7.701748632997267E-2,3.2135516833874282,2.3996088744947102]
[null,-1,-1,-1,-1,-1,-1,-1,null,null,null,null,null,null,null,null,null,null,null,null,null,null,null,null,null,null,null,null,null,null,null,null,null,null,null,null,null,null,null,null,null,null,null,null,357,7.7233827583708545E-2,3.2243687460742221,2.4101758620067248]
[null,-1,-1,-1,-1,-1,-1,-1,null,null,null,null,null,null,null,null,null,null,null,null,null,null,null,null,null,null,null,null,null,null,null,null,null,null,null,null,null,null,null,null,null,null,null,null,358,7.7450168837444419E-2,3.2351858087610159,2.4207460746812788]
[null,-1,-1,-1,-1,-1,-1,-1,null,null,null,null,null,null,null,null,null,null,null,null,null,null,null,null,null,null,null,null,null,null,null,null,null,null,null,null,null,null,null,null,null,null,null,null,359,7.7666510091180307E-2,3.2460028714478097,2.4313194709241852]
[null,-1,-1,-1,-1,-1,-1,-1,null,null,null,null,null,null,null,null,null,null,null,null,null,null,null,null,null,null,null,null,null,null,null,null,null,null,null,null,null,null,null,null,null,null,null,null,360,7.7882851344916182E-2,3.2568199341346036,2.4418960096776892]
[null,-1,-1,-1,-1,-1,-1,-1,null,null,null,null,null,null,null,null,null,null,null,null,null,null,null,null,null,null,null,null,null,null,null,null,null,null,null,null,null,null,null,null,null,null,null,null,361,7.8099192598652056E-2,3.2676369968213974,2.4524756504135476]
[null,-1,-1,-1,-1,-1,-1,-1,null,null,null,null,null,null,null,null,null,null,null,null,null,null,null,null,null,null,null,null,null,null,null,null,null,null,null,null,null,null,null,null,null,null,null,null,362,7.8315533852387931E-2,3.2784540595081912,2.4630583531262009]
[null,-1,-1,-1,-1,-1,-1,-1,null,null,null,null,null,null,null,null,null,null,null,null,null,null,null,null,null,null,null,null,null,null,null,null,null,null,null,null,null,null,null,null,null,null,null,null,363,7.8531875106123819E-2,3.289271122194986,2.4736440783260321]
[null,-1,-1,-1,-1,-1,-1,-1,null,null,null,null,null,null,null,null,null,null,null,null,null,null,null,null,null,null,null,null,null,null,null,null,null,null,null,null,null,null,null,null,null,null,null,null,364,7.8748216359859693E-2,3.3000881848817798,2.4842327870327123]
[null,-1,-1,-1,-1,-1,-1,-1,null,null,null,null,null,null,null,null,null,null,null,null,null,null,null,null,null,null,null,null,null,null,null,null,null,null,null,null,null,null,null,null,null,null,null,null,365,7.8964557613595568E-2,3.3109052475685736,2.494824440768634]
[null,-1,-1,-1,-1,-1,-1,-1,null,null,null,null,null,null,null,null,null,null,null,null,null,null,null,null,null,null,null,null,null,null,null,null,null,null,null,null,null,null,null,null,null,null,null,null,366,7.9180898867331456E-2,3.3217223102553675,2.5054190015524265]
[null,-1,-1,-1,-1,-1,-1,-1,null,null,null,null,null,null,null,null,null,null,null,null,null,null,null,null,null,null,null,null,null,null,null,null,null,null,null,null,null,null,null,null,null,null,null,null,367,7.9397240121067331E-2,3.3325393729421613,2.516016431892556]
[null,-1,-1,-1,-1,-1,-1,-1,null,null,null,null,null,null,null,null,null,null,null,null,null,null,null,null,null,null,null,null,null,null,null,null,null,null,null,null,null,null,null,null,null,null,null,null,368,7.9613581374803205E-2,3.3433564356289551,2.526616694781008]
[null,-1,-1,-1,-1,-1,-1,-1,null,null,null,null,null,null,null,null,null,null,null,null,null,null,null,null,null,null,null,null,null,null,null,null,null,null,null,null,null,null,null,null,null,null,null,null,369,7.9829922628539079E-2,3.354173498315749,2.5372197536870531]
[null,-1,-1,-1,-1,-1,-1,-1,null,null,null,null,null,null,null,null,null,null,null,null,null,null,null,null,null,null,null,null,null,null,null,null,null,null,null,null,null,null,null,null,null,null,null,null,370,8.0046263882274968E-2,3.3649905610025428,2.5478255725510888]
[null,-1,-1,-1,-1,-1,-1,-1,null,null,null,null,null,null,null,null,null,null,null,null,null,null,null,null,null,null,null,null,null,null,null,null,null,null,null,null,null,null,null,null,null,null,null,null,371,8.0262605136010842E-2,3.3758076236893366,2.5584341157785655]
[null,-1,-1,-1,-1,-1,-1,-1,null,null,null,null,null,null,null,null,null,null,null,null,null,null,null,null,null,null,null,null,null,null,null,null,null,null,null,null,null,null,null,null,null,null,null,null,372,8.0478946389746717E-2,3.3866246863761305,2.5690453482339892]
[null,-1,-1,-1,-1,-1,-1,-1,null,null,null,null,null,null,null,null,null,null,null,null,null,null,null,null,null,null,null,null,null,null,null,null,null,null,null,null,null,null,null,null,null,null,null,null,373,8.0695287643482591E-2,3.3974417490629243,2.5796592352350003]
[null,-1,-1,-1,-1,-1,-1,-1,null,null,null,null,null,null,null,null,null,null,null,null,null,null,null,null,null,null,null,null,null,null,null,null,null,null,null,null,null,null,null,null,null,null,null,null,374,8.0911628897218479E-2,3.408258811749719,2.5902757425465288]
[null,-1,-1,-1,-1,-1,-1,-1,null,null,null,null,null,null,null,null,null,null,null,null,null,null,null,null,null,null,null,null,null,null,null,null,null,null,null,null,null,null,null,null,null,null,null,null,375,8.1127970150954354E-2,3.4190758744365128,2.6008948363750273]
[null,-1,-1,-1,-1,-1,-1,-1,null,null,null,null,null,null,null,null,null,null,null,null,null,null,null,null,null,null,null,null,null,null,null,null,null,null,null,null,null,null,null,null,null,null,null,null,376,8.1344311404690228E-2,3.4298929371233058,2.611516483362776]
[null,-1,-1,-1,-1,-1,-1,-1,null,null,null,null,null,null,null,null,null,null,null,null,null,null,null,null,null,null,null,null,null,null,null,null,null,null,null,null,null,null,null,null,null,null,null,null,377,8.1560652658426117E-2,3.4407099998101005,2.6221406505822618]
[null,-1,-1,-1,-1,-1,-1,-1,null,null,null,null,null,null,null,null,null,null,null,null,null,null,null,null,null,null,null,null,null,null,null,null,null,null,null,null,null,null,null,null,null,null,null,null,378,8.1776993912161991E-2,3.4515270624968943,2.63276730553063]
[null,-1,-1,-1,-1,-1,-1,-1,null,null,null,null,null,null,null,null,null,null,null,null,null,null,null,null,null,null,null,null,null,null,null,null,null,null,null,null,null,null,null,null,null,null,null,null,379,8.1993335165897865E-2,3.4623441251836882,2.6433964161242081]
[null,-1,-1,-1,-1,-1,-1,-1,null,null,null,null,null,null,null,null,null,null,null,null,null,null,null,null,null,null,null,null,null,null,null,null,null,null,null,null,null,null,null,null,null,null,null,null,{"$f":"AS410+1","v":380},8.220967641963374E-2,3.473161187870482,2.6540279506930999]
[null,-1,-1,-1,-1,-1,-1,-1,null,null,null,null,null,null,null,null,null,null,null,null,null,null,null,null,null,null,null,null,null,null,null,null,null,null,null,null,null,null,null,null,null,null,null,null,381,8.2426017673369628E-2,3.4839782505572758,2.6646618779758482]
[null,-1,-1,-1,-1,-1,-1,-1,null,null,null,null,null,null,null,null,null,null,null,null,null,null,null,null,null,null,null,null,null,null,null,null,null,null,null,null,null,null,null,null,null,null,null,null,382,8.2642358927105503E-2,3.4947953132440697,2.6752981671141676]
[null,-1,-1,-1,-1,-1,-1,-1,null,null,null,null,null,null,null,null,null,null,null,null,null,null,null,null,null,null,null,null,null,null,null,null,null,null,null,null,null,null,null,null,null,null,null,null,383,8.2858700180841377E-2,3.5056123759308635,2.6859367876477456]
[null,-1,-1,-1,-1,-1,-1,-1,null,null,null,null,null,null,null,null,null,null,null,null,null,null,null,null,null,null,null,null,null,null,null,null,null,null,null,null,null,null,null,null,null,null,null,null,384,{"$f":"$AP$18/$N$7*AS415","v":8.3075041434577251E-2},3.5164294386176573,2.6965777095091079]
[null,-1,-1,-1,-1,-1,-1,-1,null,null,null,null,null,null,null,null,null,null,null,null,null,null,null,null,null,null,null,null,null,null,null,null,null,null,null,null,null,null,null,null,null,null,null,null,385,8.329138268831314E-2,{"$f":"IF(($N$4*AT416^2/2)<=$AP$13,($N$4*AT416^2/2), IF(($AP$13+$N$6*(AT416-$AP$12))<=$AP$17, ($AP$13+$N$6*(AT416-$AP$12)), IF(AU415<$D$14, ($AP$17+($N$6-$N$5*(AT416-$AP$16)/2)*(AT416-$AP$16)), $D$14)))","v":3.5272465013044521},2.7072209030185546]
[null,-1,-1,-1,-1,-1,-1,-1,null,null,null,null,null,null,null,null,null,null,null,null,null,null,null,null,null,null,null,null,null,null,null,null,null,null,null,null,null,null,null,null,null,null,null,null,386,8.3507723942049014E-2,3.5380635639912459,{"$f":"( $AP$6*AU417 + $AP$7*AU416 + $AP$9*AV416 )/$AP$8","v":2.7178663388791584}]
[null,-1,-1,-1,-1,-1,-1,-1,null,null,null,null,null,null,null,null,null,null,null,null,null,null,null,null,null,null,null,null,null,null,null,null,null,null,null,null,null,null,null,null,null,null,null,null,387,8.3724065195784889E-2,3.5488806266780388,2.7285139881718274]
[null,-1,-1,-1,-1,-1,-1,-1,null,null,null,null,null,null,null,null,null,null,null,null,null,null,null,null,null,null,null,null,null,null,null,null,null,null,null,null,null,null,null,null,null,null,null,null,388,8.3940406449520777E-2,3.5596976893648336,2.7391638223504327]
[null,-1,-1,-1,-1,-1,-1,-1,null,null,null,null,null,null,null,null,null,null,null,null,null,null,null,null,null,null,null,null,null,null,null,null,null,null,null,null,null,null,null,null,null,null,null,null,389,8.4156747703256651E-2,3.5705147520516274,2.7498158132369976]
[null,-1,-1,-1,-1,-1,-1,-1,null,null,null,null,null,null,null,null,null,null,null,null,null,null,null,null,null,null,null,null,null,null,null,null,null,null,null,null,null,null,null,null,null,null,null,null,390,8.4373088956992526E-2,3.5813318147384212,2.7604699330169518]
[null,-1,-1,-1,-1,-1,-1,-1,null,null,null,null,null,null,null,null,null,null,null,null,null,null,null,null,null,null,null,null,null,null,null,null,null,null,null,null,null,null,null,null,null,null,null,null,391,8.45894302107284E-2,3.592148877425215,2.7711261542344419]
[null,-1,-1,-1,-1,-1,-1,-1,null,null,null,null,null,null,null,null,null,null,null,null,null,null,null,null,null,null,null,null,null,null,null,null,null,null,null,null,null,null,null,null,null,null,null,null,392,8.4805771464464288E-2,3.6029659401120089,2.7817844497877076]
[null,-1,-1,-1,-1,-1,-1,-1,null,null,null,null,null,null,null,null,null,null,null,null,null,null,null,null,null,null,null,null,null,null,null,null,null,null,null,null,null,null,null,null,null,null,null,null,393,8.5022112718200163E-2,3.6137830027988027,2.7924447929245129]
[null,-1,-1,-1,-1,-1,-1,-1,null,null,null,null,null,null,null,null,null,null,null,null,null,null,null,null,null,null,null,null,null,null,null,null,null,null,null,null,null,null,null,null,null,null,null,null,394,8.5238453971936037E-2,3.6246000654855965,2.8031071572376391]
[null,-1,-1,-1,-1,-1,-1,-1,null,null,null,null,null,null,null,null,null,null,null,null,null,null,null,null,null,null,null,null,null,null,null,null,null,null,null,null,null,null,null,null,null,null,null,null,395,8.5454795225671926E-2,3.6354171281723913,2.8137715166604362]
[null,-1,-1,-1,-1,-1,-1,-1,null,null,null,null,null,null,null,null,null,null,null,null,null,null,null,null,null,null,null,null,null,null,null,null,null,null,null,null,null,null,null,null,null,null,null,null,396,8.56711364794078E-2,3.6462341908591851,2.8244378454624299]
[null,-1,-1,-1,-1,-1,-1,-1,null,null,null,null,null,null,null,null,null,null,null,null,null,null,null,null,null,null,null,null,null,null,null,null,null,null,null,null,null,null,null,null,null,null,null,null,397,8.5887477733143675E-2,3.6570512535459789,2.835106118244985]
[null,-1,-1,-1,-1,-1,-1,-1,null,null,null,null,null,null,null,null,null,null,null,null,null,null,null,null,null,null,null,null,null,null,null,null,null,null,null,null,null,null,null,null,null,null,null,null,398,8.6103818986879549E-2,3.6678683162327719,2.845776309937027]
[null,-1,-1,-1,-1,-1,-1,-1,null,null,null,null,null,null,null,null,null,null,null,null,null,null,null,null,null,null,null,null,null,null,null,null,null,null,null,null,null,null,null,null,null,null,null,null,399,8.6320160240615437E-2,3.6786853789195666,2.8564483957908173]
[null,-1,-1,-1,-1,-1,-1,-1,null,null,null,null,null,null,null,null,null,null,null,null,null,null,null,null,null,null,null,null,null,null,null,null,null,null,null,null,null,null,null,null,null,null,null,null,400,8.6536501494351312E-2,3.6895024416063604,2.8671223513777839]
[null,-1,-1,-1,-1,-1,-1,-1,null,null,null,null,null,null,null,null,null,null,null,null,null,null,null,null,null,null,null,null,null,null,null,null,null,null,null,null,null,null,null,null,null,null,null,null,{"$f":"AS431+1","v":401},8.6752842748087186E-2,3.7003195042931543,2.8777981525844041]
[null,-1,-1,-1,-1,-1,-1,-1,null,null,null,null,null,null,null,null,null,null,null,null,null,null,null,null,null,null,null,null,null,null,null,null,null,null,null,null,null,null,null,null,null,null,null,null,402,8.6969184001823061E-2,3.7111365669799481,2.8884757756081418]
[null,-1,-1,-1,-1,-1,-1,-1,null,null,null,null,null,null,null,null,null,null,null,null,null,null,null,null,null,null,null,null,null,null,null,null,null,null,null,null,null,null,null,null,null,null,null,null,403,8.7185525255558949E-2,3.7219536296667419,2.899155196953437]
[null,-1,-1,-1,-1,-1,-1,-1,null,null,null,null,null,null,null,null,null,null,null,null,null,null,null,null,null,null,null,null,null,null,null,null,null,null,null,null,null,null,null,null,null,null,null,null,404,8.7401866509294823E-2,3.7327706923535358,2.9098363934277462]
[null,-1,-1,-1,-1,-1,-1,-1,null,null,null,null,null,null,null,null,null,null,null,null,null,null,null,null,null,null,null,null,null,null,null,null,null,null,null,null,null,null,null,null,null,null,null,null,405,8.7618207763030698E-2,3.7435877550403296,2.9205193421376352]
[null,-1,-1,-1,-1,-1,-1,-1,null,null,null,null,null,null,null,null,null,null,null,null,null,null,null,null,null,null,null,null,null,null,null,null,null,null,null,null,null,null,null,null,null,null,null,null,406,8.7834549016766586E-2,3.7544048177271243,2.9312040204849206]
[null,-1,-1,-1,-1,-1,-1,-1,null,null,null,null,null,null,null,null,null,null,null,null,null,null,null,null,null,null,null,null,null,null,null,null,null,null,null,null,null,null,null,null,null,null,null,null,407,8.805089027050246E-2,3.7652218804139173,2.9418904061628632]
[null,-1,-1,-1,-1,-1,-1,-1,null,null,null,null,null,null,null,null,null,null,null,null,null,null,null,null,null,null,null,null,null,null,null,null,null,null,null,null,null,null,null,null,null,null,null,null,408,8.8267231524238335E-2,3.7760389431007111,2.9525784771524091]
[null,-1,-1,-1,-1,-1,-1,-1,null,null,null,null,null,null,null,null,null,null,null,null,null,null,null,null,null,null,null,null,null,null,null,null,null,null,null,null,null,null,null,null,null,null,null,null,409,8.8483572777974209E-2,3.7868560057875049,2.9632682117184785]
[null,-1,-1,-1,-1,-1,-1,-1,null,null,null,null,null,null,null,null,null,null,null,null,null,null,null,null,null,null,null,null,null,null,null,null,null,null,null,null,null,null,null,null,null,null,null,null,410,8.8699914031710098E-2,3.7976730684742996,2.9739595884063039]
[null,-1,-1,-1,-1,-1,-1,-1,null,null,null,null,null,null,null,null,null,null,null,null,null,null,null,null,null,null,null,null,null,null,null,null,null,null,null,null,null,null,null,null,null,null,null,null,411,8.8916255285445972E-2,3.8084901311610935,2.9846525860378152]
[null,-1,-1,-1,-1,-1,-1,-1,null,null,null,null,null,null,null,null,null,null,null,null,null,null,null,null,null,null,null,null,null,null,null,null,null,null,null,null,null,null,null,null,null,null,null,null,412,8.9132596539181846E-2,3.8193071938478873,2.9953471837080712]
[null,-1,-1,-1,-1,-1,-1,-1,null,null,null,null,null,null,null,null,null,null,null,null,null,null,null,null,null,null,null,null,null,null,null,null,null,null,null,null,null,null,null,null,null,null,null,null,413,8.9348937792917735E-2,3.8301242565346811,3.006043360781737]
[null,-1,-1,-1,-1,-1,-1,-1,null,null,null,null,null,null,null,null,null,null,null,null,null,null,null,null,null,null,null,null,null,null,null,null,null,null,null,null,null,null,null,null,null,null,null,null,414,8.9565279046653609E-2,3.840941319221475,3.0167410968896062]
[null,-1,-1,-1,-1,-1,-1,-1,null,null,null,null,null,null,null,null,null,null,null,null,null,null,null,null,null,null,null,null,null,null,null,null,null,null,null,null,null,null,null,null,null,null,null,null,415,8.9781620300389484E-2,3.8517583819082688,3.0274403719251701]
[null,-1,-1,-1,-1,-1,-1,-1,null,null,null,null,null,null,null,null,null,null,null,null,null,null,null,null,null,null,null,null,null,null,null,null,null,null,null,null,null,null,null,null,null,null,null,null,416,8.9997961554125358E-2,3.8625754445950626,3.0381411660412292]
[null,-1,-1,-1,-1,-1,-1,-1,null,null,null,null,null,null,null,null,null,null,null,null,null,null,null,null,null,null,null,null,null,null,null,null,null,null,null,null,null,null,null,null,null,null,null,null,417,9.0214302807861246E-2,3.8733925072818574,3.0488434596465486]
[null,-1,-1,-1,-1,-1,-1,-1,null,null,null,null,null,null,null,null,null,null,null,null,null,null,null,null,null,null,null,null,null,null,null,null,null,null,null,null,null,null,null,null,null,null,null,null,418,9.0430644061597121E-2,3.8842095699686512,3.0595472334025571]
[null,-1,-1,-1,-1,-1,-1,-1,null,null,null,null,null,null,null,null,null,null,null,null,null,null,null,null,null,null,null,null,null,null,null,null,null,null,null,null,null,null,null,null,null,null,null,null,419,9.0646985315332995E-2,3.895026632655445,3.0702524682200885]
[null,-1,-1,-1,-1,-1,-1,-1,null,null,null,null,null,null,null,null,null,null,null,null,null,null,null,null,null,null,null,null,null,null,null,null,null,null,null,null,null,null,null,null,null,null,null,null,420,9.086332656906887E-2,3.9058436953422389,3.0809591452561649]
[null,-1,-1,-1,-1,-1,-1,-1,null,null,null,null,null,null,null,null,null,null,null,null,null,null,null,null,null,null,null,null,null,null,null,null,null,null,null,null,null,null,null,null,null,null,null,null,421,9.1079667822804758E-2,3.9166607580290327,3.091667245910823]
[null,-1,-1,-1,-1,-1,-1,-1,null,null,null,null,null,null,null,null,null,null,null,null,null,null,null,null,null,null,null,null,null,null,null,null,null,null,null,null,null,null,null,null,null,null,null,null,422,9.1296009076540632E-2,3.9274778207158265,3.1023767518239782]
[null,-1,-1,-1,-1,-1,-1,-1,null,null,null,null,null,null,null,null,null,null,null,null,null,null,null,null,null,null,null,null,null,null,null,null,null,null,null,null,null,null,null,null,null,null,null,null,423,9.1512350330276507E-2,3.9382948834026195,3.1130876448723317]
[null,-1,-1,-1,-1,-1,-1,-1,null,null,null,null,null,null,null,null,null,null,null,null,null,null,null,null,null,null,null,null,null,null,null,null,null,null,null,null,null,null,null,null,null,null,null,null,424,9.1728691584012395E-2,3.9491119460894151,3.1237999071663167]
[null,-1,-1,-1,-1,-1,-1,-1,null,null,null,null,null,null,null,null,null,null,null,null,null,null,null,null,null,null,null,null,null,null,null,null,null,null,null,null,null,null,null,null,null,null,null,null,425,9.194503283774827E-2,3.9599290087762089,3.1345135210470847]
[null,-1,-1,-1,-1,-1,-1,-1,null,null,null,null,null,null,null,null,null,null,null,null,null,null,null,null,null,null,null,null,null,null,null,null,null,null,null,null,null,null,null,null,null,null,null,null,426,9.2161374091484144E-2,3.9707460714630027,3.1452284690835288]
[null,-1,-1,-1,-1,-1,-1,-1,null,null,null,null,null,null,null,null,null,null,null,null,null,null,null,null,null,null,null,null,null,null,null,null,null,null,null,null,null,null,null,null,null,null,null,null,427,9.2377715345220018E-2,3.9815631341497957,3.1559447340693474]
[null,-1,-1,-1,-1,-1,-1,-1,null,null,null,null,null,null,null,null,null,null,null,null,null,null,null,null,null,null,null,null,null,null,null,null,null,null,null,null,null,null,null,null,null,null,null,null,428,9.2594056598955907E-2,3.9923801968365895,3.1666622990201447]
[null,-1,-1,-1,-1,-1,-1,-1,null,null,null,null,null,null,null,null,null,null,null,null,null,null,null,null,null,null,null,null,null,null,null,null,null,null,null,null,null,null,null,null,null,null,null,null,429,9.2810397852691781E-2,4.0031972595233833,3.1773811471705686]
[null,-1,-1,-1,-1,-1,-1,-1,null,null,null,null,null,null,null,null,null,null,null,null,null,null,null,null,null,null,null,null,null,null,null,null,null,null,null,null,null,null,null,null,null,null,null,null,430,9.3026739106427656E-2,4.0140143222101772,3.1881012619714859]
[null,-1,-1,-1,-1,-1,-1,-1,null,null,null,null,null,null,null,null,null,null,null,null,null,null,null,null,null,null,null,null,null,null,null,null,null,null,null,null,null,null,null,null,null,null,null,null,431,9.3243080360163544E-2,4.0248313848969728,3.1988226270871936]
[null,-1,-1,-1,-1,-1,-1,-1,null,null,null,null,null,null,null,null,null,null,null,null,null,null,null,null,null,null,null,null,null,null,null,null,null,null,null,null,null,null,null,null,null,null,null,null,432,9.3459421613899418E-2,4.0356484475837657,3.2095452263926667]
[null,-1,-1,-1,-1,-1,-1,-1,null,null,null,null,null,null,null,null,null,null,null,null,null,null,null,null,null,null,null,null,null,null,null,null,null,null,null,null,null,null,null,null,null,null,null,null,433,9.3675762867635293E-2,4.0464655102705596,3.2202690439708412]
[null,-1,-1,-1,-1,-1,-1,-1,null,null,null,null,null,null,null,null,null,null,null,null,null,null,null,null,null,null,null,null,null,null,null,null,null,null,null,null,null,null,null,null,null,null,null,null,434,9.3892104121371167E-2,4.0572825729573534,3.230994064109932]
[null,-1,-1,-1,-1,-1,-1,-1,null,null,null,null,null,null,null,null,null,null,null,null,null,null,null,null,null,null,null,null,null,null,null,null,null,null,null,null,null,null,null,null,null,null,null,null,435,9.4108445375107055E-2,4.0680996356441472,3.2417202713007853]
[null,-1,-1,-1,-1,-1,-1,-1,null,null,null,null,null,null,null,null,null,null,null,null,null,null,null,null,null,null,null,null,null,null,null,null,null,null,null,null,null,null,null,null,null,null,null,null,436,9.432478662884293E-2,4.0789166983309411,3.2524476502342647]
[null,-1,-1,-1,-1,-1,-1,-1,null,null,null,null,null,null,null,null,null,null,null,null,null,null,null,null,null,null,null,null,null,null,null,null,null,null,null,null,null,null,null,null,null,null,null,null,437,9.4541127882578804E-2,4.0897337610177349,3.2631761857986725]
[null,-1,-1,-1,-1,-1,-1,-1,null,null,null,null,null,null,null,null,null,null,null,null,null,null,null,null,null,null,null,null,null,null,null,null,null,null,null,null,null,null,null,null,null,null,null,null,438,9.4757469136314679E-2,4.1005508237045287,3.2739058630772031]
[null,-1,-1,-1,-1,-1,-1,-1,null,null,null,null,null,null,null,null,null,null,null,null,null,null,null,null,null,null,null,null,null,null,null,null,null,null,null,null,null,null,null,null,null,null,null,null,439,9.4973810390050567E-2,4.1113678863913234,3.2846366673454295]
[null,-1,-1,-1,-1,-1,-1,-1,null,null,null,null,null,null,null,null,null,null,null,null,null,null,null,null,null,null,null,null,null,null,null,null,null,null,null,null,null,null,null,null,null,null,null,null,440,9.5190151643786441E-2,4.1221849490781173,3.2953685840688225]
[null,-1,-1,-1,-1,-1,-1,-1,null,null,null,null,null,null,null,null,null,null,null,null,null,null,null,null,null,null,null,null,null,null,null,null,null,null,null,null,null,null,null,null,null,null,null,null,441,9.5406492897522316E-2,4.1330020117649111,3.3061015989003018]
[null,-1,-1,-1,-1,-1,-1,-1,null,null,null,null,null,null,null,null,null,null,null,null,null,null,null,null,null,null,null,null,null,null,null,null,null,null,null,null,null,null,null,null,null,null,null,null,442,9.5622834151258204E-2,4.1438190744517049,3.3168356976778171]
[null,-1,-1,-1,-1,-1,-1,-1,null,null,null,null,null,null,null,null,null,null,null,null,null,null,null,null,null,null,null,null,null,null,null,null,null,null,null,null,null,null,null,null,null,null,null,null,443,9.5839175404994079E-2,4.1546361371384988,3.3275708664219632]
[null,-1,-1,-1,-1,-1,-1,-1,null,null,null,null,null,null,null,null,null,null,null,null,null,null,null,null,null,null,null,null,null,null,null,null,null,null,null,null,null,null,null,null,null,null,null,null,444,9.6055516658729953E-2,4.1654531998252917,3.3383070913336246]
[null,-1,-1,-1,-1,-1,-1,-1,null,null,null,null,null,null,null,null,null,null,null,null,null,null,null,null,null,null,null,null,null,null,null,null,null,null,null,null,null,null,null,null,null,null,null,null,445,9.6271857912465827E-2,4.1762702625120856,3.3490443587916499]
[null,-1,-1,-1,-1,-1,-1,-1,null,null,null,null,null,null,null,null,null,null,null,null,null,null,null,null,null,null,null,null,null,null,null,null,null,null,null,null,null,null,null,null,null,null,null,null,446,9.6488199166201716E-2,4.1870873251988812,3.3597826553505561]
[null,-1,-1,-1,-1,-1,-1,-1,null,null,null,null,null,null,null,null,null,null,null,null,null,null,null,null,null,null,null,null,null,null,null,null,null,null,null,null,null,null,null,null,null,null,null,null,447,9.670454041993759E-2,4.197904387885675,3.3705219677382638]
[null,-1,-1,-1,-1,-1,-1,-1,null,null,null,null,null,null,null,null,null,null,null,null,null,null,null,null,null,null,null,null,null,null,null,null,null,null,null,null,null,null,null,null,null,null,null,null,448,{"$f":"$AP$18/$N$7*AS479","v":9.6920881673673465E-2},4.2087214505724688,3.3812622828538603]
[null,-1,-1,-1,-1,-1,-1,-1,null,null,null,null,null,null,null,null,null,null,null,null,null,null,null,null,null,null,null,null,null,null,null,null,null,null,null,null,null,null,null,null,null,null,null,null,449,9.7137222927409353E-2,{"$f":"IF(($N$4*AT480^2/2)<=$AP$13,($N$4*AT480^2/2), IF(($AP$13+$N$6*(AT480-$AP$12))<=$AP$17, ($AP$13+$N$6*(AT480-$AP$12)), IF(AU479<$D$14, ($AP$17+($N$6-$N$5*(AT480-$AP$16)/2)*(AT480-$AP$16)), $D$14)))","v":4.2195385132592618},3.3920035877653922]
[null,-1,-1,-1,-1,-1,-1,-1,null,null,null,null,null,null,null,null,null,null,null,null,null,null,null,null,null,null,null,null,null,null,null,null,null,null,null,null,null,null,null,null,null,null,null,null,450,9.7353564181145227E-2,4.2303555759460556,{"$f":"( $AP$6*AU481 + $AP$7*AU480 + $AP$9*AV480 )/$AP$8","v":3.4027458697076871}]
[null,-1,-1,-1,-1,-1,-1,-1,null,null,null,null,null,null,null,null,null,null,null,null,null,null,null,null,null,null,null,null,null,null,null,null,null,null,null,null,null,null,null,null,null,null,null,null,451,9.7569905434881102E-2,4.2411726386328494,3.4134891160802021]
[null,-1,-1,-1,-1,-1,-1,-1,null,null,null,null,null,null,null,null,null,null,null,null,null,null,null,null,null,null,null,null,null,null,null,null,null,null,null,null,null,null,null,null,null,null,null,null,452,9.7786246688616976E-2,4.2519897013196433,3.4242333144449]
[null,-1,-1,-1,-1,-1,-1,-1,null,null,null,null,null,null,null,null,null,null,null,null,null,null,null,null,null,null,null,null,null,null,null,null,null,null,null,null,null,null,null,null,null,null,null,null,453,9.8002587942352865E-2,4.262806764006438,3.4349784525241547]
[null,-1,-1,-1,-1,-1,-1,-1,null,null,null,null,null,null,null,null,null,null,null,null,null,null,null,null,null,null,null,null,null,null,null,null,null,null,null,null,null,null,null,null,null,null,null,null,454,9.8218929196088739E-2,4.2736238266932318,3.445724518198682]
[null,-1,-1,-1,-1,-1,-1,-1,null,null,null,null,null,null,null,null,null,null,null,null,null,null,null,null,null,null,null,null,null,null,null,null,null,null,null,null,null,null,null,null,null,null,null,null,455,9.8435270449824613E-2,4.2844408893800257,3.4564714995054966]
[null,-1,-1,-1,-1,-1,-1,-1,null,null,null,null,null,null,null,null,null,null,null,null,null,null,null,null,null,null,null,null,null,null,null,null,null,null,null,null,null,null,null,null,null,null,null,null,456,9.8651611703560488E-2,4.2952579520668195,3.4672193846358983]
[null,-1,-1,-1,-1,-1,-1,-1,null,null,null,null,null,null,null,null,null,null,null,null,null,null,null,null,null,null,null,null,null,null,null,null,null,null,null,null,null,null,null,null,null,null,null,null,457,9.8867952957296376E-2,4.3060750147536133,3.4779681619334797]
[null,-1,-1,-1,-1,-1,-1,-1,null,null,null,null,null,null,null,null,null,null,null,null,null,null,null,null,null,null,null,null,null,null,null,null,null,null,null,null,null,null,null,null,null,null,null,null,458,9.9084294211032251E-2,4.3168920774404071,3.4887178198921642]
[null,-1,-1,-1,-1,-1,-1,-1,null,null,null,null,null,null,null,null,null,null,null,null,null,null,null,null,null,null,null,null,null,null,null,null,null,null,null,null,null,null,null,null,null,null,null,null,459,9.9300635464768125E-2,4.327709140127201,3.499468347154266]
[null,-1,-1,-1,-1,-1,-1,-1,null,null,null,null,null,null,null,null,null,null,null,null,null,null,null,null,null,null,null,null,null,null,null,null,null,null,null,null,null,null,null,null,null,null,null,null,460,9.9516976718504013E-2,4.3385262028139957,3.5102197325085776]
[null,-1,-1,-1,-1,-1,-1,-1,null,null,null,null,null,null,null,null,null,null,null,null,null,null,null,null,null,null,null,null,null,null,null,null,null,null,null,null,null,null,null,null,null,null,null,null,461,9.9733317972239888E-2,4.3493432655007895,3.5209719648884787]
[null,-1,-1,-1,-1,-1,-1,-1,null,null,null,null,null,null,null,null,null,null,null,null,null,null,null,null,null,null,null,null,null,null,null,null,null,null,null,null,null,null,null,null,null,null,null,null,462,9.9949659225975762E-2,4.3601603281875834,3.5317250333700736]
[null,-1,-1,-1,-1,-1,-1,-1,null,null,null,null,null,null,null,null,null,null,null,null,null,null,null,null,null,null,null,null,null,null,null,null,null,null,null,null,null,null,null,null,null,null,null,null,463,0.10016600047971164,4.3709773908743772,3.5424789271703494]
[null,-1,-1,-1,-1,-1,-1,-1,null,null,null,null,null,null,null,null,null,null,null,null,null,null,null,null,null,null,null,null,null,null,null,null,null,null,null,null,null,null,null,null,null,null,null,null,464,0.10038234173344752,4.381794453561171,3.5532336356453591]
[null,-1,-1,-1,-1,-1,-1,-1,null,null,null,null,null,null,null,null,null,null,null,null,null,null,null,null,null,null,null,null,null,null,null,null,null,null,null,null,null,null,null,null,null,null,null,null,{"$f":"AS495+1","v":465},0.1005986829871834,4.3926115162479649,3.5639891482884281]
[null,-1,-1,-1,-1,-1,-1,-1,null,null,null,null,null,null,null,null,null,null,null,null,null,null,null,null,null,null,null,null,null,null,null,null,null,null,null,null,null,null,null,null,null,null,null,null,466,0.10081502424091927,4.4034285789347578,3.5747454547283839]
[null,-1,-1,-1,-1,-1,-1,-1,null,null,null,null,null,null,null,null,null,null,null,null,null,null,null,null,null,null,null,null,null,null,null,null,null,null,null,null,null,null,null,null,null,null,null,null,467,0.10103136549465516,4.4142456416215534,3.5855025447278095]
[null,-1,-1,-1,-1,-1,-1,-1,null,null,null,null,null,null,null,null,null,null,null,null,null,null,null,null,null,null,null,null,null,null,null,null,null,null,null,null,null,null,null,null,null,null,null,null,468,0.10124770674839104,4.4250627043083473,3.5962604081813168]
[null,-1,-1,-1,-1,-1,-1,-1,null,null,null,null,null,null,null,null,null,null,null,null,null,null,null,null,null,null,null,null,null,null,null,null,null,null,null,null,null,null,null,null,null,null,null,null,469,0.10146404800212691,4.4358797669951411,3.6070190351138445]
[null,-1,-1,-1,-1,-1,-1,-1,null,null,null,null,null,null,null,null,null,null,null,null,null,null,null,null,null,null,null,null,null,null,null,null,null,null,null,null,null,null,null,null,null,null,null,null,470,0.10168038925586279,4.446696829681934,3.6177784156789783]
[null,-1,-1,-1,-1,-1,-1,-1,null,null,null,null,null,null,null,null,null,null,null,null,null,null,null,null,null,null,null,null,null,null,null,null,null,null,null,null,null,null,null,null,null,null,null,null,476,0.10297843677827806,4.5115992058026979,3.6823499897510348]
[null,-1,-1,-1,-1,-1,-1,-1,null,null,null,null,null,null,null,null,null,null,null,null,null,null,null,null,null,null,null,null,null,null,null,null,null,null,null,null,null,null,null,null,null,null,null,null,481,0.10406014304695745,4.5656845192366671,3.7361786494704972]
[null,-1,-1,-1,-1,-1,-1,-1,null,null,null,null,null,null,null,null,null,null,null,null,null,null,null,null,null,null,null,null,null,null,null,null,null,null,null,null,null,null,null,null,null,null,null,null,487,0.10535819056937272,4.6305868953574301,3.800794240557464]
[null,-1,-1,-1,-1,-1,-1,-1,null,null,null,null,null,null,null,null,null,null,null,null,null,null,null,null,null,null,null,null,null,null,null,null,null,null,null,null,null,null,null,null,null,null,null,null,495,0.10708892059925974,4.7171233968517816,3.8869815063887136]
[null,-1,-1,-1,-1,-1,-1,-1,null,null,null,null,null,null,null,null,null,null,null,null,null,null,null,null,null,null,null,null,null,null,null,null,null,null,null,null,null,null,null,null,null,null,null,null,498,0.10773794436046738,4.749574584912164,3.919310802135791]
[null,-1,-1,-1,-1,-1,-1,-1,null,null,null,null,null,null,null,null,null,null,null,null,null,null,null,null,null,null,null,null,null,null,null,null,null,null,null,null,null,null,null,null,null,null,null,null,504,0.10903599188288265,4.8144769610329279,3.9839831822958454]
[null,-1,-1,-1,-1,-1,-1,-1,null,null,null,null,null,null,null,null,null,null,null,null,null,null,null,null,null,null,null,null,null,null,null,null,null,null,null,null,null,null,null,null,null,null,null,null,509,0.11011769815156204,4.868562274466897,4.0378900527066568]
[null,-1,-1,-1,-1,-1,-1,-1,null,null,null,null,null,null,null,null,null,null,null,null,null,null,null,null,null,null,null,null,null,null,null,null,null,null,null,null,null,null,null,null,null,null,null,null,515,0.11141574567397731,4.93346465058766,4.102593036472916]
[null,-1,-1,-1,-1,-1,-1,-1,null,null,null,null,null,null,null,null,null,null,null,null,null,null,null,null,null,null,null,null,null,null,null,null,null,null,null,null,null,null,null,null,null,null,null,null,520,0.1124974519426567,4.9875499640216301,4.1565236507790324]
[null,-1,-1,-1,-1,-1,-1,-1,null,null,null,null,null,null,null,null,null,null,null,null,null,null,null,null,null,null,null,null,null,null,null,null,null,null,null,null,null,null,null,null,null,null,null,null,526,0.11379549946507198,5.052452340142394,4.2212531659899346]
[null,-1,-1,-1,-1,-1,-1,-1,null,null,null,null,null,null,null,null,null,null,null,null,null,null,null,null,null,null,null,null,null,null,null,null,null,null,null,null,null,null,null,null,null,null,null,null,527,0.11401184071880785,5.0632694028291878,4.2320427049121294]
[null,-1,-1,-1,-1,-1,-1,-1,null,null,null,null,null,null,null,null,null,null,null,null,null,null,null,null,null,null,null,null,null,null,null,null,null,null,null,null,null,null,null,null,null,null,null,null,532,0.11509354698748725,5.1173547162631579,4.2859956333611908]
[null,-1,-1,-1,-1,-1,-1,-1,null,null,null,null,null,null,null,null,null,null,null,null,null,null,null,null,null,null,null,null,null,null,null,null,null,null,null,null,null,null,null,null,null,null,null,null,537,0.11617525325616664,5.1714400296971261,4.339956881135036]
[null,-1,-1,-1,-1,-1,-1,-1,null,null,null,null,null,null,null,null,null,null,null,null,null,null,null,null,null,null,null,null,null,null,null,null,null,null,null,null,null,null,null,null,null,null,null,null,545,0.11790598328605366,5.2579765311914777,4.4263108892176399]
[null,-1,-1,-1,-1,-1,-1,-1,null,null,null,null,null,null,null,null,null,null,null,null,null,null,null,null,null,null,null,null,null,null,null,null,null,null,null,null,null,null,null,null,null,null,null,null,549,0.11877134830099717,5.3012447819386539,4.4694947586499092]
[null,-1,-1,-1,-1,-1,-1,-1,null,null,null,null,null,null,null,null,null,null,null,null,null,null,null,null,null,null,null,null,null,null,null,null,null,null,null,null,null,null,null,null,null,null,null,null,555,0.12006939582341244,5.3661471580594178,4.5342785001666677]
[null,-1,-1,-1,-1,-1,-1,-1,null,null,null,null,null,null,null,null,null,null,null,null,null,null,null,null,null,null,null,null,null,null,null,null,null,null,null,null,null,null,null,null,null,null,null,null,560,0.12115110209209183,5.4202324714933861,4.5882717706042078]
[null,-1,-1,-1,-1,-1,-1,-1,null,null,null,null,null,null,null,null,null,null,null,null,null,null,null,null,null,null,null,null,null,null,null,null,null,null,null,null,null,null,null,null,null,null,null,null,564,0.12201646710703534,5.4635007222405623,4.6314705693332581]
[null,-1,-1,-1,-1,-1,-1,-1,null,null,null,null,null,null,null,null,null,null,null,null,null,null,null,null,null,null,null,null,null,null,null,null,null,null,null,null,null,null,null,null,null,null,null,null,572,0.12374719713692238,5.5500372237349138,4.717878531318604]
[null,-1,-1,-1,-1,-1,-1,-1,null,null,null,null,null,null,null,null,null,null,null,null,null,null,null,null,null,null,null,null,null,null,null,null,null,null,null,null,null,null,null,null,null,null,null,null,577,0.12482890340560177,{"$f":"IF(($N$4*AT608^2/2)<=$AP$13,($N$4*AT608^2/2), IF(($AP$13+$N$6*(AT608-$AP$12))<=$AP$17, ($AP$13+$N$6*(AT608-$AP$12)), IF(AU607<$D$14, ($AP$17+($N$6-$N$5*(AT608-$AP$16)/2)*(AT608-$AP$16)), $D$14)))","v":5.6041225371688839},4.7718900280784258]
[null,-1,-1,-1,-1,-1,-1,-1,null,null,null,null,null,null,null,null,null,null,null,null,null,null,null,null,null,null,null,null,null,null,null,null,null,null,null,null,null,null,null,null,null,null,null,null,583,0.12612695092801704,5.6690249132896477,4.8367099213976799]
[null,-1,-1,-1,-1,-1,-1,-1,null,null,null,null,null,null,null,null,null,null,null,null,null,null,null,null,null,null,null,null,null,null,null,null,null,null,null,null,null,null,null,null,null,null,null,null,588,0.12720865719669644,5.7231102267236178,4.8907312403144649]
[null,-1,-1,-1,-1,-1,-1,-1,null,null,null,null,null,null,null,null,null,null,null,null,null,null,null,null,null,null,null,null,null,null,null,null,null,null,null,null,null,null,null,null,null,null,null,null,589,0.12742499845043231,5.7339272894104107,4.9015359950064648]
[null,-1,-1,-1,-1,-1,-1,-1,null,null,null,null,null,null,null,null,null,null,null,null,null,null,null,null,null,null,null,null,null,null,null,null,null,null,null,null,null,null,null,null,null,null,null,null,595,0.12872304597284759,5.7988296655311746,4.9663677858266855]
[null,-1,-1,-1,-1,-1,-1,-1,null,null,null,null,null,null,null,null,null,null,null,null,null,null,null,null,null,null,null,null,null,null,null,null,null,null,null,null,null,null,null,null,null,null,null,null,600,0.12980475224152696,5.8529149789651438,5.0203983354535868]
[null,-1,-1,-1,-1,-1,-1,-1,null,null,null,null,null,null,null,null,null,null,null,null,null,null,null,null,null,null,null,null,null,null,null,null,null,null,null,null,null,null,null,null,null,null,null,null,605,0.13088645851020636,5.907000292399113,5.0744323265425049]
[null,-1,-1,-1,-1,-1,-1,-1,null,null,null,null,null,null,null,null,null,null,null,null,null,null,null,null,null,null,null,null,null,null,null,null,null,null,null,null,null,null,null,null,null,null,null,null,611,0.13218450603262163,5.9719026685198768,5.1392773550402717]
[null,-1,-1,-1,-1,-1,-1,-1,null,null,null,null,null,null,null,null,null,null,null,null,null,null,null,null,null,null,null,null,null,null,null,null,null,null,null,null,null,null,null,null,null,null,null,null,620,0.13413157731624453,6.0692562327010222,5.2365528530004548]
[null,-1,-1,-1,-1,-1,-1,-1,null,null,null,null,null,null,null,null,null,null,null,null,null,null,null,null,null,null,null,null,null,null,null,null,null,null,null,null,null,null,null,null,null,null,null,null,623,0.13478060107745216,6.1017074207614028,5.2689799809385995]
[null,null,null,null,null,null,null,null,null,null,null,null,null,null,null,null,null,null,null,null,null,null,null,null,null,null,null,null,null,null,null,null,null,null,null,null,null,null,null,null,null,null,null,null,628,0.13586230734613156,6.1557927341953729,5.3230272188695054]
[null,null,null,null,null,null,null,null,null,null,null,null,null,null,null,null,null,null,null,null,null,null,null,null,null,null,null,null,null,null,null,null,null,null,null,null,null,null,null,null,null,null,null,null,633,0.13694401361481096,6.2098780476293429,5.3770768495375973]
[null,null,null,null,null,null,null,null,null,null,null,null,null,null,null,null,null,null,null,null,null,null,null,null,null,null,null,null,null,null,null,null,null,null,null,null,null,null,null,null,null,null,null,null,639,0.13824206113722623,6.2747804237501068,5.4419393537116907]
[null,null,null,null,null,null,null,null,null,null,null,null,null,null,null,null,null,null,null,null,null,null,null,null,null,null,null,null,null,null,null,null,null,null,null,null,null,null,null,null,null,null,null,null,645,0.13954010865964148,6.3396827998708689,5.5068048454197873]
[null,null,null,null,null,null,null,null,null,null,null,null,null,null,null,null,null,null,null,null,null,null,null,null,null,null,null,null,null,null,null,null,null,null,null,null,null,null,null,null,null,null,null,null,650,0.14062181492832088,6.393768113304839,5.5608615419768244]
[null,null,null,null,null,null,null,null,null,null,null,null,null,null,null,null,null,null,null,null,null,null,null,null,null,null,null,null,null,null,null,null,null,null,null,null,null,null,null,null,null,null,null,null,656,0.14191986245073615,6.4586704894256028,5.6257319415799891]
[null,null,null,null,null,null,null,null,null,null,null,null,null,null,null,null,null,null,null,null,null,null,null,null,null,null,null,null,null,null,null,null,null,null,null,null,null,null,null,null,null,null,null,null,661,0.14300156871941555,6.5127558028595729,5.6797924459414304]
[null,null,null,null,null,null,null,null,null,null,null,null,null,null,null,null,null,null,null,null,null,null,null,null,null,null,null,null,null,null,null,null,null,null,null,null,null,null,null,null,null,null,null,null,662,0.14321790997315142,6.5235728655463667,5.6906047371267121]
[null,null,null,null,null,null,null,null,null,null,null,null,null,null,null,null,null,null,null,null,null,null,null,null,null,null,null,null,null,null,null,null,null,null,null,null,null,null,null,null,null,null,null,null,668,0.1445159574955667,6.5884752416671306,5.7554797490932055]
[null,null,null,null,null,null,null,null,null,null,null,null,null,null,null,null,null,null,null,null,null,null,null,null,null,null,null,null,null,null,null,null,null,null,null,null,null,null,null,null,null,null,null,null,673,0.14559766376424607,6.6425605551010989,5.8095438319699113]
[null,null,null,null,null,null,null,null,null,null,null,null,null,null,null,null,null,null,null,null,null,null,null,null,null,null,null,null,null,null,null,null,null,null,null,null,null,null,null,null,null,null,null,null,679,0.14689571128666135,6.7074629312218628,5.8744224850516646]
[null,null,null,null,null,null,null,null,null,null,null,null,null,null,null,null,null,null,null,null,null,null,null,null,null,null,null,null,null,null,null,null,null,null,null,null,null,null,null,null,null,null,null,null,684,0.14797741755534075,6.7615482446558328,5.9284893928980456]
[null,null,null,null,null,null,null,null,null,null,null,null,null,null,null,null,null,null,null,null,null,null,null,null,null,null,null,null,null,null,null,null,null,null,null,null,null,null,null,null,null,null,null,null,693,0.14992448883896364,6.8589018088369773,6.0258126927593221]
[null,null,null,null,null,null,null,null,null,null,null,null,null,null,null,null,null,null,null,null,null,null,null,null,null,null,null,null,null,null,null,null,null,null,null,null,null,null,null,null,null,null,null,null,696,0.15057351260017129,6.8913529968973597,6.058254553312536]
[null,null,null,null,null,null,null,null,null,null,null,null,null,null,null,null,null,null,null,null,null,null,null,null,null,null,null,null,null,null,null,null,null,null,null,null,null,null,null,null,null,null,null,null,701,0.15165521886885067,6.9454383103313289,6.1123251058269989]
[null,null,null,null,null,null,null,null,null,null,null,null,null,null,null,null,null,null,null,null,null,null,null,null,null,null,null,null,null,null,null,null,null,null,null,null,null,null,null,null,null,null,null,null,707,0.15295326639126594,7.0103406864520927,6.1772109880863439]
[null,null,null,null,null,null,null,null,null,null,null,null,null,null,null,null,null,null,null,null,null,null,null,null,null,null,null,null,null,null,null,null,null,null,null,null,null,null,null,null,null,null,null,null,712,0.15403497265994534,7.0644259998860628,6.231283504710813]
[null,null,null,null,null,null,null,null,null,null,null,null,null,null,null,null,null,null,null,null,null,null,null,null,null,null,null,null,null,null,null,null,null,null,null,null,null,null,null,null,null,null,null,null,714,0.15446765516741709,7.0860601252596496,6.2529127394334187]
[null,null,null,null,null,null,null,null,null,null,null,null,null,null,null,null,null,null,null,null,null,null,null,null,null,null,null,null,null,null,null,null,null,null,null,null,null,null,null,null,null,null,null,null,724,0.15663106770477586,7.1942307521275888,6.3610607300360735]
[null,null,null,null,null,null,null,null,null,null,null,null,null,null,null,null,null,null,null,null,null,null,null,null,null,null,null,null,null,null,null,null,null,null,null,null,null,null,null,null,null,null,null,null,729,0.15771277397345526,7.2483160655615588,6.4151357806803295]
[null,null,null,null,null,null,null,null,null,null,null,null,null,null,null,null,null,null,null,null,null,null,null,null,null,null,null,null,null,null,null,null,null,null,null,null,null,null,null,null,null,null,null,null,730,0.15792911522719114,7.2591331282483518,6.4259508695361154]
[null,null,null,null,null,null,null,null,null,null,null,null,null,null,null,null,null,null,null,null,null,null,null,null,null,null,null,null,null,null,null,null,null,null,null,null,null,null,null,null,null,null,null,null,737,0.15944350400334228,7.3348525670559095,6.5016571862044721]
[null,null,null,null,null,null,null,null,null,null,null,null,null,null,null,null,null,null,null,null,null,null,null,null,null,null,null,null,null,null,null,null,null,null,null,null,null,null,null,null,null,null,null,null,741,0.16030886901828581,7.3781208178030857,6.5449184568760161]
[null,null,null,null,null,null,null,null,null,null,null,null,null,null,null,null,null,null,null,null,null,null,null,null,null,null,null,null,null,null,null,null,null,null,null,null,null,null,null,null,null,null,null,null,747,0.16160691654070108,7.4430231939238496,6.609811019467454]
[null,null,null,null,null,null,null,null,null,null,null,null,null,null,null,null,null,null,null,null,null,null,null,null,null,null,null,null,null,null,null,null,null,null,null,null,null,null,null,null,null,null,null,null,752,0.16268862280938046,7.4971085073578179,6.6638887190466605]
[null,null,null,null,null,null,null,null,null,null,null,null,null,null,null,null,null,null,null,null,null,null,null,null,null,null,null,null,null,null,null,null,null,null,null,null,null,null,null,null,null,null,null,null,758,0.16398667033179573,7.5620108834785817,6.7287825874409766]
[null,null,null,null,null,null,null,null,null,null,null,null,null,null,null,null,null,null,null,null,null,null,null,null,null,null,null,null,null,null,null,null,null,null,null,null,null,null,null,null,null,null,null,null,762,0.16485203534673926,7.605279134225758,6.7720455235446027]
[null,null,null,null,null,null,null,null,null,null,null,null,null,null,null,null,null,null,null,null,null,null,null,null,null,null,null,null,null,null,null,null,null,null,null,null,null,null,null,null,null,null,null,null,769,0.16636642412289041,{"$f":"IF(($N$4*AT800^2/2)<=$AP$13,($N$4*AT800^2/2), IF(($AP$13+$N$6*(AT800-$AP$12))<=$AP$17, ($AP$13+$N$6*(AT800-$AP$12)), IF(AU799<$D$14, ($AP$17+($N$6-$N$5*(AT800-$AP$16)/2)*(AT800-$AP$16)), $D$14)))","v":7.6809985730333157},6.8477563005761866]
[null,null,null,null,null,null,null,null,null,null,null,null,null,null,null,null,null,null,null,null,null,null,null,null,null,null,null,null,null,null,null,null,null,null,null,null,null,null,null,null,null,null,null,null,775,0.16766447164530565,7.7459009491540778,6.9126518536675476]
[null,null,null,null,null,null,null,null,null,null,null,null,null,null,null,null,null,null,null,null,null,null,null,null,null,null,null,null,null,null,null,null,null,null,null,null,null,null,null,null,null,null,null,null,780,0.16874617791398505,7.7999862625880478,6.9667318734346644]
[null,null,null,null,null,null,null,null,null,null,null,null,null,null,null,null,null,null,null,null,null,null,null,null,null,null,null,null,null,null,null,null,null,null,null,null,null,null,null,null,null,null,null,null,{"$f":"AS815+1","v":785},0.16982788418266445,7.8540715760220179,7.0208122258658943]
[null,null,null,null,null,null,null,null,null,null,null,null,null,null,null,null,null,null,null,null,null,null,null,null,null,null,null,null,null,null,null,null,null,null,null,null,null,null,null,null,null,null,null,null,787,0.1702605666901362,7.8757057013956056,7.0424444552565113]
[null,null,null,null,null,null,null,null,null,null,null,null,null,null,null,null,null,null,null,null,null,null,null,null,null,null,null,null,null,null,null,null,null,null,null,null,null,null,null,null,null,null,null,null,797,0.172423979227495,7.9838763282635457,7.1506063066109826]
[null,null,null,null,null,null,null,null,null,null,null,null,null,null,null,null,null,null,null,null,null,null,null,null,null,null,null,null,null,null,null,null,null,null,null,null,null,null,null,null,null,null,null,null,798,0.17264032048123087,7.9946933909503395,7.161422552781457]
[null,null,null,null,null,null,null,null,null,null,null,null,null,null,null,null,null,null,null,null,null,null,null,null,null,null,null,null,null,null,null,null,null,null,null,null,null,null,null,null,null,null,null,null,803,0.17372202674991025,8.0487787043843078,7.2155039389001745]
[null,null,null,null,null,null,null,null,null,null,null,null,null,null,null,null,null,null,null,null,null,null,null,null,null,null,null,null,null,null,null,null,null,null,null,null,null,null,null,null,null,null,null,null,808,0.17480373301858965,8.1028640178182769,7.2695855718188689]
[null,null,null,null,null,null,null,null,null,null,null,null,null,null,null,null,null,null,null,null,null,null,null,null,null,null,null,null,null,null,null,null,null,null,null,null,null,null,null,null,null,null,null,null,818,0.17696714555594842,8.2110346446862152,7.3777495169932994]
[null,null,null,null,null,null,null,null,null,null,null,null,null,null,null,null,null,null,null,null,null,null,null,null,null,null,null,null,null,null,null,null,null,null,null,null,null,null,null,null,null,null,null,null,820,0.1773998280634202,8.2326687700598047,7.3993824069904557]
[null,null,null,null,null,null,null,null,null,null,null,null,null,null,null,null,null,null,null,null,null,null,null,null,null,null,null,null,null,null,null,null,null,null,null,null,null,null,null,null,null,null,null,null,825,0.17848153433209957,8.2867540834937738,7.4534647687235074]
[null,null,null,null,null,null,null,null,null,null,null,null,null,null,null,null,null,null,null,null,null,null,null,null,null,null,null,null,null,null,null,null,null,null,null,null,null,null,null,null,null,null,null,null,831,0.17977958185451484,8.3516564596145368,7.5183638466116758]
[null,null,null,null,null,null,null,null,null,null,null,null,null,null,null,null,null,null,null,null,null,null,null,null,null,null,null,null,null,null,null,null,null,null,null,null,null,null,null,null,null,null,null,null,837,0.18107762937693012,8.4165588357353016,7.5832631716305432]
[null,null,null,null,null,null,null,null,null,null,null,null,null,null,null,null,null,null,null,null,null,null,null,null,null,null,null,null,null,null,null,null,null,null,null,null,null,null,null,null,null,null,null,null,843,0.18237567689934539,8.4814612118560646,7.6481627252630471]
[null,null,null,null,null,null,null,null,null,null,null,null,null,null,null,null,null,null,null,null,null,null,null,null,null,null,null,null,null,null,null,null,null,null,null,null,null,null,null,null,null,null,null,null,848,0.18345738316802479,8.5355465252900338,7.7022458488614367]
[null,null,null,null,null,null,null,null,null,null,null,null,null,null,null,null,null,null,null,null,null,null,null,null,null,null,null,null,null,null,null,null,null,null,null,null,null,null,null,null,null,null,null,null,853,0.18453908943670416,8.5896318387240029,7.756329110073267]
[null,null,null,null,null,null,null,null,null,null,null,null,null,null,null,null,null,null,null,null,null,null,null,null,null,null,null,null,null,null,null,null,null,null,null,null,null,null,null,null,null,null,null,null,859,0.18583713695911944,8.6545342148447677,7.8212291930396294]
[null,null,null,null,null,null,null,null,null,null,null,null,null,null,null,null,null,null,null,null,null,null,null,null,null,null,null,null,null,null,null,null,null,null,null,null,null,null,null,null,null,null,null,null,862,0.18648616072032709,8.6869854029051492,7.85367929978419]
[null,null,null,null,null,null,null,null,null,null,null,null,null,null,null,null,null,null,null,null,null,null,null,null,null,null,null,null,null,null,null,null,null,null,null,null,null,null,null,null,null,null,null,null,866,0.18735152573527059,8.7302536536523245,7.8969461727457748]
[null,null,null,null,null,null,null,null,null,null,null,null,null,null,null,null,null,null,null,null,null,null,null,null,null,null,null,null,null,null,null,null,null,null,null,null,null,null,null,null,null,null,null,null,871,0.18843323200394999,8.7843389670862955,7.9510298615639687]
[null,null,null,null,null,null,null,null,null,null,null,null,null,null,null,null,null,null,null,null,null,null,null,null,null,null,null,null,null,null,null,null,null,null,null,null,null,null,null,null,null,null,null,null,876,0.18951493827262936,8.8384242805202629,8.0051136524761137]
[null,null,null,null,null,null,null,null,null,null,null,null,null,null,null,null,null,null,null,null,null,null,null,null,null,null,null,null,null,null,null,null,null,null,null,null,null,null,null,null,null,null,null,null,882,0.19081298579504463,8.9033266566410276,8.0700143273299663]
[null,null,null,null,null,null,null,null,null,null,null,null,null,null,null,null,null,null,null,null,null,null,null,null,null,null,null,null,null,null,null,null,null,null,null,null,null,null,null,null,null,null,null,null,887,0.19189469206372403,8.9574119700749968,8.1240983208311395]
[null,null,null,null,null,null,null,null,null,null,null,null,null,null,null,null,null,null,null,null,null,null,null,null,null,null,null,null,null,null,null,null,null,null,null,null,null,null,null,null,null,null,null,null,893,0.19319273958613931,9.0223143461957616,8.1889992220581043]
[null,null,null,null,null,null,null,null,null,null,null,null,null,null,null,null,null,null,null,null,null,null,null,null,null,null,null,null,null,null,null,null,null,null,null,null,null,null,null,null,null,null,null,null,899,0.19449078710855458,9.0872167223165246,8.2539002337962479]
[null,null,null,null,null,null,null,null,null,null,null,null,null,null,null,null,null,null,null,null,null,null,null,null,null,null,null,null,null,null,null,null,null,null,null,null,null,null,null,null,null,null,null,null,904,0.19557249337723395,9.1413020357504937,8.3079844886700638]
[null,null,null,null,null,null,null,null,null,null,null,null,null,null,null,null,null,null,null,null,null,null,null,null,null,null,null,null,null,null,null,null,null,null,null,null,null,null,null,null,null,null,null,null,910,0.19687054089964923,9.2062044118712567,8.3728856819549922]
[null,null,null,null,null,null,null,null,null,null,null,null,null,null,null,null,null,null,null,null,null,null,null,null,null,null,null,null,null,null,null,null,null,null,null,null,null,null,null,null,null,null,null,null,916,0.1981685884220645,9.2711067879920197,8.4377869638677012]
[null,null,null,null,null,null,null,null,null,null,null,null,null,null,null,null,null,null,null,null,null,null,null,null,null,null,null,null,null,null,null,null,null,null,null,null,null,null,null,null,null,null,null,null,921,0.1992502946907439,9.3251921014259906,8.4918714283572267]
[null,null,null,null,null,null,null,null,null,null,null,null,null,null,null,null,null,null,null,null,null,null,null,null,null,null,null,null,null,null,null,null,null,null,null,null,null,null,null,null,null,null,null,null,927,0.20054834221315918,9.3900944775467536,8.5567728558668943]
[null,null,null,null,null,null,null,null,null,null,null,null,null,null,null,null,null,null,null,null,null,null,null,null,null,null,null,null,null,null,null,null,null,null,null,null,null,null,null,null,null,null,null,null,932,0.20163004848183855,9.4441797909807228,8.6108574333182357]
[null,null,null,null,null,null,null,null,null,null,null,null,null,null,null,null,null,null,null,null,null,null,null,null,null,null,null,null,null,null,null,null,null,null,null,null,null,null,null,null,null,null,null,null,937,0.20271175475051795,9.498265104414692,8.6649420570201254]
[null,null,null,null,null,null,null,null,null,null,null,null,null,null,null,null,null,null,null,null,null,null,null,null,null,null,null,null,null,null,null,null,null,null,null,null,null,null,null,null,null,null,null,null,939,0.2031444372579897,9.5198992297882796,8.6865759187937233]
[null,null,null,null,null,null,null,null,null,null,null,null,null,null,null,null,null,null,null,null,null,null,null,null,null,null,null,null,null,null,null,null,null,null,null,null,null,null,null,null,null,null,null,null,944,0.2042261435266691,9.5739845432222506,8.7406606024048177]
[null,null,null,null,null,null,null,null,null,null,null,null,null,null,null,null,null,null,null,null,null,null,null,null,null,null,null,null,null,null,null,null,null,null,null,null,null,null,null,null,null,null,null,null,950,0.20552419104908437,9.6388869193430136,8.8055622747610869]
[null,null,null,null,null,null,null,null,null,null,null,null,null,null,null,null,null,null,null,null,null,null,null,null,null,null,null,null,null,null,null,null,null,null,null,null,null,null,null,null,null,null,null,null,955,0.20660589731776374,9.6929722327769827,8.859647042177361]
[null,null,null,null,null,null,null,null,null,null,null,null,null,null,null,null,null,null,null,null,null,null,null,null,null,null,null,null,null,null,null,null,null,null,null,null,null,null,null,null,null,null,null,null,962,0.20812028609391489,9.7686916715845395,{"$f":"( $AP$6*AU993 + $AP$7*AU992 + $AP$9*AV992 )/$AP$8","v":8.9353657737179777}]
[null,null,null,null,null,null,null,null,null,null,null,null,null,null,null,null,null,null,null,null,null,null,null,null,null,null,null,null,null,null,null,null,null,null,null,null,null,null,null,null,null,null,null,null,967,0.20920199236259429,9.8227769850185105,8.9894506198930451]
[null,null,null,null,null,null,null,null,null,null,null,null,null,null,null,null,null,null,null,null,null,null,null,null,null,null,null,null,null,null,null,null,null,null,null,null,null,null,null,null,null,null,null,null,972,0.21028369863127369,9.8768622984524796,9.0435354954315521]
[null,null,null,null,null,null,null,null,null,null,null,null,null,null,null,null,null,null,null,null,null,null,null,null,null,null,null,null,null,null,null,null,null,null,null,null,null,null,null,null,null,null,null,null,978,0.21158174615368897,9.9417646745732444,9.1084373822476241]
[null,null,null,null,null,null,null,null,null,null,null,null,null,null,null,null,null,null,null,null,null,null,null,null,null,null,null,null,null,null,null,null,null,null,null,null,null,null,null,null,null,null,null,null,983,0.21266345242236834,9.9958499880072118,9.1625223160531526]
[null,null,null,null,null,null,null,null,null,null,null,null,null,null,null,null,null,null,null,null,null,null,null,null,null,null,null,null,null,null,null,null,null,null,null,null,null,null,null,null,null,null,null,null,987,0.21352881743731186,10.039118238754389,9.2057902803476672]
[null,null,null,null,null,null,null,null,null,null,null,null,null,null,null,null,null,null,null,null,null,null,null,null,null,null,null,null,null,null,null,null,null,null,null,null,null,null,null,null,null,null,null,null,995,0.21525954746719889,10.12565474024874,9.2923262516848588]
[null,null,null,null,null,null,null,null,null,null,null,null,null,null,null,null,null,null,null,null,null,null,null,null,null,null,null,null,null,null,null,null,null,null,null,null,null,null,null,null,null,null,null,null,1000,0.21634125373587829,10.179740053682711,9.3464112606642811]
[null,null,null,null,null,null,null,null,null,null,null,null,null,null,null,null,null,null,null,null,null,null,null,null,null,null,null,null,null,null,null,null,null,null,null,null,null,null,null,null,null,null,null,null,1005,0.21742296000455766,10.233825367116678,9.4004962887762105]
[null,null,null,null,null,null,null,null,null,null,null,null,null,null,null,null,null,null,null,null,null,null,null,null,null,null,null,null,null,null,null,null,null,null,null,null,null,null,null,null,null,null,null,null,1010,0.21850466627323706,10.287910680550649,9.4545813348183216]
[null,null,null,null,null,null,null,null,null,null,null,null,null,null,null,null,null,null,null,null,null,null,null,null,null,null,null,null,null,null,null,null,null,null,null,null,null,null,null,null,null,null,null,null,1012,0.21893734878070881,10.309544805924236,9.4762153580007933]
[null,null,null,null,null,null,null,null,null,null,null,null,null,null,null,null,null,null,null,null,null,null,null,null,null,null,null,null,null,null,null,null,null,null,null,null,null,null,null,null,null,null,null,null,1018,0.22023539630312408,10.374447182044999,9.541117442994711]
[null,null,null,null,null,null,null,null,null,null,null,null,null,null,null,null,null,null,null,null,null,null,null,null,null,null,null,null,null,null,null,null,null,null,null,null,null,null,null,null,null,null,null,null,1023,0.22131710257180348,10.428532495478969,9.5952025305570814]
[null,null,null,null,null,null,null,null,null,null,null,null,null,null,null,null,null,null,null,null,null,null,null,null,null,null,null,null,null,null,null,null,null,null,null,null,null,null,null,null,null,null,null,null,1028,0.22239880884048288,10.48261780891294,9.6492876323136567]
[null,null,null,null,null,null,null,null,null,null,null,null,null,null,null,null,null,null,null,null,null,null,null,null,null,null,null,null,null,null,null,null,null,null,null,null,null,null,null,null,null,null,null,null,1035,0.22391319761663403,10.558337247720496,9.7250067969315204]
[null,null,null,null,null,null,null,null,null,null,null,null,null,null,null,null,null,null,null,null,null,null,null,null,null,null,null,null,null,null,null,null,null,null,null,null,null,null,null,null,null,null,null,null,1040,0.2249949038853134,10.612422561154466,9.7790919292209075]
[null,null,null,null,null,null,null,null,null,null,null,null,null,null,null,null,null,null,null,null,null,null,null,null,null,null,null,null,null,null,null,null,null,null,null,null,null,null,null,null,null,null,null,null,1046,0.22629295140772868,10.677324937275229,9.8439941029305889]
[null,null,null,null,null,null,null,null,null,null,null,null,null,null,null,null,null,null,null,null,null,null,null,null,null,null,null,null,null,null,null,null,null,null,null,null,null,null,null,null,null,null,null,null,1051,0.22737465767640808,10.7314102507092,9.898079259323346]
[null,null,null,null,null,null,null,null,null,null,null,null,null,null,null,null,null,null,null,null,null,null,null,null,null,null,null,null,null,null,null,null,null,null,null,null,null,null,null,null,null,null,null,null,1056,0.22845636394508745,10.785495564143167,9.9521644255848809]
[null,null,null,null,null,null,null,null,null,null,null,null,null,null,null,null,null,null,null,null,null,null,null,null,null,null,null,null,null,null,null,null,null,null,null,null,null,null,null,null,null,null,null,null,1060,0.22932172896003097,10.828763814890344,9.9954325652815328]
[null,null,null,null,null,null,null,null,null,null,null,null,null,null,null,null,null,null,null,null,null,null,null,null,null,null,null,null,null,null,null,null,null,null,null,null,null,null,null,null,null,null,null,null,1068,0.231052458989918,10.915300316384695,10.08196886124723]
[null,null,null,null,null,null,null,null,null,null,null,null,null,null,null,null,null,null,null,null,null,null,null,null,null,null,null,null,null,null,null,null,null,null,null,null,null,null,null,null,null,null,null,null,1073,0.2321341652585974,10.969385629818666,10.136054056651794]
[null,null,null,null,null,null,null,null,null,null,null,null,null,null,null,null,null,null,null,null,null,null,null,null,null,null,null,null,null,null,null,null,null,null,null,null,null,null,null,null,null,null,null,null,1074,0.23235050651233327,10.980202692505459,10.146871096638122]
[null,null,null,null,null,null,null,null,null,null,null,null,null,null,null,null,null,null,null,null,null,null,null,null,null,null,null,null,null,null,null,null,null,null,null,null,null,null,null,null,null,null,null,null,1079,0.23343221278101267,11.034288005939429,10.200956300886418]
[null,null,null,null,null,null,null,null,null,null,null,null,null,null,null,null,null,null,null,null,null,null,null,null,null,null,null,null,null,null,null,null,null,null,null,null,null,null,null,null,null,null,null,null,1086,0.23494660155716382,11.110007444746987,10.276675598263729]
[null,null,null,null,null,null,null,null,null,null,null,null,null,null,null,null,null,null,null,null,null,null,null,null,null,null,null,null,null,null,null,null,null,null,null,null,null,null,null,null,null,null,null,null,1091,0.23602830782584319,11.164092758180955,10.330760818261206]
[null,null,null,null,null,null,null,null,null,null,null,null,null,null,null,null,null,null,null,null,null,null,null,null,null,null,null,null,null,null,null,null,null,null,null,null,null,null,null,null,null,null,null,null,1096,0.23711001409452259,11.218178071614926,10.384846044130409]
[null,null,null,null,null,null,null,null,null,null,null,null,null,null,null,null,null,null,null,null,null,null,null,null,null,null,null,null,null,null,null,null,null,null,null,null,null,null,null,null,null,null,null,null,1102,0.23840806161693787,11.283080447735689,10.449748322406238]
[null,null,null,null,null,null,null,null,null,null,null,null,null,null,null,null,null,null,null,null,null,null,null,null,null,null,null,null,null,null,null,null,null,null,null,null,null,null,null,null,null,null,null,null,1110,0.24013879164682489,11.369616949230039,10.53628470474885]
[null,null,null,null,null,null,null,null,null,null,null,null,null,null,null,null,null,null,null,null,null,null,null,null,null,null,null,null,null,null,null,null,null,null,null,null,null,null,null,null,null,null,null,null,1113,0.24078781540803251,11.402068137290421,10.568735851222177]
[null,null,null,null,null,null,null,null,null,null,null,null,null,null,null,null,null,null,null,null,null,null,null,null,null,null,null,null,null,null,null,null,null,null,null,null,null,null,null,null,null,null,null,null,1119,0.24208586293044779,11.466970513411185,10.633638148873235]
[null,null,null,null,null,null,null,null,null,null,null,null,null,null,null,null,null,null,null,null,null,null,null,null,null,null,null,null,null,null,null,null,null,null,null,null,null,null,null,null,null,null,null,null,1124,0.24316756919912719,11.521055826845155,10.687723401426259]
[null,null,null,null,null,null,null,null,null,null,null,null,null,null,null,null,null,null,null,null,null,null,null,null,null,null,null,null,null,null,null,null,null,null,null,null,null,null,null,null,null,null,null,null,1130,0.24446561672154246,11.585958202965918,10.752625709518609]
[null,null,null,null,null,null,null,null,null,null,null,null,null,null,null,null,null,null,null,null,null,null,null,null,null,null,null,null,null,null,null,null,null,null,null,null,null,null,null,null,null,null,null,null,1135,0.24554732299022183,11.640043516399887,10.806710970172539]
[null,null,null,null,null,null,null,null,null,null,null,null,null,null,null,null,null,null,null,null,null,null,null,null,null,null,null,null,null,null,null,null,null,null,null,null,null,null,null,null,null,null,null,null,1141,0.24684537051263711,11.704945892520652,10.871613287316846]
[null,null,null,null,null,null,null,null,null,null,null,null,null,null,null,null,null,null,null,null,null,null,null,null,null,null,null,null,null,null,null,null,null,null,null,null,null,null,null,null,null,null,null,null,1142,0.24706171176637298,11.715762955207444,10.882430340613118]
[null,null,null,null,null,null,null,null,null,null,null,null,null,null,null,null,null,null,null,null,null,null,null,null,null,null,null,null,null,null,null,null,null,null,null,null,null,null,null,null,null,null,null,null,1147,0.24814341803505238,11.769848268641415,10.936515608880155]
[null,null,null,null,null,null,null,null,null,null,null,null,null,null,null,null,null,null,null,null,null,null,null,null,null,null,null,null,null,null,null,null,null,null,null,null,null,null,null,null,null,null,null,null,1153,0.24944146555746766,{"$f":"IF(($N$4*AT1184^2/2)<=$AP$13,($N$4*AT1184^2/2), IF(($AP$13+$N$6*(AT1184-$AP$12))<=$AP$17, ($AP$13+$N$6*(AT1184-$AP$12)), IF(AU1183<$D$14, ($AP$17+($N$6-$N$5*(AT1184-$AP$16)/2)*(AT1184-$AP$16)), $D$14)))","v":11.834750644762178},11.001417934531361]
[null,null,null,null,null,null,null,null,null,null,null,null,null,null,null,null,null,null,null,null,null,null,null,null,null,null,null,null,null,null,null,null,null,null,null,null,null,null,null,null,null,null,null,null,1160,0.25095585433361878,11.910470083569734,11.077137319217075]
[null,null,null,null,null,null,null,null,null,null,null,null,null,null,null,null,null,null,null,null,null,null,null,null,null,null,null,null,null,null,null,null,null,null,null,null,null,null,null,null,null,null,null,null,1164,0.25182121934856233,11.953738334316911,11.120405541175151]
[null,null,null,null,null,null,null,null,null,null,null,null,null,null,null,null,null,null,null,null,null,null,null,null,null,null,null,null,null,null,null,null,null,null,null,null,null,null,null,null,null,null,null,null,1170,0.25311926687097758,12.018640710437674,11.185307876820321]
[null,null,null,null,null,null,null,null,null,null,null,null,null,null,null,null,null,null,null,null,null,null,null,null,null,null,null,null,null,null,null,null,null,null,null,null,null,null,null,null,null,null,null,null,1175,0.25420097313965695,12.072726023871644,11.23939315885119]
[null,null,null,null,null,null,null,null,null,null,null,null,null,null,null,null,null,null,null,null,null,null,null,null,null,null,null,null,null,null,null,null,null,null,null,null,null,null,null,null,null,null,null,null,1179,0.2550663381546005,12.115994274618821,11.28266138590282]
[null,null,null,null,null,null,null,null,null,null,null,null,null,null,null,null,null,null,null,null,null,null,null,null,null,null,null,null,null,null,null,null,null,null,null,null,null,null,null,null,null,null,null,null,1187,0.2567970681844875,12.20253077611317,11.369197843542233]
[null,null,null,null,null,null,null,null,null,null,null,null,null,null,null,null,null,null,null,null,null,null,null,null,null,null,null,null,null,null,null,null,null,null,null,null,null,null,null,null,null,null,null,null,1192,0.25787877445316693,12.256616089547142,11.423283131791527]
[null,null,null,null,null,null,null,null,null,null,null,null,null,null,null,null,null,null,null,null,null,null,null,null,null,null,null,null,null,null,null,null,null,null,null,null,null,null,null,null,null,null,null,null,1198,0.25917682197558217,12.321518465667904,11.488185479770916]
[null,null,null,null,null,null,null,null,null,null,null,null,null,null,null,null,null,null,null,null,null,null,null,null,null,null,null,null,null,null,null,null,null,null,null,null,null,null,null,null,null,null,null,null,1203,0.26025852824426154,12.375603779101873,11.542270771371317]
[null,null,null,null,null,null,null,null,null,null,null,null,null,null,null,null,null,null,null,null,null,null,null,null,null,null,null,null,null,null,null,null,null,null,null,null,null,null,null,null,null,null,null,null,1204,0.26047486949799742,12.386420841788667,11.553087829858885]
[null,null,null,null,null,null,null,null,null,null,null,null,null,null,null,null,null,null,null,null,null,null,null,null,null,null,null,null,null,null,null,null,null,null,null,null,null,null,null,null,null,null,null,null,1210,0.26177291702041272,12.451323217909431,11.617990181897458]
[null,null,null,null,null,null,null,null,null,null,null,null,null,null,null,null,null,null,null,null,null,null,null,null,null,null,null,null,null,null,null,null,null,null,null,null,null,null,null,null,null,null,null,null,1215,0.26285462328909209,12.5054085313434,11.672075476647191]
[null,null,null,null,null,null,null,null,null,null,null,null,null,null,null,null,null,null,null,null,null,null,null,null,null,null,null,null,null,null,null,null,null,null,null,null,null,null,null,null,null,null,null,null,1221,0.2641526708115074,12.570310907464165,11.736977831890172]
[null,null,null,null,null,null,null,null,null,null,null,null,null,null,null,null,null,null,null,null,null,null,null,null,null,null,null,null,null,null,null,null,null,null,null,null,null,null,null,null,null,null,null,null,1226,0.26523437708018677,12.624396220898134,11.791063129126057]
[null,null,null,null,null,null,null,null,null,null,null,null,null,null,null,null,null,null,null,null,null,null,null,null,null,null,null,null,null,null,null,null,null,null,null,null,null,null,null,null,null,null,null,null,1235,0.26718144836380969,12.721749785079281,11.888416666672674]
[null,null,null,null,null,null,null,null,null,null,null,null,null,null,null,null,null,null,null,null,null,null,null,null,null,null,null,null,null,null,null,null,null,null,null,null,null,null,null,null,null,null,null,null,1238,0.26783047212501732,12.75420097313966,11.920867846524255]
[null,null,null,null,null,null,null,null,null,null,null,null,null,null,null,null,null,null,null,null,null,null,null,null,null,null,null,null,null,null,null,null,null,null,null,null,null,null,null,null,null,null,null,null,1243,0.26891217839369669,12.80828628657363,11.974953146967675]
[null,null,null,null,null,null,null,null,null,null,null,null,null,null,null,null,null,null,null,null,null,null,null,null,null,null,null,null,null,null,null,null,null,null,null,null,null,null,null,null,null,null,null,null,1248,0.26999388466237612,12.8623716000076,12.029038448227444]
[null,null,null,null,null,null,null,null,null,null,null,null,null,null,null,null,null,null,null,null,null,null,null,null,null,null,null,null,null,null,null,null,null,null,null,null,null,null,null,null,null,null,null,null,1252,0.27085924967731961,12.905639850754776,12.072306689788448]
[null,null,null,null,null,null,null,null,null,null,null,null,null,null,null,null,null,null,null,null,null,null,null,null,null,null,null,null,null,null,null,null,null,null,null,null,null,null,null,null,null,null,null,null,1260,0.27258997970720661,12.992176352249126,12.158843174281335]
[null,null,null,null,null,null,null,null,null,null,null,null,null,null,null,null,null,null,null,null,null,null,null,null,null,null,null,null,null,null,null,null,null,null,null,null,null,null,null,null,null,null,null,null,1266,0.27388802722962191,13.057078728369891,12.223745538760838]
[null,null,null,null,null,null,null,null,null,null,null,null,null,null,null,null,null,null,null,null,null,null,null,null,null,null,null,null,null,null,null,null,null,null,null,null,null,null,null,null,null,null,null,null,1271,0.27496973349830128,13.111164041803859,12.277830843162905]
[null,null,null,null,null,null,null,null,null,null,null,null,null,null,null,null,null,null,null,null,null,null,null,null,null,null,null,null,null,null,null,null,null,null,null,null,null,null,null,null,null,null,null,null,1276,0.27605143976698066,13.165249355237828,12.331916148132553]
[null,null,null,null,null,null,null,null,null,null,null,null,null,null,null,null,null,null,null,null,null,null,null,null,null,null,null,null,null,null,null,null,null,null,null,null,null,null,null,null,null,null,null,null,1277,0.27626778102071659,13.176066417924625,12.342733209191413]
[null,null,null,null,null,null,null,null,null,null,null,null,null,null,null,null,null,null,null,null,null,null,null,null,null,null,null,null,null,null,null,null,null,null,null,null,null,null,null,null,null,null,null,null,1283,0.27756582854313183,13.240968794045386,12.407635575976109]
[null,null,null,null,null,null,null,null,null,null,null,null,null,null,null,null,null,null,null,null,null,null,null,null,null,null,null,null,null,null,null,null,null,null,null,null,null,null,null,null,null,null,null,null,1288,0.2786475348118112,13.295054107479356,12.461720882166663]
[null,null,null,null,null,null,null,null,null,null,null,null,null,null,null,null,null,null,null,null,null,null,null,null,null,null,null,null,null,null,null,null,null,null,null,null,null,null,null,null,null,null,null,null,1294,0.27994558233422651,13.35995648360012,12.526623250193634]
[null,null,null,null,null,null,null,null,null,null,null,null,null,null,null,null,null,null,null,null,null,null,null,null,null,null,null,null,null,null,null,null,null,null,null,null,null,null,null,null,null,null,null,null,1299,0.28102728860290588,13.414041797034089,12.580708557348004]
[null,null,null,null,null,null,null,null,null,null,null,null,null,null,null,null,null,null,null,null,null,null,null,null,null,null,null,null,null,null,null,null,null,null,null,null,null,null,null,null,null,null,null,null,1308,0.2829743598865288,13.511395361215236,12.67806211120361]
[null,null,null,null,null,null,null,null,null,null,null,null,null,null,null,null,null,null,null,null,null,null,null,null,null,null,null,null,null,null,null,null,null,null,null,null,null,null,null,null,null,null,null,null,1311,0.28362338364773643,13.543846549275617,12.71051329608165]
[null,null,null,null,null,null,null,null,null,null,null,null,null,null,null,null,null,null,null,null,null,null,null,null,null,null,null,null,null,null,null,null,null,null,null,null,null,null,null,null,null,null,null,null,1316,0.2847050899164158,13.597931862709585,12.764598604479513]
[null,null,null,null,null,null,null,null,null,null,null,null,null,null,null,null,null,null,null,null,null,null,null,null,null,null,null,null,null,null,null,null,null,null,null,null,null,null,null,null,null,null,null,null,1322,0.2860031374388311,13.662834238830351,12.829500974972923]
[null,null,null,null,null,null,null,null,null,null,null,null,null,null,null,null,null,null,null,null,null,null,null,null,null,null,null,null,null,null,null,null,null,null,null,null,null,null,null,null,null,null,null,null,1327,0.28708484370751047,13.716919552264319,12.883586284040895]
[null,null,null,null,null,null,null,null,null,null,null,null,null,null,null,null,null,null,null,null,null,null,null,null,null,null,null,null,null,null,null,null,null,null,null,null,null,null,null,null,null,null,null,null,1333,0.28838289122992572,13.781821928385082,12.948488655283088]
[null,null,null,null,null,null,null,null,null,null,null,null,null,null,null,null,null,null,null,null,null,null,null,null,null,null,null,null,null,null,null,null,null,null,null,null,null,null,null,null,null,null,null,null,1339,0.28968093875234102,13.846724304505846,13.013391026890822]
[null,null,null,null,null,null,null,null,null,null,null,null,null,null,null,null,null,null,null,null,null,null,null,null,null,null,null,null,null,null,null,null,null,null,null,null,null,null,null,null,null,null,null,null,1344,{"$f":"$AP$18/$N$7*AS1375","v":0.29076264502102039},13.900809617939816,13.067476336823345]
[null,null,null,null,null,null,null,null,null,null,null,null,null,null,null,null,null,null,null,null,null,null,null,null,null,null,null,null,null,null,null,null,null,null,null,null,null,null,null,null,null,null,null,null,1345,0.29097898627475627,{"$f":"IF(($N$4*AT1376^2/2)<=$AP$13,($N$4*AT1376^2/2), IF(($AP$13+$N$6*(AT1376-$AP$12))<=$AP$17, ($AP$13+$N$6*(AT1376-$AP$12)), IF(AU1375<$D$14, ($AP$17+($N$6-$N$5*(AT1376-$AP$16)/2)*(AT1376-$AP$16)), $D$14)))","v":13.911626680626609},13.07829339883671]
[null,null,null,null,null,null,null,null,null,null,null,null,null,null,null,null,null,null,null,null,null,null,null,null,null,null,null,null,null,null,null,null,null,null,null,null,null,null,null,null,null,null,null,null,1352,0.29249337505090744,13.987346119434168,13.154012833167267]
[null,null,null,null,null,null,null,null,null,null,null,null,null,null,null,null,null,null,null,null,null,null,null,null,null,null,null,null,null,null,null,null,null,null,null,null,null,null,null,null,null,null,null,null,1356,0.29335874006585094,14.030614370181343,13.197281081532985]
[null,null,null,null,null,null,null,null,null,null,null,null,null,null,null,null,null,null,null,null,null,null,null,null,null,null,null,null,null,null,null,null,null,null,null,null,null,null,null,null,null,null,null,null,1362,0.29465678758826619,14.095516746302104,13.262183454305582]
[null,null,null,null,null,null,null,null,null,null,null,null,null,null,null,null,null,null,null,null,null,null,null,null,null,null,null,null,null,null,null,null,null,null,null,null,null,null,null,null,null,null,null,null,1367,0.29573849385694562,14.149602059736075,13.316268765141871]
[null,null,null,null,null,null,null,null,null,null,null,null,null,null,null,null,null,null,null,null,null,null,null,null,null,null,null,null,null,null,null,null,null,null,null,null,null,null,null,null,null,null,null,null,1373,0.29703654137936086,14.214504435856838,13.381171138359985]
[null,null,null,null,null,null,null,null,null,null,null,null,null,null,null,null,null,null,null,null,null,null,null,null,null,null,null,null,null,null,null,null,null,null,null,null,null,null,null,null,null,null,null,null,{"$f":"AS1407+1","v":1377},0.29790190639430436,14.257772686604014,13.424439387293921]
[null,null,null,null,null,null,null,null,null,null,null,null,null,null,null,null,null,null,null,null,null,null,null,null,null,null,null,null,null,null,null,null,null,null,null,null,null,null,null,null,null,null,null,null,1384,0.29941629517045554,14.333492125411572,13.500158823146263]
[null,null,null,null,null,null,null,null,null,null,null,null,null,null,null,null,null,null,null,null,null,null,null,null,null,null,null,null,null,null,null,null,null,null,null,null,null,null,null,null,null,null,null,null,1390,0.30071434269287078,14.398394501532335,13.565061196939151]
[null,null,null,null,null,null,null,null,null,null,null,null,null,null,null,null,null,null,null,null,null,null,null,null,null,null,null,null,null,null,null,null,null,null,null,null,null,null,null,null,null,null,null,null,1395,0.30179604896155021,14.452479814966306,13.619146508567031]
[null,null,null,null,null,null,null,null,null,null,null,null,null,null,null,null,null,null,null,null,null,null,null,null,null,null,null,null,null,null,null,null,null,null,null,null,null,null,null,null,null,null,null,null,1400,0.30287775523022958,14.506565128400274,13.673231820308411]
[null,null,null,null,null,null,null,null,null,null,null,null,null,null,null,null,null,null,null,null,null,null,null,null,null,null,null,null,null,null,null,null,null,null,null,null,null,null,null,null,null,null,null,null,1402,0.30331043773770133,14.528199253773861,13.694865945035131]
[null,null,null,null,null,null,null,null,null,null,null,null,null,null,null,null,null,null,null,null,null,null,null,null,null,null,null,null,null,null,null,null,null,null,null,null,null,null,null,null,null,null,null,null,1412,0.30547385027506013,14.636369880641801,13.803036568909056]
[null,null,null,null,null,null,null,null,null,null,null,null,null,null,null,null,null,null,null,null,null,null,null,null,null,null,null,null,null,null,null,null,null,null,null,null,null,null,null,null,null,null,null,null,1413,0.30569019152879601,14.647186943328595,13.813853631317274]
[null,null,null,null,null,null,null,null,null,null,null,null,null,null,null,null,null,null,null,null,null,null,null,null,null,null,null,null,null,null,null,null,null,null,null,null,null,null,null,null,null,null,null,null,1418,0.30677189779747538,14.701272256762564,13.86793894341133]
[null,null,null,null,null,null,null,null,null,null,null,null,null,null,null,null,null,null,null,null,null,null,null,null,null,null,null,null,null,null,null,null,null,null,null,null,null,null,null,null,null,null,null,null,1427,0.3087189690810983,14.798625820943711,13.965292505389252]
[null,null,null,null,null,null,null,null,null,null,null,null,null,null,null,null,null,null,null,null,null,null,null,null,null,null,null,null,null,null,null,null,null,null,null,null,null,null,null,null,null,null,null,null,1430,0.30936799284230593,14.831077009004092,13.997743692770602]
[null,null,null,null,null,null,null,null,null,null,null,null,null,null,null,null,null,null,null,null,null,null,null,null,null,null,null,null,null,null,null,null,null,null,null,null,null,null,null,null,null,null,null,null,1435,0.3104496991109853,14.88516232243806,14.051829005129989]
[null,null,null,null,null,null,null,null,null,null,null,null,null,null,null,null,null,null,null,null,null,null,null,null,null,null,null,null,null,null,null,null,null,null,null,null,null,null,null,null,null,null,null,null,{"$f":"AS1471+1","v":1441},0.3117477466334006,14.950064698558826,14.116731380050004]
[null,null,null,null,null,null,null,null,null,null,null,null,null,null,null,null,null,null,null,null,null,null,null,null,null,null,null,null,null,null,null,null,null,null,null,null,null,null,null,null,null,null,null,null,1446,0.31282945290207997,15.004150011992794,14.170816692552377]
[null,null,null,null,null,null,null,null,null,null,null,null,null,null,null,null,null,null,null,null,null,null,null,null,null,null,null,null,null,null,null,null,null,null,null,null,null,null,null,null,null,null,null,null,1452,0.31412750042449528,15.06905238811356,14.235719067632168]
[null,null,null,null,null,null,null,null,null,null,null,null,null,null,null,null,null,null,null,null,null,null,null,null,null,null,null,null,null,null,null,null,null,null,null,null,null,null,null,null,null,null,null,null,1458,0.31542554794691052,15.133954764234321,14.300621442789954]
[null,null,null,null,null,null,null,null,null,null,null,null,null,null,null,null,null,null,null,null,null,null,null,null,null,null,null,null,null,null,null,null,null,null,null,null,null,null,null,null,null,null,null,null,1463,0.31650725421558989,15.18804007766829,14.354706755476796]
[null,null,null,null,null,null,null,null,null,null,null,null,null,null,null,null,null,null,null,null,null,null,null,null,null,null,null,null,null,null,null,null,null,null,null,null,null,null,null,null,null,null,null,null,1468,0.31758896048426932,15.242125391102261,14.408792068210595]
[null,null,null,null,null,null,null,null,null,null,null,null,null,null,null,null,null,null,null,null,null,null,null,null,null,null,null,null,null,null,null,null,null,null,null,null,null,null,null,null,null,null,null,null,1474,0.31888700800668457,15.307027767223024,{"$f":"( $AP$6*AU1505 + $AP$7*AU1504 + $AP$9*AV1504 )/$AP$8","v":14.473694443548988}]
[null,null,null,null,null,null,null,null,null,null,null,null,null,null,null,null,null,null,null,null,null,null,null,null,null,null,null,null,null,null,null,null,null,null,null,null,null,null,null,null,null,null,null,null,1477,0.31953603176789219,15.339478955283406,14.50614563124045]
[null,null,null,null,null,null,null,null,null,null,null,null,null,null,null,null,null,null,null,null,null,null,null,null,null,null,null,null,null,null,null,null,null,null,null,null,null,null,null,null,null,null,null,null,1481,0.32040139678283575,15.382747206030583,14.549413881517554]
[null,null,null,null,null,null,null,null,null,null,null,null,null,null,null,null,null,null,null,null,null,null,null,null,null,null,null,null,null,null,null,null,null,null,null,null,null,null,null,null,null,null,null,null,1486,0.32148310305151512,15.43683251946455,14.603499194397243]
[null,null,null,null,null,null,null,null,null,null,null,null,null,null,null,null,null,null,null,null,null,null,null,null,null,null,null,null,null,null,null,null,null,null,null,null,null,null,null,null,null,null,null,null,1491,0.32256480932019449,15.49091783289852,14.657584507311761]
[null,null,null,null,null,null,null,null,null,null,null,null,null,null,null,null,null,null,null,null,null,null,null,null,null,null,null,null,null,null,null,null,null,null,null,null,null,null,null,null,null,null,null,null,1497,0.32386285684260979,15.555820209019284,14.722486882852087]
[null,null,null,null,null,null,null,null,null,null,null,null,null,null,null,null,null,null,null,null,null,null,null,null,null,null,null,null,null,null,null,null,null,null,null,null,null,null,null,null,null,null,null,null,1502,0.32494456311128916,15.609905522453253,14.776572195835721]
[null,null,null,null,null,null,null,null,null,null,null,null,null,null,null,null,null,null,null,null,null,null,null,null,null,null,null,null,null,null,null,null,null,null,null,null,null,null,null,null,null,null,null,null,1509,0.32645895188744034,15.685624961260812,14.85229163405995]
[null,null,null,null,null,null,null,null,null,null,null,null,null,null,null,null,null,null,null,null,null,null,null,null,null,null,null,null,null,null,null,null,null,null,null,null,null,null,null,null,null,null,null,null,1514,0.32754065815611971,15.739710274694781,14.906376947108537]
[null,null,null,null,null,null,null,null,null,null,null,null,null,null,null,null,null,null,null,null,null,null,null,null,null,null,null,null,null,null,null,null,null,null,null,null,null,null,null,null,null,null,null,null,1519,0.32862236442479908,15.79379558812875,14.96046226018135]
[null,null,null,null,null,null,null,null,null,null,null,null,null,null,null,null,null,null,null,null,null,null,null,null,null,null,null,null,null,null,null,null,null,null,null,null,null,null,null,null,null,null,null,null,1525,0.32992041194721439,15.858697964249515,15.025364635898557]
[null,null,null,null,null,null,null,null,null,null,null,null,null,null,null,null,null,null,null,null,null,null,null,null,null,null,null,null,null,null,null,null,null,null,null,null,null,null,null,null,null,null,null,null,1531,0.33121845946962963,15.923600340370276,15.090267011646]
[null,null,null,null,null,null,null,null,null,null,null,null,null,null,null,null,null,null,null,null,null,null,null,null,null,null,null,null,null,null,null,null,null,null,null,null,null,null,null,null,null,null,null,null,1536,{"$f":"$AP$18/$N$7*AS1567","v":0.33230016573830901},15.977685653804246,15.144352324790328]
[null,null,null,null,null,null,null,null,null,null,null,null,null,null,null,null,null,null,null,null,null,null,null,null,null,null,null,null,null,null,null,null,null,null,null,null,null,null,null,null,null,null,null,null,1542,0.33359821326072431,16.04258802992501,15.209254700587447]
[null,null,null,null,null,null,null,null,null,null,null,null,null,null,null,null,null,null,null,null,null,null,null,null,null,null,null,null,null,null,null,null,null,null,null,null,null,null,null,null,null,null,null,null,1547,0.33467991952940368,16.096673343358979,15.263340013770312]
[null,null,null,null,null,null,null,null,null,null,null,null,null,null,null,null,null,null,null,null,null,null,null,null,null,null,null,null,null,null,null,null,null,null,null,null,null,null,null,null,null,null,null,null,1550,0.3353289432906113,16.129124531419361,15.295791201687674]
[null,null,null,null,null,null,null,null,null,null,null,null,null,null,null,null,null,null,null,null,null,null,null,null,null,null,null,null,null,null,null,null,null,null,null,null,null,null,null,null,null,null,null,null,1554,0.33619430830555486,16.172392782166536,15.339059452252613]
[null,null,null,null,null,null,null,null,null,null,null,null,null,null,null,null,null,null,null,null,null,null,null,null,null,null,null,null,null,null,null,null,null,null,null,null,null,null,null,null,null,null,null,null,1559,0.33727601457423423,16.226478095600505,15.393144765471705]
[null,null,null,null,null,null,null,null,null,null,null,null,null,null,null,null,null,null,null,null,null,null,null,null,null,null,null,null,null,null,null,null,null,null,null,null,null,null,null,null,null,null,null,null,1565,0.33857406209664953,16.291380471721272,15.45804714135236]
[null,null,null,null,null,null,null,null,null,null,null,null,null,null,null,null,null,null,null,null,null,null,null,null,null,null,null,null,null,null,null,null,null,null,null,null,null,null,null,null,null,null,null,null,1570,0.3396557683653289,16.345465785155241,15.512132454600041]
[null,null,null,null,null,null,null,null,null,null,null,null,null,null,null,null,null,null,null,null,null,null,null,null,null,null,null,null,null,null,null,null,null,null,null,null,null,null,null,null,null,null,null,null,1577,0.34117015714148002,16.421185223962794,15.587851893166295]
[null,null,null,null,null,null,null,null,null,null,null,null,null,null,null,null,null,null,null,null,null,null,null,null,null,null,null,null,null,null,null,null,null,null,null,null,null,null,null,null,null,null,null,null,1582,0.34225186341015945,16.475270537396767,15.641937206440845]
[null,null,null,null,null,null,null,null,null,null,null,null,null,null,null,null,null,null,null,null,null,null,null,null,null,null,null,null,null,null,null,null,null,null,null,null,null,null,null,null,null,null,null,null,1587,0.34333356967883882,16.529355850830736,15.696022519725414]
[null,null,null,null,null,null,null,null,null,null,null,null,null,null,null,null,null,null,null,null,null,null,null,null,null,null,null,null,null,null,null,null,null,null,null,null,null,null,null,null,null,null,null,null,1593,0.34463161720125407,16.594258226951499,15.760924895679238]
[null,null,null,null,null,null,null,null,null,null,null,null,null,null,null,null,null,null,null,null,null,null,null,null,null,null,null,null,null,null,null,null,null,null,null,null,null,null,null,null,null,null,null,null,1600,{"$f":"$AP$18/$N$7*AS1631","v":0.34614600597740525},16.669977665759056,15.836644334307772]
[null,null,null,null,null,null,null,null,null,null,null,null,null,null,null,null,null,null,null,null,null,null,null,null,null,null,null,null,null,null,null,null,null,null,null,null,null,null,null,null,null,null,null,null,1604,0.34701137099234874,16.713245916506231,15.879912584959721]
[null,null,null,null,null,null,null,null,null,null,null,null,null,null,null,null,null,null,null,null,null,null,null,null,null,null,null,null,null,null,null,null,null,null,null,null,null,null,null,null,null,null,null,null,1610,0.34830941851476405,16.778148292626994,15.944814960946594]
[null,null,null,null,null,null,null,null,null,null,null,null,null,null,null,null,null,null,null,null,null,null,null,null,null,null,null,null,null,null,null,null,null,null,null,null,null,null,null,null,null,null,null,null,1615,0.34939112478344342,16.832233606060964,15.998900274276691]
[null,null,null,null,null,null,null,null,null,null,null,null,null,null,null,null,null,null,null,null,null,null,null,null,null,null,null,null,null,null,null,null,null,null,null,null,null,null,null,null,null,null,null,null,1616,0.34960746603717929,16.843050668747757,16.009717336943506]
[null,null,null,null,null,null,null,null,null,null,null,null,null,null,null,null,null,null,null,null,null,null,null,null,null,null,null,null,null,null,null,null,null,null,null,null,null,null,null,null,null,null,null,null,1625,0.35155453732080222,16.940404232928906,16.107070900956064]
[null,null,null,null,null,null,null,null,null,null,null,null,null,null,null,null,null,null,null,null,null,null,null,null,null,null,null,null,null,null,null,null,null,null,null,null,null,null,null,null,null,null,null,null,1627,0.35198721982827397,16.962038358302493,16.128705026294782]
[null,null,null,null,null,null,null,null,null,null,null,null,null,null,null,null,null,null,null,null,null,null,null,null,null,null,null,null,null,null,null,null,null,null,null,null,null,null,null,null,null,null,null,null,1633,0.35328526735068921,17.026940734423253,16.193607402316204]
[null,null,null,null,null,null,null,null,null,null,null,null,null,null,null,null,null,null,null,null,null,null,null,null,null,null,null,null,null,null,null,null,null,null,null,null,null,null,null,null,null,null,null,null,1638,0.35436697361936864,17.081026047857225,16.2476927156731]
[null,null,null,null,null,null,null,null,null,null,null,null,null,null,null,null,null,null,null,null,null,null,null,null,null,null,null,null,null,null,null,null,null,null,null,null,null,null,null,null,null,null,null,null,1643,0.35544867988804801,17.135111361291194,16.301778029034846]
[null,null,null,null,null,null,null,null,null,null,null,null,null,null,null,null,null,null,null,null,null,null,null,null,null,null,null,null,null,null,null,null,null,null,null,null,null,null,null,null,null,null,null,null,1650,0.35696306866419913,17.210830800098751,16.377497467748867]
[null,null,null,null,null,null,null,null,null,null,null,null,null,null,null,null,null,null,null,null,null,null,null,null,null,null,null,null,null,null,null,null,null,null,null,null,null,null,null,null,null,null,null,null,1655,0.35804477493287856,17.26491611353272,16.431582781121048]
[null,null,null,null,null,null,null,null,null,null,null,null,null,null,null,null,null,null,null,null,null,null,null,null,null,null,null,null,null,null,null,null,null,null,null,null,null,null,null,null,null,null,null,null,1661,0.35934282245529381,17.329818489653483,16.496485157172753]
[null,null,null,null,null,null,null,null,null,null,null,null,null,null,null,null,null,null,null,null,null,null,null,null,null,null,null,null,null,null,null,null,null,null,null,null,null,null,null,null,null,null,null,null,1666,0.36042452872397324,17.383903803087456,{"$f":"( $AP$6*AU1697 + $AP$7*AU1696 + $AP$9*AV1696 )/$AP$8","v":16.550570470553144}]
[null,null,null,null,null,null,null,null,null,null,null,null,null,null,null,null,null,null,null,null,null,null,null,null,null,null,null,null,null,null,null,null,null,null,null,null,null,null,null,null,null,null,null,null,1671,0.36150623499265261,17.437989116521425,16.604655783936909]
[null,null,null,null,null,null,null,null,null,null,null,null,null,null,null,null,null,null,null,null,null,null,null,null,null,null,null,null,null,null,null,null,null,null,null,null,null,null,null,null,null,null,null,null,1675,0.36237160000759611,17.481257367268597,16.647924034646202]
[null,null,null,null,null,null,null,null,null,null,null,null,null,null,null,null,null,null,null,null,null,null,null,null,null,null,null,null,null,null,null,null,null,null,null,null,null,null,null,null,null,null,null,null,1683,0.36410233003748316,17.567793868762951,16.734460536070422]
[null,null,null,null,null,null,null,null,null,null,null,null,null,null,null,null,null,null,null,null,null,null,null,null,null,null,null,null,null,null,null,null,null,null,null,null,null,null,null,null,null,null,null,null,1688,0.36518403630616253,17.621879182196921,16.788545849464118]
[null,null,null,null,null,null,null,null,null,null,null,null,null,null,null,null,null,null,null,null,null,null,null,null,null,null,null,null,null,null,null,null,null,null,null,null,null,null,null,null,null,null,null,null,1689,0.3654003775598984,17.632696244883714,16.799362912143167]
[null,null,null,null,null,null,null,null,null,null,null,null,null,null,null,null,null,null,null,null,null,null,null,null,null,null,null,null,null,null,null,null,null,null,null,null,null,null,null,null,null,null,null,null,1694,0.36648208382857778,17.686781558317684,16.853448225539889]
[null,null,null,null,null,null,null,null,null,null,null,null,null,null,null,null,null,null,null,null,null,null,null,null,null,null,null,null,null,null,null,null,null,null,null,null,null,null,null,null,null,null,null,null,1701,0.36799647260472895,17.76250099712524,16.929167664299193]
[null,null,null,null,null,null,null,null,null,null,null,null,null,null,null,null,null,null,null,null,null,null,null,null,null,null,null,null,null,null,null,null,null,null,null,null,null,null,null,null,null,null,null,null,1706,0.36907817887340832,17.816586310559209,16.983252977701284]
[null,null,null,null,null,null,null,null,null,null,null,null,null,null,null,null,null,null,null,null,null,null,null,null,null,null,null,null,null,null,null,null,null,null,null,null,null,null,null,null,null,null,null,null,1711,0.37015988514208775,17.870671623993182,17.037338291105375]
[null,null,null,null,null,null,null,null,null,null,null,null,null,null,null,null,null,null,null,null,null,null,null,null,null,null,null,null,null,null,null,null,null,null,null,null,null,null,null,null,null,null,null,null,1717,0.371457932664503,17.935574000113945,17.102240667192753]
[null,null,null,null,null,null,null,null,null,null,null,null,null,null,null,null,null,null,null,null,null,null,null,null,null,null,null,null,null,null,null,null,null,null,null,null,null,null,null,null,null,null,null,null,1725,0.37318866269439005,18.022110501608296,17.188777168646453]
[null,null,null,null,null,null,null,null,null,null,null,null,null,null,null,null,null,null,null,null,null,null,null,null,null,null,null,null,null,null,null,null,null,null,null,null,null,null,null,null,null,null,null,null,{"$f":"AS1759+1","v":1729},0.37405402770933355,{"$f":"IF(($N$4*AT1760^2/2)<=$AP$13,($N$4*AT1760^2/2), IF(($AP$13+$N$6*(AT1760-$AP$12))<=$AP$17, ($AP$13+$N$6*(AT1760-$AP$12)), IF(AU1759<$D$14, ($AP$17+($N$6-$N$5*(AT1760-$AP$16)/2)*(AT1760-$AP$16)), $D$14)))","v":18.065378752355471},17.23204541937482]
[null,null,null,null,null,null,null,null,null,null,null,null,null,null,null,null,null,null,null,null,null,null,null,null,null,null,null,null,null,null,null,null,null,null,null,null,null,null,null,null,null,null,null,null,1734,0.37513573397801292,18.11946406578944,17.286130732786617]
[null,null,null,null,null,null,null,null,null,null,null,null,null,null,null,null,null,null,null,null,null,null,null,null,null,null,null,null,null,null,null,null,null,null,null,null,null,null,null,null,null,null,null,null,1739,0.37621744024669235,18.17354937922341,17.340216046199817]
[null,null,null,null,null,null,null,null,null,null,null,null,null,null,null,null,null,null,null,null,null,null,null,null,null,null,null,null,null,null,null,null,null,null,null,null,null,null,null,null,null,null,null,null,1745,0.37751548776910759,18.238451755344173,17.405118422297367]
[null,null,null,null,null,null,null,null,null,null,null,null,null,null,null,null,null,null,null,null,null,null,null,null,null,null,null,null,null,null,null,null,null,null,null,null,null,null,null,null,null,null,null,null,1750,0.37859719403778697,18.292537068778142,17.459203735713331]
[null,null,null,null,null,null,null,null,null,null,null,null,null,null,null,null,null,null,null,null,null,null,null,null,null,null,null,null,null,null,null,null,null,null,null,null,null,null,null,null,null,null,null,null,1756,0.37989524156020227,18.357439444898908,17.524106111813982]
[null,null,null,null,null,null,null,null,null,null,null,null,null,null,null,null,null,null,null,null,null,null,null,null,null,null,null,null,null,null,null,null,null,null,null,null,null,null,null,null,null,null,null,null,1757,0.38011158281393814,18.368256507585702,17.534923174497575]
[null,null,null,null,null,null,null,null,null,null,null,null,null,null,null,null,null,null,null,null,null,null,null,null,null,null,null,null,null,null,null,null,null,null,null,null,null,null,null,null,null,null,null,null,1762,0.38119328908261751,18.422341821019668,17.589008487916143]
[null,null,null,null,null,null,null,null,null,null,null,null,null,null,null,null,null,null,null,null,null,null,null,null,null,null,null,null,null,null,null,null,null,null,null,null,null,null,null,null,null,null,null,null,1767,0.38227499535129694,18.47642713445364,17.643093801335677]
[null,null,null,null,null,null,null,null,null,null,null,null,null,null,null,null,null,null,null,null,null,null,null,null,null,null,null,null,null,null,null,null,null,null,null,null,null,null,null,null,null,null,null,null,1774,0.38378938412744806,18.552146573261197,17.718813240124533]
[null,null,null,null,null,null,null,null,null,null,null,null,null,null,null,null,null,null,null,null,null,null,null,null,null,null,null,null,null,null,null,null,null,null,null,null,null,null,null,null,null,null,null,null,1779,0.38487109039612744,18.606231886695166,17.772898553546156]
[null,null,null,null,null,null,null,null,null,null,null,null,null,null,null,null,null,null,null,null,null,null,null,null,null,null,null,null,null,null,null,null,null,null,null,null,null,null,null,null,null,null,null,null,1785,0.38616913791854274,18.671134262815929,17.83780092965311]
[null,null,null,null,null,null,null,null,null,null,null,null,null,null,null,null,null,null,null,null,null,null,null,null,null,null,null,null,null,null,null,null,null,null,null,null,null,null,null,null,null,null,null,null,1790,0.38725084418722211,18.725219576249899,17.891886243076367]
[null,null,null,null,null,null,null,null,null,null,null,null,null,null,null,null,null,null,null,null,null,null,null,null,null,null,null,null,null,null,null,null,null,null,null,null,null,null,null,null,null,null,null,null,1798,0.38898157421710916,18.811756077744253,17.978422744554969]
[null,null,null,null,null,null,null,null,null,null,null,null,null,null,null,null,null,null,null,null,null,null,null,null,null,null,null,null,null,null,null,null,null,null,null,null,null,null,null,null,null,null,null,null,1802,0.38984693923205266,18.855024328491428,18.021690995294858]
[null,null,null,null,null,null,null,null,null,null,null,null,null,null,null,null,null,null,null,null,null,null,null,null,null,null,null,null,null,null,null,null,null,null,null,null,null,null,null,null,null,null,null,null,1807,0.39092864550073203,18.909109641925394,18.075776308720236]
[null,null,null,null,null,null,null,null,null,null,null,null,null,null,null,null,null,null,null,null,null,null,null,null,null,null,null,null,null,null,null,null,null,null,null,null,null,null,null,null,null,null,null,null,1813,0.39222669302314733,18.97401201804616,18.1406786848314]
[null,null,null,null,null,null,null,null,null,null,null,null,null,null,null,null,null,null,null,null,null,null,null,null,null,null,null,null,null,null,null,null,null,null,null,null,null,null,null,null,null,null,null,null,1818,0.3933083992918267,19.028097331480129,18.194763998257919]
[null,null,null,null,null,null,null,null,null,null,null,null,null,null,null,null,null,null,null,null,null,null,null,null,null,null,null,null,null,null,null,null,null,null,null,null,null,null,null,null,null,null,null,null,1819,0.39352474054556258,19.038914394166923,18.205581060943281]
[null,null,null,null,null,null,null,null,null,null,null,null,null,null,null,null,null,null,null,null,null,null,null,null,null,null,null,null,null,null,null,null,null,null,null,null,null,null,null,null,null,null,null,null,1825,0.39482278806797788,19.103816770287686,18.270483437055827]
[null,null,null,null,null,null,null,null,null,null,null,null,null,null,null,null,null,null,null,null,null,null,null,null,null,null,null,null,null,null,null,null,null,null,null,null,null,null,null,null,null,null,null,null,1830,0.39590449433665725,19.157902083721655,18.324568750483419]
[null,null,null,null,null,null,null,null,null,null,null,null,null,null,null,null,null,null,null,null,null,null,null,null,null,null,null,null,null,null,null,null,null,null,null,null,null,null,null,null,null,null,null,null,1836,0.3972025418590725,19.222804459842418,18.389471126597051]
[null,null,null,null,null,null,null,null,null,null,null,null,null,null,null,null,null,null,null,null,null,null,null,null,null,null,null,null,null,null,null,null,null,null,null,null,null,null,null,null,null,null,null,null,1841,0.39828424812775193,19.276889773276391,18.443556440025485]
[null,null,null,null,null,null,null,null,null,null,null,null,null,null,null,null,null,null,null,null,null,null,null,null,null,null,null,null,null,null,null,null,null,null,null,null,null,null,null,null,null,null,null,null,1850,0.4002313194113748,19.374243337457532,18.540910004197524]
[null,null,null,null,null,null,null,null,null,null,null,null,null,null,null,null,null,null,null,null,null,null,null,null,null,null,null,null,null,null,null,null,null,null,null,null,null,null,null,null,null,null,null,null,1853,0.40088034317258242,19.406694525517914,18.57336119225511]
[null,null,null,null,null,null,null,null,null,null,null,null,null,null,null,null,null,null,null,null,null,null,null,null,null,null,null,null,null,null,null,null,null,null,null,null,null,null,null,null,null,null,null,null,1858,0.40196204944126185,19.460779838951886,{"$f":"( $AP$6*AU1889 + $AP$7*AU1888 + $AP$9*AV1888 )/$AP$8","v":18.627446505684656}]
[null,null,null,null,null,null,null,null,null,null,null,null,null,null,null,null,null,null,null,null,null,null,null,null,null,null,null,null,null,null,null,null,null,null,null,null,null,null,null,null,null,null,null,null,1863,0.40304375570994122,19.514865152385855,18.681531819114486]
[null,null,null,null,null,null,null,null,null,null,null,null,null,null,null,null,null,null,null,null,null,null,null,null,null,null,null,null,null,null,null,null,null,null,null,null,null,null,null,null,null,null,null,null,1867,0.40390912072488472,19.558133403133031,18.724800069858539]
[null,null,null,null,null,null,null,null,null,null,null,null,null,null,null,null,null,null,null,null,null,null,null,null,null,null,null,null,null,null,null,null,null,null,null,null,null,null,null,null,null,null,null,null,1875,0.40563985075477177,19.644669904627381,18.811336571347088]
[null,null,null,null,null,null,null,null,null,null,null,null,null,null,null,null,null,null,null,null,null,null,null,null,null,null,null,null,null,null,null,null,null,null,null,null,null,null,null,null,null,null,null,null,1881,0.40693789827718702,19.709572280748144,18.876238947463882]
[null,null,null,null,null,null,null,null,null,null,null,null,null,null,null,null,null,null,null,null,null,null,null,null,null,null,null,null,null,null,null,null,null,null,null,null,null,null,null,null,null,null,null,null,1886,0.40801960454586644,19.763657594182117,18.930324260894775]
[null,null,null,null,null,null,null,null,null,null,null,null,null,null,null,null,null,null,null,null,null,null,null,null,null,null,null,null,null,null,null,null,null,null,null,null,null,null,null,null,null,null,null,null,1891,0.40910131081454582,19.817742907616083,18.984409574325856]
[null,null,null,null,null,null,null,null,null,null,null,null,null,null,null,null,null,null,null,null,null,null,null,null,null,null,null,null,null,null,null,null,null,null,null,null,null,null,null,null,null,null,null,null,1892,0.40931765206828169,19.828559970302877,18.995226637012095]
[null,null,null,null,null,null,null,null,null,null,null,null,null,null,null,null,null,null,null,null,null,null,null,null,null,null,null,null,null,null,null,null,null,null,null,null,null,null,null,null,null,null,null,null,1898,0.41061569959069699,19.893462346423643,19.060129013129679]
[null,null,null,null,null,null,null,null,null,null,null,null,null,null,null,null,null,null,null,null,null,null,null,null,null,null,null,null,null,null,null,null,null,null,null,null,null,null,null,null,null,null,null,null,1904,0.41191374711311224,19.958364722544406,19.125031389247493]
[null,null,null,null,null,null,null,null,null,null,null,null,null,null,null,null,null,null,null,null,null,null,null,null,null,null,null,null,null,null,null,null,null,null,null,null,null,null,null,null,null,null,null,null,1909,0.41299545338179161,20.012450035978375,19.17911670267917]
[null,null,null,null,null,null,null,null,null,null,null,null,null,null,null,null,null,null,null,null,null,null,null,null,null,null,null,null,null,null,null,null,null,null,null,null,null,null,null,null,null,null,null,null,1914,0.41407715965047104,20.066535349412344,19.233202016110997]
[null,null,null,null,null,null,null,null,null,null,null,null,null,null,null,null,null,null,null,null,null,null,null,null,null,null,null,null,null,null,null,null,null,null,null,null,null,null,null,null,null,null,null,null,1923,0.41602423093409391,20.163888913593489,19.330555580288618]
[null,null,null,null,null,null,null,null,null,null,null,null,null,null,null,null,null,null,null,null,null,null,null,null,null,null,null,null,null,null,null,null,null,null,null,null,null,null,null,null,null,null,null,null,1926,0.41667325469530159,20.196340101653874,19.363006768347912]
[null,null,null,null,null,null,null,null,null,null,null,null,null,null,null,null,null,null,null,null,null,null,null,null,null,null,null,null,null,null,null,null,null,null,null,null,null,null,null,null,null,null,null,null,1931,0.41775496096398096,20.250425415087843,19.417092081780158]
[null,null,null,null,null,null,null,null,null,null,null,null,null,null,null,null,null,null,null,null,null,null,null,null,null,null,null,null,null,null,null,null,null,null,null,null,null,null,null,null,null,null,null,null,1937,0.41905300848639621,20.315327791208603,19.481994457898992]
[null,null,null,null,null,null,null,null,null,null,null,null,null,null,null,null,null,null,null,null,null,null,null,null,null,null,null,null,null,null,null,null,null,null,null,null,null,null,null,null,null,null,null,null,1942,0.42013471475507563,20.369413104642575,19.536079771331455]
[null,null,null,null,null,null,null,null,null,null,null,null,null,null,null,null,null,null,null,null,null,null,null,null,null,null,null,null,null,null,null,null,null,null,null,null,null,null,null,null,null,null,null,null,1948,0.42143276227749088,20.434315480763338,19.600982147450566]
[null,null,null,null,null,null,null,null,null,null,null,null,null,null,null,null,null,null,null,null,null,null,null,null,null,null,null,null,null,null,null,null,null,null,null,null,null,null,null,null,null,null,null,null,1954,0.42273080979990613,20.499217856884101,19.665884523569765]
[null,null,null,null,null,null,null,null,null,null,null,null,null,null,null,null,null,null,null,null,null,null,null,null,null,null,null,null,null,null,null,null,null,null,null,null,null,null,null,null,null,null,null,null,1959,0.42381251606858555,20.55330317031807,19.719969837002544]
[null,null,null,null,null,null,null,null,null,null,null,null,null,null,null,null,null,null,null,null,null,null,null,null,null,null,null,null,null,null,null,null,null,null,null,null,null,null,null,null,null,null,null,null,1960,0.42402885732232143,20.564120233004864,19.730786899689111]
[null,null,null,null,null,null,null,null,null,null,null,null,null,null,null,null,null,null,null,null,null,null,null,null,null,null,null,null,null,null,null,null,null,null,null,null,null,null,null,null,null,null,null,null,1967,0.42554324609847255,20.639839671812421,19.806506338495151]
[null,null,null,null,null,null,null,null,null,null,null,null,null,null,null,null,null,null,null,null,null,null,null,null,null,null,null,null,null,null,null,null,null,null,null,null,null,null,null,null,null,null,null,null,1972,0.42662495236715198,20.693924985246394,19.860591651928122]
[null,null,null,null,null,null,null,null,null,null,null,null,null,null,null,null,null,null,null,null,null,null,null,null,null,null,null,null,null,null,null,null,null,null,null,null,null,null,null,null,null,null,null,null,1977,0.42770665863583135,20.748010298680359,19.914676965361149]
[null,null,null,null,null,null,null,null,null,null,null,null,null,null,null,null,null,null,null,null,null,null,null,null,null,null,null,null,null,null,null,null,null,null,null,null,null,null,null,null,null,null,null,null,1982,0.42878836490451072,20.802095612114329,19.968762278794234]
[null,null,null,null,null,null,null,null,null,null,null,null,null,null,null,null,null,null,null,null,null,null,null,null,null,null,null,null,null,null,null,null,null,null,null,null,null,null,null,null,null,null,null,null,1988,0.43008641242692602,20.866997988235095,20.033664654914013]
[null,null,null,null,null,null,null,null,null,null,null,null,null,null,null,null,null,null,null,null,null,null,null,null,null,null,null,null,null,null,null,null,null,null,null,null,null,null,null,null,null,null,null,null,1992,0.43095177744186952,20.91026623898227,20.07693290566057]
[null,null,null,null,null,null,null,null,null,null,null,null,null,null,null,null,null,null,null,null,null,null,null,null,null,null,null,null,null,null,null,null,null,null,null,null,null,null,null,null,null,null,null,null,1999,0.4324661662180207,20.985985677789827,20.152652344467118]
[null,null,null,null,null,null,null,null,null,null,null,null,null,null,null,null,null,null,null,null,null,null,null,null,null,null,null,null,null,null,null,null,null,null,null,null,null,null,null,null,null,null,null,null,2005,0.43376421374043594,21.05088805391059,20.217554720587088]
[null,null,null,null,null,null,null,null,null,null,null,null,null,null,null,null,null,null,null,null,null,null,null,null,null,null,null,null,null,null,null,null,null,null,null,null,null,null,null,null,null,null,null,null,2010,0.43484592000911532,21.104973367344559,20.271640034020443]
[null,null,null,null,null,null,null,null,null,null,null,null,null,null,null,null,null,null,null,null,null,null,null,null,null,null,null,null,null,null,null,null,null,null,null,null,null,null,null,null,null,null,null,null,2016,0.43614396753153062,21.169875743465326,20.336542410140513]
[null,null,null,null,null,null,null,null,null,null,null,null,null,null,null,null,null,null,null,null,null,null,null,null,null,null,null,null,null,null,null,null,null,null,null,null,null,null,null,null,null,null,null,null,2017,0.43636030878526649,21.18069280615212,20.347359472827197]
[null,null,null,null,null,null,null,null,null,null,null,null,null,null,null,null,null,null,null,null,null,null,null,null,null,null,null,null,null,null,null,null,null,null,null,null,null,null,null,null,null,null,null,null,2027,0.43852372132262529,21.288863433020058,20.455530099694112]
[null,null,null,null,null,null,null,null,null,null,null,null,null,null,null,null,null,null,null,null,null,null,null,null,null,null,null,null,null,null,null,null,null,null,null,null,null,null,null,null,null,null,null,null,2028,0.43874006257636117,21.299680495706852,20.46634716238081]
[null,null,null,null,null,null,null,null,null,null,null,null,null,null,null,null,null,null,null,null,null,null,null,null,null,null,null,null,null,null,null,null,null,null,null,null,null,null,null,null,null,null,null,null,2033,0.43982176884504054,21.353765809140821,20.520432475814317]
[null,null,null,null,null,null,null,null,null,null,null,null,null,null,null,null,null,null,null,null,null,null,null,null,null,null,null,null,null,null,null,null,null,null,null,null,null,null,null,null,null,null,null,null,2042,0.44176884012866346,21.451119373321966,20.617786039994705]
[null,null,null,null,null,null,null,null,null,null,null,null,null,null,null,null,null,null,null,null,null,null,null,null,null,null,null,null,null,null,null,null,null,null,null,null,null,null,null,null,null,null,null,null,2045,0.44241786388987109,21.483570561382347,20.650237228054852]
[null,null,null,null,null,null,null,null,null,null,null,null,null,null,null,null,null,null,null,null,null,null,null,null,null,null,null,null,null,null,null,null,null,null,null,null,null,null,null,null,null,null,null,null,2050,0.44349957015855046,21.537655874816316,{"$f":"( $AP$6*AU2081 + $AP$7*AU2080 + $AP$9*AV2080 )/$AP$8","v":20.704322541488448}]
[null,null,null,null,null,null,null,null,null,null,null,null,null,null,null,null,null,null,null,null,null,null,null,null,null,null,null,null,null,null,null,null,null,null,null,null,null,null,null,null,null,null,null,null,2056,0.44479761768096576,21.602558250937083,20.769224917608792]
[null,null,null,null,null,null,null,null,null,null,null,null,null,null,null,null,null,null,null,null,null,null,null,null,null,null,null,null,null,null,null,null,null,null,null,null,null,null,null,null,null,null,null,null,2061,0.44587932394964513,21.656643564371052,20.823310231042452]
[null,null,null,null,null,null,null,null,null,null,null,null,null,null,null,null,null,null,null,null,null,null,null,null,null,null,null,null,null,null,null,null,null,null,null,null,null,null,null,null,null,null,null,null,2067,0.44717737147206038,21.721545940491811,20.88821260716287]
[null,null,null,null,null,null,null,null,null,null,null,null,null,null,null,null,null,null,null,null,null,null,null,null,null,null,null,null,null,null,null,null,null,null,null,null,null,null,null,null,null,null,null,null,2073,0.44847541899447568,21.786448316612578,20.953114983283317]
[null,null,null,null,null,null,null,null,null,null,null,null,null,null,null,null,null,null,null,null,null,null,null,null,null,null,null,null,null,null,null,null,null,null,null,null,null,null,null,null,null,null,null,null,2078,0.44955712526315506,21.840533630046547,21.007200296717038]
[null,null,null,null,null,null,null,null,null,null,null,null,null,null,null,null,null,null,null,null,null,null,null,null,null,null,null,null,null,null,null,null,null,null,null,null,null,null,null,null,null,null,null,null,2084,0.4508551727855703,21.90543600616731,21.07210267283752]
[null,null,null,null,null,null,null,null,null,null,null,null,null,null,null,null,null,null,null,null,null,null,null,null,null,null,null,null,null,null,null,null,null,null,null,null,null,null,null,null,null,null,null,null,2089,0.45193687905424973,21.959521319601279,21.126187986271276]
[null,null,null,null,null,null,null,null,null,null,null,null,null,null,null,null,null,null,null,null,null,null,null,null,null,null,null,null,null,null,null,null,null,null,null,null,null,null,null,null,null,null,null,null,2092,0.45258590281545735,21.991972507661661,21.158639174331533]
[null,null,null,null,null,null,null,null,null,null,null,null,null,null,null,null,null,null,null,null,null,null,null,null,null,null,null,null,null,null,null,null,null,null,null,null,null,null,null,null,null,null,null,null,2096,0.45345126783040085,22.035240758408836,21.201907425078552]
[null,null,null,null,null,null,null,null,null,null,null,null,null,null,null,null,null,null,null,null,null,null,null,null,null,null,null,null,null,null,null,null,null,null,null,null,null,null,null,null,null,null,null,null,2101,0.45453297409908028,22.089326071842809,21.25599273851233]
[null,null,null,null,null,null,null,null,null,null,null,null,null,null,null,null,null,null,null,null,null,null,null,null,null,null,null,null,null,null,null,null,null,null,null,null,null,null,null,null,null,null,null,null,2106,0.45561468036775965,22.143411385276774,21.310078051946121]
[null,null,null,null,null,null,null,null,null,null,null,null,null,null,null,null,null,null,null,null,null,null,null,null,null,null,null,null,null,null,null,null,null,null,null,null,null,null,null,null,null,null,null,null,2112,{"$f":"$AP$18/$N$7*AS2143","v":0.4569127278901749},22.208313761397537,21.374980428066689]
[null,null,null,null,null,null,null,null,null,null,null,null,null,null,null,null,null,null,null,null,null,null,null,null,null,null,null,null,null,null,null,null,null,null,null,null,null,null,null,null,null,null,null,null,2117,0.45799443415885432,22.26239907483151,21.429065741500501]
[null,null,null,null,null,null,null,null,null,null,null,null,null,null,null,null,null,null,null,null,null,null,null,null,null,null,null,null,null,null,null,null,null,null,null,null,null,null,null,null,null,null,null,null,2124,0.45950882293500545,22.338118513639067,21.504785180307859]
[null,null,null,null,null,null,null,null,null,null,null,null,null,null,null,null,null,null,null,null,null,null,null,null,null,null,null,null,null,null,null,null,null,null,null,null,null,null,null,null,null,null,null,null,2129,0.46059052920368487,22.392203827073036,21.558870493741694]
[null,null,null,null,null,null,null,null,null,null,null,null,null,null,null,null,null,null,null,null,null,null,null,null,null,null,null,null,null,null,null,null,null,null,null,null,null,null,null,null,null,null,null,null,2134,0.46167223547236425,22.446289140507005,21.612955807175538]
[null,null,null,null,null,null,null,null,null,null,null,null,null,null,null,null,null,null,null,null,null,null,null,null,null,null,null,null,null,null,null,null,null,null,null,null,null,null,null,null,null,null,null,null,2140,0.46297028299477949,22.511191516627768,21.677858183296152]
[null,null,null,null,null,null,null,null,null,null,null,null,null,null,null,null,null,null,null,null,null,null,null,null,null,null,null,null,null,null,null,null,null,null,null,null,null,null,null,null,null,null,null,null,2146,0.46426833051719479,22.576093892748535,21.742760559416787]
[null,null,null,null,null,null,null,null,null,null,null,null,null,null,null,null,null,null,null,null,null,null,null,null,null,null,null,null,null,null,null,null,null,null,null,null,null,null,null,null,null,null,null,null,2151,0.46535003678587417,22.6301792061825,21.79684587285065]
[null,null,null,null,null,null,null,null,null,null,null,null,null,null,null,null,null,null,null,null,null,null,null,null,null,null,null,null,null,null,null,null,null,null,null,null,null,null,null,null,null,null,null,null,2157,0.46664808430828947,22.695081582303267,21.861748248971292]
[null,null,null,null,null,null,null,null,null,null,null,null,null,null,null,null,null,null,null,null,null,null,null,null,null,null,null,null,null,null,null,null,null,null,null,null,null,null,null,null,null,null,null,null,2162,0.46772979057696884,22.749166895737236,21.915833562405179]
[null,null,null,null,null,null,null,null,null,null,null,null,null,null,null,null,null,null,null,null,null,null,null,null,null,null,null,null,null,null,null,null,null,null,null,null,null,null,null,null,null,null,null,null,2165,0.46837881433817646,22.781618083797618,21.948284750465515]
[null,null,null,null,null,null,null,null,null,null,null,null,null,null,null,null,null,null,null,null,null,null,null,null,null,null,null,null,null,null,null,null,null,null,null,null,null,null,null,null,null,null,null,null,2169,0.46924417935311996,22.824886334544793,21.991553001212633]
[null,null,null,null,null,null,null,null,null,null,null,null,null,null,null,null,null,null,null,null,null,null,null,null,null,null,null,null,null,null,null,null,null,null,null,null,null,null,null,null,null,null,null,null,2174,0.47032588562179939,22.878971647978762,22.045638314646531]
[null,null,null,null,null,null,null,null,null,null,null,null,null,null,null,null,null,null,null,null,null,null,null,null,null,null,null,null,null,null,null,null,null,null,null,null,null,null,null,null,null,null,null,null,2180,0.47162393314421464,22.943874024099525,22.110540690767223]
[null,null,null,null,null,null,null,null,null,null,null,null,null,null,null,null,null,null,null,null,null,null,null,null,null,null,null,null,null,null,null,null,null,null,null,null,null,null,null,null,null,null,null,null,2185,0.47270563941289401,22.997959337533494,22.164626004201139]
[null,null,null,null,null,null,null,null,null,null,null,null,null,null,null,null,null,null,null,null,null,null,null,null,null,null,null,null,null,null,null,null,null,null,null,null,null,null,null,null,null,null,null,null,2190,0.47378734568157344,23.052044650967467,22.218711317635055]
[null,null,null,null,null,null,null,null,null,null,null,null,null,null,null,null,null,null,null,null,null,null,null,null,null,null,null,null,null,null,null,null,null,null,null,null,null,null,null,null,null,null,null,null,2197,0.47530173445772456,23.12776408977502,22.294430756442537]
[null,null,null,null,null,null,null,null,null,null,null,null,null,null,null,null,null,null,null,null,null,null,null,null,null,null,null,null,null,null,null,null,null,null,null,null,null,null,null,null,null,null,null,null,2202,0.47638344072640398,23.181849403208993,22.348516069876453]
[null,null,null,null,null,null,null,null,null,null,null,null,null,null,null,null,null,null,null,null,null,null,null,null,null,null,null,null,null,null,null,null,null,null,null,null,null,null,null,null,null,null,null,null,2208,0.47768148824881923,23.246751779329756,22.413418445997152]
[null,null,null,null,null,null,null,null,null,null,null,null,null,null,null,null,null,null,null,null,null,null,null,null,null,null,null,null,null,null,null,null,null,null,null,null,null,null,null,null,null,null,null,null,2215,0.47919587702497041,23.322471218137313,22.489137884804656]
[null,null,null,null,null,null,null,null,null,null,null,null,null,null,null,null,null,null,null,null,null,null,null,null,null,null,null,null,null,null,null,null,null,null,null,null,null,null,null,null,null,null,null,null,2219,0.4800612420399139,23.365739468884488,22.532406135551803]
[null,null,null,null,null,null,null,null,null,null,null,null,null,null,null,null,null,null,null,null,null,null,null,null,null,null,null,null,null,null,null,null,null,null,null,null,null,null,null,null,null,null,null,null,2225,0.48135928956232915,23.430641845005251,22.597308511672523]
[null,null,null,null,null,null,null,null,null,null,null,null,null,null,null,null,null,null,null,null,null,null,null,null,null,null,null,null,null,null,null,null,null,null,null,null,null,null,null,null,null,null,null,null,2230,0.48244099583100858,23.484727158439224,22.651393825106457]
[null,null,null,null,null,null,null,null,null,null,null,null,null,null,null,null,null,null,null,null,null,null,null,null,null,null,null,null,null,null,null,null,null,null,null,null,null,null,null,null,null,null,null,null,2231,0.48265733708474445,23.495544221126018,22.662210887793243]
[null,null,null,null,null,null,null,null,null,null,null,null,null,null,null,null,null,null,null,null,null,null,null,null,null,null,null,null,null,null,null,null,null,null,null,null,null,null,null,null,null,null,null,null,2240,{"$f":"$AP$18/$N$7*AS2271","v":0.48460440836836732},23.592897785307159,22.759564451974324]
[null,null,null,null,null,null,null,null,null,null,null,null,null,null,null,null,null,null,null,null,null,null,null,null,null,null,null,null,null,null,null,null,null,null,null,null,null,null,null,null,null,null,null,null,2242,0.48503709087583907,23.614531910680746,{"$f":"( $AP$6*AU2273 + $AP$7*AU2272 + $AP$9*AV2272 )/$AP$8","v":22.781198577347897}]
[null,null,null,null,null,null,null,null,null,null,null,null,null,null,null,null,null,null,null,null,null,null,null,null,null,null,null,null,null,null,null,null,null,null,null,null,null,null,null,null,null,null,null,null,2248,0.48633513839825437,23.679434286801513,22.846100953468618]
[null,null,null,null,null,null,null,null,null,null,null,null,null,null,null,null,null,null,null,null,null,null,null,null,null,null,null,null,null,null,null,null,null,null,null,null,null,null,null,null,null,null,null,null,2253,0.48741684466693375,23.733519600235482,22.900186266902551]
[null,null,null,null,null,null,null,null,null,null,null,null,null,null,null,null,null,null,null,null,null,null,null,null,null,null,null,null,null,null,null,null,null,null,null,null,null,null,null,null,null,null,null,null,2259,0.48871489218934905,23.798421976356245,22.965088643023272]
[null,null,null,null,null,null,null,null,null,null,null,null,null,null,null,null,null,null,null,null,null,null,null,null,null,null,null,null,null,null,null,null,null,null,null,null,null,null,null,null,null,null,null,null,2265,0.49001293971176429,23.863324352477008,23.029991019143992]
[null,null,null,null,null,null,null,null,null,null,null,null,null,null,null,null,null,null,null,null,null,null,null,null,null,null,null,null,null,null,null,null,null,null,null,null,null,null,null,null,null,null,null,null,2270,0.49109464598044367,23.917409665910977,23.084076332577943]
[null,null,null,null,null,null,null,null,null,null,null,null,null,null,null,null,null,null,null,null,null,null,null,null,null,null,null,null,null,null,null,null,null,null,null,null,null,null,null,null,null,null,null,null,2276,0.49239269350285897,23.982312042031744,23.148978708698685]
[null,null,null,null,null,null,null,null,null,null,null,null,null,null,null,null,null,null,null,null,null,null,null,null,null,null,null,null,null,null,null,null,null,null,null,null,null,null,null,null,null,null,null,null,2281,0.49347439977153834,24.036397355465709,23.203064022132637]
[null,null,null,null,null,null,null,null,null,null,null,null,null,null,null,null,null,null,null,null,null,null,null,null,null,null,null,null,null,null,null,null,null,null,null,null,null,null,null,null,null,null,null,null,2286,0.49455610604021777,24.090482668899682,23.257149335566591]
[null,null,null,null,null,null,null,null,null,null,null,null,null,null,null,null,null,null,null,null,null,null,null,null,null,null,null,null,null,null,null,null,null,null,null,null,null,null,null,null,null,null,null,null,2290,0.49542147105516127,24.133750919646857,23.300417586313756]
[null,null,null,null,null,null,null,null,null,null,null,null,null,null,null,null,null,null,null,null,null,null,null,null,null,null,null,null,null,null,null,null,null,null,null,null,null,null,null,null,null,null,null,null,2298,0.49715220108504826,24.220287421141208,23.386954087808085]
[null,null,null,null,null,null,null,null,null,null,null,null,null,null,null,null,null,null,null,null,null,null,null,null,null,null,null,null,null,null,null,null,null,null,null,null,null,null,null,null,null,null,null,null,2299,0.49736854233878414,24.231104483828002,23.397771150494876]
[null,null,null,null,null,null,null,null,null,null,null,null,null,null,null,null,null,null,null,null,null,null,null,null,null,null,null,null,null,null,null,null,null,null,null,null,null,null,null,null,null,null,null,null,2304,{"$f":"$AP$18/$N$7*AS2335","v":0.49845024860746356},24.285189797261971,23.451856463928834]
[null,null,null,null,null,null,null,null,null,null,null,null,null,null,null,null,null,null,null,null,null,null,null,null,null,null,null,null,null,null,null,null,null,null,null,null,null,null,null,null,null,null,null,null,2309,0.49953195487614294,24.33927511069594,23.505941777362789]
[null,null,null,null,null,null,null,null,null,null,null,null,null,null,null,null,null,null,null,null,null,null,null,null,null,null,null,null,null,null,null,null,null,null,null,null,null,null,null,null,null,null,null,null,2316,0.50104634365229406,24.413920883100271,23.58163863636069]
[null,null,null,null,null,null,null,null,null,null,null,null,null,null,null,null,null,null,null,null,null,null,null,null,null,null,null,null,null,null,null,null,null,null,null,null,null,null,null,null,null,null,null,null,2321,0.50212804992097348,24.464638826883984,23.635562529621129]
[null,null,null,null,null,null,null,null,null,null,null,null,null,null,null,null,null,null,null,null,null,null,null,null,null,null,null,null,null,null,null,null,null,null,null,null,null,null,null,null,null,null,null,null,2326,0.50320975618965291,24.513061841084721,23.689212097269323]
[null,null,null,null,null,null,null,null,null,null,null,null,null,null,null,null,null,null,null,null,null,null,null,null,null,null,null,null,null,null,null,null,null,null,null,null,null,null,null,null,null,null,null,null,2332,0.50450780371206816,24.568140151076083,23.753051250283171]
[null,null,null,null,null,null,null,null,null,null,null,null,null,null,null,null,null,null,null,null,null,null,null,null,null,null,null,null,null,null,null,null,null,null,null,null,null,null,null,null,null,null,null,null,2340,0.50623853374195515,24.636437255465367,23.83692088954357]
[null,null,null,null,null,null,null,null,null,null,null,null,null,null,null,null,null,null,null,null,null,null,null,null,null,null,null,null,null,null,null,null,null,null,null,null,null,null,null,null,null,null,null,null,2344,0.50710389875689865,24.668382675260354,23.878195107520188]
[null,null,null,null,null,null,null,null,null,null,null,null,null,null,null,null,null,null,null,null,null,null,null,null,null,null,null,null,null,null,null,null,null,null,null,null,null,null,null,null,null,null,null,null,2349,0.50818560502557808,24.706249013379416,23.92906568815377]
[null,null,null,null,null,null,null,null,null,null,null,null,null,null,null,null,null,null,null,null,null,null,null,null,null,null,null,null,null,null,null,null,null,null,null,null,null,null,null,null,null,null,null,null,2354,0.50926731129425751,24.741820421915502,23.979046199764582]
[null,null,null,null,null,null,null,null,null,null,null,null,null,null,null,null,null,null,null,null,null,null,null,null,null,null,null,null,null,null,null,null,null,null,null,null,null,null,null,null,null,null,null,null,2360,0.51056535881667275,24.781476805109282,24.037724013131299]
[null,null,null,null,null,null,null,null,null,null,null,null,null,null,null,null,null,null,null,null,null,null,null,null,null,null,null,null,null,null,null,null,null,null,null,null,null,null,null,null,null,null,null,null,2365,0.51164706508535207,24.811999368562827,24.085443399512453]
[null,null,null,null,null,null,null,null,null,null,null,null,null,null,null,null,null,null,null,null,null,null,null,null,null,null,null,null,null,null,null,null,null,null,null,null,null,null,null,null,null,null,null,null,2367,0.51207974759282393,24.823565813661013,24.104212284328412]
[null,null,null,null,null,null,null,null,null,null,null,null,null,null,null,null,null,null,null,null,null,null,null,null,null,null,null,null,null,null,null,null,null,null,null,null,null,null,null,null,null,null,null,null,2372,0.51316145386150325,24.850875475698395,24.150296373847734]
[null,null,null,null,null,null,null,null,null,null,null,null,null,null,null,null,null,null,null,null,null,null,null,null,null,null,null,null,null,null,null,null,null,null,null,null,null,null,null,null,null,null,null,null,2377,0.51424316013018267,24.875890208152803,24.195127784922679]
[null,null,null,null,null,null,null,null,null,null,null,null,null,null,null,null,null,null,null,null,null,null,null,null,null,null,null,null,null,null,null,null,null,null,null,null,null,null,null,null,null,null,null,null,2382,0.5153248663988621,24.898610011024243,24.238641020505124]
[null,null,null,null,null,null,null,null,null,null,null,null,null,null,null,null,null,null,null,null,null,null,null,null,null,null,null,null,null,null,null,null,null,null,null,null,null,null,null,null,null,null,null,null,2389,0.51683925517501317,24.926562253344855,24.297228885964302]
[null,null,null,null,null,null,null,null,null,null,null,null,null,null,null,null,null,null,null,null,null,null,null,null,null,null,null,null,null,null,null,null,null,null,null,null,null,null,null,null,null,null,null,null,2394,0.5179209614436926,24.943774225217155,24.337335363323437]
[null,null,null,null,null,null,null,null,null,null,null,null,null,null,null,null,null,null,null,null,null,null,null,null,null,null,null,null,null,null,null,null,null,null,null,null,null,null,null,null,null,null,null,null,2400,0.51921900896610784,24.961399284414391,24.383463447075375]
[null,null,null,null,null,null,null,null,null,null,null,null,null,null,null,null,null,null,null,null,null,null,null,null,null,null,null,null,null,null,null,null,null,null,null,null,null,null,null,null,null,null,null,null,2405,0.52030071523478727,24.973562411204149,24.420179718880348]
[null,null,null,null,null,null,null,null,null,null,null,null,null,null,null,null,null,null,null,null,null,null,null,null,null,null,null,null,null,null,null,null,null,null,null,null,null,null,null,null,null,null,null,null,2413,0.52203144526467427,24.988249960535178,24.475546972791587]
[null,null,null,null,null,null,null,null,null,null,null,null,null,null,null,null,null,null,null,null,null,null,null,null,null,null,null,null,null,null,null,null,null,null,null,null,null,null,null,null,null,null,null,null,2417,0.52289681027961776,24.993390602801039,24.501625467908237]
[null,null,null,null,null,null,null,null,null,null,null,null,null,null,null,null,null,null,null,null,null,null,null,null,null,null,null,null,null,null,null,null,null,null,null,null,null,null,null,null,null,null,null,null,2422,0.52397851654829719,24.997750969008688,24.53267889256205]
[null,null,null,null,null,null,null,null,null,null,null,null,null,null,null,null,null,null,null,null,null,null,null,null,null,null,null,null,null,null,null,null,null,null,null,null,null,null,null,null,null,null,null,null,2428,0.52527656407071244,24.999954101408342,24.567629555156671]
[null,null,null,null,null,null,null,null,null,null,null,null,null,null,null,null,null,null,null,null,null,null,null,null,null,null,null,null,null,null,null,null,null,null,null,null,null,null,null,null,null,null,null,null,{"$f":"AS2463+1","v":2433},0.52635827033939186,{"$f":"IF(($N$4*AT2464^2/2)<=$AP$13,($N$4*AT2464^2/2), IF(($AP$13+$N$6*(AT2464-$AP$12))<=$AP$17, ($AP$13+$N$6*(AT2464-$AP$12)), IF(AU2463<$D$14, ($AP$17+($N$6-$N$5*(AT2464-$AP$16)/2)*(AT2464-$AP$16)), $D$14)))","v":25},24.594800257033434]
[null,null,null,null,null,null,null,null,null,null,null,null,null,null,null,null,null,null,null,null,null,null,null,null,null,null,null,null,null,null,null,null,null,null,null,null,null,null,null,null,null,null,null,null,2438,0.52743997660807129,25,24.620263781211925]
[null,null,null,null,null,null,null,null,null,null,null,null,null,null,null,null,null,null,null,null,null,null,null,null,null,null,null,null,null,null,null,null,null,null,null,null,null,null,null,null,null,null,null,null,2440,0.52787265911554304,25,24.629995363878368]
[null,null,null,null,null,null,null,null,null,null,null,null,null,null,null,null,null,null,null,null,null,null,null,null,null,null,null,null,null,null,null,null,null,null,null,null,null,null,null,null,null,null,null,null,2445,0.52895436538422236,25,24.653247160459127]
[null,null,null,null,null,null,null,null,null,null,null,null,null,null,null,null,null,null,null,null,null,null,null,null,null,null,null,null,null,null,null,null,null,null,null,null,null,null,null,null,null,null,null,null,2451,0.5302524129066376,25,24.679228733650227]
[null,null,null,null,null,null,null,null,null,null,null,null,null,null,null,null,null,null,null,null,null,null,null,null,null,null,null,null,null,null,null,null,null,null,null,null,null,null,null,null,null,null,null,null,2456,0.53133411917531703,25,24.699386611433326]
[null,null,null,null,null,null,null,null,null,null,null,null,null,null,null,null,null,null,null,null,null,null,null,null,null,null,null,null,null,null,null,null,null,null,null,null,null,null,null,null,null,null,null,null,2465,0.53328119045893996,25,24.732532223229807]
[null,null,null,null,null,null,null,null,null,null,null,null,null,null,null,null,null,null,null,null,null,null,null,null,null,null,null,null,null,null,null,null,null,null,null,null,null,null,null,null,null,null,null,null,2468,0.53393021422014764,25,24.742747748736619]
[null,null,null,null,null,null,null,null,null,null,null,null,null,null,null,null,null,null,null,null,null,null,null,null,null,null,null,null,null,null,null,null,null,null,null,null,null,null,null,null,null,null,null,null,2473,0.53501192048882695,25,24.75891397054135]
[null,null,null,null,null,null,null,null,null,null,null,null,null,null,null,null,null,null,null,null,null,null,null,null,null,null,null,null,null,null,null,null,null,null,null,null,null,null,null,null,null,null,null,null,2479,0.5363099680112422,25,24.776978117695922]
[null,null,null,null,null,null,null,null,null,null,null,null,null,null,null,null,null,null,null,null,null,null,null,null,null,null,null,null,null,null,null,null,null,null,null,null,null,null,null,null,null,null,null,null,2482,0.53695899177244988,25,24.785496099767506]
[null,null,null,null,null,null,null,null,null,null,null,null,null,null,null,null,null,null,null,null,null,null,null,null,null,null,null,null,null,null,null,null,null,null,null,null,null,null,null,null,null,null,null,null,2490,0.53868972180233687,25,24.806653742611847]
[null,null,null,null,null,null,null,null,null,null,null,null,null,null,null,null,null,null,null,null,null,null,null,null,null,null,null,null,null,null,null,null,null,null,null,null,null,null,null,null,null,null,null,null,2496,{"$f":"$AP$18/$N$7*AS2527","v":0.53998776932475223},25,24.821140833602104]
[null,null,null,null,null,null,null,null,null,null,null,null,null,null,null,null,null,null,null,null,null,null,null,null,null,null,null,null,null,null,null,null,null,null,null,null,null,null,null,null,null,null,null,null,2501,0.54106947559343155,25,24.83238068453284]
[null,null,null,null,null,null,null,null,null,null,null,null,null,null,null,null,null,null,null,null,null,null,null,null,null,null,null,null,null,null,null,null,null,null,null,null,null,null,null,null,null,null,null,null,2506,0.54215118186211098,25,24.842914201807389]
[null,null,null,null,null,null,null,null,null,null,null,null,null,null,null,null,null,null,null,null,null,null,null,null,null,null,null,null,null,null,null,null,null,null,null,null,null,null,null,null,null,null,null,null,2507,0.54236752311584679,25,24.8449401015482]
[null,null,null,null,null,null,null,null,null,null,null,null,null,null,null,null,null,null,null,null,null,null,null,null,null,null,null,null,null,null,null,null,null,null,null,null,null,null,null,null,null,null,null,null,2513,0.54366557063826215,25,24.856558463797139]
[null,null,null,null,null,null,null,null,null,null,null,null,null,null,null,null,null,null,null,null,null,null,null,null,null,null,null,null,null,null,null,null,null,null,null,null,null,null,null,null,null,null,null,null,2519,0.5449636181606774,25,24.867306282838602]
[null,null,null,null,null,null,null,null,null,null,null,null,null,null,null,null,null,null,null,null,null,null,null,null,null,null,null,null,null,null,null,null,null,null,null,null,null,null,null,null,null,null,null,null,2524,0.54604532442935683,25,24.875645008945725]
[null,null,null,null,null,null,null,null,null,null,null,null,null,null,null,null,null,null,null,null,null,null,null,null,null,null,null,null,null,null,null,null,null,null,null,null,null,null,null,null,null,null,null,null,2529,0.54712703069803614,25,24.883459713610257]
[null,null,null,null,null,null,null,null,null,null,null,null,null,null,null,null,null,null,null,null,null,null,null,null,null,null,null,null,null,null,null,null,null,null,null,null,null,null,null,null,null,null,null,null,2538,0.54907410198165907,25,24.896309437668602]
[null,null,null,null,null,null,null,null,null,null,null,null,null,null,null,null,null,null,null,null,null,null,null,null,null,null,null,null,null,null,null,null,null,null,null,null,null,null,null,null,null,null,null,null,2541,0.54972312574286675,25,24.900269741212838]
[null,null,null,null,null,null,null,null,null,null,null,null,null,null,null,null,null,null,null,null,null,null,null,null,null,null,null,null,null,null,null,null,null,null,null,null,null,null,null,null,null,null,null,null,2547,0.55102117326528199,25,24.907742352025423]
[null,null,null,null,null,null,null,null,null,null,null,null,null,null,null,null,null,null,null,null,null,null,null,null,null,null,null,null,null,null,null,null,null,null,null,null,null,null,null,null,null,null,null,null,2552,0.55210287953396131,25,24.91353999847173]
[null,null,null,null,null,null,null,null,null,null,null,null,null,null,null,null,null,null,null,null,null,null,null,null,null,null,null,null,null,null,null,null,null,null,null,null,null,null,null,null,null,null,null,null,2557,0.55318458580264074,25,24.918973309764755]
[null,null,null,null,null,null,null,null,null,null,null,null,null,null,null,null,null,null,null,null,null,null,null,null,null,null,null,null,null,null,null,null,null,null,null,null,null,null,null,null,null,null,null,null,2564,0.55469897457879191,25,24.926011179530526]
[null,null,null,null,null,null,null,null,null,null,null,null,null,null,null,null,null,null,null,null,null,null,null,null,null,null,null,null,null,null,null,null,null,null,null,null,null,null,null,null,null,null,null,null,2569,0.55578068084747134,25,24.930660778035126]
[null,null,null,null,null,null,null,null,null,null,null,null,null,null,null,null,null,null,null,null,null,null,null,null,null,null,null,null,null,null,null,null,null,null,null,null,null,null,null,null,null,null,null,null,2574,0.55686238711615066,25,24.935018186907339]
[null,null,null,null,null,null,null,null,null,null,null,null,null,null,null,null,null,null,null,null,null,null,null,null,null,null,null,null,null,null,null,null,null,null,null,null,null,null,null,null,null,null,null,null,2575,0.55707872836988659,25,24.935856242542009]
[null,null,null,null,null,null,null,null,null,null,null,null,null,null,null,null,null,null,null,null,null,null,null,null,null,null,null,null,null,null,null,null,null,null,null,null,null,null,null,null,null,null,null,null,2582,0.55859311714603777,25,24.941427683384106]
[null,null,null,null,null,null,null,null,null,null,null,null,null,null,null,null,null,null,null,null,null,null,null,null,null,null,null,null,null,null,null,null,null,null,null,null,null,null,null,null,null,null,null,null,2587,0.55967482341471708,25,24.945108479401942]
[null,null,null,null,null,null,null,null,null,null,null,null,null,null,null,null,null,null,null,null,null,null,null,null,null,null,null,null,null,null,null,null,null,null,null,null,null,null,null,null,null,null,null,null,2592,0.56075652968339651,25,24.948557967182243]
[null,null,null,null,null,null,null,null,null,null,null,null,null,null,null,null,null,null,null,null,null,null,null,null,null,null,null,null,null,null,null,null,null,null,null,null,null,null,null,null,null,null,null,null,2597,0.56183823595207594,25,24.951790682575542]
[null,null,null,null,null,null,null,null,null,null,null,null,null,null,null,null,null,null,null,null,null,null,null,null,null,null,null,null,null,null,null,null,null,null,null,null,null,null,null,null,null,null,null,null,2603,0.56313628347449118,25,24.955402920937644]
[null,null,null,null,null,null,null,null,null,null,null,null,null,null,null,null,null,null,null,null,null,null,null,null,null,null,null,null,null,null,null,null,null,null,null,null,null,null,null,null,null,null,null,null,2607,0.56400164848943468,25,24.957659429704069]
[null,null,null,null,null,null,null,null,null,null,null,null,null,null,null,null,null,null,null,null,null,null,null,null,null,null,null,null,null,null,null,null,null,null,null,null,null,null,null,null,null,null,null,null,2614,0.56551603726558586,25,24.961337074918095]
[null,null,null,null,null,null,null,null,null,null,null,null,null,null,null,null,null,null,null,null,null,null,null,null,null,null,null,null,null,null,null,null,null,null,null,null,null,null,null,null,null,null,null,null,2620,0.5668140847880011,25,24.964234019090572]
[null,null,null,null,null,null,null,null,null,null,null,null,null,null,null,null,null,null,null,null,null,null,null,null,null,null,null,null,null,null,null,null,null,null,null,null,null,null,null,null,null,null,null,null,{"$f":"AS2655+1","v":2625},0.56789579105668053,{"$f":"IF(($N$4*AT2656^2/2)<=$AP$13,($N$4*AT2656^2/2), IF(($AP$13+$N$6*(AT2656-$AP$12))<=$AP$17, ($AP$13+$N$6*(AT2656-$AP$12)), IF(AU2655<$D$14, ($AP$17+($N$6-$N$5*(AT2656-$AP$16)/2)*(AT2656-$AP$16)), $D$14)))","v":25},24.966481621502627]
[null,null,null,null,null,null,null,null,null,null,null,null,null,null,null,null,null,null,null,null,null,null,null,null,null,null,null,null,null,null,null,null,null,null,null,null,null,null,null,null,null,null,null,null,2631,0.56919383857909578,25,24.968993093954676]
[null,null,null,null,null,null,null,null,null,null,null,null,null,null,null,null,null,null,null,null,null,null,null,null,null,null,null,null,null,null,null,null,null,null,null,null,null,null,null,null,null,null,null,null,2632,0.5694101798328316,25,24.969392982955743]
[null,null,null,null,null,null,null,null,null,null,null,null,null,null,null,null,null,null,null,null,null,null,null,null,null,null,null,null,null,null,null,null,null,null,null,null,null,null,null,null,null,null,null,null,2642,0.57157359237019045,25,24.973118919206001]
[null,null,null,null,null,null,null,null,null,null,null,null,null,null,null,null,null,null,null,null,null,null,null,null,null,null,null,null,null,null,null,null,null,null,null,null,null,null,null,null,null,null,null,null,2643,0.57178993362392627,25,24.97346559837904]
[null,null,null,null,null,null,null,null,null,null,null,null,null,null,null,null,null,null,null,null,null,null,null,null,null,null,null,null,null,null,null,null,null,null,null,null,null,null,null,null,null,null,null,null,2648,0.5728716398926057,25,24.975133070752761]
[null,null,null,null,null,null,null,null,null,null,null,null,null,null,null,null,null,null,null,null,null,null,null,null,null,null,null,null,null,null,null,null,null,null,null,null,null,null,null,null,null,null,null,null,2655,0.57438602866875688,25,24.977292978914001]
[null,null,null,null,null,null,null,null,null,null,null,null,null,null,null,null,null,null,null,null,null,null,null,null,null,null,null,null,null,null,null,null,null,null,null,null,null,null,null,null,null,null,null,null,2660,0.57546773493743619,25,24.978719931399741]
[null,null,null,null,null,null,null,null,null,null,null,null,null,null,null,null,null,null,null,null,null,null,null,null,null,null,null,null,null,null,null,null,null,null,null,null,null,null,null,null,null,null,null,null,2665,0.57654944120611562,25,24.98005721147144]
[null,null,null,null,null,null,null,null,null,null,null,null,null,null,null,null,null,null,null,null,null,null,null,null,null,null,null,null,null,null,null,null,null,null,null,null,null,null,null,null,null,null,null,null,2671,0.57784748872853087,25,24.981551489126023]
[null,null,null,null,null,null,null,null,null,null,null,null,null,null,null,null,null,null,null,null,null,null,null,null,null,null,null,null,null,null,null,null,null,null,null,null,null,null,null,null,null,null,null,null,2676,0.57892919499721029,25,24.982710828713113]
[null,null,null,null,null,null,null,null,null,null,null,null,null,null,null,null,null,null,null,null,null,null,null,null,null,null,null,null,null,null,null,null,null,null,null,null,null,null,null,null,null,null,null,null,2682,0.58022724251962554,25,24.984006275550122]
[null,null,null,null,null,null,null,null,null,null,null,null,null,null,null,null,null,null,null,null,null,null,null,null,null,null,null,null,null,null,null,null,null,null,null,null,null,null,null,null,null,null,null,null,2688,{"$f":"$AP$18/$N$7*AS2719","v":0.58152529004204079},25,24.98520465686099]
[null,null,null,null,null,null,null,null,null,null,null,null,null,null,null,null,null,null,null,null,null,null,null,null,null,null,null,null,null,null,null,null,null,null,null,null,null,null,null,null,null,null,null,null,2693,0.58260699631072022,25,24.986134424424495]
[null,null,null,null,null,null,null,null,null,null,null,null,null,null,null,null,null,null,null,null,null,null,null,null,null,null,null,null,null,null,null,null,null,null,null,null,null,null,null,null,null,null,null,null,2699,0.58390504383313546,25,24.987173347327413]
[null,null,null,null,null,null,null,null,null,null,null,null,null,null,null,null,null,null,null,null,null,null,null,null,null,null,null,null,null,null,null,null,null,null,null,null,null,null,null,null,null,null,null,null,2704,0.58498675010181489,25,24.987979398629594]
[null,null,null,null,null,null,null,null,null,null,null,null,null,null,null,null,null,null,null,null,null,null,null,null,null,null,null,null,null,null,null,null,null,null,null,null,null,null,null,null,null,null,null,null,2707,0.58563577386302246,25,24.98843850724219]
[null,null,null,null,null,null,null,null,null,null,null,null,null,null,null,null,null,null,null,null,null,null,null,null,null,null,null,null,null,null,null,null,null,null,null,null,null,null,null,null,null,null,null,null,2711,0.58650113887796596,25,24.989023491961134]
[null,null,null,null,null,null,null,null,null,null,null,null,null,null,null,null,null,null,null,null,null,null,null,null,null,null,null,null,null,null,null,null,null,null,null,null,null,null,null,null,null,null,null,null,2716,0.58758284514664538,25,24.989713276648068]
[null,null,null,null,null,null,null,null,null,null,null,null,null,null,null,null,null,null,null,null,null,null,null,null,null,null,null,null,null,null,null,null,null,null,null,null,null,null,null,null,null,null,null,null,2722,0.58888089266906063,25,24.990484042522752]
[null,null,null,null,null,null,null,null,null,null,null,null,null,null,null,null,null,null,null,null,null,null,null,null,null,null,null,null,null,null,null,null,null,null,null,null,null,null,null,null,null,null,null,null,2730,0.59061162269894774,25,24.991422651235272]
[null,null,null,null,null,null,null,null,null,null,null,null,null,null,null,null,null,null,null,null,null,null,null,null,null,null,null,null,null,null,null,null,null,null,null,null,null,null,null,null,null,null,null,null,2733,0.5912606464601553,25,24.991750250044163]
[null,null,null,null,null,null,null,null,null,null,null,null,null,null,null,null,null,null,null,null,null,null,null,null,null,null,null,null,null,null,null,null,null,null,null,null,null,null,null,null,null,null,null,null,2739,0.59255869398257055,25,24.992368389127236]
[null,null,null,null,null,null,null,null,null,null,null,null,null,null,null,null,null,null,null,null,null,null,null,null,null,null,null,null,null,null,null,null,null,null,null,null,null,null,null,null,null,null,null,null,2744,0.59364040025124998,25,24.992847974100712]
[null,null,null,null,null,null,null,null,null,null,null,null,null,null,null,null,null,null,null,null,null,null,null,null,null,null,null,null,null,null,null,null,null,null,null,null,null,null,null,null,null,null,null,null,2749,0.59472210651992941,25,24.993297421040349]
[null,null,null,null,null,null,null,null,null,null,null,null,null,null,null,null,null,null,null,null,null,null,null,null,null,null,null,null,null,null,null,null,null,null,null,null,null,null,null,null,null,null,null,null,2755,0.59602015404234465,25,24.993799633354001]
[null,null,null,null,null,null,null,null,null,null,null,null,null,null,null,null,null,null,null,null,null,null,null,null,null,null,null,null,null,null,null,null,null,null,null,null,null,null,null,null,null,null,null,null,2761,0.5973182015647599,25,24.994264215792722]
[null,null,null,null,null,null,null,null,null,null,null,null,null,null,null,null,null,null,null,null,null,null,null,null,null,null,null,null,null,null,null,null,null,null,null,null,null,null,null,null,null,null,null,null,2767,0.59861624908717515,25,24.994693987896074]
[null,null,null,null,null,null,null,null,null,null,null,null,null,null,null,null,null,null,null,null,null,null,null,null,null,null,null,null,null,null,null,null,null,null,null,null,null,null,null,null,null,null,null,null,2772,0.59969795535585457,25,24.995027427810211]
[null,null,null,null,null,null,null,null,null,null,null,null,null,null,null,null,null,null,null,null,null,null,null,null,null,null,null,null,null,null,null,null,null,null,null,null,null,null,null,null,null,null,null,null,2777,0.600779661624534,25,24.995339913724592]
[null,null,null,null,null,null,null,null,null,null,null,null,null,null,null,null,null,null,null,null,null,null,null,null,null,null,null,null,null,null,null,null,null,null,null,null,null,null,null,null,null,null,null,null,2780,0.60142868538574157,25,24.995517898642202]
[null,null,null,null,null,null,null,null,null,null,null,null,null,null,null,null,null,null,null,null,null,null,null,null,null,null,null,null,null,null,null,null,null,null,null,null,null,null,null,null,null,null,null,null,2784,0.60229405040068518,25,24.99574468257557]
[null,null,null,null,null,null,null,null,null,null,null,null,null,null,null,null,null,null,null,null,null,null,null,null,null,null,null,null,null,null,null,null,null,null,null,null,null,null,null,null,null,null,null,null,2789,0.60337575666936449,25,24.996012094833368]
[null,null,null,null,null,null,null,null,null,null,null,null,null,null,null,null,null,null,null,null,null,null,null,null,null,null,null,null,null,null,null,null,null,null,null,null,null,null,null,null,null,null,null,null,2795,0.60467380419177974,25,24.996310901470693]
[null,null,null,null,null,null,null,null,null,null,null,null,null,null,null,null,null,null,null,null,null,null,null,null,null,null,null,null,null,null,null,null,null,null,null,null,null,null,null,null,null,null,null,null,2800,0.60575551046045917,25,24.996542731453875]
[null,null,null,null,null,null,null,null,null,null,null,null,null,null,null,null,null,null,null,null,null,null,null,null,null,null,null,null,null,null,null,null,null,null,null,null,null,null,null,null,null,null,null,null,2805,0.6068372167291386,25,24.996759992799038]
[null,null,null,null,null,null,null,null,null,null,null,null,null,null,null,null,null,null,null,null,null,null,null,null,null,null,null,null,null,null,null,null,null,null,null,null,null,null,null,null,null,null,null,null,2812,0.60835160550528966,25,24.997041415484013]
[null,null,null,null,null,null,null,null,null,null,null,null,null,null,null,null,null,null,null,null,null,null,null,null,null,null,null,null,null,null,null,null,null,null,null,null,null,null,null,null,null,null,null,null,{"$f":"AS2847+1","v":2817},0.60943331177396909,{"$f":"IF(($N$4*AT2848^2/2)<=$AP$13,($N$4*AT2848^2/2), IF(($AP$13+$N$6*(AT2848-$AP$12))<=$AP$17, ($AP$13+$N$6*(AT2848-$AP$12)), IF(AU2847<$D$14, ($AP$17+($N$6-$N$5*(AT2848-$AP$16)/2)*(AT2848-$AP$16)), $D$14)))","v":25},24.997227338574213]
[null,null,null,null,null,null,null,null,null,null,null,null,null,null,null,null,null,null,null,null,null,null,null,null,null,null,null,null,null,null,null,null,null,null,null,null,null,null,null,null,null,null,null,null,2823,0.61073135929638434,25,24.997435089160668]
[null,null,null,null,null,null,null,null,null,null,null,null,null,null,null,null,null,null,null,null,null,null,null,null,null,null,null,null,null,null,null,null,null,null,null,null,null,null,null,null,null,null,null,null,2830,0.61224574807253551,25,24.997657873880073]
[null,null,null,null,null,null,null,null,null,null,null,null,null,null,null,null,null,null,null,null,null,null,null,null,null,null,null,null,null,null,null,null,null,null,null,null,null,null,null,null,null,null,null,null,2835,0.61332745434121494,25,24.997805057549666]
[null,null,null,null,null,null,null,null,null,null,null,null,null,null,null,null,null,null,null,null,null,null,null,null,null,null,null,null,null,null,null,null,null,null,null,null,null,null,null,null,null,null,null,null,2840,0.61440916060989426,25,24.997942991916915]
[null,null,null,null,null,null,null,null,null,null,null,null,null,null,null,null,null,null,null,null,null,null,null,null,null,null,null,null,null,null,null,null,null,null,null,null,null,null,null,null,null,null,null,null,2845,0.61549086687857368,25,24.998072258225623]
[null,null,null,null,null,null,null,null,null,null,null,null,null,null,null,null,null,null,null,null,null,null,null,null,null,null,null,null,null,null,null,null,null,null,null,null,null,null,null,null,null,null,null,null,2846,0.61570720813230961,25,24.998097119871975]
[null,null,null,null,null,null,null,null,null,null,null,null,null,null,null,null,null,null,null,null,null,null,null,null,null,null,null,null,null,null,null,null,null,null,null,null,null,null,null,null,null,null,null,null,2855,0.61765427941593243,25,24.998306931305603]
[null,null,null,null,null,null,null,null,null,null,null,null,null,null,null,null,null,null,null,null,null,null,null,null,null,null,null,null,null,null,null,null,null,null,null,null,null,null,null,null,null,null,null,null,2857,0.61808696192340429,25,24.998350319945256]
[null,null,null,null,null,null,null,null,null,null,null,null,null,null,null,null,null,null,null,null,null,null,null,null,null,null,null,null,null,null,null,null,null,null,null,null,null,null,null,null,null,null,null,null,2863,0.61938500944581953,25,24.998473927536025]
[null,null,null,null,null,null,null,null,null,null,null,null,null,null,null,null,null,null,null,null,null,null,null,null,null,null,null,null,null,null,null,null,null,null,null,null,null,null,null,null,null,null,null,null,2868,0.62046671571449885,25,24.998569828838441]
[null,null,null,null,null,null,null,null,null,null,null,null,null,null,null,null,null,null,null,null,null,null,null,null,null,null,null,null,null,null,null,null,null,null,null,null,null,null,null,null,null,null,null,null,2874,0.62176476323691421,25,24.99867698901847]
[null,null,null,null,null,null,null,null,null,null,null,null,null,null,null,null,null,null,null,null,null,null,null,null,null,null,null,null,null,null,null,null,null,null,null,null,null,null,null,null,null,null,null,null,2880,{"$f":"$AP$18/$N$7*AS2911","v":0.62306281075932946},25,24.998776119876915]
[null,null,null,null,null,null,null,null,null,null,null,null,null,null,null,null,null,null,null,null,null,null,null,null,null,null,null,null,null,null,null,null,null,null,null,null,null,null,null,null,null,null,null,null,2885,0.62414451702800888,25,24.998853030836639]
[null,null,null,null,null,null,null,null,null,null,null,null,null,null,null,null,null,null,null,null,null,null,null,null,null,null,null,null,null,null,null,null,null,null,null,null,null,null,null,null,null,null,null,null,2891,0.62544256455042413,25,24.998938971194931]
[null,null,null,null,null,null,null,null,null,null,null,null,null,null,null,null,null,null,null,null,null,null,null,null,null,null,null,null,null,null,null,null,null,null,null,null,null,null,null,null,null,null,null,null,2896,0.62652427081910345,25,24.999005648267421]
[null,null,null,null,null,null,null,null,null,null,null,null,null,null,null,null,null,null,null,null,null,null,null,null,null,null,null,null,null,null,null,null,null,null,null,null,null,null,null,null,null,null,null,null,2899,0.62717329458031112,25,24.999043626021642]
[null,null,null,null,null,null,null,null,null,null,null,null,null,null,null,null,null,null,null,null,null,null,null,null,null,null,null,null,null,null,null,null,null,null,null,null,null,null,null,null,null,null,null,null,2908,0.62912036586393405,25,24.999149075751518]
[null,null,null,null,null,null,null,null,null,null,null,null,null,null,null,null,null,null,null,null,null,null,null,null,null,null,null,null,null,null,null,null,null,null,null,null,null,null,null,null,null,null,null,null,2913,0.63020207213261337,25,24.999202549453198]
[null,null,null,null,null,null,null,null,null,null,null,null,null,null,null,null,null,null,null,null,null,null,null,null,null,null,null,null,null,null,null,null,null,null,null,null,null,null,null,null,null,null,null,null,2914,0.6304184133863493,25,24.999212833991166]
[null,null,null,null,null,null,null,null,null,null,null,null,null,null,null,null,null,null,null,null,null,null,null,null,null,null,null,null,null,null,null,null,null,null,null,null,null,null,null,null,null,null,null,null,2919,0.63150011965502872,25,24.999262301003547]
[null,null,null,null,null,null,null,null,null,null,null,null,null,null,null,null,null,null,null,null,null,null,null,null,null,null,null,null,null,null,null,null,null,null,null,null,null,null,null,null,null,null,null,null,2924,0.63258182592370804,25,24.999308659414588]
[null,null,null,null,null,null,null,null,null,null,null,null,null,null,null,null,null,null,null,null,null,null,null,null,null,null,null,null,null,null,null,null,null,null,null,null,null,null,null,null,null,null,null,null,2931,0.63409621469985922,25,24.999368708331687]
[null,null,null,null,null,null,null,null,null,null,null,null,null,null,null,null,null,null,null,null,null,null,null,null,null,null,null,null,null,null,null,null,null,null,null,null,null,null,null,null,null,null,null,null,2936,0.63517792096853865,25,24.999408379903407]
[null,null,null,null,null,null,null,null,null,null,null,null,null,null,null,null,null,null,null,null,null,null,null,null,null,null,null,null,null,null,null,null,null,null,null,null,null,null,null,null,null,null,null,null,2942,0.63647596849095389,25,24.999452708944414]
[null,null,null,null,null,null,null,null,null,null,null,null,null,null,null,null,null,null,null,null,null,null,null,null,null,null,null,null,null,null,null,null,null,null,null,null,null,null,null,null,null,null,null,null,2947,0.63755767475963332,25,24.999487101757516]
[null,null,null,null,null,null,null,null,null,null,null,null,null,null,null,null,null,null,null,null,null,null,null,null,null,null,null,null,null,null,null,null,null,null,null,null,null,null,null,null,null,null,null,null,2955,0.63928840478952031,25,24.999537691596771]
[null,null,null,null,null,null,null,null,null,null,null,null,null,null,null,null,null,null,null,null,null,null,null,null,null,null,null,null,null,null,null,null,null,null,null,null,null,null,null,null,null,null,null,null,2959,0.64015376980446381,25,24.999561083329748]
[null,null,null,null,null,null,null,null,null,null,null,null,null,null,null,null,null,null,null,null,null,null,null,null,null,null,null,null,null,null,null,null,null,null,null,null,null,null,null,null,null,null,null,null,2964,0.64123547607314324,25,24.99958866568991]
[null,null,null,null,null,null,null,null,null,null,null,null,null,null,null,null,null,null,null,null,null,null,null,null,null,null,null,null,null,null,null,null,null,null,null,null,null,null,null,null,null,null,null,null,2969,0.64231718234182256,25,24.999614514721983]
[null,null,null,null,null,null,null,null,null,null,null,null,null,null,null,null,null,null,null,null,null,null,null,null,null,null,null,null,null,null,null,null,null,null,null,null,null,null,null,null,null,null,null,null,2975,0.64361522986423791,25,24.999643398447869]
[null,null,null,null,null,null,null,null,null,null,null,null,null,null,null,null,null,null,null,null,null,null,null,null,null,null,null,null,null,null,null,null,null,null,null,null,null,null,null,null,null,null,null,null,2980,0.64469693613291723,25,24.999665807969116]
[null,null,null,null,null,null,null,null,null,null,null,null,null,null,null,null,null,null,null,null,null,null,null,null,null,null,null,null,null,null,null,null,null,null,null,null,null,null,null,null,null,null,null,null,2982,0.64512961864038898,25,24.999674372380973]
[null,null,null,null,null,null,null,null,null,null,null,null,null,null,null,null,null,null,null,null,null,null,null,null,null,null,null,null,null,null,null,null,null,null,null,null,null,null,null,null,null,null,null,null,2987,0.64621132490906841,25,24.999694835441222]
[null,null,null,null,null,null,null,null,null,null,null,null,null,null,null,null,null,null,null,null,null,null,null,null,null,null,null,null,null,null,null,null,null,null,null,null,null,null,null,null,null,null,null,null,2992,0.64729303117774784,25,24.999714012563761]
[null,null,null,null,null,null,null,null,null,null,null,null,null,null,null,null,null,null,null,null,null,null,null,null,null,null,null,null,null,null,null,null,null,null,null,null,null,null,null,null,null,null,null,null,2997,0.64837473744642715,25,24.999731984559364]
[null,null,null,null,null,null,null,null,null,null,null,null,null,null,null,null,null,null,null,null,null,null,null,null,null,null,null,null,null,null,null,null,null,null,null,null,null,null,null,null,null,null,null,null,3004,0.64988912622257833,25,24.999755264021495]
[null,null,null,null,null,null,null,null,null,null,null,null,null,null,null,null,null,null,null,null,null,null,null,null,null,null,null,null,null,null,null,null,null,null,null,null,null,null,null,null,null,null,null,null,3010,0.65118717374499357,25,{"$f":"( $AP$6*AU3041 + $AP$7*AU3040 + $AP$9*AV3040 )/$AP$8","v":24.999773601652844}]
[null,null,null,null,null,null,null,null,null,null,null,null,null,null,null,null,null,null,null,null,null,null,null,null,null,null,null,null,null,null,null,null,null,null,null,null,null,null,null,null,null,null,null,null,3015,0.652268880013673,25,24.999787828956514]
[null,null,null,null,null,null,null,null,null,null,null,null,null,null,null,null,null,null,null,null,null,null,null,null,null,null,null,null,null,null,null,null,null,null,null,null,null,null,null,null,null,null,null,null,3020,0.65335058628235243,25,24.999801162189303]
[null,null,null,null,null,null,null,null,null,null,null,null,null,null,null,null,null,null,null,null,null,null,null,null,null,null,null,null,null,null,null,null,null,null,null,null,null,null,null,null,null,null,null,null,3028,0.65508131631223943,25,24.99982077460372]
[null,null,null,null,null,null,null,null,null,null,null,null,null,null,null,null,null,null,null,null,null,null,null,null,null,null,null,null,null,null,null,null,null,null,null,null,null,null,null,null,null,null,null,null,3032,0.65594668132718292,25,24.999829842993108]
[null,null,null,null,null,null,null,null,null,null,null,null,null,null,null,null,null,null,null,null,null,null,null,null,null,null,null,null,null,null,null,null,null,null,null,null,null,null,null,null,null,null,null,null,3037,0.65702838759586235,25,24.999840535983754]
[null,null,null,null,null,null,null,null,null,null,null,null,null,null,null,null,null,null,null,null,null,null,null,null,null,null,null,null,null,null,null,null,null,null,null,null,null,null,null,null,null,null,null,null,3043,0.6583264351182776,25,24.999852484338714]
[null,null,null,null,null,null,null,null,null,null,null,null,null,null,null,null,null,null,null,null,null,null,null,null,null,null,null,null,null,null,null,null,null,null,null,null,null,null,null,null,null,null,null,null,3048,0.65940814138695703,25,24.999861754504053]
[null,null,null,null,null,null,null,null,null,null,null,null,null,null,null,null,null,null,null,null,null,null,null,null,null,null,null,null,null,null,null,null,null,null,null,null,null,null,null,null,null,null,null,null,3053,0.66048984765563634,25,24.999870442114531]
[null,null,null,null,null,null,null,null,null,null,null,null,null,null,null,null,null,null,null,null,null,null,null,null,null,null,null,null,null,null,null,null,null,null,null,null,null,null,null,null,null,null,null,null,3055,0.66092253016310809,25,24.999873762322643]
[null,null,null,null,null,null,null,null,null,null,null,null,null,null,null,null,null,null,null,null,null,null,null,null,null,null,null,null,null,null,null,null,null,null,null,null,null,null,null,null,null,null,null,null,3060,0.66200423643178752,25,24.99988169533891]
[null,null,null,null,null,null,null,null,null,null,null,null,null,null,null,null,null,null,null,null,null,null,null,null,null,null,null,null,null,null,null,null,null,null,null,null,null,null,null,null,null,null,null,null,3066,0.66330228395420276,25,24.999890559696642]
[null,null,null,null,null,null,null,null,null,null,null,null,null,null,null,null,null,null,null,null,null,null,null,null,null,null,null,null,null,null,null,null,null,null,null,null,null,null,null,null,null,null,null,null,3072,{"$f":"$AP$18/$N$7*AS3103","v":0.66460033147661801},25,24.999898759863822]
[null,null,null,null,null,null,null,null,null,null,null,null,null,null,null,null,null,null,null,null,null,null,null,null,null,null,null,null,null,null,null,null,null,null,null,null,null,null,null,null,null,null,null,null,3076,0.66546569649156162,25,24.999903882379908]
[null,null,null,null,null,null,null,null,null,null,null,null,null,null,null,null,null,null,null,null,null,null,null,null,null,null,null,null,null,null,null,null,null,null,null,null,null,null,null,null,null,null,null,null,3077,0.66568203774529744,25,24.999905121986952]
[null,null,null,null,null,null,null,null,null,null,null,null,null,null,null,null,null,null,null,null,null,null,null,null,null,null,null,null,null,null,null,null,null,null,null,null,null,null,null,null,null,null,null,null,3078,0.66589837899903337,25,24.999906345607066]
[null,null,null,null,null,null,null,null,null,null,null,null,null,null,null,null,null,null,null,null,null,null,null,null,null,null,null,null,null,null,null,null,null,null,null,null,null,null,null,null,null,null,null,null,3079,0.66611472025276919,25,24.99990755344643]
[null,null,null,null,null,null,null,null,null,null,null,null,null,null,null,null,null,null,null,null,null,null,null,null,null,null,null,null,null,null,null,null,null,null,null,null,null,null,null,null,null,null,null,null,3080,0.66633106150650512,25,24.999908745708566]
[null,null,null,null,null,null,null,null,null,null,null,null,null,null,null,null,null,null,null,null,null,null,null,null,null,null,null,null,null,null,null,null,null,null,null,null,null,null,null,null,null,null,null,null,3081,0.66654740276024094,25,24.99990992259437]
[null,null,null,null,null,null,null,null,null,null,null,null,null,null,null,null,null,null,null,null,null,null,null,null,null,null,null,null,null,null,null,null,null,null,null,null,null,null,null,null,null,null,null,null,3082,0.66676374401397687,25,24.999911084302145]
[null,null,null,null,null,null,null,null,null,null,null,null,null,null,null,null,null,null,null,null,null,null,null,null,null,null,null,null,null,null,null,null,null,null,null,null,null,null,null,null,null,null,null,null,3083,0.66698008526771269,25,24.99991223102764]
[null,null,null,null,null,null,null,null,null,null,null,null,null,null,null,null,null,null,null,null,null,null,null,null,null,null,null,null,null,null,null,null,null,null,null,null,null,null,null,null,null,null,null,null,3084,0.66719642652144862,25,24.999913362964076]
[null,null,null,null,null,null,null,null,null,null,null,null,null,null,null,null,null,null,null,null,null,null,null,null,null,null,null,null,null,null,null,null,null,null,null,null,null,null,null,null,null,null,null,null,3085,0.66741276777518443,25,24.999914480302184]
[null,null,null,null,null,null,null,null,null,null,null,null,null,null,null,null,null,null,null,null,null,null,null,null,null,null,null,null,null,null,null,null,null,null,null,null,null,null,null,null,null,null,null,null,3086,0.66762910902892036,25,24.999915583230241]
[null,null,null,null,null,null,null,null,null,null,null,null,null,null,null,null,null,null,null,null,null,null,null,null,null,null,null,null,null,null,null,null,null,null,null,null,null,null,null,null,null,null,null,null,3087,0.66784545028265629,25,24.999916671934084]
[null,null,null,null,null,null,null,null,null,null,null,null,null,null,null,null,null,null,null,null,null,null,null,null,null,null,null,null,null,null,null,null,null,null,null,null,null,null,null,null,null,null,null,null,3088,0.66806179153639211,25,24.999917746597159]
[null,null,null,null,null,null,null,null,null,null,null,null,null,null,null,null,null,null,null,null,null,null,null,null,null,null,null,null,null,null,null,null,null,null,null,null,null,null,null,null,null,null,null,null,3089,0.66827813279012804,25,24.999918807400551]
[null,null,null,null,null,null,null,null,null,null,null,null,null,null,null,null,null,null,null,null,null,null,null,null,null,null,null,null,null,null,null,null,null,null,null,null,null,null,null,null,null,null,null,null,3090,0.66849447404386386,25,24.999919854523004]
[null,null,null,null,null,null,null,null,null,null,null,null,null,null,null,null,null,null,null,null,null,null,null,null,null,null,null,null,null,null,null,null,null,null,null,null,null,null,null,null,null,null,null,null,3091,0.66871081529759979,25,24.999920888140956]
[null,null,null,null,null,null,null,null,null,null,null,null,null,null,null,null,null,null,null,null,null,null,null,null,null,null,null,null,null,null,null,null,null,null,null,null,null,null,null,null,null,null,null,null,3092,0.66892715655133561,25,24.999921908428572]
[null,null,null,null,null,null,null,null,null,null,null,null,null,null,null,null,null,null,null,null,null,null,null,null,null,null,null,null,null,null,null,null,null,null,null,null,null,null,null,null,null,null,null,null,3093,0.66914349780507154,25,24.999922915557772]
[null,null,null,null,null,null,null,null,null,null,null,null,null,null,null,null,null,null,null,null,null,null,null,null,null,null,null,null,null,null,null,null,null,null,null,null,null,null,null,null,null,null,null,null,3094,0.66935983905880736,25,24.999923909698257]
[null,null,null,null,null,null,null,null,null,null,null,null,null,null,null,null,null,null,null,null,null,null,null,null,null,null,null,null,null,null,null,null,null,null,null,null,null,null,null,null,null,null,null,null,3095,0.66957618031254329,25,24.999924891017539]
[null,null,null,null,null,null,null,null,null,null,null,null,null,null,null,null,null,null,null,null,null,null,null,null,null,null,null,null,null,null,null,null,null,null,null,null,null,null,null,null,null,null,null,null,3096,0.66979252156627911,25,24.999925859680971]
[null,null,null,null,null,null,null,null,null,null,null,null,null,null,null,null,null,null,null,null,null,null,null,null,null,null,null,null,null,null,null,null,null,null,null,null,null,null,null,null,null,null,null,null,3097,0.67000886282001504,25,24.999926815851772]
[null,null,null,null,null,null,null,null,null,null,null,null,null,null,null,null,null,null,null,null,null,null,null,null,null,null,null,null,null,null,null,null,null,null,null,null,null,null,null,null,null,null,null,null,3098,0.67022520407375086,25,24.999927759691055]
[null,null,null,null,null,null,null,null,null,null,null,null,null,null,null,null,null,null,null,null,null,null,null,null,null,null,null,null,null,null,null,null,null,null,null,null,null,null,null,null,null,null,null,null,3099,0.67044154532748679,25,24.999928691357855]
[null,null,null,null,null,null,null,null,null,null,null,null,null,null,null,null,null,null,null,null,null,null,null,null,null,null,null,null,null,null,null,null,null,null,null,null,null,null,null,null,null,null,null,null,3100,0.67065788658122261,25,24.999929611009161]
[null,null,null,null,null,null,null,null,null,null,null,null,null,null,null,null,null,null,null,null,null,null,null,null,null,null,null,null,null,null,null,null,null,null,null,null,null,null,null,null,null,null,null,null,3101,0.67087422783495854,25,24.999930518799935]
[null,null,null,null,null,null,null,null,null,null,null,null,null,null,null,null,null,null,null,null,null,null,null,null,null,null,null,null,null,null,null,null,null,null,null,null,null,null,null,null,null,null,null,null,3102,0.67109056908869447,25,24.99993141488314]
[null,null,null,null,null,null,null,null,null,null,null,null,null,null,null,null,null,null,null,null,null,null,null,null,null,null,null,null,null,null,null,null,null,null,null,null,null,null,null,null,null,null,null,null,3103,0.67130691034243029,25,24.999932299409764]
[null,null,null,null,null,null,null,null,null,null,null,null,null,null,null,null,null,null,null,null,null,null,null,null,null,null,null,null,null,null,null,null,null,null,null,null,null,null,null,null,null,null,null,null,3104,0.67152325159616622,25,24.999933172528849]
[null,null,null,null,null,null,null,null,null,null,null,null,null,null,null,null,null,null,null,null,null,null,null,null,null,null,null,null,null,null,null,null,null,null,null,null,null,null,null,null,null,null,null,null,3105,0.67173959284990203,25,24.999934034387515]
[null,null,null,null,null,null,null,null,null,null,null,null,null,null,null,null,null,null,null,null,null,null,null,null,null,null,null,null,null,null,null,null,null,null,null,null,null,null,null,null,null,null,null,null,3106,0.67195593410363796,25,24.999934885130987]
[null,null,null,null,null,null,null,null,null,null,null,null,null,null,null,null,null,null,null,null,null,null,null,null,null,null,null,null,null,null,null,null,null,null,null,null,null,null,null,null,null,null,null,null,3107,0.67217227535737378,25,24.999935724902613]
[null,null,null,null,null,null,null,null,null,null,null,null,null,null,null,null,null,null,null,null,null,null,null,null,null,null,null,null,null,null,null,null,null,null,null,null,null,null,null,null,null,null,null,null,3108,0.67238861661110971,25,24.999936553843899]
[null,null,null,null,null,null,null,null,null,null,null,null,null,null,null,null,null,null,null,null,null,null,null,null,null,null,null,null,null,null,null,null,null,null,null,null,null,null,null,null,null,null,null,null,3109,0.67260495786484553,25,24.999937372094518]
[null,null,null,null,null,null,null,null,null,null,null,null,null,null,null,null,null,null,null,null,null,null,null,null,null,null,null,null,null,null,null,null,null,null,null,null,null,null,null,null,null,null,null,null,3110,0.67282129911858146,25,24.999938179792345]
[null,null,null,null,null,null,null,null,null,null,null,null,null,null,null,null,null,null,null,null,null,null,null,null,null,null,null,null,null,null,null,null,null,null,null,null,null,null,null,null,null,null,null,null,3111,0.67303764037231728,25,24.999938977073477]
[null,null,null,null,null,null,null,null,null,null,null,null,null,null,null,null,null,null,null,null,null,null,null,null,null,null,null,null,null,null,null,null,null,null,null,null,null,null,null,null,null,null,null,null,3112,0.67325398162605321,25,24.999939764072256]
[null,null,null,null,null,null,null,null,null,null,null,null,null,null,null,null,null,null,null,null,null,null,null,null,null,null,null,null,null,null,null,null,null,null,null,null,null,null,null,null,null,null,null,null,3113,0.67347032287978903,25,24.99994054092129]
[null,null,null,null,null,null,null,null,null,null,null,null,null,null,null,null,null,null,null,null,null,null,null,null,null,null,null,null,null,null,null,null,null,null,null,null,null,null,null,null,null,null,null,null,3114,0.67368666413352496,25,24.999941307751477]
[null,null,null,null,null,null,null,null,null,null,null,null,null,null,null,null,null,null,null,null,null,null,null,null,null,null,null,null,null,null,null,null,null,null,null,null,null,null,null,null,null,null,null,null,3115,0.67390300538726078,25,24.999942064692036]
[null,null,null,null,null,null,null,null,null,null,null,null,null,null,null,null,null,null,null,null,null,null,null,null,null,null,null,null,null,null,null,null,null,null,null,null,null,null,null,null,null,null,null,null,3116,0.67411934664099671,25,24.9999428118705]
[null,null,null,null,null,null,null,null,null,null,null,null,null,null,null,null,null,null,null,null,null,null,null,null,null,null,null,null,null,null,null,null,null,null,null,null,null,null,null,null,null,null,null,null,3117,0.67433568789473264,25,24.999943549412773]
[null,null,null,null,null,null,null,null,null,null,null,null,null,null,null,null,null,null,null,null,null,null,null,null,null,null,null,null,null,null,null,null,null,null,null,null,null,null,null,null,null,null,null,null,3118,0.67455202914846846,25,24.999944277443134]
[null,null,null,null,null,null,null,null,null,null,null,null,null,null,null,null,null,null,null,null,null,null,null,null,null,null,null,null,null,null,null,null,null,null,null,null,null,null,null,null,null,null,null,null,3119,0.67476837040220439,25,24.999944996084256]
[null,null,null,null,null,null,null,null,null,null,null,null,null,null,null,null,null,null,null,null,null,null,null,null,null,null,null,null,null,null,null,null,null,null,null,null,null,null,null,null,null,null,null,null,3120,0.67498471165594021,25,24.999945705457225]
[null,null,null,null,null,null,null,null,null,null,null,null,null,null,null,null,null,null,null,null,null,null,null,null,null,null,null,null,null,null,null,null,null,null,null,null,null,null,null,null,null,null,null,null,3121,0.67520105290967614,25,24.999946405681573]
[null,null,null,null,null,null,null,null,null,null,null,null,null,null,null,null,null,null,null,null,null,null,null,null,null,null,null,null,null,null,null,null,null,null,null,null,null,null,null,null,null,null,null,null,3122,0.67541739416341195,25,24.999947096875289]
[null,null,null,null,null,null,null,null,null,null,null,null,null,null,null,null,null,null,null,null,null,null,null,null,null,null,null,null,null,null,null,null,null,null,null,null,null,null,null,null,null,null,null,null,3123,0.67563373541714788,25,24.999947779154834]
[null,null,null,null,null,null,null,null,null,null,null,null,null,null,null,null,null,null,null,null,null,null,null,null,null,null,null,null,null,null,null,null,null,null,null,null,null,null,null,null,null,null,null,null,3124,0.6758500766708837,25,24.999948452635174]
[null,null,null,null,null,null,null,null,null,null,null,null,null,null,null,null,null,null,null,null,null,null,null,null,null,null,null,null,null,null,null,null,null,null,null,null,null,null,null,null,null,null,null,null,3125,0.67606641792461963,25,24.999949117429793]
[null,null,null,null,null,null,null,null,null,null,null,null,null,null,null,null,null,null,null,null,null,null,null,null,null,null,null,null,null,null,null,null,null,null,null,null,null,null,null,null,null,null,null,null,3126,0.67628275917835545,25,24.999949773650709]
[null,null,null,null,null,null,null,null,null,null,null,null,null,null,null,null,null,null,null,null,null,null,null,null,null,null,null,null,null,null,null,null,null,null,null,null,null,null,null,null,null,null,null,null,3127,0.67649910043209138,25,24.999950421408492]
[null,null,null,null,null,null,null,null,null,null,null,null,null,null,null,null,null,null,null,null,null,null,null,null,null,null,null,null,null,null,null,null,null,null,null,null,null,null,null,null,null,null,null,null,3128,0.6767154416858272,25,24.99995106081229]
[null,null,null,null,null,null,null,null,null,null,null,null,null,null,null,null,null,null,null,null,null,null,null,null,null,null,null,null,null,null,null,null,null,null,null,null,null,null,null,null,null,null,null,null,3129,0.67693178293956313,25,24.999951691969841]
[null,null,null,null,null,null,null,null,null,null,null,null,null,null,null,null,null,null,null,null,null,null,null,null,null,null,null,null,null,null,null,null,null,null,null,null,null,null,null,null,null,null,null,null,3130,0.67714812419329906,25,24.999952314987496]
[null,null,null,null,null,null,null,null,null,null,null,null,null,null,null,null,null,null,null,null,null,null,null,null,null,null,null,null,null,null,null,null,null,null,null,null,null,null,null,null,null,null,null,null,3131,0.67736446544703488,25,24.999952929970235]
[null,null,null,null,null,null,null,null,null,null,null,null,null,null,null,null,null,null,null,null,null,null,null,null,null,null,null,null,null,null,null,null,null,null,null,null,null,null,null,null,null,null,null,null,3132,0.67758080670077081,25,24.999953537021682]
[null,null,null,null,null,null,null,null,null,null,null,null,null,null,null,null,null,null,null,null,null,null,null,null,null,null,null,null,null,null,null,null,null,null,null,null,null,null,null,null,null,null,null,null,3133,0.67779714795450663,25,24.999954136244128]
[null,null,null,null,null,null,null,null,null,null,null,null,null,null,null,null,null,null,null,null,null,null,null,null,null,null,null,null,null,null,null,null,null,null,null,null,null,null,null,null,null,null,null,null,3134,0.67801348920824256,25,24.999954727738537]
[null,null,null,null,null,null,null,null,null,null,null,null,null,null,null,null,null,null,null,null,null,null,null,null,null,null,null,null,null,null,null,null,null,null,null,null,null,null,null,null,null,null,null,null,3135,0.67822983046197838,25,24.999955311604577]
[null,null,null,null,null,null,null,null,null,null,null,null,null,null,null,null,null,null,null,null,null,null,null,null,null,null,null,null,null,null,null,null,null,null,null,null,null,null,null,null,null,null,null,null,3136,{"$f":"$AP$18/$N$7*AS3167","v":0.67844617171571431},25,24.999955887940629]
[null,null,null,null,null,null,null,null,null,null,null,null,null,null,null,null,null,null,null,null,null,null,null,null,null,null,null,null,null,null,null,null,null,null,null,null,null,null,null,null,null,null,null,null,{"$f":"AS3167+1","v":3137},0.67866251296945013,{"$f":"IF(($N$4*AT3168^2/2)<=$AP$13,($N$4*AT3168^2/2), IF(($AP$13+$N$6*(AT3168-$AP$12))<=$AP$17, ($AP$13+$N$6*(AT3168-$AP$12)), IF(AU3167<$D$14, ($AP$17+($N$6-$N$5*(AT3168-$AP$16)/2)*(AT3168-$AP$16)), $D$14)))","v":25},24.999956456843808]
[null,null,null,null,null,null,null,null,null,null,null,null,null,null,null,null,null,null,null,null,null,null,null,null,null,null,null,null,null,null,null,null,null,null,null,null,null,null,null,null,null,null,null,null,3138,0.67887885422318606,25,{"$f":"( $AP$6*AU3169 + $AP$7*AU3168 + $AP$9*AV3168 )/$AP$8","v":24.999957018409972}]
[null,null,null,null,null,null,null,null,null,null,null,null,null,null,null,null,null,null,null,null,null,null,null,null,null,null,null,null,null,null,null,null,null,null,null,null,null,null,null,null,null,null,null,null,3139,0.67909519547692188,25,24.999957572733745]
[null,null,null,null,null,null,null,null,null,null,null,null,null,null,null,null,null,null,null,null,null,null,null,null,null,null,null,null,null,null,null,null,null,null,null,null,null,null,null,null,null,null,null,null,3140,0.67931153673065781,25,24.999958119908531]
[null,null,null,null,null,null,null,null,null,null,null,null,null,null,null,null,null,null,null,null,null,null,null,null,null,null,null,null,null,null,null,null,null,null,null,null,null,null,null,null,null,null,null,null,3141,0.67952787798439362,25,24.999958660026525]
[null,null,null,null,null,null,null,null,null,null,null,null,null,null,null,null,null,null,null,null,null,null,null,null,null,null,null,null,null,null,null,null,null,null,null,null,null,null,null,null,null,null,null,null,3142,0.67974421923812955,25,24.999959193178743]
[null,null,null,null,null,null,null,null,null,null,null,null,null,null,null,null,null,null,null,null,null,null,null,null,null,null,null,null,null,null,null,null,null,null,null,null,null,null,null,null,null,null,null,null,3143,0.67996056049186537,25,24.99995971945502]
[null,null,null,null,null,null,null,null,null,null,null,null,null,null,null,null,null,null,null,null,null,null,null,null,null,null,null,null,null,null,null,null,null,null,null,null,null,null,null,null,null,null,null,null,3144,0.6801769017456013,25,24.999960238944034]
[null,null,null,null,null,null,null,null,null,null,null,null,null,null,null,null,null,null,null,null,null,null,null,null,null,null,null,null,null,null,null,null,null,null,null,null,null,null,null,null,null,null,null,null,3145,0.68039324299933723,25,24.999960751733315]
[null,null,null,null,null,null,null,null,null,null,null,null,null,null,null,null,null,null,null,null,null,null,null,null,null,null,null,null,null,null,null,null,null,null,null,null,null,null,null,null,null,null,null,null,3146,0.68060958425307305,25,24.99996125790927]
[null,null,null,null,null,null,null,null,null,null,null,null,null,null,null,null,null,null,null,null,null,null,null,null,null,null,null,null,null,null,null,null,null,null,null,null,null,null,null,null,null,null,null,null,3147,0.68082592550680898,25,24.999961757557188]
[null,null,null,null,null,null,null,null,null,null,null,null,null,null,null,null,null,null,null,null,null,null,null,null,null,null,null,null,null,null,null,null,null,null,null,null,null,null,null,null,null,null,null,null,3148,0.6810422667605448,25,24.999962250761257]
[null,null,null,null,null,null,null,null,null,null,null,null,null,null,null,null,null,null,null,null,null,null,null,null,null,null,null,null,null,null,null,null,null,null,null,null,null,null,null,null,null,null,null,null,3149,0.68125860801428073,25,24.999962737604587]
[null,null,null,null,null,null,null,null,null,null,null,null,null,null,null,null,null,null,null,null,null,null,null,null,null,null,null,null,null,null,null,null,null,null,null,null,null,null,null,null,null,null,null,null,3150,0.68147494926801655,25,24.99996321816921]
[null,null,null,null,null,null,null,null,null,null,null,null,null,null,null,null,null,null,null,null,null,null,null,null,null,null,null,null,null,null,null,null,null,null,null,null,null,null,null,null,null,null,null,null,3151,0.68169129052175248,25,24.999963692536099]
[null,null,null,null,null,null,null,null,null,null,null,null,null,null,null,null,null,null,null,null,null,null,null,null,null,null,null,null,null,null,null,null,null,null,null,null,null,null,null,null,null,null,null,null,3152,0.6819076317754883,25,24.999964160785186]
[null,null,null,null,null,null,null,null,null,null,null,null,null,null,null,null,null,null,null,null,null,null,null,null,null,null,null,null,null,null,null,null,null,null,null,null,null,null,null,null,null,null,null,null,3153,0.68212397302922423,25,24.999964622995371]
[null,null,null,null,null,null,null,null,null,null,null,null,null,null,null,null,null,null,null,null,null,null,null,null,null,null,null,null,null,null,null,null,null,null,null,null,null,null,null,null,null,null,null,null,3154,0.68234031428296005,25,24.999965079244536]
[null,null,null,null,null,null,null,null,null,null,null,null,null,null,null,null,null,null,null,null,null,null,null,null,null,null,null,null,null,null,null,null,null,null,null,null,null,null,null,null,null,null,null,null,3155,0.68255665553669598,25,24.999965529609561]
[null,null,null,null,null,null,null,null,null,null,null,null,null,null,null,null,null,null,null,null,null,null,null,null,null,null,null,null,null,null,null,null,null,null,null,null,null,null,null,null,null,null,null,null,3156,0.6827729967904318,25,24.999965974166333]
[null,null,null,null,null,null,null,null,null,null,null,null,null,null,null,null,null,null,null,null,null,null,null,null,null,null,null,null,null,null,null,null,null,null,null,null,null,null,null,null,null,null,null,null,3157,0.68298933804416773,25,24.999966412989757]
[null,null,null,null,null,null,null,null,null,null,null,null,null,null,null,null,null,null,null,null,null,null,null,null,null,null,null,null,null,null,null,null,null,null,null,null,null,null,null,null,null,null,null,null,3158,0.68320567929790355,25,24.999966846153775]
[null,null,null,null,null,null,null,null,null,null,null,null,null,null,null,null,null,null,null,null,null,null,null,null,null,null,null,null,null,null,null,null,null,null,null,null,null,null,null,null,null,null,null,null,3159,0.68342202055163948,25,24.999967273731375]
[null,null,null,null,null,null,null,null,null,null,null,null,null,null,null,null,null,null,null,null,null,null,null,null,null,null,null,null,null,null,null,null,null,null,null,null,null,null,null,null,null,null,null,null,3160,0.68363836180537541,25,24.999967695794602]
[null,null,null,null,null,null,null,null,null,null,null,null,null,null,null,null,null,null,null,null,null,null,null,null,null,null,null,null,null,null,null,null,null,null,null,null,null,null,null,null,null,null,null,null,3161,0.68385470305911122,25,24.999968112414582]
[null,null,null,null,null,null,null,null,null,null,null,null,null,null,null,null,null,null,null,null,null,null,null,null,null,null,null,null,null,null,null,null,null,null,null,null,null,null,null,null,null,null,null,null,3162,0.68407104431284715,25,24.999968523661508]
[null,null,null,null,null,null,null,null,null,null,null,null,null,null,null,null,null,null,null,null,null,null,null,null,null,null,null,null,null,null,null,null,null,null,null,null,null,null,null,null,null,null,null,null,3163,0.68428738556658297,25,24.999968929604677]
[null,null,null,null,null,null,null,null,null,null,null,null,null,null,null,null,null,null,null,null,null,null,null,null,null,null,null,null,null,null,null,null,null,null,null,null,null,null,null,null,null,null,null,null,3164,0.6845037268203189,25,24.999969330312489]
[null,null,null,null,null,null,null,null,null,null,null,null,null,null,null,null,null,null,null,null,null,null,null,null,null,null,null,null,null,null,null,null,null,null,null,null,null,null,null,null,null,null,null,null,3165,0.68472006807405472,25,24.999969725852463]
[null,null,null,null,null,null,null,null,null,null,null,null,null,null,null,null,null,null,null,null,null,null,null,null,null,null,null,null,null,null,null,null,null,null,null,null,null,null,null,null,null,null,null,null,3166,0.68493640932779065,25,24.999970116291248]
[null,null,null,null,null,null,null,null,null,null,null,null,null,null,null,null,null,null,null,null,null,null,null,null,null,null,null,null,null,null,null,null,null,null,null,null,null,null,null,null,null,null,null,null,3167,0.68515275058152647,25,24.999970501694634]
[null,null,null,null,null,null,null,null,null,null,null,null,null,null,null,null,null,null,null,null,null,null,null,null,null,null,null,null,null,null,null,null,null,null,null,null,null,null,null,null,null,null,null,null,3168,0.6853690918352624,25,24.99997088212756]
[null,null,null,null,null,null,null,null,null,null,null,null,null,null,null,null,null,null,null,null,null,null,null,null,null,null,null,null,null,null,null,null,null,null,null,null,null,null,null,null,null,null,null,null,3169,0.68558543308899822,25,24.999971257654128]
[null,null,null,null,null,null,null,null,null,null,null,null,null,null,null,null,null,null,null,null,null,null,null,null,null,null,null,null,null,null,null,null,null,null,null,null,null,null,null,null,null,null,null,null,3170,0.68580177434273415,25,24.999971628337615]
[null,null,null,null,null,null,null,null,null,null,null,null,null,null,null,null,null,null,null,null,null,null,null,null,null,null,null,null,null,null,null,null,null,null,null,null,null,null,null,null,null,null,null,null,3171,0.68601811559646997,25,24.999971994240482]
[null,null,null,null,null,null,null,null,null,null,null,null,null,null,null,null,null,null,null,null,null,null,null,null,null,null,null,null,null,null,null,null,null,null,null,null,null,null,null,null,null,null,null,null,3172,0.6862344568502059,25,24.999972355424383]
[null,null,null,null,null,null,null,null,null,null,null,null,null,null,null,null,null,null,null,null,null,null,null,null,null,null,null,null,null,null,null,null,null,null,null,null,null,null,null,null,null,null,null,null,3173,0.68645079810394183,25,24.999972711950175]
[null,null,null,null,null,null,null,null,null,null,null,null,null,null,null,null,null,null,null,null,null,null,null,null,null,null,null,null,null,null,null,null,null,null,null,null,null,null,null,null,null,null,null,null,3174,0.68666713935767765,25,24.999973063877935]
[null,null,null,null,null,null,null,null,null,null,null,null,null,null,null,null,null,null,null,null,null,null,null,null,null,null,null,null,null,null,null,null,null,null,null,null,null,null,null,null,null,null,null,null,3175,0.68688348061141358,25,24.999973411266964]
[null,null,null,null,null,null,null,null,null,null,null,null,null,null,null,null,null,null,null,null,null,null,null,null,null,null,null,null,null,null,null,null,null,null,null,null,null,null,null,null,null,null,null,null,3176,0.6870998218651494,25,24.999973754175798]
[null,null,null,null,null,null,null,null,null,null,null,null,null,null,null,null,null,null,null,null,null,null,null,null,null,null,null,null,null,null,null,null,null,null,null,null,null,null,null,null,null,null,null,null,3177,0.68731616311888533,25,24.999974092662214]
[null,null,null,null,null,null,null,null,null,null,null,null,null,null,null,null,null,null,null,null,null,null,null,null,null,null,null,null,null,null,null,null,null,null,null,null,null,null,null,null,null,null,null,null,3178,0.68753250437262114,25,24.999974426783247]
[null,null,null,null,null,null,null,null,null,null,null,null,null,null,null,null,null,null,null,null,null,null,null,null,null,null,null,null,null,null,null,null,null,null,null,null,null,null,null,null,null,null,null,null,3179,0.68774884562635707,25,24.999974756595197]
[null,null,null,null,null,null,null,null,null,null,null,null,null,null,null,null,null,null,null,null,null,null,null,null,null,null,null,null,null,null,null,null,null,null,null,null,null,null,null,null,null,null,null,null,3180,0.68796518688009289,25,24.999975082153636]
[null,null,null,null,null,null,null,null,null,null,null,null,null,null,null,null,null,null,null,null,null,null,null,null,null,null,null,null,null,null,null,null,null,null,null,null,null,null,null,null,null,null,null,null,3181,0.68818152813382882,25,24.999975403513421]
[null,null,null,null,null,null,null,null,null,null,null,null,null,null,null,null,null,null,null,null,null,null,null,null,null,null,null,null,null,null,null,null,null,null,null,null,null,null,null,null,null,null,null,null,3182,0.68839786938756464,25,24.999975720728703]
[null,null,null,null,null,null,null,null,null,null,null,null,null,null,null,null,null,null,null,null,null,null,null,null,null,null,null,null,null,null,null,null,null,null,null,null,null,null,null,null,null,null,null,null,3183,0.68861421064130057,25,24.999976033852931]
[null,null,null,null,null,null,null,null,null,null,null,null,null,null,null,null,null,null,null,null,null,null,null,null,null,null,null,null,null,null,null,null,null,null,null,null,null,null,null,null,null,null,null,null,3184,0.68883055189503639,25,24.999976342938869]
[null,null,null,null,null,null,null,null,null,null,null,null,null,null,null,null,null,null,null,null,null,null,null,null,null,null,null,null,null,null,null,null,null,null,null,null,null,null,null,null,null,null,null,null,3185,0.68904689314877232,25,24.999976648038597]
[null,null,null,null,null,null,null,null,null,null,null,null,null,null,null,null,null,null,null,null,null,null,null,null,null,null,null,null,null,null,null,null,null,null,null,null,null,null,null,null,null,null,null,null,3186,0.68926323440250814,25,24.999976949203525]
[null,null,null,null,null,null,null,null,null,null,null,null,null,null,null,null,null,null,null,null,null,null,null,null,null,null,null,null,null,null,null,null,null,null,null,null,null,null,null,null,null,null,null,null,3187,0.68947957565624407,25,24.999977246484395]
[null,null,null,null,null,null,null,null,null,null,null,null,null,null,null,null,null,null,null,null,null,null,null,null,null,null,null,null,null,null,null,null,null,null,null,null,null,null,null,null,null,null,null,null,3188,0.68969591690998,25,24.999977539931301]
[null,null,null,null,null,null,null,null,null,null,null,null,null,null,null,null,null,null,null,null,null,null,null,null,null,null,null,null,null,null,null,null,null,null,null,null,null,null,null,null,null,null,null,null,3189,0.68991225816371582,25,24.999977829593689]
[null,null,null,null,null,null,null,null,null,null,null,null,null,null,null,null,null,null,null,null,null,null,null,null,null,null,null,null,null,null,null,null,null,null,null,null,null,null,null,null,null,null,null,null,3190,0.69012859941745175,25,24.999978115520367]
[null,null,null,null,null,null,null,null,null,null,null,null,null,null,null,null,null,null,null,null,null,null,null,null,null,null,null,null,null,null,null,null,null,null,null,null,null,null,null,null,null,null,null,null,3191,0.69034494067118757,25,24.999978397759513]
[null,null,null,null,null,null,null,null,null,null,null,null,null,null,null,null,null,null,null,null,null,null,null,null,null,null,null,null,null,null,null,null,null,null,null,null,null,null,null,null,null,null,null,null,3192,0.6905612819249235,25,24.999978676358687]
[null,null,null,null,null,null,null,null,null,null,null,null,null,null,null,null,null,null,null,null,null,null,null,null,null,null,null,null,null,null,null,null,null,null,null,null,null,null,null,null,null,null,null,null,3193,0.69077762317865932,25,24.999978951364831]
[null,null,null,null,null,null,null,null,null,null,null,null,null,null,null,null,null,null,null,null,null,null,null,null,null,null,null,null,null,null,null,null,null,null,null,null,null,null,null,null,null,null,null,null,3194,0.69099396443239525,25,24.999979222824283]
[null,null,null,null,null,null,null,null,null,null,null,null,null,null,null,null,null,null,null,null,null,null,null,null,null,null,null,null,null,null,null,null,null,null,null,null,null,null,null,null,null,null,null,null,3195,0.69121030568613107,25,24.999979490782785]
[null,null,null,null,null,null,null,null,null,null,null,null,null,null,null,null,null,null,null,null,null,null,null,null,null,null,null,null,null,null,null,null,null,null,null,null,null,null,null,null,null,null,null,null,3196,0.691426646939867,25,24.999979755285484]
[null,null,null,null,null,null,null,null,null,null,null,null,null,null,null,null,null,null,null,null,null,null,null,null,null,null,null,null,null,null,null,null,null,null,null,null,null,null,null,null,null,null,null,null,3197,0.69164298819360281,25,24.999980016376952]
[null,null,null,null,null,null,null,null,null,null,null,null,null,null,null,null,null,null,null,null,null,null,null,null,null,null,null,null,null,null,null,null,null,null,null,null,null,null,null,null,null,null,null,null,3198,0.69185932944733874,25,24.999980274101183]
[null,null,null,null,null,null,null,null,null,null,null,null,null,null,null,null,null,null,null,null,null,null,null,null,null,null,null,null,null,null,null,null,null,null,null,null,null,null,null,null,null,null,null,null,3199,0.69207567070107456,25,24.999980528501606]
[null,null,null,null,null,null,null,null,null,null,null,null,null,null,null,null,null,null,null,null,null,null,null,null,null,null,null,null,null,null,null,null,null,null,null,null,null,null,null,null,null,null,null,null,3200,{"$f":"$AP$18/$N$7*AS3231","v":0.69229201195481049},25,24.999980779621087]

{"sheet":"DataSerch","index":1,"n_rows":338,"n_cols":20,"rows_kept":338,"cut":false,"hidden":true,"merged":[[124,17,124,18],[23,1,23,2],[57,1,57,2],[23,3,23,4],[112,14,112,18]]}
["選択型式","メカ機種データレコード",null,null,null,null,null,null,null,null,null,null,":$89","：「メカ機種データ」範囲検索"]
[{"$f":"CycleTime!C6","v":"RCP3-SA2AC-20P-*S"},"№",{"$f":"ModelData!$B$2","v":"ｱｸﾁｭｴｰﾀ型式"},null,null,null,null,{"$f":"ModelData!$C$2","v":"最小ｽﾄﾛｰｸ"},{"$f":"ModelData!$D$2","v":"最大ｽﾄﾛｰｸ"},{"$f":"ModelData!$E$2","v":"動作種別"},null,null,null,"：「モータ機種データ」範囲検索"]
[null,{"$f":"MATCH(A2,ModelData!$B$4:$B$89,0)","v":1},{"$f":"LOOKUP(B3,ModelData!$A$4:$A$89,ModelData!$B$4:$B$89)","v":"RCP3-SA2AC-20P-*S"},null,null,null,null,{"$f":"LOOKUP(B3,ModelData!$A$4:$A$89,ModelData!$C$4:$C$89)","v":25},{"$f":"LOOKUP(B3,ModelData!$A$4:$A$89,ModelData!$D$4:$D$89)","v":100},{"$f":"LOOKUP(B3,ModelData!$A$4:$A$89,ModelData!$E$4:$E$89)","v":0},null,null,":$242","：「リードデータ」範囲検索"]
["リード",null,null,null,"[kg]","[mm]","[mm]","[mm]","[mm]","0/1","[K]",null,":$525","：「ストロークデータ」範囲検索"]
[{"$f":"CycleTime!C8","v":1},null,null,null,null,null,null,{"$f":"H3","v":25},{"$f":"I3","v":100},{"$f":"J3","v":0},null,null,":$1315","：「搬送負荷データ」範囲検索"]
[null,null,null,null,null,null,null,null,null,null,null,null,":$1414","：「加減速・速度データ」範囲検索"]
["ストローク","モータ機種レコード"]
[{"$f":"CycleTime!C10","v":25}]
[]
["設置姿勢",null,null,"[Nm/A]","[A]","[kgm^2]","[Nm]","[Nm]","[rad/s]","[rad/s]","[rad/s]","[Nm/(rad/s)]","[K]","[K]","[s]"]
[{"$f":"IF(CycleTime!C12=CycleTime!AE20,0,1)","v":0}]
[]
["搬送負荷質量","リレーション",null,null,null,"リードデータレコード",null,null,{"$f":"LOOKUP(C15,LeadData!$A$4:$A$242,LeadData!$K$4:$K$242)","v":"RCP3-SA2AC-20P-*S"}]
[{"$f":"CycleTime!B31","v":1},null,"ﾘｰﾄﾞ№","ｽﾄﾛｰｸ№","負荷№",{"$f":"LeadData!$B$2","v":"ﾘｰﾄﾞ長"},null,{"$f":"LeadData!$C$2","v":"水平定格加速度"},{"$f":"LeadData!$D$2","v":"垂直定格加速度"},{"$f":"LeadData!$E$2","v":"水平最大加速度"},{"$f":"LeadData!$F$2","v":"垂直最大加速度"},null,null,null,{"$f":"LeadData!$G$2","v":"ｷﾞｱ比分子"},{"$f":"LeadData!$H$2","v":"ｷﾞｱ比分母"},null,{"$f":"LeadData!$I$2","v":"ｽﾄﾛｰｸ刻み"},{"$f":"LeadData!$J$2","v":"位置決め幅\n初期値"}]
[null,{"$f":"ModelData!$F$2","v":"リンク[0]"},{"$f":"LOOKUP(B3,ModelData!$A$4:$A$89,ModelData!$F$4:$F$89)","v":1},{"$f":"LOOKUP(B3,ModelData!$A$4:$A$89,ModelData!$G$4:$G$89)","v":1},{"$f":"LOOKUP(B3,ModelData!$A$4:$A$89,ModelData!$H$4:$H$89)","v":1},{"$f":"LOOKUP(C15,LeadData!$A$4:$A$242,LeadData!$B$4:$B$242)","v":1000},null,{"$f":"LOOKUP(C15,LeadData!$A$4:$A$242,LeadData!$C$4:$C$242)","v":1961330},{"$f":"LOOKUP(C15,LeadData!$A$4:$A$242,LeadData!$D$4:$D$242)","v":-1},{"$f":"LOOKUP(C15,LeadData!$A$4:$A$242,LeadData!$E$4:$E$242)","v":1961330},{"$f":"LOOKUP(C15,LeadData!$A$4:$A$242,LeadData!$F$4:$F$242)","v":-1},null,null,null,{"$f":"LOOKUP(C15,LeadData!$A$4:$A$242,LeadData!$G$4:$G$242)","v":1},{"$f":"LOOKUP(C15,LeadData!$A$4:$A$242,LeadData!$H$4:$H$242)","v":1},null,{"$f":"LOOKUP(C15,LeadData!$A$4:$A$242,LeadData!$I$4:$I$242)","v":25},{"$f":"LOOKUP(C15,LeadData!$A$4:$A$242,LeadData!$J$4:$J$242)","v":0.1}]
[null,{"$f":"ModelData!$I$2","v":"リンク[1]"},{"$f":"LOOKUP(B3,ModelData!$A$4:$A$89,ModelData!$I$4:$I$89)","v":2},{"$f":"LOOKUP(B3,ModelData!$A$4:$A$89,ModelData!$J$4:$J$89)","v":2},{"$f":"LOOKUP(B3,ModelData!$A$4:$A$89,ModelData!$K$4:$K$89)","v":2},{"$f":"LOOKUP(C16,LeadData!$A$4:$A$242,LeadData!$B$4:$B$242)","v":2000},null,{"$f":"LOOKUP(C16,LeadData!$A$4:$A$242,LeadData!$C$4:$C$242)","v":1961330},{"$f":"LOOKUP(C16,LeadData!$A$4:$A$242,LeadData!$D$4:$D$242)","v":-1},{"$f":"LOOKUP(C16,LeadData!$A$4:$A$242,LeadData!$E$4:$E$242)","v":1961330},{"$f":"LOOKUP(C16,LeadData!$A$4:$A$242,LeadData!$F$4:$F$242)","v":-1},null,null,null,{"$f":"LOOKUP(C16,LeadData!$A$4:$A$242,LeadData!$G$4:$G$242)","v":1},{"$f":"LOOKUP(C16,LeadData!$A$4:$A$242,LeadData!$H$4:$H$242)","v":1},null,{"$f":"LOOKUP(C16,LeadData!$A$4:$A$242,LeadData!$I$4:$I$242)","v":25},{"$f":"LOOKUP(C16,LeadData!$A$4:$A$242,LeadData!$J$4:$J$242)","v":0.1}]
[null,{"$f":"ModelData!$L$2","v":"リンク[2]"},{"$f":"LOOKUP(B3,ModelData!$A$4:$A$89,ModelData!$L$4:$L$89)","v":3},{"$f":"LOOKUP(B3,ModelData!$A$4:$A$89,ModelData!$M$4:$M$89)","v":3},{"$f":"LOOKUP(B3,ModelData!$A$4:$A$89,ModelData!$N$4:$N$89)","v":3},{"$f":"LOOKUP(C17,LeadData!$A$4:$A$242,LeadData!$B$4:$B$242)","v":4000},null,{"$f":"LOOKUP(C17,LeadData!$A$4:$A$242,LeadData!$C$4:$C$242)","v":1961330},{"$f":"LOOKUP(C17,LeadData!$A$4:$A$242,LeadData!$D$4:$D$242)","v":-1},{"$f":"LOOKUP(C17,LeadData!$A$4:$A$242,LeadData!$E$4:$E$242)","v":1961330},{"$f":"LOOKUP(C17,LeadData!$A$4:$A$242,LeadData!$F$4:$F$242)","v":-1},null,null,null,{"$f":"LOOKUP(C17,LeadData!$A$4:$A$242,LeadData!$G$4:$G$242)","v":1},{"$f":"LOOKUP(C17,LeadData!$A$4:$A$242,LeadData!$H$4:$H$242)","v":1},null,{"$f":"LOOKUP(C17,LeadData!$A$4:$A$242,LeadData!$I$4:$I$242)","v":25},{"$f":"LOOKUP(C17,LeadData!$A$4:$A$242,LeadData!$J$4:$J$242)","v":0.1}]
[null,{"$f":"ModelData!$O$2","v":"リンク[3]"},{"$f":"LOOKUP(B3,ModelData!$A$4:$A$89,ModelData!$O$4:$O$89)","v":-1},{"$f":"LOOKUP(B3,ModelData!$A$4:$A$89,ModelData!$P$4:$P$89)","v":-1},{"$f":"LOOKUP(B3,ModelData!$A$4:$A$89,ModelData!$Q$4:$Q$89)","v":-1},{"$f":"LOOKUP(C18,LeadData!$A$4:$A$242,LeadData!$B$4:$B$242)","v":{"$error":"#N/A"}},null,{"$f":"LOOKUP(C18,LeadData!$A$4:$A$242,LeadData!$C$4:$C$242)","v":{"$error":"#N/A"}},{"$f":"LOOKUP(C18,LeadData!$A$4:$A$242,LeadData!$D$4:$D$242)","v":{"$error":"#N/A"}},{"$f":"LOOKUP(C18,LeadData!$A$4:$A$242,LeadData!$E$4:$E$242)","v":{"$error":"#N/A"}},{"$f":"LOOKUP(C18,LeadData!$A$4:$A$242,LeadData!$F$4:$F$242)","v":{"$error":"#N/A"}},null,null,null,{"$f":"LOOKUP(C18,LeadData!$A$4:$A$242,LeadData!$G$4:$G$242)","v":{"$error":"#N/A"}},{"$f":"LOOKUP(C18,LeadData!$A$4:$A$242,LeadData!$H$4:$H$242)","v":{"$error":"#N/A"}},null,{"$f":"LOOKUP(C18,LeadData!$A$4:$A$242,LeadData!$I$4:$I$242)","v":{"$error":"#N/A"}},{"$f":"LOOKUP(C18,LeadData!$A$4:$A$242,LeadData!$J$4:$J$242)","v":{"$error":"#N/A"}}]
[null,{"$f":"ModelData!$R$2","v":"リンク[4]"},{"$f":"LOOKUP(B3,ModelData!$A$4:$A$89,ModelData!$R$4:$R$89)","v":-1},{"$f":"LOOKUP(B3,ModelData!$A$4:$A$89,ModelData!$S$4:$S$89)","v":-1},{"$f":"LOOKUP(B3,ModelData!$A$4:$A$89,ModelData!$T$4:$T$89)","v":-1},{"$f":"LOOKUP(C19,LeadData!$A$4:$A$242,LeadData!$B$4:$B$242)","v":{"$error":"#N/A"}},null,{"$f":"LOOKUP(C19,LeadData!$A$4:$A$242,LeadData!$C$4:$C$242)","v":{"$error":"#N/A"}},{"$f":"LOOKUP(C19,LeadData!$A$4:$A$242,LeadData!$D$4:$D$242)","v":{"$error":"#N/A"}},{"$f":"LOOKUP(C19,LeadData!$A$4:$A$242,LeadData!$E$4:$E$242)","v":{"$error":"#N/A"}},{"$f":"LOOKUP(C19,LeadData!$A$4:$A$242,LeadData!$F$4:$F$242)","v":{"$error":"#N/A"}},null,null,null,{"$f":"LOOKUP(C19,LeadData!$A$4:$A$242,LeadData!$G$4:$G$242)","v":{"$error":"#N/A"}},{"$f":"LOOKUP(C19,LeadData!$A$4:$A$242,LeadData!$H$4:$H$242)","v":{"$error":"#N/A"}},null,{"$f":"LOOKUP(C19,LeadData!$A$4:$A$242,LeadData!$I$4:$I$242)","v":{"$error":"#N/A"}},{"$f":"LOOKUP(C19,LeadData!$A$4:$A$242,LeadData!$J$4:$J$242)","v":{"$error":"#N/A"}}]
[null,{"$f":"ModelData!$U$2","v":"リンク[5]"},{"$f":"LOOKUP(B3,ModelData!$A$4:$A$89,ModelData!$U$4:$U$89)","v":-1},{"$f":"LOOKUP(B3,ModelData!$A$4:$A$89,ModelData!$V$4:$V$89)","v":-1},{"$f":"LOOKUP(B3,ModelData!$A$4:$A$89,ModelData!$W$4:$W$89)","v":-1},{"$f":"LOOKUP(C20,LeadData!$A$4:$A$242,LeadData!$B$4:$B$242)","v":{"$error":"#N/A"}},null,{"$f":"LOOKUP(C20,LeadData!$A$4:$A$242,LeadData!$C$4:$C$242)","v":{"$error":"#N/A"}},{"$f":"LOOKUP(C20,LeadData!$A$4:$A$242,LeadData!$D$4:$D$242)","v":{"$error":"#N/A"}},{"$f":"LOOKUP(C20,LeadData!$A$4:$A$242,LeadData!$E$4:$E$242)","v":{"$error":"#N/A"}},{"$f":"LOOKUP(C20,LeadData!$A$4:$A$242,LeadData!$F$4:$F$242)","v":{"$error":"#N/A"}},null,null,null,{"$f":"LOOKUP(C20,LeadData!$A$4:$A$242,LeadData!$G$4:$G$242)","v":{"$error":"#N/A"}},{"$f":"LOOKUP(C20,LeadData!$A$4:$A$242,LeadData!$H$4:$H$242)","v":{"$error":"#N/A"}},null,{"$f":"LOOKUP(C20,LeadData!$A$4:$A$242,LeadData!$I$4:$I$242)","v":{"$error":"#N/A"}},{"$f":"LOOKUP(C20,LeadData!$A$4:$A$242,LeadData!$J$4:$J$242)","v":{"$error":"#N/A"}}]
[null,{"$f":"ModelData!$X$2","v":"リンク[6]"},{"$f":"LOOKUP(B3,ModelData!$A$4:$A$89,ModelData!$X$4:$X$89)","v":-1},{"$f":"LOOKUP(B3,ModelData!$A$4:$A$89,ModelData!$Y$4:$Y$89)","v":-1},{"$f":"LOOKUP(B3,ModelData!$A$4:$A$89,ModelData!$Z$4:$Z$89)","v":-1},{"$f":"LOOKUP(C21,LeadData!$A$4:$A$242,LeadData!$B$4:$B$242)","v":{"$error":"#N/A"}},null,{"$f":"LOOKUP(C21,LeadData!$A$4:$A$242,LeadData!$C$4:$C$242)","v":{"$error":"#N/A"}},{"$f":"LOOKUP(C21,LeadData!$A$4:$A$242,LeadData!$D$4:$D$242)","v":{"$error":"#N/A"}},{"$f":"LOOKUP(C21,LeadData!$A$4:$A$242,LeadData!$E$4:$E$242)","v":{"$error":"#N/A"}},{"$f":"LOOKUP(C21,LeadData!$A$4:$A$242,LeadData!$F$4:$F$242)","v":{"$error":"#N/A"}},null,null,null,{"$f":"LOOKUP(C21,LeadData!$A$4:$A$242,LeadData!$G$4:$G$242)","v":{"$error":"#N/A"}},{"$f":"LOOKUP(C21,LeadData!$A$4:$A$242,LeadData!$H$4:$H$242)","v":{"$error":"#N/A"}},null,{"$f":"LOOKUP(C21,LeadData!$A$4:$A$242,LeadData!$I$4:$I$242)","v":{"$error":"#N/A"}},{"$f":"LOOKUP(C21,LeadData!$A$4:$A$242,LeadData!$J$4:$J$242)","v":{"$error":"#N/A"}}]
[null,{"$f":"ModelData!$AA$2","v":"リンク[7]"},{"$f":"LOOKUP(B3,ModelData!$A$4:$A$89,ModelData!$AA$4:$AA$89)","v":-1},{"$f":"LOOKUP(B3,ModelData!$A$4:$A$89,ModelData!$AB$4:$AB$89)","v":-1},{"$f":"LOOKUP(B3,ModelData!$A$4:$A$89,ModelData!$AC$4:$AC$89)","v":-1},{"$f":"LOOKUP(C22,LeadData!$A$4:$A$242,LeadData!$B$4:$B$242)","v":{"$error":"#N/A"}},null,{"$f":"LOOKUP(C22,LeadData!$A$4:$A$242,LeadData!$C$4:$C$242)","v":{"$error":"#N/A"}},{"$f":"LOOKUP(C22,LeadData!$A$4:$A$242,LeadData!$D$4:$D$242)","v":{"$error":"#N/A"}},{"$f":"LOOKUP(C22,LeadData!$A$4:$A$242,LeadData!$E$4:$E$242)","v":{"$error":"#N/A"}},{"$f":"LOOKUP(C22,LeadData!$A$4:$A$242,LeadData!$F$4:$F$242)","v":{"$error":"#N/A"}},null,null,null,{"$f":"LOOKUP(C22,LeadData!$A$4:$A$242,LeadData!$G$4:$G$242)","v":{"$error":"#N/A"}},{"$f":"LOOKUP(C22,LeadData!$A$4:$A$242,LeadData!$H$4:$H$242)","v":{"$error":"#N/A"}},null,{"$f":"LOOKUP(C22,LeadData!$A$4:$A$242,LeadData!$I$4:$I$242)","v":{"$error":"#N/A"}},{"$f":"LOOKUP(C22,LeadData!$A$4:$A$242,LeadData!$J$4:$J$242)","v":{"$error":"#N/A"}}]
[null,"リードリストとリレーション",null,null,null,"リードデータレコードの物理量変換"]
[null,"ﾘｰﾄﾞﾘｽﾄ",null,"リンク",null,{"$f":"LeadData!$B$2","v":"ﾘｰﾄﾞ長"},null,{"$f":"LeadData!$C$2","v":"水平定格加速度"},{"$f":"LeadData!$D$2","v":"垂直定格加速度"},{"$f":"LeadData!$E$2","v":"水平最大加速度"},{"$f":"LeadData!$F$2","v":"垂直最大加速度"},null,null,null,{"$f":"LeadData!$G$2","v":"ｷﾞｱ比分子"},{"$f":"LeadData!$H$2","v":"ｷﾞｱ比分母"},null,{"$f":"LeadData!$I$2","v":"ｽﾄﾛｰｸ刻み"},{"$f":"LeadData!$J$2","v":"位置決め幅\n初期値"}]
[null,"№","ﾃﾞｰﾀ",{"$f":"D14","v":"ｽﾄﾛｰｸ№"},{"$f":"E14","v":"負荷№"},"[mm]","[kgm^2]","[m/s^2]","[m/s^2]","[m/s^2]","[m/s^2]","[Nm]","[Nms]","[Nm]",null,null,null,"[mm]","[mm]"]
[null,1,{"$f":"IF(C15=-1,\"- - -\",IF(F26<=0,P26/O26,F26))","v":1},{"$f":"D15","v":1},1,{"$f":"F15/1000","v":1},null,{"$f":"H15*0.000001","v":1.96133},-9.9999999999999995E-7,1.96133,-9.9999999999999995E-7,null,null,null,{"$f":"O15","v":1},{"$f":"P15","v":1},null,{"$f":"R15","v":25},0.1]
[null,{"$f":"B26+1","v":2},2,2,2,2,null,1.96133,-9.9999999999999995E-7,1.96133,-9.9999999999999995E-7,null,null,null,{"$f":"O16","v":1},1,null,25,0.1]
[null,{"$f":"B27+1","v":3},4,3,3,4,null,1.96133,-9.9999999999999995E-7,1.96133,-9.9999999999999995E-7,null,null,null,1,1,null,25,0.1]
[null,4,"- - -",-1,-1,{"$error":"#N/A"},null,{"$error":"#N/A"},{"$error":"#N/A"},{"$error":"#N/A"},{"$error":"#N/A"},null,null,null,{"$error":"#N/A"},{"$error":"#N/A"},null,{"$f":"R18","v":{"$error":"#N/A"}},{"$error":"#N/A"}]
[null,5,"- - -",-1,-1,{"$error":"#N/A"},null,{"$error":"#N/A"},{"$error":"#N/A"},{"$error":"#N/A"},{"$error":"#N/A"},null,null,null,{"$error":"#N/A"},{"$error":"#N/A"},null,{"$error":"#N/A"},{"$error":"#N/A"}]
[null,6,"- - -",-1,-1,{"$error":"#N/A"},null,{"$error":"#N/A"},{"$error":"#N/A"},{"$error":"#N/A"},{"$error":"#N/A"},null,null,null,{"$error":"#N/A"},{"$error":"#N/A"},null,{"$error":"#N/A"},{"$error":"#N/A"}]
[null,7,"- - -",-1,-1,{"$error":"#N/A"},null,{"$error":"#N/A"},{"$error":"#N/A"},{"$error":"#N/A"},{"$error":"#N/A"},null,null,null,{"$error":"#N/A"},{"$error":"#N/A"},null,{"$error":"#N/A"},{"$error":"#N/A"}]
[null,8,"- - -",-1,-1,{"$error":"#N/A"},null,{"$error":"#N/A"},{"$error":"#N/A"},{"$error":"#N/A"},{"$error":"#N/A"},null,null,null,{"$error":"#N/A"},{"$error":"#N/A"},null,{"$error":"#N/A"},{"$error":"#N/A"}]
[]
[null,"リードリスト選択№",null,{"$f":"MATCH(A5,C26:C33,0)","v":1},"ストロークデータレコード",null,null,{"$f":"LOOKUP(C37,StrokeData!$A$4:$A$525,StrokeData!$L$4:$L$525)","v":"RCP3-SA2AC-20P-1S"}]
[null,"№","stﾚｺｰﾄﾞ№",{"$f":"StrokeData!$B$2","v":"ｽﾄﾛｰｸ長"},{"$f":"StrokeData!$C$2","v":"有効ｽﾄﾛｰｸ補正"},null,null,{"$f":"StrokeData!$D$2","v":"水平可搬質量"},{"$f":"StrokeData!$E$2","v":"垂直可搬質量"},{"$f":"StrokeData!$F$2","v":"最大速度"},{"$f":"StrokeData!$G$2","v":"位置ｹﾞｲﾝ"},{"$f":"StrokeData!$H$2","v":"FFｹﾞｲﾝ"},{"$f":"StrokeData!$I$2","v":"速度制御帯域"},null,null,null,null,null,{"$f":"StrokeData!$J$2","v":"前ﾃﾞｰﾀ№"},{"$f":"StrokeData!$K$2","v":"次ﾃﾞｰﾀ№"}]
[null,1,{"$f":"LOOKUP(D35,B26:B33,D26:D33)","v":1},{"$f":"LOOKUP(C37,StrokeData!$A$4:$A$525,StrokeData!$B$4:$B$525)","v":100},{"$f":"LOOKUP(C37,StrokeData!$A$4:$A$525,StrokeData!$C$4:$C$525)","v":0},null,null,{"$f":"LOOKUP(C37,StrokeData!$A$4:$A$525,StrokeData!$D$4:$D$525)","v":1000},{"$f":"LOOKUP(C37,StrokeData!$A$4:$A$525,StrokeData!$E$4:$E$525)","v":-1},{"$f":"LOOKUP(C37,StrokeData!$A$4:$A$525,StrokeData!$F$4:$F$525)","v":50},{"$f":"LOOKUP(C37,StrokeData!$A$4:$A$525,StrokeData!$G$4:$G$525)","v":60},{"$f":"LOOKUP(C37,StrokeData!$A$4:$A$525,StrokeData!$H$4:$H$525)","v":0},{"$f":"LOOKUP(C37,StrokeData!$A$4:$A$525,StrokeData!$I$4:$I$525)","v":800},null,null,null,null,null,{"$f":"LOOKUP(C37,StrokeData!$A$4:$A$525,StrokeData!$J$4:$J$525)","v":-1},{"$f":"LOOKUP(C37,StrokeData!$A$4:$A$525,StrokeData!$K$4:$K$525)","v":-1}]
[null,{"$f":"B37+1","v":2},{"$f":"IF(C37=-1,-1,LOOKUP(C37,StrokeData!$A$4:$A$525,StrokeData!$K$4:$K$525))","v":-1},{"$f":"LOOKUP(C38,StrokeData!$A$4:$A$525,StrokeData!$B$4:$B$525)","v":{"$error":"#N/A"}},{"$f":"LOOKUP(C38,StrokeData!$A$4:$A$525,StrokeData!$C$4:$C$525)","v":{"$error":"#N/A"}},null,null,{"$f":"LOOKUP(C38,StrokeData!$A$4:$A$525,StrokeData!$D$4:$D$525)","v":{"$error":"#N/A"}},{"$f":"LOOKUP(C38,StrokeData!$A$4:$A$525,StrokeData!$E$4:$E$525)","v":{"$error":"#N/A"}},{"$f":"LOOKUP(C38,StrokeData!$A$4:$A$525,StrokeData!$F$4:$F$525)","v":{"$error":"#N/A"}},{"$f":"LOOKUP(C38,StrokeData!$A$4:$A$525,StrokeData!$G$4:$G$525)","v":{"$error":"#N/A"}},{"$f":"LOOKUP(C38,StrokeData!$A$4:$A$525,StrokeData!$H$4:$H$525)","v":{"$error":"#N/A"}},{"$f":"LOOKUP(C38,StrokeData!$A$4:$A$525,StrokeData!$I$4:$I$525)","v":{"$error":"#N/A"}},null,null,null,null,null,{"$f":"LOOKUP(C38,StrokeData!$A$4:$A$525,StrokeData!$J$4:$J$525)","v":{"$error":"#N/A"}},{"$f":"LOOKUP(C38,StrokeData!$A$4:$A$525,StrokeData!$K$4:$K$525)","v":{"$error":"#N/A"}}]
[null,{"$f":"B38+1","v":3},{"$f":"IF(C38=-1,-1,LOOKUP(C38,StrokeData!$A$4:$A$525,StrokeData!$K$4:$K$525))","v":-1},{"$f":"LOOKUP(C39,StrokeData!$A$4:$A$525,StrokeData!$B$4:$B$525)","v":{"$error":"#N/A"}},{"$f":"LOOKUP(C39,StrokeData!$A$4:$A$525,StrokeData!$C$4:$C$525)","v":{"$error":"#N/A"}},null,null,{"$f":"LOOKUP(C39,StrokeData!$A$4:$A$525,StrokeData!$D$4:$D$525)","v":{"$error":"#N/A"}},{"$f":"LOOKUP(C39,StrokeData!$A$4:$A$525,StrokeData!$E$4:$E$525)","v":{"$error":"#N/A"}},{"$f":"LOOKUP(C39,StrokeData!$A$4:$A$525,StrokeData!$F$4:$F$525)","v":{"$error":"#N/A"}},{"$f":"LOOKUP(C39,StrokeData!$A$4:$A$525,StrokeData!$G$4:$G$525)","v":{"$error":"#N/A"}},{"$f":"LOOKUP(C39,StrokeData!$A$4:$A$525,StrokeData!$H$4:$H$525)","v":{"$error":"#N/A"}},{"$f":"LOOKUP(C39,StrokeData!$A$4:$A$525,StrokeData!$I$4:$I$525)","v":{"$error":"#N/A"}},null,null,null,null,null,{"$f":"LOOKUP(C39,StrokeData!$A$4:$A$525,StrokeData!$J$4:$J$525)","v":{"$error":"#N/A"}},{"$f":"LOOKUP(C39,StrokeData!$A$4:$A$525,StrokeData!$K$4:$K$525)","v":{"$error":"#N/A"}}]
[null,4,{"$f":"IF(C39=-1,-1,LOOKUP(C39,StrokeData!$A$4:$A$525,StrokeData!$K$4:$K$525))","v":-1},{"$f":"LOOKUP(C40,StrokeData!$A$4:$A$525,StrokeData!$B$4:$B$525)","v":{"$error":"#N/A"}},{"$f":"LOOKUP(C40,StrokeData!$A$4:$A$525,StrokeData!$C$4:$C$525)","v":{"$error":"#N/A"}},null,null,{"$f":"LOOKUP(C40,StrokeData!$A$4:$A$525,StrokeData!$D$4:$D$525)","v":{"$error":"#N/A"}},{"$f":"LOOKUP(C40,StrokeData!$A$4:$A$525,StrokeData!$E$4:$E$525)","v":{"$error":"#N/A"}},{"$f":"LOOKUP(C40,StrokeData!$A$4:$A$525,StrokeData!$F$4:$F$525)","v":{"$error":"#N/A"}},{"$f":"LOOKUP(C40,StrokeData!$A$4:$A$525,StrokeData!$G$4:$G$525)","v":{"$error":"#N/A"}},{"$f":"LOOKUP(C40,StrokeData!$A$4:$A$525,StrokeData!$H$4:$H$525)","v":{"$error":"#N/A"}},{"$f":"LOOKUP(C40,StrokeData!$A$4:$A$525,StrokeData!$I$4:$I$525)","v":{"$error":"#N/A"}},null,null,null,null,null,{"$f":"LOOKUP(C40,StrokeData!$A$4:$A$525,StrokeData!$J$4:$J$525)","v":{"$error":"#N/A"}},{"$f":"LOOKUP(C40,StrokeData!$A$4:$A$525,StrokeData!$K$4:$K$525)","v":{"$error":"#N/A"}}]
[null,5,{"$f":"IF(C40=-1,-1,LOOKUP(C40,StrokeData!$A$4:$A$525,StrokeData!$K$4:$K$525))","v":-1},{"$f":"LOOKUP(C41,StrokeData!$A$4:$A$525,StrokeData!$B$4:$B$525)","v":{"$error":"#N/A"}},{"$f":"LOOKUP(C41,StrokeData!$A$4:$A$525,StrokeData!$C$4:$C$525)","v":{"$error":"#N/A"}},null,null,{"$f":"LOOKUP(C41,StrokeData!$A$4:$A$525,StrokeData!$D$4:$D$525)","v":{"$error":"#N/A"}},{"$f":"LOOKUP(C41,StrokeData!$A$4:$A$525,StrokeData!$E$4:$E$525)","v":{"$error":"#N/A"}},{"$f":"LOOKUP(C41,StrokeData!$A$4:$A$525,StrokeData!$F$4:$F$525)","v":{"$error":"#N/A"}},{"$f":"LOOKUP(C41,StrokeData!$A$4:$A$525,StrokeData!$G$4:$G$525)","v":{"$error":"#N/A"}},{"$f":"LOOKUP(C41,StrokeData!$A$4:$A$525,StrokeData!$H$4:$H$525)","v":{"$error":"#N/A"}},{"$f":"LOOKUP(C41,StrokeData!$A$4:$A$525,StrokeData!$I$4:$I$525)","v":{"$error":"#N/A"}},null,null,null,null,null,{"$f":"LOOKUP(C41,StrokeData!$A$4:$A$525,StrokeData!$J$4:$J$525)","v":{"$error":"#N/A"}},{"$f":"LOOKUP(C41,StrokeData!$A$4:$A$525,StrokeData!$K$4:$K$525)","v":{"$error":"#N/A"}}]
[null,6,{"$f":"IF(C41=-1,-1,LOOKUP(C41,StrokeData!$A$4:$A$525,StrokeData!$K$4:$K$525))","v":-1},{"$f":"LOOKUP(C42,StrokeData!$A$4:$A$525,StrokeData!$B$4:$B$525)","v":{"$error":"#N/A"}},{"$f":"LOOKUP(C42,StrokeData!$A$4:$A$525,StrokeData!$C$4:$C$525)","v":{"$error":"#N/A"}},null,null,{"$f":"LOOKUP(C42,StrokeData!$A$4:$A$525,StrokeData!$D$4:$D$525)","v":{"$error":"#N/A"}},{"$f":"LOOKUP(C42,StrokeData!$A$4:$A$525,StrokeData!$E$4:$E$525)","v":{"$error":"#N/A"}},{"$f":"LOOKUP(C42,StrokeData!$A$4:$A$525,StrokeData!$F$4:$F$525)","v":{"$error":"#N/A"}},{"$f":"LOOKUP(C42,StrokeData!$A$4:$A$525,StrokeData!$G$4:$G$525)","v":{"$error":"#N/A"}},{"$f":"LOOKUP(C42,StrokeData!$A$4:$A$525,StrokeData!$H$4:$H$525)","v":{"$error":"#N/A"}},{"$f":"LOOKUP(C42,StrokeData!$A$4:$A$525,StrokeData!$I$4:$I$525)","v":{"$error":"#N/A"}},null,null,null,null,null,{"$f":"LOOKUP(C42,StrokeData!$A$4:$A$525,StrokeData!$J$4:$J$525)","v":{"$error":"#N/A"}},{"$f":"LOOKUP(C42,StrokeData!$A$4:$A$525,StrokeData!$K$4:$K$525)","v":{"$error":"#N/A"}}]
[null,7,{"$f":"IF(C42=-1,-1,LOOKUP(C42,StrokeData!$A$4:$A$525,StrokeData!$K$4:$K$525))","v":-1},{"$f":"LOOKUP(C43,StrokeData!$A$4:$A$525,StrokeData!$B$4:$B$525)","v":{"$error":"#N/A"}},{"$f":"LOOKUP(C43,StrokeData!$A$4:$A$525,StrokeData!$C$4:$C$525)","v":{"$error":"#N/A"}},null,null,{"$f":"LOOKUP(C43,StrokeData!$A$4:$A$525,StrokeData!$D$4:$D$525)","v":{"$error":"#N/A"}},{"$f":"LOOKUP(C43,StrokeData!$A$4:$A$525,StrokeData!$E$4:$E$525)","v":{"$error":"#N/A"}},{"$f":"LOOKUP(C43,StrokeData!$A$4:$A$525,StrokeData!$F$4:$F$525)","v":{"$error":"#N/A"}},{"$f":"LOOKUP(C43,StrokeData!$A$4:$A$525,StrokeData!$G$4:$G$525)","v":{"$error":"#N/A"}},{"$f":"LOOKUP(C43,StrokeData!$A$4:$A$525,StrokeData!$H$4:$H$525)","v":{"$error":"#N/A"}},{"$f":"LOOKUP(C43,StrokeData!$A$4:$A$525,StrokeData!$I$4:$I$525)","v":{"$error":"#N/A"}},null,null,null,null,null,{"$f":"LOOKUP(C43,StrokeData!$A$4:$A$525,StrokeData!$J$4:$J$525)","v":{"$error":"#N/A"}},{"$f":"LOOKUP(C43,StrokeData!$A$4:$A$525,StrokeData!$K$4:$K$525)","v":{"$error":"#N/A"}}]
[null,8,{"$f":"IF(C43=-1,-1,LOOKUP(C43,StrokeData!$A$4:$A$525,StrokeData!$K$4:$K$525))","v":-1},{"$f":"LOOKUP(C44,StrokeData!$A$4:$A$525,StrokeData!$B$4:$B$525)","v":{"$error":"#N/A"}},{"$f":"LOOKUP(C44,StrokeData!$A$4:$A$525,StrokeData!$C$4:$C$525)","v":{"$error":"#N/A"}},null,null,{"$f":"LOOKUP(C44,StrokeData!$A$4:$A$525,StrokeData!$D$4:$D$525)","v":{"$error":"#N/A"}},{"$f":"LOOKUP(C44,StrokeData!$A$4:$A$525,StrokeData!$E$4:$E$525)","v":{"$error":"#N/A"}},{"$f":"LOOKUP(C44,StrokeData!$A$4:$A$525,StrokeData!$F$4:$F$525)","v":{"$error":"#N/A"}},{"$f":"LOOKUP(C44,StrokeData!$A$4:$A$525,StrokeData!$G$4:$G$525)","v":{"$error":"#N/A"}},{"$f":"LOOKUP(C44,StrokeData!$A$4:$A$525,StrokeData!$H$4:$H$525)","v":{"$error":"#N/A"}},{"$f":"LOOKUP(C44,StrokeData!$A$4:$A$525,StrokeData!$I$4:$I$525)","v":{"$error":"#N/A"}},null,null,null,null,null,{"$f":"LOOKUP(C44,StrokeData!$A$4:$A$525,StrokeData!$J$4:$J$525)","v":{"$error":"#N/A"}},{"$f":"LOOKUP(C44,StrokeData!$A$4:$A$525,StrokeData!$K$4:$K$525)","v":{"$error":"#N/A"}}]
[null,9,{"$f":"IF(C44=-1,-1,LOOKUP(C44,StrokeData!$A$4:$A$525,StrokeData!$K$4:$K$525))","v":-1},{"$f":"LOOKUP(C45,StrokeData!$A$4:$A$525,StrokeData!$B$4:$B$525)","v":{"$error":"#N/A"}},{"$f":"LOOKUP(C45,StrokeData!$A$4:$A$525,StrokeData!$C$4:$C$525)","v":{"$error":"#N/A"}},null,null,{"$f":"LOOKUP(C45,StrokeData!$A$4:$A$525,StrokeData!$D$4:$D$525)","v":{"$error":"#N/A"}},{"$f":"LOOKUP(C45,StrokeData!$A$4:$A$525,StrokeData!$E$4:$E$525)","v":{"$error":"#N/A"}},{"$f":"LOOKUP(C45,StrokeData!$A$4:$A$525,StrokeData!$F$4:$F$525)","v":{"$error":"#N/A"}},{"$f":"LOOKUP(C45,StrokeData!$A$4:$A$525,StrokeData!$G$4:$G$525)","v":{"$error":"#N/A"}},{"$f":"LOOKUP(C45,StrokeData!$A$4:$A$525,StrokeData!$H$4:$H$525)","v":{"$error":"#N/A"}},{"$f":"LOOKUP(C45,StrokeData!$A$4:$A$525,StrokeData!$I$4:$I$525)","v":{"$error":"#N/A"}},null,null,null,null,null,{"$f":"LOOKUP(C45,StrokeData!$A$4:$A$525,StrokeData!$J$4:$J$525)","v":{"$error":"#N/A"}},{"$f":"LOOKUP(C45,StrokeData!$A$4:$A$525,StrokeData!$K$4:$K$525)","v":{"$error":"#N/A"}}]
[null,10,{"$f":"IF(C45=-1,-1,LOOKUP(C45,StrokeData!$A$4:$A$525,StrokeData!$K$4:$K$525))","v":-1},{"$f":"LOOKUP(C46,StrokeData!$A$4:$A$525,StrokeData!$B$4:$B$525)","v":{"$error":"#N/A"}},{"$f":"LOOKUP(C46,StrokeData!$A$4:$A$525,StrokeData!$C$4:$C$525)","v":{"$error":"#N/A"}},null,null,{"$f":"LOOKUP(C46,StrokeData!$A$4:$A$525,StrokeData!$D$4:$D$525)","v":{"$error":"#N/A"}},{"$f":"LOOKUP(C46,StrokeData!$A$4:$A$525,StrokeData!$E$4:$E$525)","v":{"$error":"#N/A"}},{"$f":"LOOKUP(C46,StrokeData!$A$4:$A$525,StrokeData!$F$4:$F$525)","v":{"$error":"#N/A"}},{"$f":"LOOKUP(C46,StrokeData!$A$4:$A$525,StrokeData!$G$4:$G$525)","v":{"$error":"#N/A"}},{"$f":"LOOKUP(C46,StrokeData!$A$4:$A$525,StrokeData!$H$4:$H$525)","v":{"$error":"#N/A"}},{"$f":"LOOKUP(C46,StrokeData!$A$4:$A$525,StrokeData!$I$4:$I$525)","v":{"$error":"#N/A"}},null,null,null,null,null,{"$f":"LOOKUP(C46,StrokeData!$A$4:$A$525,StrokeData!$J$4:$J$525)","v":{"$error":"#N/A"}},{"$f":"LOOKUP(C46,StrokeData!$A$4:$A$525,StrokeData!$K$4:$K$525)","v":{"$error":"#N/A"}}]
[null,11,{"$f":"IF(C46=-1,-1,LOOKUP(C46,StrokeData!$A$4:$A$525,StrokeData!$K$4:$K$525))","v":-1},{"$f":"LOOKUP(C47,StrokeData!$A$4:$A$525,StrokeData!$B$4:$B$525)","v":{"$error":"#N/A"}},{"$f":"LOOKUP(C47,StrokeData!$A$4:$A$525,StrokeData!$C$4:$C$525)","v":{"$error":"#N/A"}},null,null,{"$f":"LOOKUP(C47,StrokeData!$A$4:$A$525,StrokeData!$D$4:$D$525)","v":{"$error":"#N/A"}},{"$f":"LOOKUP(C47,StrokeData!$A$4:$A$525,StrokeData!$E$4:$E$525)","v":{"$error":"#N/A"}},{"$f":"LOOKUP(C47,StrokeData!$A$4:$A$525,StrokeData!$F$4:$F$525)","v":{"$error":"#N/A"}},{"$f":"LOOKUP(C47,StrokeData!$A$4:$A$525,StrokeData!$G$4:$G$525)","v":{"$error":"#N/A"}},{"$f":"LOOKUP(C47,StrokeData!$A$4:$A$525,StrokeData!$H$4:$H$525)","v":{"$error":"#N/A"}},{"$f":"LOOKUP(C47,StrokeData!$A$4:$A$525,StrokeData!$I$4:$I$525)","v":{"$error":"#N/A"}},null,null,null,null,null,{"$f":"LOOKUP(C47,StrokeData!$A$4:$A$525,StrokeData!$J$4:$J$525)","v":{"$error":"#N/A"}},{"$f":"LOOKUP(C47,StrokeData!$A$4:$A$525,StrokeData!$K$4:$K$525)","v":{"$error":"#N/A"}}]
[null,12,{"$f":"IF(C47=-1,-1,LOOKUP(C47,StrokeData!$A$4:$A$525,StrokeData!$K$4:$K$525))","v":-1},{"$f":"LOOKUP(C48,StrokeData!$A$4:$A$525,StrokeData!$B$4:$B$525)","v":{"$error":"#N/A"}},{"$f":"LOOKUP(C48,StrokeData!$A$4:$A$525,StrokeData!$C$4:$C$525)","v":{"$error":"#N/A"}},null,null,{"$f":"LOOKUP(C48,StrokeData!$A$4:$A$525,StrokeData!$D$4:$D$525)","v":{"$error":"#N/A"}},{"$f":"LOOKUP(C48,StrokeData!$A$4:$A$525,StrokeData!$E$4:$E$525)","v":{"$error":"#N/A"}},{"$f":"LOOKUP(C48,StrokeData!$A$4:$A$525,StrokeData!$F$4:$F$525)","v":{"$error":"#N/A"}},{"$f":"LOOKUP(C48,StrokeData!$A$4:$A$525,StrokeData!$G$4:$G$525)","v":{"$error":"#N/A"}},{"$f":"LOOKUP(C48,StrokeData!$A$4:$A$525,StrokeData!$H$4:$H$525)","v":{"$error":"#N/A"}},{"$f":"LOOKUP(C48,StrokeData!$A$4:$A$525,StrokeData!$I$4:$I$525)","v":{"$error":"#N/A"}},null,null,null,null,null,{"$f":"LOOKUP(C48,StrokeData!$A$4:$A$525,StrokeData!$J$4:$J$525)","v":{"$error":"#N/A"}},{"$f":"LOOKUP(C48,StrokeData!$A$4:$A$525,StrokeData!$K$4:$K$525)","v":{"$error":"#N/A"}}]
[null,13,{"$f":"IF(C48=-1,-1,LOOKUP(C48,StrokeData!$A$4:$A$525,StrokeData!$K$4:$K$525))","v":-1},{"$f":"LOOKUP(C49,StrokeData!$A$4:$A$525,StrokeData!$B$4:$B$525)","v":{"$error":"#N/A"}},{"$f":"LOOKUP(C49,StrokeData!$A$4:$A$525,StrokeData!$C$4:$C$525)","v":{"$error":"#N/A"}},null,null,{"$f":"LOOKUP(C49,StrokeData!$A$4:$A$525,StrokeData!$D$4:$D$525)","v":{"$error":"#N/A"}},{"$f":"LOOKUP(C49,StrokeData!$A$4:$A$525,StrokeData!$E$4:$E$525)","v":{"$error":"#N/A"}},{"$f":"LOOKUP(C49,StrokeData!$A$4:$A$525,StrokeData!$F$4:$F$525)","v":{"$error":"#N/A"}},{"$f":"LOOKUP(C49,StrokeData!$A$4:$A$525,StrokeData!$G$4:$G$525)","v":{"$error":"#N/A"}},{"$f":"LOOKUP(C49,StrokeData!$A$4:$A$525,StrokeData!$H$4:$H$525)","v":{"$error":"#N/A"}},{"$f":"LOOKUP(C49,StrokeData!$A$4:$A$525,StrokeData!$I$4:$I$525)","v":{"$error":"#N/A"}},null,null,null,null,null,{"$f":"LOOKUP(C49,StrokeData!$A$4:$A$525,StrokeData!$J$4:$J$525)","v":{"$error":"#N/A"}},{"$f":"LOOKUP(C49,StrokeData!$A$4:$A$525,StrokeData!$K$4:$K$525)","v":{"$error":"#N/A"}}]
[null,14,{"$f":"IF(C49=-1,-1,LOOKUP(C49,StrokeData!$A$4:$A$525,StrokeData!$K$4:$K$525))","v":-1},{"$f":"LOOKUP(C50,StrokeData!$A$4:$A$525,StrokeData!$B$4:$B$525)","v":{"$error":"#N/A"}},{"$f":"LOOKUP(C50,StrokeData!$A$4:$A$525,StrokeData!$C$4:$C$525)","v":{"$error":"#N/A"}},null,null,{"$f":"LOOKUP(C50,StrokeData!$A$4:$A$525,StrokeData!$D$4:$D$525)","v":{"$error":"#N/A"}},{"$f":"LOOKUP(C50,StrokeData!$A$4:$A$525,StrokeData!$E$4:$E$525)","v":{"$error":"#N/A"}},{"$f":"LOOKUP(C50,StrokeData!$A$4:$A$525,StrokeData!$F$4:$F$525)","v":{"$error":"#N/A"}},{"$f":"LOOKUP(C50,StrokeData!$A$4:$A$525,StrokeData!$G$4:$G$525)","v":{"$error":"#N/A"}},{"$f":"LOOKUP(C50,StrokeData!$A$4:$A$525,StrokeData!$H$4:$H$525)","v":{"$error":"#N/A"}},{"$f":"LOOKUP(C50,StrokeData!$A$4:$A$525,StrokeData!$I$4:$I$525)","v":{"$error":"#N/A"}},null,null,null,null,null,{"$f":"LOOKUP(C50,StrokeData!$A$4:$A$525,StrokeData!$J$4:$J$525)","v":{"$error":"#N/A"}},{"$f":"LOOKUP(C50,StrokeData!$A$4:$A$525,StrokeData!$K$4:$K$525)","v":{"$error":"#N/A"}}]
[null,15,{"$f":"IF(C50=-1,-1,LOOKUP(C50,StrokeData!$A$4:$A$525,StrokeData!$K$4:$K$525))","v":-1},{"$f":"LOOKUP(C51,StrokeData!$A$4:$A$525,StrokeData!$B$4:$B$525)","v":{"$error":"#N/A"}},{"$f":"LOOKUP(C51,StrokeData!$A$4:$A$525,StrokeData!$C$4:$C$525)","v":{"$error":"#N/A"}},null,null,{"$f":"LOOKUP(C51,StrokeData!$A$4:$A$525,StrokeData!$D$4:$D$525)","v":{"$error":"#N/A"}},{"$f":"LOOKUP(C51,StrokeData!$A$4:$A$525,StrokeData!$E$4:$E$525)","v":{"$error":"#N/A"}},{"$f":"LOOKUP(C51,StrokeData!$A$4:$A$525,StrokeData!$F$4:$F$525)","v":{"$error":"#N/A"}},{"$f":"LOOKUP(C51,StrokeData!$A$4:$A$525,StrokeData!$G$4:$G$525)","v":{"$error":"#N/A"}},{"$f":"LOOKUP(C51,StrokeData!$A$4:$A$525,StrokeData!$H$4:$H$525)","v":{"$error":"#N/A"}},{"$f":"LOOKUP(C51,StrokeData!$A$4:$A$525,StrokeData!$I$4:$I$525)","v":{"$error":"#N/A"}},null,null,null,null,null,{"$f":"LOOKUP(C51,StrokeData!$A$4:$A$525,StrokeData!$J$4:$J$525)","v":{"$error":"#N/A"}},{"$f":"LOOKUP(C51,StrokeData!$A$4:$A$525,StrokeData!$K$4:$K$525)","v":{"$error":"#N/A"}}]
[null,16,{"$f":"IF(C51=-1,-1,LOOKUP(C51,StrokeData!$A$4:$A$525,StrokeData!$K$4:$K$525))","v":-1},{"$f":"LOOKUP(C52,StrokeData!$A$4:$A$525,StrokeData!$B$4:$B$525)","v":{"$error":"#N/A"}},{"$f":"LOOKUP(C52,StrokeData!$A$4:$A$525,StrokeData!$C$4:$C$525)","v":{"$error":"#N/A"}},null,null,{"$f":"LOOKUP(C52,StrokeData!$A$4:$A$525,StrokeData!$D$4:$D$525)","v":{"$error":"#N/A"}},{"$f":"LOOKUP(C52,StrokeData!$A$4:$A$525,StrokeData!$E$4:$E$525)","v":{"$error":"#N/A"}},{"$f":"LOOKUP(C52,StrokeData!$A$4:$A$525,StrokeData!$F$4:$F$525)","v":{"$error":"#N/A"}},{"$f":"LOOKUP(C52,StrokeData!$A$4:$A$525,StrokeData!$G$4:$G$525)","v":{"$error":"#N/A"}},{"$f":"LOOKUP(C52,StrokeData!$A$4:$A$525,StrokeData!$H$4:$H$525)","v":{"$error":"#N/A"}},{"$f":"LOOKUP(C52,StrokeData!$A$4:$A$525,StrokeData!$I$4:$I$525)","v":{"$error":"#N/A"}},null,null,null,null,null,{"$f":"LOOKUP(C52,StrokeData!$A$4:$A$525,StrokeData!$J$4:$J$525)","v":{"$error":"#N/A"}},{"$f":"LOOKUP(C52,StrokeData!$A$4:$A$525,StrokeData!$K$4:$K$525)","v":{"$error":"#N/A"}}]
[null,17,{"$f":"IF(C52=-1,-1,LOOKUP(C52,StrokeData!$A$4:$A$525,StrokeData!$K$4:$K$525))","v":-1},{"$f":"LOOKUP(C53,StrokeData!$A$4:$A$525,StrokeData!$B$4:$B$525)","v":{"$error":"#N/A"}},{"$f":"LOOKUP(C53,StrokeData!$A$4:$A$525,StrokeData!$C$4:$C$525)","v":{"$error":"#N/A"}},null,null,{"$f":"LOOKUP(C53,StrokeData!$A$4:$A$525,StrokeData!$D$4:$D$525)","v":{"$error":"#N/A"}},{"$f":"LOOKUP(C53,StrokeData!$A$4:$A$525,StrokeData!$E$4:$E$525)","v":{"$error":"#N/A"}},{"$f":"LOOKUP(C53,StrokeData!$A$4:$A$525,StrokeData!$F$4:$F$525)","v":{"$error":"#N/A"}},{"$f":"LOOKUP(C53,StrokeData!$A$4:$A$525,StrokeData!$G$4:$G$525)","v":{"$error":"#N/A"}},{"$f":"LOOKUP(C53,StrokeData!$A$4:$A$525,StrokeData!$H$4:$H$525)","v":{"$error":"#N/A"}},{"$f":"LOOKUP(C53,StrokeData!$A$4:$A$525,StrokeData!$I$4:$I$525)","v":{"$error":"#N/A"}},null,null,null,null,null,{"$f":"LOOKUP(C53,StrokeData!$A$4:$A$525,StrokeData!$J$4:$J$525)","v":{"$error":"#N/A"}},{"$f":"LOOKUP(C53,StrokeData!$A$4:$A$525,StrokeData!$K$4:$K$525)","v":{"$error":"#N/A"}}]
[null,18,{"$f":"IF(C53=-1,-1,LOOKUP(C53,StrokeData!$A$4:$A$525,StrokeData!$K$4:$K$525))","v":-1},{"$f":"LOOKUP(C54,StrokeData!$A$4:$A$525,StrokeData!$B$4:$B$525)","v":{"$error":"#N/A"}},{"$f":"LOOKUP(C54,StrokeData!$A$4:$A$525,StrokeData!$C$4:$C$525)","v":{"$error":"#N/A"}},null,null,{"$f":"LOOKUP(C54,StrokeData!$A$4:$A$525,StrokeData!$D$4:$D$525)","v":{"$error":"#N/A"}},{"$f":"LOOKUP(C54,StrokeData!$A$4:$A$525,StrokeData!$E$4:$E$525)","v":{"$error":"#N/A"}},{"$f":"LOOKUP(C54,StrokeData!$A$4:$A$525,StrokeData!$F$4:$F$525)","v":{"$error":"#N/A"}},{"$f":"LOOKUP(C54,StrokeData!$A$4:$A$525,StrokeData!$G$4:$G$525)","v":{"$error":"#N/A"}},{"$f":"LOOKUP(C54,StrokeData!$A$4:$A$525,StrokeData!$H$4:$H$525)","v":{"$error":"#N/A"}},{"$f":"LOOKUP(C54,StrokeData!$A$4:$A$525,StrokeData!$I$4:$I$525)","v":{"$error":"#N/A"}},null,null,null,null,null,{"$f":"LOOKUP(C54,StrokeData!$A$4:$A$525,StrokeData!$J$4:$J$525)","v":{"$error":"#N/A"}},{"$f":"LOOKUP(C54,StrokeData!$A$4:$A$525,StrokeData!$K$4:$K$525)","v":{"$error":"#N/A"}}]
[null,19,{"$f":"IF(C54=-1,-1,LOOKUP(C54,StrokeData!$A$4:$A$525,StrokeData!$K$4:$K$525))","v":-1},{"$f":"LOOKUP(C55,StrokeData!$A$4:$A$525,StrokeData!$B$4:$B$525)","v":{"$error":"#N/A"}},{"$f":"LOOKUP(C55,StrokeData!$A$4:$A$525,StrokeData!$C$4:$C$525)","v":{"$error":"#N/A"}},null,null,{"$f":"LOOKUP(C55,StrokeData!$A$4:$A$525,StrokeData!$D$4:$D$525)","v":{"$error":"#N/A"}},{"$f":"LOOKUP(C55,StrokeData!$A$4:$A$525,StrokeData!$E$4:$E$525)","v":{"$error":"#N/A"}},{"$f":"LOOKUP(C55,StrokeData!$A$4:$A$525,StrokeData!$F$4:$F$525)","v":{"$error":"#N/A"}},{"$f":"LOOKUP(C55,StrokeData!$A$4:$A$525,StrokeData!$G$4:$G$525)","v":{"$error":"#N/A"}},{"$f":"LOOKUP(C55,StrokeData!$A$4:$A$525,StrokeData!$H$4:$H$525)","v":{"$error":"#N/A"}},{"$f":"LOOKUP(C55,StrokeData!$A$4:$A$525,StrokeData!$I$4:$I$525)","v":{"$error":"#N/A"}},null,null,null,null,null,{"$f":"LOOKUP(C55,StrokeData!$A$4:$A$525,StrokeData!$J$4:$J$525)","v":{"$error":"#N/A"}},{"$f":"LOOKUP(C55,StrokeData!$A$4:$A$525,StrokeData!$K$4:$K$525)","v":{"$error":"#N/A"}}]
[null,20,{"$f":"IF(C55=-1,-1,LOOKUP(C55,StrokeData!$A$4:$A$525,StrokeData!$K$4:$K$525))","v":-1},{"$f":"LOOKUP(C56,StrokeData!$A$4:$A$525,StrokeData!$B$4:$B$525)","v":{"$error":"#N/A"}},{"$f":"LOOKUP(C56,StrokeData!$A$4:$A$525,StrokeData!$C$4:$C$525)","v":{"$error":"#N/A"}},null,null,{"$f":"LOOKUP(C56,StrokeData!$A$4:$A$525,StrokeData!$D$4:$D$525)","v":{"$error":"#N/A"}},{"$f":"LOOKUP(C56,StrokeData!$A$4:$A$525,StrokeData!$E$4:$E$525)","v":{"$error":"#N/A"}},{"$f":"LOOKUP(C56,StrokeData!$A$4:$A$525,StrokeData!$F$4:$F$525)","v":{"$error":"#N/A"}},{"$f":"LOOKUP(C56,StrokeData!$A$4:$A$525,StrokeData!$G$4:$G$525)","v":{"$error":"#N/A"}},{"$f":"LOOKUP(C56,StrokeData!$A$4:$A$525,StrokeData!$H$4:$H$525)","v":{"$error":"#N/A"}},{"$f":"LOOKUP(C56,StrokeData!$A$4:$A$525,StrokeData!$I$4:$I$525)","v":{"$error":"#N/A"}},null,null,null,null,null,{"$f":"LOOKUP(C56,StrokeData!$A$4:$A$525,StrokeData!$J$4:$J$525)","v":{"$error":"#N/A"}},{"$f":"LOOKUP(C56,StrokeData!$A$4:$A$525,StrokeData!$K$4:$K$525)","v":{"$error":"#N/A"}}]
[null,null,null,"ストローク",{"$f":"H5","v":25},"mm","～",{"$f":"I5","v":100},"mm",null,"刻み",{"$f":"LOOKUP(D35,B26:B33,R26:R33)","v":25},"mm",null,"慣性係数",{"$f":"IF($J$5=1,0.000001,0.001)","v":1E-3},"有効桁数",{"$f":"IF($J$5=1,6,3)","v":3}]
[null,"stﾘｽﾄ検索用(降順)",null,"№",{"$f":"StrokeData!$B$2","v":"ｽﾄﾛｰｸ長"},"stﾘｽﾄ№",{"$f":"StrokeData!$C$2","v":"有効ｽﾄﾛｰｸ補正"},null,null,{"$f":"StrokeData!$D$2","v":"水平可搬質量"},{"$f":"StrokeData!$E$2","v":"垂直可搬質量"},{"$f":"StrokeData!$F$2","v":"最大速度"},{"$f":"StrokeData!$G$2","v":"位置ｹﾞｲﾝ"},{"$f":"StrokeData!$H$2","v":"FFｹﾞｲﾝ"},{"$f":"StrokeData!$I$2","v":"速度制御帯域"}]
[null,{"$f":"B36","v":"№"},{"$f":"D36","v":"ｽﾄﾛｰｸ長"},0,{"$f":"H4","v":"[mm]"},null,"[mm]","[kg/mm]",{"$f":"IF(J5=1,\"[kgm^2]\",\"[kg]\")","v":"[kg]"},{"$f":"IF(J5=1,\"[kgm^2]\",\"[kg]\")","v":"[kg]"},{"$f":"IF(J5=1,\"[kgm^2]\",\"[kg]\")","v":"[kg]"},"[mm/s]","[1/s]","[%]","[rad/s]",null,"[s]",null,null,"[Nm/rad]"]
[null,{"$f":"B56","v":20},{"$f":"D56","v":{"$error":"#N/A"}},1,{"$f":"IF( (E57+L57*D59)<=H57,(E57+L57*D59),\"- - -\")","v":25},{"$f":"(B60+1)-MATCH(E60,C60:C79,-1)","v":1},{"$f":"LOOKUP(F60,B37:B56,E37:E56)","v":0},null,null,{"$f":"LOOKUP(F60,B37:B56,H37:H56)*$P$57","v":1},{"$f":"LOOKUP(F60,B37:B56,I37:I56)*$P$57","v":-1E-3},{"$f":"LOOKUP(F60,B37:B56,J37:J56)","v":50},{"$f":"LOOKUP(F60,B37:B56,K37:K56)","v":60},{"$f":"LOOKUP(F60,B37:B56,L37:L56)","v":0},{"$f":"LOOKUP(F60,B37:B56,M37:M56)","v":800}]
[null,{"$f":"B55","v":19},{"$f":"D55","v":{"$error":"#N/A"}},{"$f":"D60+1","v":2},{"$f":"IF( (E57+L57*D60)<=H57,(E57+L57*D60),\"- - -\")","v":50},{"$f":"(B60+1)-MATCH(E61,C60:C79,-1)","v":1},{"$f":"LOOKUP(F61,B37:B56,E37:E56)","v":0},null,null,{"$f":"LOOKUP(F61,B37:B56,H37:H56)*$P$57","v":1},{"$f":"LOOKUP(F61,B37:B56,I37:I56)*$P$57","v":-1E-3},{"$f":"LOOKUP(F61,B37:B56,J37:J56)","v":50},{"$f":"LOOKUP(F61,B37:B56,K37:K56)","v":60},{"$f":"LOOKUP(F61,B37:B56,L37:L56)","v":0},{"$f":"LOOKUP(F61,B37:B56,M37:M56)","v":800}]
[null,{"$f":"B54","v":18},{"$f":"D54","v":{"$error":"#N/A"}},{"$f":"D61+1","v":3},{"$f":"IF( (E57+L57*D61)<=H57,(E57+L57*D61),\"- - -\")","v":75},{"$f":"(B60+1)-MATCH(E62,C60:C79,-1)","v":1},{"$f":"LOOKUP(F62,B37:B56,E37:E56)","v":0},null,null,{"$f":"LOOKUP(F62,B37:B56,H37:H56)*$P$57","v":1},{"$f":"LOOKUP(F62,B37:B56,I37:I56)*$P$57","v":-1E-3},{"$f":"LOOKUP(F62,B37:B56,J37:J56)","v":50},{"$f":"LOOKUP(F62,B37:B56,K37:K56)","v":60},{"$f":"LOOKUP(F62,B37:B56,L37:L56)","v":0},{"$f":"LOOKUP(F62,B37:B56,M37:M56)","v":800}]
[null,{"$f":"B53","v":17},{"$f":"D53","v":{"$error":"#N/A"}},4,{"$f":"IF( (E57+L57*D62)<=H57,(E57+L57*D62),\"- - -\")","v":100},{"$f":"(B60+1)-MATCH(E63,C60:C79,-1)","v":1},{"$f":"LOOKUP(F63,B37:B56,E37:E56)","v":0},null,null,{"$f":"LOOKUP(F63,B37:B56,H37:H56)*$P$57","v":1},{"$f":"LOOKUP(F63,B37:B56,I37:I56)*$P$57","v":-1E-3},{"$f":"LOOKUP(F63,B37:B56,J37:J56)","v":50},{"$f":"LOOKUP(F63,B37:B56,K37:K56)","v":60},{"$f":"LOOKUP(F63,B37:B56,L37:L56)","v":0},{"$f":"LOOKUP(F63,B37:B56,M37:M56)","v":800}]
[null,{"$f":"B52","v":16},{"$f":"D52","v":{"$error":"#N/A"}},5,{"$f":"IF( (E57+L57*D63)<=H57,(E57+L57*D63),\"- - -\")","v":"- - -"},{"$f":"(B60+1)-MATCH(E64,C60:C79,-1)","v":{"$error":"#N/A"}},{"$f":"LOOKUP(F64,B37:B56,E37:E56)","v":{"$error":"#N/A"}},null,null,{"$f":"LOOKUP(F64,B37:B56,H37:H56)*$P$57","v":{"$error":"#N/A"}},{"$f":"LOOKUP(F64,B37:B56,I37:I56)*$P$57","v":{"$error":"#N/A"}},{"$f":"LOOKUP(F64,B37:B56,J37:J56)","v":{"$error":"#N/A"}},{"$f":"LOOKUP(F64,B37:B56,K37:K56)","v":{"$error":"#N/A"}},{"$f":"LOOKUP(F64,B37:B56,L37:L56)","v":{"$error":"#N/A"}},{"$f":"LOOKUP(F64,B37:B56,M37:M56)","v":{"$error":"#N/A"}}]
[null,{"$f":"B51","v":15},{"$f":"D51","v":{"$error":"#N/A"}},6,{"$f":"IF( (E57+L57*D64)<=H57,(E57+L57*D64),\"- - -\")","v":"- - -"},{"$f":"(B60+1)-MATCH(E65,C60:C79,-1)","v":{"$error":"#N/A"}},{"$f":"LOOKUP(F65,B37:B56,E37:E56)","v":{"$error":"#N/A"}},null,null,{"$f":"LOOKUP(F65,B37:B56,H37:H56)*$P$57","v":{"$error":"#N/A"}},{"$f":"LOOKUP(F65,B37:B56,I37:I56)*$P$57","v":{"$error":"#N/A"}},{"$f":"LOOKUP(F65,B37:B56,J37:J56)","v":{"$error":"#N/A"}},{"$f":"LOOKUP(F65,B37:B56,K37:K56)","v":{"$error":"#N/A"}},{"$f":"LOOKUP(F65,B37:B56,L37:L56)","v":{"$error":"#N/A"}},{"$f":"LOOKUP(F65,B37:B56,M37:M56)","v":{"$error":"#N/A"}}]
[null,{"$f":"B50","v":14},{"$f":"D50","v":{"$error":"#N/A"}},7,{"$f":"IF( (E57+L57*D65)<=H57,(E57+L57*D65),\"- - -\")","v":"- - -"},{"$f":"(B60+1)-MATCH(E66,C60:C79,-1)","v":{"$error":"#N/A"}},{"$f":"LOOKUP(F66,B37:B56,E37:E56)","v":{"$error":"#N/A"}},null,null,{"$f":"LOOKUP(F66,B37:B56,H37:H56)*$P$57","v":{"$error":"#N/A"}},{"$f":"LOOKUP(F66,B37:B56,I37:I56)*$P$57","v":{"$error":"#N/A"}},{"$f":"LOOKUP(F66,B37:B56,J37:J56)","v":{"$error":"#N/A"}},{"$f":"LOOKUP(F66,B37:B56,K37:K56)","v":{"$error":"#N/A"}},{"$f":"LOOKUP(F66,B37:B56,L37:L56)","v":{"$error":"#N/A"}},{"$f":"LOOKUP(F66,B37:B56,M37:M56)","v":{"$error":"#N/A"}}]
[null,{"$f":"B49","v":13},{"$f":"D49","v":{"$error":"#N/A"}},8,{"$f":"IF( (E57+L57*D66)<=H57,(E57+L57*D66),\"- - -\")","v":"- - -"},{"$f":"(B60+1)-MATCH(E67,C60:C79,-1)","v":{"$error":"#N/A"}},{"$f":"LOOKUP(F67,B37:B56,E37:E56)","v":{"$error":"#N/A"}},null,null,{"$f":"LOOKUP(F67,B37:B56,H37:H56)*$P$57","v":{"$error":"#N/A"}},{"$f":"LOOKUP(F67,B37:B56,I37:I56)*$P$57","v":{"$error":"#N/A"}},{"$f":"LOOKUP(F67,B37:B56,J37:J56)","v":{"$error":"#N/A"}},{"$f":"LOOKUP(F67,B37:B56,K37:K56)","v":{"$error":"#N/A"}},{"$f":"LOOKUP(F67,B37:B56,L37:L56)","v":{"$error":"#N/A"}},{"$f":"LOOKUP(F67,B37:B56,M37:M56)","v":{"$error":"#N/A"}}]
[null,{"$f":"B48","v":12},{"$f":"D48","v":{"$error":"#N/A"}},9,{"$f":"IF( (E57+L57*D67)<=H57,(E57+L57*D67),\"- - -\")","v":"- - -"},{"$f":"(B60+1)-MATCH(E68,C60:C79,-1)","v":{"$error":"#N/A"}},{"$f":"LOOKUP(F68,B37:B56,E37:E56)","v":{"$error":"#N/A"}},null,null,{"$f":"LOOKUP(F68,B37:B56,H37:H56)*$P$57","v":{"$error":"#N/A"}},{"$f":"LOOKUP(F68,B37:B56,I37:I56)*$P$57","v":{"$error":"#N/A"}},{"$f":"LOOKUP(F68,B37:B56,J37:J56)","v":{"$error":"#N/A"}},{"$f":"LOOKUP(F68,B37:B56,K37:K56)","v":{"$error":"#N/A"}},{"$f":"LOOKUP(F68,B37:B56,L37:L56)","v":{"$error":"#N/A"}},{"$f":"LOOKUP(F68,B37:B56,M37:M56)","v":{"$error":"#N/A"}}]
[null,{"$f":"B47","v":11},{"$f":"D47","v":{"$error":"#N/A"}},10,{"$f":"IF( (E57+L57*D68)<=H57,(E57+L57*D68),\"- - -\")","v":"- - -"},{"$f":"(B60+1)-MATCH(E69,C60:C79,-1)","v":{"$error":"#N/A"}},{"$f":"LOOKUP(F69,B37:B56,E37:E56)","v":{"$error":"#N/A"}},null,null,{"$f":"LOOKUP(F69,B37:B56,H37:H56)*$P$57","v":{"$error":"#N/A"}},{"$f":"LOOKUP(F69,B37:B56,I37:I56)*$P$57","v":{"$error":"#N/A"}},{"$f":"LOOKUP(F69,B37:B56,J37:J56)","v":{"$error":"#N/A"}},{"$f":"LOOKUP(F69,B37:B56,K37:K56)","v":{"$error":"#N/A"}},{"$f":"LOOKUP(F69,B37:B56,L37:L56)","v":{"$error":"#N/A"}},{"$f":"LOOKUP(F69,B37:B56,M37:M56)","v":{"$error":"#N/A"}}]
[null,{"$f":"B46","v":10},{"$f":"D46","v":{"$error":"#N/A"}},11,{"$f":"IF( (E57+L57*D69)<=H57,(E57+L57*D69),\"- - -\")","v":"- - -"},{"$f":"(B60+1)-MATCH(E70,C60:C79,-1)","v":{"$error":"#N/A"}},{"$f":"LOOKUP(F70,B37:B56,E37:E56)","v":{"$error":"#N/A"}},null,null,{"$f":"LOOKUP(F70,B37:B56,H37:H56)*$P$57","v":{"$error":"#N/A"}},{"$f":"LOOKUP(F70,B37:B56,I37:I56)*$P$57","v":{"$error":"#N/A"}},{"$f":"LOOKUP(F70,B37:B56,J37:J56)","v":{"$error":"#N/A"}},{"$f":"LOOKUP(F70,B37:B56,K37:K56)","v":{"$error":"#N/A"}},{"$f":"LOOKUP(F70,B37:B56,L37:L56)","v":{"$error":"#N/A"}},{"$f":"LOOKUP(F70,B37:B56,M37:M56)","v":{"$error":"#N/A"}}]
[null,{"$f":"B45","v":9},{"$f":"D45","v":{"$error":"#N/A"}},12,{"$f":"IF( (E57+L57*D70)<=H57,(E57+L57*D70),\"- - -\")","v":"- - -"},{"$f":"(B60+1)-MATCH(E71,C60:C79,-1)","v":{"$error":"#N/A"}},{"$f":"LOOKUP(F71,B37:B56,E37:E56)","v":{"$error":"#N/A"}},null,null,{"$f":"LOOKUP(F71,B37:B56,H37:H56)*$P$57","v":{"$error":"#N/A"}},{"$f":"LOOKUP(F71,B37:B56,I37:I56)*$P$57","v":{"$error":"#N/A"}},{"$f":"LOOKUP(F71,B37:B56,J37:J56)","v":{"$error":"#N/A"}},{"$f":"LOOKUP(F71,B37:B56,K37:K56)","v":{"$error":"#N/A"}},{"$f":"LOOKUP(F71,B37:B56,L37:L56)","v":{"$error":"#N/A"}},{"$f":"LOOKUP(F71,B37:B56,M37:M56)","v":{"$error":"#N/A"}}]
[null,{"$f":"B44","v":8},{"$f":"D44","v":{"$error":"#N/A"}},13,{"$f":"IF( (E57+L57*D71)<=H57,(E57+L57*D71),\"- - -\")","v":"- - -"},{"$f":"(B60+1)-MATCH(E72,C60:C79,-1)","v":{"$error":"#N/A"}},{"$f":"LOOKUP(F72,B37:B56,E37:E56)","v":{"$error":"#N/A"}},null,null,{"$f":"LOOKUP(F72,B37:B56,H37:H56)*$P$57","v":{"$error":"#N/A"}},{"$f":"LOOKUP(F72,B37:B56,I37:I56)*$P$57","v":{"$error":"#N/A"}},{"$f":"LOOKUP(F72,B37:B56,J37:J56)","v":{"$error":"#N/A"}},{"$f":"LOOKUP(F72,B37:B56,K37:K56)","v":{"$error":"#N/A"}},{"$f":"LOOKUP(F72,B37:B56,L37:L56)","v":{"$error":"#N/A"}},{"$f":"LOOKUP(F72,B37:B56,M37:M56)","v":{"$error":"#N/A"}}]
[null,{"$f":"B43","v":7},{"$f":"D43","v":{"$error":"#N/A"}},14,{"$f":"IF( (E57+L57*D72)<=H57,(E57+L57*D72),\"- - -\")","v":"- - -"},{"$f":"(B60+1)-MATCH(E73,C60:C79,-1)","v":{"$error":"#N/A"}},{"$f":"LOOKUP(F73,B37:B56,E37:E56)","v":{"$error":"#N/A"}},null,null,{"$f":"LOOKUP(F73,B37:B56,H37:H56)*$P$57","v":{"$error":"#N/A"}},{"$f":"LOOKUP(F73,B37:B56,I37:I56)*$P$57","v":{"$error":"#N/A"}},{"$f":"LOOKUP(F73,B37:B56,J37:J56)","v":{"$error":"#N/A"}},{"$f":"LOOKUP(F73,B37:B56,K37:K56)","v":{"$error":"#N/A"}},{"$f":"LOOKUP(F73,B37:B56,L37:L56)","v":{"$error":"#N/A"}},{"$f":"LOOKUP(F73,B37:B56,M37:M56)","v":{"$error":"#N/A"}}]
[null,{"$f":"B42","v":6},{"$f":"D42","v":{"$error":"#N/A"}},15,{"$f":"IF( (E57+L57*D73)<=H57,(E57+L57*D73),\"- - -\")","v":"- - -"},{"$f":"(B60+1)-MATCH(E74,C60:C79,-1)","v":{"$error":"#N/A"}},{"$f":"LOOKUP(F74,B37:B56,E37:E56)","v":{"$error":"#N/A"}},null,null,{"$f":"LOOKUP(F74,B37:B56,H37:H56)*$P$57","v":{"$error":"#N/A"}},{"$f":"LOOKUP(F74,B37:B56,I37:I56)*$P$57","v":{"$error":"#N/A"}},{"$f":"LOOKUP(F74,B37:B56,J37:J56)","v":{"$error":"#N/A"}},{"$f":"LOOKUP(F74,B37:B56,K37:K56)","v":{"$error":"#N/A"}},{"$f":"LOOKUP(F74,B37:B56,L37:L56)","v":{"$error":"#N/A"}},{"$f":"LOOKUP(F74,B37:B56,M37:M56)","v":{"$error":"#N/A"}}]
[null,{"$f":"B41","v":5},{"$f":"D41","v":{"$error":"#N/A"}},16,{"$f":"IF( (E57+L57*D74)<=H57,(E57+L57*D74),\"- - -\")","v":"- - -"},{"$f":"(B60+1)-MATCH(E75,C60:C79,-1)","v":{"$error":"#N/A"}},{"$f":"LOOKUP(F75,B37:B56,E37:E56)","v":{"$error":"#N/A"}},null,null,{"$f":"LOOKUP(F75,B37:B56,H37:H56)*$P$57","v":{"$error":"#N/A"}},{"$f":"LOOKUP(F75,B37:B56,I37:I56)*$P$57","v":{"$error":"#N/A"}},{"$f":"LOOKUP(F75,B37:B56,J37:J56)","v":{"$error":"#N/A"}},{"$f":"LOOKUP(F75,B37:B56,K37:K56)","v":{"$error":"#N/A"}},{"$f":"LOOKUP(F75,B37:B56,L37:L56)","v":{"$error":"#N/A"}},{"$f":"LOOKUP(F75,B37:B56,M37:M56)","v":{"$error":"#N/A"}}]
[null,{"$f":"B40","v":4},{"$f":"D40","v":{"$error":"#N/A"}},17,{"$f":"IF( (E57+L57*D75)<=H57,(E57+L57*D75),\"- - -\")","v":"- - -"},{"$f":"(B60+1)-MATCH(E76,C60:C79,-1)","v":{"$error":"#N/A"}},{"$f":"LOOKUP(F76,B37:B56,E37:E56)","v":{"$error":"#N/A"}},null,null,{"$f":"LOOKUP(F76,B37:B56,H37:H56)*$P$57","v":{"$error":"#N/A"}},{"$f":"LOOKUP(F76,B37:B56,I37:I56)*$P$57","v":{"$error":"#N/A"}},{"$f":"LOOKUP(F76,B37:B56,J37:J56)","v":{"$error":"#N/A"}},{"$f":"LOOKUP(F76,B37:B56,K37:K56)","v":{"$error":"#N/A"}},{"$f":"LOOKUP(F76,B37:B56,L37:L56)","v":{"$error":"#N/A"}},{"$f":"LOOKUP(F76,B37:B56,M37:M56)","v":{"$error":"#N/A"}}]
[null,{"$f":"B39","v":3},{"$f":"D39","v":{"$error":"#N/A"}},18,{"$f":"IF( (E57+L57*D76)<=H57,(E57+L57*D76),\"- - -\")","v":"- - -"},{"$f":"(B60+1)-MATCH(E77,C60:C79,-1)","v":{"$error":"#N/A"}},{"$f":"LOOKUP(F77,B37:B56,E37:E56)","v":{"$error":"#N/A"}},null,null,{"$f":"LOOKUP(F77,B37:B56,H37:H56)*$P$57","v":{"$error":"#N/A"}},{"$f":"LOOKUP(F77,B37:B56,I37:I56)*$P$57","v":{"$error":"#N/A"}},{"$f":"LOOKUP(F77,B37:B56,J37:J56)","v":{"$error":"#N/A"}},{"$f":"LOOKUP(F77,B37:B56,K37:K56)","v":{"$error":"#N/A"}},{"$f":"LOOKUP(F77,B37:B56,L37:L56)","v":{"$error":"#N/A"}},{"$f":"LOOKUP(F77,B37:B56,M37:M56)","v":{"$error":"#N/A"}}]
[null,{"$f":"B38","v":2},{"$f":"D38","v":{"$error":"#N/A"}},19,{"$f":"IF( (E57+L57*D77)<=H57,(E57+L57*D77),\"- - -\")","v":"- - -"},{"$f":"(B60+1)-MATCH(E78,C60:C79,-1)","v":{"$error":"#N/A"}},{"$f":"LOOKUP(F78,B37:B56,E37:E56)","v":{"$error":"#N/A"}},null,null,{"$f":"LOOKUP(F78,B37:B56,H37:H56)*$P$57","v":{"$error":"#N/A"}},{"$f":"LOOKUP(F78,B37:B56,I37:I56)*$P$57","v":{"$error":"#N/A"}},{"$f":"LOOKUP(F78,B37:B56,J37:J56)","v":{"$error":"#N/A"}},{"$f":"LOOKUP(F78,B37:B56,K37:K56)","v":{"$error":"#N/A"}},{"$f":"LOOKUP(F78,B37:B56,L37:L56)","v":{"$error":"#N/A"}},{"$f":"LOOKUP(F78,B37:B56,M37:M56)","v":{"$error":"#N/A"}}]
[null,{"$f":"B37","v":1},{"$f":"D37","v":100},20,{"$f":"IF( (E57+L57*D78)<=H57,(E57+L57*D78),\"- - -\")","v":"- - -"},{"$f":"(B60+1)-MATCH(E79,C60:C79,-1)","v":{"$error":"#N/A"}},{"$f":"LOOKUP(F79,B37:B56,E37:E56)","v":{"$error":"#N/A"}},null,null,{"$f":"LOOKUP(F79,B37:B56,H37:H56)*$P$57","v":{"$error":"#N/A"}},{"$f":"LOOKUP(F79,B37:B56,I37:I56)*$P$57","v":{"$error":"#N/A"}},{"$f":"LOOKUP(F79,B37:B56,J37:J56)","v":{"$error":"#N/A"}},{"$f":"LOOKUP(F79,B37:B56,K37:K56)","v":{"$error":"#N/A"}},{"$f":"LOOKUP(F79,B37:B56,L37:L56)","v":{"$error":"#N/A"}},{"$f":"LOOKUP(F79,B37:B56,M37:M56)","v":{"$error":"#N/A"}}]
[null,null,null,21,{"$f":"IF( (E57+L57*D79)<=H57,(E57+L57*D79),\"- - -\")","v":"- - -"},{"$f":"(B60+1)-MATCH(E80,C60:C79,-1)","v":{"$error":"#N/A"}},{"$f":"LOOKUP(F80,B37:B56,E37:E56)","v":{"$error":"#N/A"}},null,null,{"$f":"LOOKUP(F80,B37:B56,H37:H56)*$P$57","v":{"$error":"#N/A"}},{"$f":"LOOKUP(F80,B37:B56,I37:I56)*$P$57","v":{"$error":"#N/A"}},{"$f":"LOOKUP(F80,B37:B56,J37:J56)","v":{"$error":"#N/A"}},{"$f":"LOOKUP(F80,B37:B56,K37:K56)","v":{"$error":"#N/A"}},{"$f":"LOOKUP(F80,B37:B56,L37:L56)","v":{"$error":"#N/A"}},{"$f":"LOOKUP(F80,B37:B56,M37:M56)","v":{"$error":"#N/A"}}]
[null,null,null,22,{"$f":"IF( (E57+L57*D80)<=H57,(E57+L57*D80),\"- - -\")","v":"- - -"},{"$f":"(B60+1)-MATCH(E81,C60:C79,-1)","v":{"$error":"#N/A"}},{"$f":"LOOKUP(F81,B37:B56,E37:E56)","v":{"$error":"#N/A"}},null,null,{"$f":"LOOKUP(F81,B37:B56,H37:H56)*$P$57","v":{"$error":"#N/A"}},{"$f":"LOOKUP(F81,B37:B56,I37:I56)*$P$57","v":{"$error":"#N/A"}},{"$f":"LOOKUP(F81,B37:B56,J37:J56)","v":{"$error":"#N/A"}},{"$f":"LOOKUP(F81,B37:B56,K37:K56)","v":{"$error":"#N/A"}},{"$f":"LOOKUP(F81,B37:B56,L37:L56)","v":{"$error":"#N/A"}},{"$f":"LOOKUP(F81,B37:B56,M37:M56)","v":{"$error":"#N/A"}}]
[null,null,null,23,{"$f":"IF( (E57+L57*D81)<=H57,(E57+L57*D81),\"- - -\")","v":"- - -"},{"$f":"(B60+1)-MATCH(E82,C60:C79,-1)","v":{"$error":"#N/A"}},{"$f":"LOOKUP(F82,B37:B56,E37:E56)","v":{"$error":"#N/A"}},null,null,{"$f":"LOOKUP(F82,B37:B56,H37:H56)*$P$57","v":{"$error":"#N/A"}},{"$f":"LOOKUP(F82,B37:B56,I37:I56)*$P$57","v":{"$error":"#N/A"}},{"$f":"LOOKUP(F82,B37:B56,J37:J56)","v":{"$error":"#N/A"}},{"$f":"LOOKUP(F82,B37:B56,K37:K56)","v":{"$error":"#N/A"}},{"$f":"LOOKUP(F82,B37:B56,L37:L56)","v":{"$error":"#N/A"}},{"$f":"LOOKUP(F82,B37:B56,M37:M56)","v":{"$error":"#N/A"}}]
[null,null,null,24,{"$f":"IF( (E57+L57*D82)<=H57,(E57+L57*D82),\"- - -\")","v":"- - -"},{"$f":"(B60+1)-MATCH(E83,C60:C79,-1)","v":{"$error":"#N/A"}},{"$f":"LOOKUP(F83,B37:B56,E37:E56)","v":{"$error":"#N/A"}},null,null,{"$f":"LOOKUP(F83,B37:B56,H37:H56)*$P$57","v":{"$error":"#N/A"}},{"$f":"LOOKUP(F83,B37:B56,I37:I56)*$P$57","v":{"$error":"#N/A"}},{"$f":"LOOKUP(F83,B37:B56,J37:J56)","v":{"$error":"#N/A"}},{"$f":"LOOKUP(F83,B37:B56,K37:K56)","v":{"$error":"#N/A"}},{"$f":"LOOKUP(F83,B37:B56,L37:L56)","v":{"$error":"#N/A"}},{"$f":"LOOKUP(F83,B37:B56,M37:M56)","v":{"$error":"#N/A"}}]
[null,null,null,25,{"$f":"IF( (E57+L57*D83)<=H57,(E57+L57*D83),\"- - -\")","v":"- - -"},{"$f":"(B60+1)-MATCH(E84,C60:C79,-1)","v":{"$error":"#N/A"}},{"$f":"LOOKUP(F84,B37:B56,E37:E56)","v":{"$error":"#N/A"}},null,null,{"$f":"LOOKUP(F84,B37:B56,H37:H56)*$P$57","v":{"$error":"#N/A"}},{"$f":"LOOKUP(F84,B37:B56,I37:I56)*$P$57","v":{"$error":"#N/A"}},{"$f":"LOOKUP(F84,B37:B56,J37:J56)","v":{"$error":"#N/A"}},{"$f":"LOOKUP(F84,B37:B56,K37:K56)","v":{"$error":"#N/A"}},{"$f":"LOOKUP(F84,B37:B56,L37:L56)","v":{"$error":"#N/A"}},{"$f":"LOOKUP(F84,B37:B56,M37:M56)","v":{"$error":"#N/A"}}]
[null,null,null,26,{"$f":"IF( (E57+L57*D84)<=H57,(E57+L57*D84),\"- - -\")","v":"- - -"},{"$f":"(B60+1)-MATCH(E85,C60:C79,-1)","v":{"$error":"#N/A"}},{"$f":"LOOKUP(F85,B37:B56,E37:E56)","v":{"$error":"#N/A"}},null,null,{"$f":"LOOKUP(F85,B37:B56,H37:H56)*$P$57","v":{"$error":"#N/A"}},{"$f":"LOOKUP(F85,B37:B56,I37:I56)*$P$57","v":{"$error":"#N/A"}},{"$f":"LOOKUP(F85,B37:B56,J37:J56)","v":{"$error":"#N/A"}},{"$f":"LOOKUP(F85,B37:B56,K37:K56)","v":{"$error":"#N/A"}},{"$f":"LOOKUP(F85,B37:B56,L37:L56)","v":{"$error":"#N/A"}},{"$f":"LOOKUP(F85,B37:B56,M37:M56)","v":{"$error":"#N/A"}}]
[null,null,null,27,{"$f":"IF( (E57+L57*D85)<=H57,(E57+L57*D85),\"- - -\")","v":"- - -"},{"$f":"(B60+1)-MATCH(E86,C60:C79,-1)","v":{"$error":"#N/A"}},{"$f":"LOOKUP(F86,B37:B56,E37:E56)","v":{"$error":"#N/A"}},null,null,{"$f":"LOOKUP(F86,B37:B56,H37:H56)*$P$57","v":{"$error":"#N/A"}},{"$f":"LOOKUP(F86,B37:B56,I37:I56)*$P$57","v":{"$error":"#N/A"}},{"$f":"LOOKUP(F86,B37:B56,J37:J56)","v":{"$error":"#N/A"}},{"$f":"LOOKUP(F86,B37:B56,K37:K56)","v":{"$error":"#N/A"}},{"$f":"LOOKUP(F86,B37:B56,L37:L56)","v":{"$error":"#N/A"}},{"$f":"LOOKUP(F86,B37:B56,M37:M56)","v":{"$error":"#N/A"}}]
[null,null,null,28,{"$f":"IF( (E57+L57*D86)<=H57,(E57+L57*D86),\"- - -\")","v":"- - -"},{"$f":"(B60+1)-MATCH(E87,C60:C79,-1)","v":{"$error":"#N/A"}},{"$f":"LOOKUP(F87,B37:B56,E37:E56)","v":{"$error":"#N/A"}},null,null,{"$f":"LOOKUP(F87,B37:B56,H37:H56)*$P$57","v":{"$error":"#N/A"}},{"$f":"LOOKUP(F87,B37:B56,I37:I56)*$P$57","v":{"$error":"#N/A"}},{"$f":"LOOKUP(F87,B37:B56,J37:J56)","v":{"$error":"#N/A"}},{"$f":"LOOKUP(F87,B37:B56,K37:K56)","v":{"$error":"#N/A"}},{"$f":"LOOKUP(F87,B37:B56,L37:L56)","v":{"$error":"#N/A"}},{"$f":"LOOKUP(F87,B37:B56,M37:M56)","v":{"$error":"#N/A"}}]
[null,null,null,29,{"$f":"IF( (E57+L57*D87)<=H57,(E57+L57*D87),\"- - -\")","v":"- - -"},{"$f":"(B60+1)-MATCH(E88,C60:C79,-1)","v":{"$error":"#N/A"}},{"$f":"LOOKUP(F88,B37:B56,E37:E56)","v":{"$error":"#N/A"}},null,null,{"$f":"LOOKUP(F88,B37:B56,H37:H56)*$P$57","v":{"$error":"#N/A"}},{"$f":"LOOKUP(F88,B37:B56,I37:I56)*$P$57","v":{"$error":"#N/A"}},{"$f":"LOOKUP(F88,B37:B56,J37:J56)","v":{"$error":"#N/A"}},{"$f":"LOOKUP(F88,B37:B56,K37:K56)","v":{"$error":"#N/A"}},{"$f":"LOOKUP(F88,B37:B56,L37:L56)","v":{"$error":"#N/A"}},{"$f":"LOOKUP(F88,B37:B56,M37:M56)","v":{"$error":"#N/A"}}]
[null,null,null,30,{"$f":"IF( (E57+L57*D88)<=H57,(E57+L57*D88),\"- - -\")","v":"- - -"},{"$f":"(B60+1)-MATCH(E89,C60:C79,-1)","v":{"$error":"#N/A"}},{"$f":"LOOKUP(F89,B37:B56,E37:E56)","v":{"$error":"#N/A"}},null,null,{"$f":"LOOKUP(F89,B37:B56,H37:H56)*$P$57","v":{"$error":"#N/A"}},{"$f":"LOOKUP(F89,B37:B56,I37:I56)*$P$57","v":{"$error":"#N/A"}},{"$f":"LOOKUP(F89,B37:B56,J37:J56)","v":{"$error":"#N/A"}},{"$f":"LOOKUP(F89,B37:B56,K37:K56)","v":{"$error":"#N/A"}},{"$f":"LOOKUP(F89,B37:B56,L37:L56)","v":{"$error":"#N/A"}},{"$f":"LOOKUP(F89,B37:B56,M37:M56)","v":{"$error":"#N/A"}}]
[null,null,null,{"$f":"D89+1","v":31},{"$f":"IF( (E57+L57*D89)<=H57,(E57+L57*D89),\"- - -\")","v":"- - -"},{"$f":"(B60+1)-MATCH(E90,C60:C79,-1)","v":{"$error":"#N/A"}},{"$f":"LOOKUP(F90,B37:B56,E37:E56)","v":{"$error":"#N/A"}},null,null,{"$f":"LOOKUP(F90,B37:B56,H37:H56)*$P$57","v":{"$error":"#N/A"}},{"$f":"LOOKUP(F90,B37:B56,I37:I56)*$P$57","v":{"$error":"#N/A"}},{"$f":"LOOKUP(F90,B37:B56,J37:J56)","v":{"$error":"#N/A"}},{"$f":"LOOKUP(F90,B37:B56,K37:K56)","v":{"$error":"#N/A"}},{"$f":"LOOKUP(F90,B37:B56,L37:L56)","v":{"$error":"#N/A"}},{"$f":"LOOKUP(F90,B37:B56,M37:M56)","v":{"$error":"#N/A"}}]
[null,null,null,32,{"$f":"IF( (E57+L57*D90)<=H57,(E57+L57*D90),\"- - -\")","v":"- - -"},{"$f":"(B60+1)-MATCH(E91,C60:C79,-1)","v":{"$error":"#N/A"}},{"$f":"LOOKUP(F91,B37:B56,E37:E56)","v":{"$error":"#N/A"}},null,null,{"$f":"LOOKUP(F91,B37:B56,H37:H56)*$P$57","v":{"$error":"#N/A"}},{"$f":"LOOKUP(F91,B37:B56,I37:I56)*$P$57","v":{"$error":"#N/A"}},{"$f":"LOOKUP(F91,B37:B56,J37:J56)","v":{"$error":"#N/A"}},{"$f":"LOOKUP(F91,B37:B56,K37:K56)","v":{"$error":"#N/A"}},{"$f":"LOOKUP(F91,B37:B56,L37:L56)","v":{"$error":"#N/A"}},{"$f":"LOOKUP(F91,B37:B56,M37:M56)","v":{"$error":"#N/A"}}]
[null,null,null,33,{"$f":"IF( (E57+L57*D91)<=H57,(E57+L57*D91),\"- - -\")","v":"- - -"},{"$f":"(B60+1)-MATCH(E92,C60:C79,-1)","v":{"$error":"#N/A"}},{"$f":"LOOKUP(F92,B37:B56,E37:E56)","v":{"$error":"#N/A"}},null,null,{"$f":"LOOKUP(F92,B37:B56,H37:H56)*$P$57","v":{"$error":"#N/A"}},{"$f":"LOOKUP(F92,B37:B56,I37:I56)*$P$57","v":{"$error":"#N/A"}},{"$f":"LOOKUP(F92,B37:B56,J37:J56)","v":{"$error":"#N/A"}},{"$f":"LOOKUP(F92,B37:B56,K37:K56)","v":{"$error":"#N/A"}},{"$f":"LOOKUP(F92,B37:B56,L37:L56)","v":{"$error":"#N/A"}},{"$f":"LOOKUP(F92,B37:B56,M37:M56)","v":{"$error":"#N/A"}}]
[null,null,null,34,{"$f":"IF( (E57+L57*D92)<=H57,(E57+L57*D92),\"- - -\")","v":"- - -"},{"$f":"(B60+1)-MATCH(E93,C60:C79,-1)","v":{"$error":"#N/A"}},{"$f":"LOOKUP(F93,B37:B56,E37:E56)","v":{"$error":"#N/A"}},null,null,{"$f":"LOOKUP(F93,B37:B56,H37:H56)*$P$57","v":{"$error":"#N/A"}},{"$f":"LOOKUP(F93,B37:B56,I37:I56)*$P$57","v":{"$error":"#N/A"}},{"$f":"LOOKUP(F93,B37:B56,J37:J56)","v":{"$error":"#N/A"}},{"$f":"LOOKUP(F93,B37:B56,K37:K56)","v":{"$error":"#N/A"}},{"$f":"LOOKUP(F93,B37:B56,L37:L56)","v":{"$error":"#N/A"}},{"$f":"LOOKUP(F93,B37:B56,M37:M56)","v":{"$error":"#N/A"}}]
[null,null,null,35,{"$f":"IF( (E57+L57*D93)<=H57,(E57+L57*D93),\"- - -\")","v":"- - -"},{"$f":"(B60+1)-MATCH(E94,C60:C79,-1)","v":{"$error":"#N/A"}},{"$f":"LOOKUP(F94,B37:B56,E37:E56)","v":{"$error":"#N/A"}},null,null,{"$f":"LOOKUP(F94,B37:B56,H37:H56)*$P$57","v":{"$error":"#N/A"}},{"$f":"LOOKUP(F94,B37:B56,I37:I56)*$P$57","v":{"$error":"#N/A"}},{"$f":"LOOKUP(F94,B37:B56,J37:J56)","v":{"$error":"#N/A"}},{"$f":"LOOKUP(F94,B37:B56,K37:K56)","v":{"$error":"#N/A"}},{"$f":"LOOKUP(F94,B37:B56,L37:L56)","v":{"$error":"#N/A"}},{"$f":"LOOKUP(F94,B37:B56,M37:M56)","v":{"$error":"#N/A"}}]
[null,null,null,36,{"$f":"IF( (E57+L57*D94)<=H57,(E57+L57*D94),\"- - -\")","v":"- - -"},{"$f":"(B60+1)-MATCH(E95,C60:C79,-1)","v":{"$error":"#N/A"}},{"$f":"LOOKUP(F95,B37:B56,E37:E56)","v":{"$error":"#N/A"}},null,null,{"$f":"LOOKUP(F95,B37:B56,H37:H56)*$P$57","v":{"$error":"#N/A"}},{"$f":"LOOKUP(F95,B37:B56,I37:I56)*$P$57","v":{"$error":"#N/A"}},{"$f":"LOOKUP(F95,B37:B56,J37:J56)","v":{"$error":"#N/A"}},{"$f":"LOOKUP(F95,B37:B56,K37:K56)","v":{"$error":"#N/A"}},{"$f":"LOOKUP(F95,B37:B56,L37:L56)","v":{"$error":"#N/A"}},{"$f":"LOOKUP(F95,B37:B56,M37:M56)","v":{"$error":"#N/A"}}]
[null,null,null,37,{"$f":"IF( (E57+L57*D95)<=H57,(E57+L57*D95),\"- - -\")","v":"- - -"},{"$f":"(B60+1)-MATCH(E96,C60:C79,-1)","v":{"$error":"#N/A"}},{"$f":"LOOKUP(F96,B37:B56,E37:E56)","v":{"$error":"#N/A"}},null,null,{"$f":"LOOKUP(F96,B37:B56,H37:H56)*$P$57","v":{"$error":"#N/A"}},{"$f":"LOOKUP(F96,B37:B56,I37:I56)*$P$57","v":{"$error":"#N/A"}},{"$f":"LOOKUP(F96,B37:B56,J37:J56)","v":{"$error":"#N/A"}},{"$f":"LOOKUP(F96,B37:B56,K37:K56)","v":{"$error":"#N/A"}},{"$f":"LOOKUP(F96,B37:B56,L37:L56)","v":{"$error":"#N/A"}},{"$f":"LOOKUP(F96,B37:B56,M37:M56)","v":{"$error":"#N/A"}}]
[null,null,null,38,{"$f":"IF( (E57+L57*D96)<=H57,(E57+L57*D96),\"- - -\")","v":"- - -"},{"$f":"(B60+1)-MATCH(E97,C60:C79,-1)","v":{"$error":"#N/A"}},{"$f":"LOOKUP(F97,B37:B56,E37:E56)","v":{"$error":"#N/A"}},null,null,{"$f":"LOOKUP(F97,B37:B56,H37:H56)*$P$57","v":{"$error":"#N/A"}},{"$f":"LOOKUP(F97,B37:B56,I37:I56)*$P$57","v":{"$error":"#N/A"}},{"$f":"LOOKUP(F97,B37:B56,J37:J56)","v":{"$error":"#N/A"}},{"$f":"LOOKUP(F97,B37:B56,K37:K56)","v":{"$error":"#N/A"}},{"$f":"LOOKUP(F97,B37:B56,L37:L56)","v":{"$error":"#N/A"}},{"$f":"LOOKUP(F97,B37:B56,M37:M56)","v":{"$error":"#N/A"}}]
[null,null,null,39,{"$f":"IF( (E57+L57*D97)<=H57,(E57+L57*D97),\"- - -\")","v":"- - -"},{"$f":"(B60+1)-MATCH(E98,C60:C79,-1)","v":{"$error":"#N/A"}},{"$f":"LOOKUP(F98,B37:B56,E37:E56)","v":{"$error":"#N/A"}},null,null,{"$f":"LOOKUP(F98,B37:B56,H37:H56)*$P$57","v":{"$error":"#N/A"}},{"$f":"LOOKUP(F98,B37:B56,I37:I56)*$P$57","v":{"$error":"#N/A"}},{"$f":"LOOKUP(F98,B37:B56,J37:J56)","v":{"$error":"#N/A"}},{"$f":"LOOKUP(F98,B37:B56,K37:K56)","v":{"$error":"#N/A"}},{"$f":"LOOKUP(F98,B37:B56,L37:L56)","v":{"$error":"#N/A"}},{"$f":"LOOKUP(F98,B37:B56,M37:M56)","v":{"$error":"#N/A"}}]
[null,null,null,40,{"$f":"IF( (E57+L57*D98)<=H57,(E57+L57*D98),\"- - -\")","v":"- - -"},{"$f":"(B60+1)-MATCH(E99,C60:C79,-1)","v":{"$error":"#N/A"}},{"$f":"LOOKUP(F99,B37:B56,E37:E56)","v":{"$error":"#N/A"}},null,null,{"$f":"LOOKUP(F99,B37:B56,H37:H56)*$P$57","v":{"$error":"#N/A"}},{"$f":"LOOKUP(F99,B37:B56,I37:I56)*$P$57","v":{"$error":"#N/A"}},{"$f":"LOOKUP(F99,B37:B56,J37:J56)","v":{"$error":"#N/A"}},{"$f":"LOOKUP(F99,B37:B56,K37:K56)","v":{"$error":"#N/A"}},{"$f":"LOOKUP(F99,B37:B56,L37:L56)","v":{"$error":"#N/A"}},{"$f":"LOOKUP(F99,B37:B56,M37:M56)","v":{"$error":"#N/A"}}]
[null,null,null,41,{"$f":"IF( (E57+L57*D99)<=H57,(E57+L57*D99),\"- - -\")","v":"- - -"},{"$f":"(B60+1)-MATCH(E100,C60:C79,-1)","v":{"$error":"#N/A"}},{"$f":"LOOKUP(F100,B37:B56,E37:E56)","v":{"$error":"#N/A"}},null,null,{"$f":"LOOKUP(F100,B37:B56,H37:H56)*$P$57","v":{"$error":"#N/A"}},{"$f":"LOOKUP(F100,B37:B56,I37:I56)*$P$57","v":{"$error":"#N/A"}},{"$f":"LOOKUP(F100,B37:B56,J37:J56)","v":{"$error":"#N/A"}},{"$f":"LOOKUP(F100,B37:B56,K37:K56)","v":{"$error":"#N/A"}},{"$f":"LOOKUP(F100,B37:B56,L37:L56)","v":{"$error":"#N/A"}},{"$f":"LOOKUP(F100,B37:B56,M37:M56)","v":{"$error":"#N/A"}}]
[null,null,null,42,{"$f":"IF( (E57+L57*D100)<=H57,(E57+L57*D100),\"- - -\")","v":"- - -"},{"$f":"(B60+1)-MATCH(E101,C60:C79,-1)","v":{"$error":"#N/A"}},{"$f":"LOOKUP(F101,B37:B56,E37:E56)","v":{"$error":"#N/A"}},null,null,{"$f":"LOOKUP(F101,B37:B56,H37:H56)*$P$57","v":{"$error":"#N/A"}},{"$f":"LOOKUP(F101,B37:B56,I37:I56)*$P$57","v":{"$error":"#N/A"}},{"$f":"LOOKUP(F101,B37:B56,J37:J56)","v":{"$error":"#N/A"}},{"$f":"LOOKUP(F101,B37:B56,K37:K56)","v":{"$error":"#N/A"}},{"$f":"LOOKUP(F101,B37:B56,L37:L56)","v":{"$error":"#N/A"}},{"$f":"LOOKUP(F101,B37:B56,M37:M56)","v":{"$error":"#N/A"}}]
[null,null,null,43,{"$f":"IF( (E57+L57*D101)<=H57,(E57+L57*D101),\"- - -\")","v":"- - -"},{"$f":"(B60+1)-MATCH(E102,C60:C79,-1)","v":{"$error":"#N/A"}},{"$f":"LOOKUP(F102,B37:B56,E37:E56)","v":{"$error":"#N/A"}},null,null,{"$f":"LOOKUP(F102,B37:B56,H37:H56)*$P$57","v":{"$error":"#N/A"}},{"$f":"LOOKUP(F102,B37:B56,I37:I56)*$P$57","v":{"$error":"#N/A"}},{"$f":"LOOKUP(F102,B37:B56,J37:J56)","v":{"$error":"#N/A"}},{"$f":"LOOKUP(F102,B37:B56,K37:K56)","v":{"$error":"#N/A"}},{"$f":"LOOKUP(F102,B37:B56,L37:L56)","v":{"$error":"#N/A"}},{"$f":"LOOKUP(F102,B37:B56,M37:M56)","v":{"$error":"#N/A"}}]
[null,null,null,44,{"$f":"IF( (E57+L57*D102)<=H57,(E57+L57*D102),\"- - -\")","v":"- - -"},{"$f":"(B60+1)-MATCH(E103,C60:C79,-1)","v":{"$error":"#N/A"}},{"$f":"LOOKUP(F103,B37:B56,E37:E56)","v":{"$error":"#N/A"}},null,null,{"$f":"LOOKUP(F103,B37:B56,H37:H56)*$P$57","v":{"$error":"#N/A"}},{"$f":"LOOKUP(F103,B37:B56,I37:I56)*$P$57","v":{"$error":"#N/A"}},{"$f":"LOOKUP(F103,B37:B56,J37:J56)","v":{"$error":"#N/A"}},{"$f":"LOOKUP(F103,B37:B56,K37:K56)","v":{"$error":"#N/A"}},{"$f":"LOOKUP(F103,B37:B56,L37:L56)","v":{"$error":"#N/A"}},{"$f":"LOOKUP(F103,B37:B56,M37:M56)","v":{"$error":"#N/A"}}]
[null,null,null,45,{"$f":"IF( (E57+L57*D103)<=H57,(E57+L57*D103),\"- - -\")","v":"- - -"},{"$f":"(B60+1)-MATCH(E104,C60:C79,-1)","v":{"$error":"#N/A"}},{"$f":"LOOKUP(F104,B37:B56,E37:E56)","v":{"$error":"#N/A"}},null,null,{"$f":"LOOKUP(F104,B37:B56,H37:H56)*$P$57","v":{"$error":"#N/A"}},{"$f":"LOOKUP(F104,B37:B56,I37:I56)*$P$57","v":{"$error":"#N/A"}},{"$f":"LOOKUP(F104,B37:B56,J37:J56)","v":{"$error":"#N/A"}},{"$f":"LOOKUP(F104,B37:B56,K37:K56)","v":{"$error":"#N/A"}},{"$f":"LOOKUP(F104,B37:B56,L37:L56)","v":{"$error":"#N/A"}},{"$f":"LOOKUP(F104,B37:B56,M37:M56)","v":{"$error":"#N/A"}}]
[null,null,null,46,{"$f":"IF( (E57+L57*D104)<=H57,(E57+L57*D104),\"- - -\")","v":"- - -"},{"$f":"(B60+1)-MATCH(E105,C60:C79,-1)","v":{"$error":"#N/A"}},{"$f":"LOOKUP(F105,B37:B56,E37:E56)","v":{"$error":"#N/A"}},null,null,{"$f":"LOOKUP(F105,B37:B56,H37:H56)*$P$57","v":{"$error":"#N/A"}},{"$f":"LOOKUP(F105,B37:B56,I37:I56)*$P$57","v":{"$error":"#N/A"}},{"$f":"LOOKUP(F105,B37:B56,J37:J56)","v":{"$error":"#N/A"}},{"$f":"LOOKUP(F105,B37:B56,K37:K56)","v":{"$error":"#N/A"}},{"$f":"LOOKUP(F105,B37:B56,L37:L56)","v":{"$error":"#N/A"}},{"$f":"LOOKUP(F105,B37:B56,M37:M56)","v":{"$error":"#N/A"}}]
[null,null,null,47,{"$f":"IF( (E57+L57*D105)<=H57,(E57+L57*D105),\"- - -\")","v":"- - -"},{"$f":"(B60+1)-MATCH(E106,C60:C79,-1)","v":{"$error":"#N/A"}},{"$f":"LOOKUP(F106,B37:B56,E37:E56)","v":{"$error":"#N/A"}},null,null,{"$f":"LOOKUP(F106,B37:B56,H37:H56)*$P$57","v":{"$error":"#N/A"}},{"$f":"LOOKUP(F106,B37:B56,I37:I56)*$P$57","v":{"$error":"#N/A"}},{"$f":"LOOKUP(F106,B37:B56,J37:J56)","v":{"$error":"#N/A"}},{"$f":"LOOKUP(F106,B37:B56,K37:K56)","v":{"$error":"#N/A"}},{"$f":"LOOKUP(F106,B37:B56,L37:L56)","v":{"$error":"#N/A"}},{"$f":"LOOKUP(F106,B37:B56,M37:M56)","v":{"$error":"#N/A"}}]
[null,null,null,48,{"$f":"IF( (E57+L57*D106)<=H57,(E57+L57*D106),\"- - -\")","v":"- - -"},{"$f":"(B60+1)-MATCH(E107,C60:C79,-1)","v":{"$error":"#N/A"}},{"$f":"LOOKUP(F107,B37:B56,E37:E56)","v":{"$error":"#N/A"}},null,null,{"$f":"LOOKUP(F107,B37:B56,H37:H56)*$P$57","v":{"$error":"#N/A"}},{"$f":"LOOKUP(F107,B37:B56,I37:I56)*$P$57","v":{"$error":"#N/A"}},{"$f":"LOOKUP(F107,B37:B56,J37:J56)","v":{"$error":"#N/A"}},{"$f":"LOOKUP(F107,B37:B56,K37:K56)","v":{"$error":"#N/A"}},{"$f":"LOOKUP(F107,B37:B56,L37:L56)","v":{"$error":"#N/A"}},{"$f":"LOOKUP(F107,B37:B56,M37:M56)","v":{"$error":"#N/A"}}]
[null,null,null,49,{"$f":"IF( (E57+L57*D107)<=H57,(E57+L57*D107),\"- - -\")","v":"- - -"},{"$f":"(B60+1)-MATCH(E108,C60:C79,-1)","v":{"$error":"#N/A"}},{"$f":"LOOKUP(F108,B37:B56,E37:E56)","v":{"$error":"#N/A"}},null,null,{"$f":"LOOKUP(F108,B37:B56,H37:H56)*$P$57","v":{"$error":"#N/A"}},{"$f":"LOOKUP(F108,B37:B56,I37:I56)*$P$57","v":{"$error":"#N/A"}},{"$f":"LOOKUP(F108,B37:B56,J37:J56)","v":{"$error":"#N/A"}},{"$f":"LOOKUP(F108,B37:B56,K37:K56)","v":{"$error":"#N/A"}},{"$f":"LOOKUP(F108,B37:B56,L37:L56)","v":{"$error":"#N/A"}},{"$f":"LOOKUP(F108,B37:B56,M37:M56)","v":{"$error":"#N/A"}}]
[null,null,null,50,{"$f":"IF( (E57+L57*D108)<=H57,(E57+L57*D108),\"- - -\")","v":"- - -"},{"$f":"(B60+1)-MATCH(E109,C60:C79,-1)","v":{"$error":"#N/A"}},{"$f":"LOOKUP(F109,B37:B56,E37:E56)","v":{"$error":"#N/A"}},null,null,{"$f":"LOOKUP(F109,B37:B56,H37:H56)*$P$57","v":{"$error":"#N/A"}},{"$f":"LOOKUP(F109,B37:B56,I37:I56)*$P$57","v":{"$error":"#N/A"}},{"$f":"LOOKUP(F109,B37:B56,J37:J56)","v":{"$error":"#N/A"}},{"$f":"LOOKUP(F109,B37:B56,K37:K56)","v":{"$error":"#N/A"}},{"$f":"LOOKUP(F109,B37:B56,L37:L56)","v":{"$error":"#N/A"}},{"$f":"LOOKUP(F109,B37:B56,M37:M56)","v":{"$error":"#N/A"}}]
[]
[]
[null,"搬送負荷データレコード",null,null,{"$f":"LOOKUP(C114,MassDataLink!$A$4:$A$1315,MassDataLink!$G$4:$G$1315)","v":"RCP3-SA2AC-20P-1S水平"},null,null,null,null,"設置姿勢で絞込み",null,"- - -",null,"加減速・速度データレコード"]
[null,"№","Ldﾚｺｰﾄﾞ№",{"$f":"MassDataLink!B2","v":"ｱｸﾁｭｴｰﾀ姿勢"},{"$f":"MassDataLink!C2","v":"搬送負荷質量"},{"$f":"MassDataLink!D2","v":"加減速・速度ﾃﾞｰﾀ"},{"$f":"MassDataLink!E2","v":"前ﾃﾞｰﾀ№"},{"$f":"MassDataLink!F2","v":"次ﾃﾞｰﾀ№"},null,"№","搬送負荷質量","avﾚｺｰﾄﾞ№",null,"備考",{"$f":"LOOKUP(O115,AccVelDataLink!$A$4:$A$1414,AccVelDataLink!$F$4:$F$1414)","v":"RCP3-SA2AC-20P-1S-水平"}]
[null,1,{"$f":"LOOKUP(D35,B26:B33,E26:E33)","v":1},{"$f":"LOOKUP(C114,MassDataLink!$A$4:$A$1315,MassDataLink!$B$4:$B$1315)","v":0},{"$f":"LOOKUP(C114,MassDataLink!$A$4:$A$1315,MassDataLink!$C$4:$C$1315)","v":1000},{"$f":"LOOKUP(C114,MassDataLink!$A$4:$A$1315,MassDataLink!$D$4:$D$1315)","v":1},{"$f":"LOOKUP(C114,MassDataLink!$A$4:$A$1315,MassDataLink!$E$4:$E$1315)","v":-1},{"$f":"LOOKUP(C114,MassDataLink!$A$4:$A$1315,MassDataLink!$F$4:$F$1315)","v":-1},null,1,{"$f":"IF(C114=-1,$L$112,IF($A$11=D114,ROUND((E114*$P$57),$R$57),$L$112))","v":1},{"$f":"IF(K114=$L$112,$L$112,F114)","v":1},null,"№","avﾚｺｰﾄﾞ№","加速度","速度","前ﾃﾞｰﾀ","次ﾃﾞｰﾀ"]
[null,{"$f":"B114+1","v":2},{"$f":"IF(C114=-1,-1,H114)","v":-1},{"$f":"LOOKUP(C115,MassDataLink!$A$4:$A$1315,MassDataLink!$B$4:$B$1315)","v":{"$error":"#N/A"}},{"$f":"LOOKUP(C115,MassDataLink!$A$4:$A$1315,MassDataLink!$C$4:$C$1315)","v":{"$error":"#N/A"}},{"$f":"LOOKUP(C115,MassDataLink!$A$4:$A$1315,MassDataLink!$D$4:$D$1315)","v":{"$error":"#N/A"}},{"$f":"LOOKUP(C115,MassDataLink!$A$4:$A$1315,MassDataLink!$E$4:$E$1315)","v":{"$error":"#N/A"}},{"$f":"LOOKUP(C115,MassDataLink!$A$4:$A$1315,MassDataLink!$F$4:$F$1315)","v":{"$error":"#N/A"}},null,{"$f":"J114+1","v":2},{"$f":"IF(C115=-1,$L$112,IF($A$11=D115,ROUND((E115*$P$57),$R$57),$L$112))","v":"- - -"},{"$f":"IF(K115=$L$112,$L$112,F115)","v":"- - -"},null,1,{"$f":"LOOKUP(A14,K114:K163,L114:L163)","v":1},{"$f":"LOOKUP(O115,AccVelDataLink!$A$4:$A$1414,AccVelDataLink!$B$4:$B$1414)","v":1961330},{"$f":"LOOKUP(O115,AccVelDataLink!$A$4:$A$1414,AccVelDataLink!$C$4:$C$1414)","v":50},{"$f":"LOOKUP(O115,AccVelDataLink!$A$4:$A$1414,AccVelDataLink!$D$4:$D$1414)","v":-1},{"$f":"LOOKUP(O115,AccVelDataLink!$A$4:$A$1414,AccVelDataLink!$E$4:$E$1414)","v":-1}]
[null,{"$f":"B115+1","v":3},{"$f":"IF(C115=-1,-1,H115)","v":-1},{"$f":"LOOKUP(C116,MassDataLink!$A$4:$A$1315,MassDataLink!$B$4:$B$1315)","v":{"$error":"#N/A"}},{"$f":"LOOKUP(C116,MassDataLink!$A$4:$A$1315,MassDataLink!$C$4:$C$1315)","v":{"$error":"#N/A"}},{"$f":"LOOKUP(C116,MassDataLink!$A$4:$A$1315,MassDataLink!$D$4:$D$1315)","v":{"$error":"#N/A"}},{"$f":"LOOKUP(C116,MassDataLink!$A$4:$A$1315,MassDataLink!$E$4:$E$1315)","v":{"$error":"#N/A"}},{"$f":"LOOKUP(C116,MassDataLink!$A$4:$A$1315,MassDataLink!$F$4:$F$1315)","v":{"$error":"#N/A"}},null,{"$f":"J115+1","v":3},"- - -","- - -",null,{"$f":"N115+1","v":2},{"$f":"IF(O115=-1,-1,S115)","v":-1},{"$f":"LOOKUP(O116,AccVelDataLink!$A$4:$A$1414,AccVelDataLink!$B$4:$B$1414)","v":{"$error":"#N/A"}},{"$f":"LOOKUP(O116,AccVelDataLink!$A$4:$A$1414,AccVelDataLink!$C$4:$C$1414)","v":{"$error":"#N/A"}},{"$f":"LOOKUP(O116,AccVelDataLink!$A$4:$A$1414,AccVelDataLink!$D$4:$D$1414)","v":{"$error":"#N/A"}},{"$f":"LOOKUP(O116,AccVelDataLink!$A$4:$A$1414,AccVelDataLink!$E$4:$E$1414)","v":{"$error":"#N/A"}}]
[null,{"$f":"B116+1","v":4},{"$f":"IF(C116=-1,-1,H116)","v":-1},{"$f":"LOOKUP(C117,MassDataLink!$A$4:$A$1315,MassDataLink!$B$4:$B$1315)","v":{"$error":"#N/A"}},{"$f":"LOOKUP(C117,MassDataLink!$A$4:$A$1315,MassDataLink!$C$4:$C$1315)","v":{"$error":"#N/A"}},{"$f":"LOOKUP(C117,MassDataLink!$A$4:$A$1315,MassDataLink!$D$4:$D$1315)","v":{"$error":"#N/A"}},{"$f":"LOOKUP(C117,MassDataLink!$A$4:$A$1315,MassDataLink!$E$4:$E$1315)","v":{"$error":"#N/A"}},{"$f":"LOOKUP(C117,MassDataLink!$A$4:$A$1315,MassDataLink!$F$4:$F$1315)","v":{"$error":"#N/A"}},null,{"$f":"J116+1","v":4},"- - -","- - -",null,3,{"$f":"IF(O116=-1,-1,S116)","v":-1},{"$f":"LOOKUP(O117,AccVelDataLink!$A$4:$A$1414,AccVelDataLink!$B$4:$B$1414)","v":{"$error":"#N/A"}},{"$f":"LOOKUP(O117,AccVelDataLink!$A$4:$A$1414,AccVelDataLink!$C$4:$C$1414)","v":{"$error":"#N/A"}},{"$f":"LOOKUP(O117,AccVelDataLink!$A$4:$A$1414,AccVelDataLink!$D$4:$D$1414)","v":{"$error":"#N/A"}},{"$f":"LOOKUP(O117,AccVelDataLink!$A$4:$A$1414,AccVelDataLink!$E$4:$E$1414)","v":{"$error":"#N/A"}}]
[null,{"$f":"B117+1","v":5},{"$f":"IF(C117=-1,-1,H117)","v":-1},{"$f":"LOOKUP(C118,MassDataLink!$A$4:$A$1315,MassDataLink!$B$4:$B$1315)","v":{"$error":"#N/A"}},{"$f":"LOOKUP(C118,MassDataLink!$A$4:$A$1315,MassDataLink!$C$4:$C$1315)","v":{"$error":"#N/A"}},{"$f":"LOOKUP(C118,MassDataLink!$A$4:$A$1315,MassDataLink!$D$4:$D$1315)","v":{"$error":"#N/A"}},{"$f":"LOOKUP(C118,MassDataLink!$A$4:$A$1315,MassDataLink!$E$4:$E$1315)","v":{"$error":"#N/A"}},{"$f":"LOOKUP(C118,MassDataLink!$A$4:$A$1315,MassDataLink!$F$4:$F$1315)","v":{"$error":"#N/A"}},null,{"$f":"J117+1","v":5},"- - -","- - -",null,4,-1,{"$f":"LOOKUP(O118,AccVelDataLink!$A$4:$A$1414,AccVelDataLink!$B$4:$B$1414)","v":{"$error":"#N/A"}},{"$f":"LOOKUP(O118,AccVelDataLink!$A$4:$A$1414,AccVelDataLink!$C$4:$C$1414)","v":{"$error":"#N/A"}},{"$f":"LOOKUP(O118,AccVelDataLink!$A$4:$A$1414,AccVelDataLink!$D$4:$D$1414)","v":{"$error":"#N/A"}},{"$f":"LOOKUP(O118,AccVelDataLink!$A$4:$A$1414,AccVelDataLink!$E$4:$E$1414)","v":{"$error":"#N/A"}}]
[null,{"$f":"B118+1","v":6},{"$f":"IF(C118=-1,-1,H118)","v":-1},{"$f":"LOOKUP(C119,MassDataLink!$A$4:$A$1315,MassDataLink!$B$4:$B$1315)","v":{"$error":"#N/A"}},{"$f":"LOOKUP(C119,MassDataLink!$A$4:$A$1315,MassDataLink!$C$4:$C$1315)","v":{"$error":"#N/A"}},{"$f":"LOOKUP(C119,MassDataLink!$A$4:$A$1315,MassDataLink!$D$4:$D$1315)","v":{"$error":"#N/A"}},{"$f":"LOOKUP(C119,MassDataLink!$A$4:$A$1315,MassDataLink!$E$4:$E$1315)","v":{"$error":"#N/A"}},{"$f":"LOOKUP(C119,MassDataLink!$A$4:$A$1315,MassDataLink!$F$4:$F$1315)","v":{"$error":"#N/A"}},null,{"$f":"J118+1","v":6},"- - -","- - -",null,5,-1,{"$f":"LOOKUP(O119,AccVelDataLink!$A$4:$A$1414,AccVelDataLink!$B$4:$B$1414)","v":{"$error":"#N/A"}},{"$f":"LOOKUP(O119,AccVelDataLink!$A$4:$A$1414,AccVelDataLink!$C$4:$C$1414)","v":{"$error":"#N/A"}},{"$f":"LOOKUP(O119,AccVelDataLink!$A$4:$A$1414,AccVelDataLink!$D$4:$D$1414)","v":{"$error":"#N/A"}},{"$f":"LOOKUP(O119,AccVelDataLink!$A$4:$A$1414,AccVelDataLink!$E$4:$E$1414)","v":{"$error":"#N/A"}}]
[null,7,-1,{"$f":"LOOKUP(C120,MassDataLink!$A$4:$A$1315,MassDataLink!$B$4:$B$1315)","v":{"$error":"#N/A"}},{"$f":"LOOKUP(C120,MassDataLink!$A$4:$A$1315,MassDataLink!$C$4:$C$1315)","v":{"$error":"#N/A"}},{"$f":"LOOKUP(C120,MassDataLink!$A$4:$A$1315,MassDataLink!$D$4:$D$1315)","v":{"$error":"#N/A"}},{"$f":"LOOKUP(C120,MassDataLink!$A$4:$A$1315,MassDataLink!$E$4:$E$1315)","v":{"$error":"#N/A"}},{"$f":"LOOKUP(C120,MassDataLink!$A$4:$A$1315,MassDataLink!$F$4:$F$1315)","v":{"$error":"#N/A"}},null,7,"- - -","- - -",null,6,-1,{"$f":"LOOKUP(O120,AccVelDataLink!$A$4:$A$1414,AccVelDataLink!$B$4:$B$1414)","v":{"$error":"#N/A"}},{"$f":"LOOKUP(O120,AccVelDataLink!$A$4:$A$1414,AccVelDataLink!$C$4:$C$1414)","v":{"$error":"#N/A"}},{"$f":"LOOKUP(O120,AccVelDataLink!$A$4:$A$1414,AccVelDataLink!$D$4:$D$1414)","v":{"$error":"#N/A"}},{"$f":"LOOKUP(O120,AccVelDataLink!$A$4:$A$1414,AccVelDataLink!$E$4:$E$1414)","v":{"$error":"#N/A"}}]
[null,8,-1,{"$f":"LOOKUP(C121,MassDataLink!$A$4:$A$1315,MassDataLink!$B$4:$B$1315)","v":{"$error":"#N/A"}},{"$f":"LOOKUP(C121,MassDataLink!$A$4:$A$1315,MassDataLink!$C$4:$C$1315)","v":{"$error":"#N/A"}},{"$f":"LOOKUP(C121,MassDataLink!$A$4:$A$1315,MassDataLink!$D$4:$D$1315)","v":{"$error":"#N/A"}},{"$f":"LOOKUP(C121,MassDataLink!$A$4:$A$1315,MassDataLink!$E$4:$E$1315)","v":{"$error":"#N/A"}},{"$f":"LOOKUP(C121,MassDataLink!$A$4:$A$1315,MassDataLink!$F$4:$F$1315)","v":{"$error":"#N/A"}},null,8,"- - -","- - -",null,7,-1,{"$f":"LOOKUP(O121,AccVelDataLink!$A$4:$A$1414,AccVelDataLink!$B$4:$B$1414)","v":{"$error":"#N/A"}},{"$f":"LOOKUP(O121,AccVelDataLink!$A$4:$A$1414,AccVelDataLink!$C$4:$C$1414)","v":{"$error":"#N/A"}},{"$f":"LOOKUP(O121,AccVelDataLink!$A$4:$A$1414,AccVelDataLink!$D$4:$D$1414)","v":{"$error":"#N/A"}},{"$f":"LOOKUP(O121,AccVelDataLink!$A$4:$A$1414,AccVelDataLink!$E$4:$E$1414)","v":{"$error":"#N/A"}}]
[null,9,-1,{"$f":"LOOKUP(C122,MassDataLink!$A$4:$A$1315,MassDataLink!$B$4:$B$1315)","v":{"$error":"#N/A"}},{"$f":"LOOKUP(C122,MassDataLink!$A$4:$A$1315,MassDataLink!$C$4:$C$1315)","v":{"$error":"#N/A"}},{"$f":"LOOKUP(C122,MassDataLink!$A$4:$A$1315,MassDataLink!$D$4:$D$1315)","v":{"$error":"#N/A"}},{"$f":"LOOKUP(C122,MassDataLink!$A$4:$A$1315,MassDataLink!$E$4:$E$1315)","v":{"$error":"#N/A"}},{"$f":"LOOKUP(C122,MassDataLink!$A$4:$A$1315,MassDataLink!$F$4:$F$1315)","v":{"$error":"#N/A"}},null,9,"- - -","- - -",null,8,-1,{"$f":"LOOKUP(O122,AccVelDataLink!$A$4:$A$1414,AccVelDataLink!$B$4:$B$1414)","v":{"$error":"#N/A"}},{"$f":"LOOKUP(O122,AccVelDataLink!$A$4:$A$1414,AccVelDataLink!$C$4:$C$1414)","v":{"$error":"#N/A"}},{"$f":"LOOKUP(O122,AccVelDataLink!$A$4:$A$1414,AccVelDataLink!$D$4:$D$1414)","v":{"$error":"#N/A"}},{"$f":"LOOKUP(O122,AccVelDataLink!$A$4:$A$1414,AccVelDataLink!$E$4:$E$1414)","v":{"$error":"#N/A"}}]
[null,10,-1,{"$f":"LOOKUP(C123,MassDataLink!$A$4:$A$1315,MassDataLink!$B$4:$B$1315)","v":{"$error":"#N/A"}},{"$f":"LOOKUP(C123,MassDataLink!$A$4:$A$1315,MassDataLink!$C$4:$C$1315)","v":{"$error":"#N/A"}},{"$f":"LOOKUP(C123,MassDataLink!$A$4:$A$1315,MassDataLink!$D$4:$D$1315)","v":{"$error":"#N/A"}},{"$f":"LOOKUP(C123,MassDataLink!$A$4:$A$1315,MassDataLink!$E$4:$E$1315)","v":{"$error":"#N/A"}},{"$f":"LOOKUP(C123,MassDataLink!$A$4:$A$1315,MassDataLink!$F$4:$F$1315)","v":{"$error":"#N/A"}},null,10,"- - -","- - -",null,9,-1,{"$f":"LOOKUP(O123,AccVelDataLink!$A$4:$A$1414,AccVelDataLink!$B$4:$B$1414)","v":{"$error":"#N/A"}},{"$f":"LOOKUP(O123,AccVelDataLink!$A$4:$A$1414,AccVelDataLink!$C$4:$C$1414)","v":{"$error":"#N/A"}},{"$f":"LOOKUP(O123,AccVelDataLink!$A$4:$A$1414,AccVelDataLink!$D$4:$D$1414)","v":{"$error":"#N/A"}},{"$f":"LOOKUP(O123,AccVelDataLink!$A$4:$A$1414,AccVelDataLink!$E$4:$E$1414)","v":{"$error":"#N/A"}}]
[null,11,-1,{"$f":"LOOKUP(C124,MassDataLink!$A$4:$A$1315,MassDataLink!$B$4:$B$1315)","v":{"$error":"#N/A"}},{"$f":"LOOKUP(C124,MassDataLink!$A$4:$A$1315,MassDataLink!$C$4:$C$1315)","v":{"$error":"#N/A"}},{"$f":"LOOKUP(C124,MassDataLink!$A$4:$A$1315,MassDataLink!$D$4:$D$1315)","v":{"$error":"#N/A"}},{"$f":"LOOKUP(C124,MassDataLink!$A$4:$A$1315,MassDataLink!$E$4:$E$1315)","v":{"$error":"#N/A"}},{"$f":"LOOKUP(C124,MassDataLink!$A$4:$A$1315,MassDataLink!$F$4:$F$1315)","v":{"$error":"#N/A"}},null,11,"- - -","- - -",null,10,-1,{"$f":"LOOKUP(O124,AccVelDataLink!$A$4:$A$1414,AccVelDataLink!$B$4:$B$1414)","v":{"$error":"#N/A"}},{"$f":"LOOKUP(O124,AccVelDataLink!$A$4:$A$1414,AccVelDataLink!$C$4:$C$1414)","v":{"$error":"#N/A"}},{"$f":"LOOKUP(O124,AccVelDataLink!$A$4:$A$1414,AccVelDataLink!$D$4:$D$1414)","v":{"$error":"#N/A"}},{"$f":"LOOKUP(O124,AccVelDataLink!$A$4:$A$1414,AccVelDataLink!$E$4:$E$1414)","v":{"$error":"#N/A"}}]
[null,12,-1,{"$f":"LOOKUP(C125,MassDataLink!$A$4:$A$1315,MassDataLink!$B$4:$B$1315)","v":{"$error":"#N/A"}},{"$f":"LOOKUP(C125,MassDataLink!$A$4:$A$1315,MassDataLink!$C$4:$C$1315)","v":{"$error":"#N/A"}},{"$f":"LOOKUP(C125,MassDataLink!$A$4:$A$1315,MassDataLink!$D$4:$D$1315)","v":{"$error":"#N/A"}},{"$f":"LOOKUP(C125,MassDataLink!$A$4:$A$1315,MassDataLink!$E$4:$E$1315)","v":{"$error":"#N/A"}},{"$f":"LOOKUP(C125,MassDataLink!$A$4:$A$1315,MassDataLink!$F$4:$F$1315)","v":{"$error":"#N/A"}},null,12,"- - -","- - -",null,null,"加速度系数",9.9999999999999995E-7]
[null,13,-1,{"$f":"LOOKUP(C126,MassDataLink!$A$4:$A$1315,MassDataLink!$B$4:$B$1315)","v":{"$error":"#N/A"}},{"$f":"LOOKUP(C126,MassDataLink!$A$4:$A$1315,MassDataLink!$C$4:$C$1315)","v":{"$error":"#N/A"}},{"$f":"LOOKUP(C126,MassDataLink!$A$4:$A$1315,MassDataLink!$D$4:$D$1315)","v":{"$error":"#N/A"}},{"$f":"LOOKUP(C126,MassDataLink!$A$4:$A$1315,MassDataLink!$E$4:$E$1315)","v":{"$error":"#N/A"}},{"$f":"LOOKUP(C126,MassDataLink!$A$4:$A$1315,MassDataLink!$F$4:$F$1315)","v":{"$error":"#N/A"}},null,13,"- - -","- - -",null,"G","№","加速度","速度"]
[null,14,-1,{"$f":"LOOKUP(C127,MassDataLink!$A$4:$A$1315,MassDataLink!$B$4:$B$1315)","v":{"$error":"#N/A"}},{"$f":"LOOKUP(C127,MassDataLink!$A$4:$A$1315,MassDataLink!$C$4:$C$1315)","v":{"$error":"#N/A"}},{"$f":"LOOKUP(C127,MassDataLink!$A$4:$A$1315,MassDataLink!$D$4:$D$1315)","v":{"$error":"#N/A"}},{"$f":"LOOKUP(C127,MassDataLink!$A$4:$A$1315,MassDataLink!$E$4:$E$1315)","v":{"$error":"#N/A"}},{"$f":"LOOKUP(C127,MassDataLink!$A$4:$A$1315,MassDataLink!$F$4:$F$1315)","v":{"$error":"#N/A"}},null,14,"- - -","- - -",null,{"$f":"LeadData!A1","v":9.8066499999999994},1,{"$f":"IF(O115=-1,$L$112,(P115/$N$127)*$P$125)","v":0.19999999999999998},{"$f":"IF(O115=-1,$L$112,Q115)","v":50}]
[null,15,-1,{"$f":"LOOKUP(C128,MassDataLink!$A$4:$A$1315,MassDataLink!$B$4:$B$1315)","v":{"$error":"#N/A"}},{"$f":"LOOKUP(C128,MassDataLink!$A$4:$A$1315,MassDataLink!$C$4:$C$1315)","v":{"$error":"#N/A"}},{"$f":"LOOKUP(C128,MassDataLink!$A$4:$A$1315,MassDataLink!$D$4:$D$1315)","v":{"$error":"#N/A"}},{"$f":"LOOKUP(C128,MassDataLink!$A$4:$A$1315,MassDataLink!$E$4:$E$1315)","v":{"$error":"#N/A"}},{"$f":"LOOKUP(C128,MassDataLink!$A$4:$A$1315,MassDataLink!$F$4:$F$1315)","v":{"$error":"#N/A"}},null,15,"- - -","- - -",null,null,{"$f":"O127+1","v":2},{"$f":"IF(O116=-1,$L$112,(P116/$N$127)*$P$125)","v":"- - -"},{"$f":"IF(O116=-1,$L$112,Q116)","v":"- - -"}]
[null,16,-1,{"$f":"LOOKUP(C129,MassDataLink!$A$4:$A$1315,MassDataLink!$B$4:$B$1315)","v":{"$error":"#N/A"}},{"$f":"LOOKUP(C129,MassDataLink!$A$4:$A$1315,MassDataLink!$C$4:$C$1315)","v":{"$error":"#N/A"}},{"$f":"LOOKUP(C129,MassDataLink!$A$4:$A$1315,MassDataLink!$D$4:$D$1315)","v":{"$error":"#N/A"}},{"$f":"LOOKUP(C129,MassDataLink!$A$4:$A$1315,MassDataLink!$E$4:$E$1315)","v":{"$error":"#N/A"}},{"$f":"LOOKUP(C129,MassDataLink!$A$4:$A$1315,MassDataLink!$F$4:$F$1315)","v":{"$error":"#N/A"}},null,16,"- - -","- - -",null,null,3,"- - -","- - -"]
[null,17,-1,{"$f":"LOOKUP(C130,MassDataLink!$A$4:$A$1315,MassDataLink!$B$4:$B$1315)","v":{"$error":"#N/A"}},{"$f":"LOOKUP(C130,MassDataLink!$A$4:$A$1315,MassDataLink!$C$4:$C$1315)","v":{"$error":"#N/A"}},{"$f":"LOOKUP(C130,MassDataLink!$A$4:$A$1315,MassDataLink!$D$4:$D$1315)","v":{"$error":"#N/A"}},{"$f":"LOOKUP(C130,MassDataLink!$A$4:$A$1315,MassDataLink!$E$4:$E$1315)","v":{"$error":"#N/A"}},{"$f":"LOOKUP(C130,MassDataLink!$A$4:$A$1315,MassDataLink!$F$4:$F$1315)","v":{"$error":"#N/A"}},null,17,"- - -","- - -",null,null,4,"- - -","- - -"]
[null,18,-1,{"$f":"LOOKUP(C131,MassDataLink!$A$4:$A$1315,MassDataLink!$B$4:$B$1315)","v":{"$error":"#N/A"}},{"$f":"LOOKUP(C131,MassDataLink!$A$4:$A$1315,MassDataLink!$C$4:$C$1315)","v":{"$error":"#N/A"}},{"$f":"LOOKUP(C131,MassDataLink!$A$4:$A$1315,MassDataLink!$D$4:$D$1315)","v":{"$error":"#N/A"}},{"$f":"LOOKUP(C131,MassDataLink!$A$4:$A$1315,MassDataLink!$E$4:$E$1315)","v":{"$error":"#N/A"}},{"$f":"LOOKUP(C131,MassDataLink!$A$4:$A$1315,MassDataLink!$F$4:$F$1315)","v":{"$error":"#N/A"}},null,18,"- - -","- - -",null,null,5,"- - -","- - -"]
[null,19,-1,{"$f":"LOOKUP(C132,MassDataLink!$A$4:$A$1315,MassDataLink!$B$4:$B$1315)","v":{"$error":"#N/A"}},{"$f":"LOOKUP(C132,MassDataLink!$A$4:$A$1315,MassDataLink!$C$4:$C$1315)","v":{"$error":"#N/A"}},{"$f":"LOOKUP(C132,MassDataLink!$A$4:$A$1315,MassDataLink!$D$4:$D$1315)","v":{"$error":"#N/A"}},{"$f":"LOOKUP(C132,MassDataLink!$A$4:$A$1315,MassDataLink!$E$4:$E$1315)","v":{"$error":"#N/A"}},{"$f":"LOOKUP(C132,MassDataLink!$A$4:$A$1315,MassDataLink!$F$4:$F$1315)","v":{"$error":"#N/A"}},null,19,"- - -","- - -",null,null,6,"- - -","- - -"]
[null,20,-1,{"$f":"LOOKUP(C133,MassDataLink!$A$4:$A$1315,MassDataLink!$B$4:$B$1315)","v":{"$error":"#N/A"}},{"$f":"LOOKUP(C133,MassDataLink!$A$4:$A$1315,MassDataLink!$C$4:$C$1315)","v":{"$error":"#N/A"}},{"$f":"LOOKUP(C133,MassDataLink!$A$4:$A$1315,MassDataLink!$D$4:$D$1315)","v":{"$error":"#N/A"}},{"$f":"LOOKUP(C133,MassDataLink!$A$4:$A$1315,MassDataLink!$E$4:$E$1315)","v":{"$error":"#N/A"}},{"$f":"LOOKUP(C133,MassDataLink!$A$4:$A$1315,MassDataLink!$F$4:$F$1315)","v":{"$error":"#N/A"}},null,20,"- - -","- - -",null,null,7,"- - -","- - -"]
[null,21,-1,{"$f":"LOOKUP(C134,MassDataLink!$A$4:$A$1315,MassDataLink!$B$4:$B$1315)","v":{"$error":"#N/A"}},{"$f":"LOOKUP(C134,MassDataLink!$A$4:$A$1315,MassDataLink!$C$4:$C$1315)","v":{"$error":"#N/A"}},{"$f":"LOOKUP(C134,MassDataLink!$A$4:$A$1315,MassDataLink!$D$4:$D$1315)","v":{"$error":"#N/A"}},{"$f":"LOOKUP(C134,MassDataLink!$A$4:$A$1315,MassDataLink!$E$4:$E$1315)","v":{"$error":"#N/A"}},{"$f":"LOOKUP(C134,MassDataLink!$A$4:$A$1315,MassDataLink!$F$4:$F$1315)","v":{"$error":"#N/A"}},null,21,"- - -","- - -",null,null,8,"- - -","- - -"]
[null,22,-1,{"$f":"LOOKUP(C135,MassDataLink!$A$4:$A$1315,MassDataLink!$B$4:$B$1315)","v":{"$error":"#N/A"}},{"$f":"LOOKUP(C135,MassDataLink!$A$4:$A$1315,MassDataLink!$C$4:$C$1315)","v":{"$error":"#N/A"}},{"$f":"LOOKUP(C135,MassDataLink!$A$4:$A$1315,MassDataLink!$D$4:$D$1315)","v":{"$error":"#N/A"}},{"$f":"LOOKUP(C135,MassDataLink!$A$4:$A$1315,MassDataLink!$E$4:$E$1315)","v":{"$error":"#N/A"}},{"$f":"LOOKUP(C135,MassDataLink!$A$4:$A$1315,MassDataLink!$F$4:$F$1315)","v":{"$error":"#N/A"}},null,22,"- - -","- - -",null,null,9,"- - -","- - -"]
[null,23,-1,{"$f":"LOOKUP(C136,MassDataLink!$A$4:$A$1315,MassDataLink!$B$4:$B$1315)","v":{"$error":"#N/A"}},{"$f":"LOOKUP(C136,MassDataLink!$A$4:$A$1315,MassDataLink!$C$4:$C$1315)","v":{"$error":"#N/A"}},{"$f":"LOOKUP(C136,MassDataLink!$A$4:$A$1315,MassDataLink!$D$4:$D$1315)","v":{"$error":"#N/A"}},{"$f":"LOOKUP(C136,MassDataLink!$A$4:$A$1315,MassDataLink!$E$4:$E$1315)","v":{"$error":"#N/A"}},{"$f":"LOOKUP(C136,MassDataLink!$A$4:$A$1315,MassDataLink!$F$4:$F$1315)","v":{"$error":"#N/A"}},null,23,"- - -","- - -",null,null,10,"- - -","- - -"]
[null,{"$f":"B136+1","v":24},{"$f":"IF(C136=-1,-1,H136)","v":-1},{"$f":"LOOKUP(C137,MassDataLink!$A$4:$A$1315,MassDataLink!$B$4:$B$1315)","v":{"$error":"#N/A"}},{"$f":"LOOKUP(C137,MassDataLink!$A$4:$A$1315,MassDataLink!$C$4:$C$1315)","v":{"$error":"#N/A"}},{"$f":"LOOKUP(C137,MassDataLink!$A$4:$A$1315,MassDataLink!$D$4:$D$1315)","v":{"$error":"#N/A"}},{"$f":"LOOKUP(C137,MassDataLink!$A$4:$A$1315,MassDataLink!$E$4:$E$1315)","v":{"$error":"#N/A"}},{"$f":"LOOKUP(C137,MassDataLink!$A$4:$A$1315,MassDataLink!$F$4:$F$1315)","v":{"$error":"#N/A"}},null,24,"- - -","- - -"]
[null,25,-1,{"$f":"LOOKUP(C138,MassDataLink!$A$4:$A$1315,MassDataLink!$B$4:$B$1315)","v":{"$error":"#N/A"}},{"$f":"LOOKUP(C138,MassDataLink!$A$4:$A$1315,MassDataLink!$C$4:$C$1315)","v":{"$error":"#N/A"}},{"$f":"LOOKUP(C138,MassDataLink!$A$4:$A$1315,MassDataLink!$D$4:$D$1315)","v":{"$error":"#N/A"}},{"$f":"LOOKUP(C138,MassDataLink!$A$4:$A$1315,MassDataLink!$E$4:$E$1315)","v":{"$error":"#N/A"}},{"$f":"LOOKUP(C138,MassDataLink!$A$4:$A$1315,MassDataLink!$F$4:$F$1315)","v":{"$error":"#N/A"}},null,25,"- - -","- - -"]
[null,26,-1,{"$f":"LOOKUP(C139,MassDataLink!$A$4:$A$1315,MassDataLink!$B$4:$B$1315)","v":{"$error":"#N/A"}},{"$f":"LOOKUP(C139,MassDataLink!$A$4:$A$1315,MassDataLink!$C$4:$C$1315)","v":{"$error":"#N/A"}},{"$f":"LOOKUP(C139,MassDataLink!$A$4:$A$1315,MassDataLink!$D$4:$D$1315)","v":{"$error":"#N/A"}},{"$f":"LOOKUP(C139,MassDataLink!$A$4:$A$1315,MassDataLink!$E$4:$E$1315)","v":{"$error":"#N/A"}},{"$f":"LOOKUP(C139,MassDataLink!$A$4:$A$1315,MassDataLink!$F$4:$F$1315)","v":{"$error":"#N/A"}},null,26,"- - -","- - -"]
[null,27,-1,{"$f":"LOOKUP(C140,MassDataLink!$A$4:$A$1315,MassDataLink!$B$4:$B$1315)","v":{"$error":"#N/A"}},{"$f":"LOOKUP(C140,MassDataLink!$A$4:$A$1315,MassDataLink!$C$4:$C$1315)","v":{"$error":"#N/A"}},{"$f":"LOOKUP(C140,MassDataLink!$A$4:$A$1315,MassDataLink!$D$4:$D$1315)","v":{"$error":"#N/A"}},{"$f":"LOOKUP(C140,MassDataLink!$A$4:$A$1315,MassDataLink!$E$4:$E$1315)","v":{"$error":"#N/A"}},{"$f":"LOOKUP(C140,MassDataLink!$A$4:$A$1315,MassDataLink!$F$4:$F$1315)","v":{"$error":"#N/A"}},null,27,"- - -","- - -"]
[null,28,-1,{"$f":"LOOKUP(C141,MassDataLink!$A$4:$A$1315,MassDataLink!$B$4:$B$1315)","v":{"$error":"#N/A"}},{"$f":"LOOKUP(C141,MassDataLink!$A$4:$A$1315,MassDataLink!$C$4:$C$1315)","v":{"$error":"#N/A"}},{"$f":"LOOKUP(C141,MassDataLink!$A$4:$A$1315,MassDataLink!$D$4:$D$1315)","v":{"$error":"#N/A"}},{"$f":"LOOKUP(C141,MassDataLink!$A$4:$A$1315,MassDataLink!$E$4:$E$1315)","v":{"$error":"#N/A"}},{"$f":"LOOKUP(C141,MassDataLink!$A$4:$A$1315,MassDataLink!$F$4:$F$1315)","v":{"$error":"#N/A"}},null,28,"- - -","- - -"]
[null,29,-1,{"$f":"LOOKUP(C142,MassDataLink!$A$4:$A$1315,MassDataLink!$B$4:$B$1315)","v":{"$error":"#N/A"}},{"$f":"LOOKUP(C142,MassDataLink!$A$4:$A$1315,MassDataLink!$C$4:$C$1315)","v":{"$error":"#N/A"}},{"$f":"LOOKUP(C142,MassDataLink!$A$4:$A$1315,MassDataLink!$D$4:$D$1315)","v":{"$error":"#N/A"}},{"$f":"LOOKUP(C142,MassDataLink!$A$4:$A$1315,MassDataLink!$E$4:$E$1315)","v":{"$error":"#N/A"}},{"$f":"LOOKUP(C142,MassDataLink!$A$4:$A$1315,MassDataLink!$F$4:$F$1315)","v":{"$error":"#N/A"}},null,29,"- - -","- - -"]
[null,30,-1,{"$f":"LOOKUP(C143,MassDataLink!$A$4:$A$1315,MassDataLink!$B$4:$B$1315)","v":{"$error":"#N/A"}},{"$f":"LOOKUP(C143,MassDataLink!$A$4:$A$1315,MassDataLink!$C$4:$C$1315)","v":{"$error":"#N/A"}},{"$f":"LOOKUP(C143,MassDataLink!$A$4:$A$1315,MassDataLink!$D$4:$D$1315)","v":{"$error":"#N/A"}},{"$f":"LOOKUP(C143,MassDataLink!$A$4:$A$1315,MassDataLink!$E$4:$E$1315)","v":{"$error":"#N/A"}},{"$f":"LOOKUP(C143,MassDataLink!$A$4:$A$1315,MassDataLink!$F$4:$F$1315)","v":{"$error":"#N/A"}},null,30,"- - -","- - -"]
[null,{"$f":"B143+1","v":31},{"$f":"IF(C143=-1,-1,H143)","v":-1},{"$f":"LOOKUP(C144,MassDataLink!$A$4:$A$1315,MassDataLink!$B$4:$B$1315)","v":{"$error":"#N/A"}},{"$f":"LOOKUP(C144,MassDataLink!$A$4:$A$1315,MassDataLink!$C$4:$C$1315)","v":{"$error":"#N/A"}},{"$f":"LOOKUP(C144,MassDataLink!$A$4:$A$1315,MassDataLink!$D$4:$D$1315)","v":{"$error":"#N/A"}},{"$f":"LOOKUP(C144,MassDataLink!$A$4:$A$1315,MassDataLink!$E$4:$E$1315)","v":{"$error":"#N/A"}},{"$f":"LOOKUP(C144,MassDataLink!$A$4:$A$1315,MassDataLink!$F$4:$F$1315)","v":{"$error":"#N/A"}},null,31,"- - -","- - -"]
[null,32,-1,{"$f":"LOOKUP(C145,MassDataLink!$A$4:$A$1315,MassDataLink!$B$4:$B$1315)","v":{"$error":"#N/A"}},{"$f":"LOOKUP(C145,MassDataLink!$A$4:$A$1315,MassDataLink!$C$4:$C$1315)","v":{"$error":"#N/A"}},{"$f":"LOOKUP(C145,MassDataLink!$A$4:$A$1315,MassDataLink!$D$4:$D$1315)","v":{"$error":"#N/A"}},{"$f":"LOOKUP(C145,MassDataLink!$A$4:$A$1315,MassDataLink!$E$4:$E$1315)","v":{"$error":"#N/A"}},{"$f":"LOOKUP(C145,MassDataLink!$A$4:$A$1315,MassDataLink!$F$4:$F$1315)","v":{"$error":"#N/A"}},null,32,"- - -","- - -"]
[null,33,-1,{"$f":"LOOKUP(C146,MassDataLink!$A$4:$A$1315,MassDataLink!$B$4:$B$1315)","v":{"$error":"#N/A"}},{"$f":"LOOKUP(C146,MassDataLink!$A$4:$A$1315,MassDataLink!$C$4:$C$1315)","v":{"$error":"#N/A"}},{"$f":"LOOKUP(C146,MassDataLink!$A$4:$A$1315,MassDataLink!$D$4:$D$1315)","v":{"$error":"#N/A"}},{"$f":"LOOKUP(C146,MassDataLink!$A$4:$A$1315,MassDataLink!$E$4:$E$1315)","v":{"$error":"#N/A"}},{"$f":"LOOKUP(C146,MassDataLink!$A$4:$A$1315,MassDataLink!$F$4:$F$1315)","v":{"$error":"#N/A"}},null,33,"- - -","- - -"]
[null,34,-1,{"$f":"LOOKUP(C147,MassDataLink!$A$4:$A$1315,MassDataLink!$B$4:$B$1315)","v":{"$error":"#N/A"}},{"$f":"LOOKUP(C147,MassDataLink!$A$4:$A$1315,MassDataLink!$C$4:$C$1315)","v":{"$error":"#N/A"}},{"$f":"LOOKUP(C147,MassDataLink!$A$4:$A$1315,MassDataLink!$D$4:$D$1315)","v":{"$error":"#N/A"}},{"$f":"LOOKUP(C147,MassDataLink!$A$4:$A$1315,MassDataLink!$E$4:$E$1315)","v":{"$error":"#N/A"}},{"$f":"LOOKUP(C147,MassDataLink!$A$4:$A$1315,MassDataLink!$F$4:$F$1315)","v":{"$error":"#N/A"}},null,34,"- - -","- - -"]
[null,35,-1,{"$f":"LOOKUP(C148,MassDataLink!$A$4:$A$1315,MassDataLink!$B$4:$B$1315)","v":{"$error":"#N/A"}},{"$f":"LOOKUP(C148,MassDataLink!$A$4:$A$1315,MassDataLink!$C$4:$C$1315)","v":{"$error":"#N/A"}},{"$f":"LOOKUP(C148,MassDataLink!$A$4:$A$1315,MassDataLink!$D$4:$D$1315)","v":{"$error":"#N/A"}},{"$f":"LOOKUP(C148,MassDataLink!$A$4:$A$1315,MassDataLink!$E$4:$E$1315)","v":{"$error":"#N/A"}},{"$f":"LOOKUP(C148,MassDataLink!$A$4:$A$1315,MassDataLink!$F$4:$F$1315)","v":{"$error":"#N/A"}},null,35,"- - -","- - -"]
[null,36,-1,{"$f":"LOOKUP(C149,MassDataLink!$A$4:$A$1315,MassDataLink!$B$4:$B$1315)","v":{"$error":"#N/A"}},{"$f":"LOOKUP(C149,MassDataLink!$A$4:$A$1315,MassDataLink!$C$4:$C$1315)","v":{"$error":"#N/A"}},{"$f":"LOOKUP(C149,MassDataLink!$A$4:$A$1315,MassDataLink!$D$4:$D$1315)","v":{"$error":"#N/A"}},{"$f":"LOOKUP(C149,MassDataLink!$A$4:$A$1315,MassDataLink!$E$4:$E$1315)","v":{"$error":"#N/A"}},{"$f":"LOOKUP(C149,MassDataLink!$A$4:$A$1315,MassDataLink!$F$4:$F$1315)","v":{"$error":"#N/A"}},null,36,"- - -","- - -"]
[null,37,-1,{"$f":"LOOKUP(C150,MassDataLink!$A$4:$A$1315,MassDataLink!$B$4:$B$1315)","v":{"$error":"#N/A"}},{"$f":"LOOKUP(C150,MassDataLink!$A$4:$A$1315,MassDataLink!$C$4:$C$1315)","v":{"$error":"#N/A"}},{"$f":"LOOKUP(C150,MassDataLink!$A$4:$A$1315,MassDataLink!$D$4:$D$1315)","v":{"$error":"#N/A"}},{"$f":"LOOKUP(C150,MassDataLink!$A$4:$A$1315,MassDataLink!$E$4:$E$1315)","v":{"$error":"#N/A"}},{"$f":"LOOKUP(C150,MassDataLink!$A$4:$A$1315,MassDataLink!$F$4:$F$1315)","v":{"$error":"#N/A"}},null,37,"- - -","- - -"]
[null,38,-1,{"$f":"LOOKUP(C151,MassDataLink!$A$4:$A$1315,MassDataLink!$B$4:$B$1315)","v":{"$error":"#N/A"}},{"$f":"LOOKUP(C151,MassDataLink!$A$4:$A$1315,MassDataLink!$C$4:$C$1315)","v":{"$error":"#N/A"}},{"$f":"LOOKUP(C151,MassDataLink!$A$4:$A$1315,MassDataLink!$D$4:$D$1315)","v":{"$error":"#N/A"}},{"$f":"LOOKUP(C151,MassDataLink!$A$4:$A$1315,MassDataLink!$E$4:$E$1315)","v":{"$error":"#N/A"}},{"$f":"LOOKUP(C151,MassDataLink!$A$4:$A$1315,MassDataLink!$F$4:$F$1315)","v":{"$error":"#N/A"}},null,38,"- - -","- - -"]
[null,39,-1,{"$f":"LOOKUP(C152,MassDataLink!$A$4:$A$1315,MassDataLink!$B$4:$B$1315)","v":{"$error":"#N/A"}},{"$f":"LOOKUP(C152,MassDataLink!$A$4:$A$1315,MassDataLink!$C$4:$C$1315)","v":{"$error":"#N/A"}},{"$f":"LOOKUP(C152,MassDataLink!$A$4:$A$1315,MassDataLink!$D$4:$D$1315)","v":{"$error":"#N/A"}},{"$f":"LOOKUP(C152,MassDataLink!$A$4:$A$1315,MassDataLink!$E$4:$E$1315)","v":{"$error":"#N/A"}},{"$f":"LOOKUP(C152,MassDataLink!$A$4:$A$1315,MassDataLink!$F$4:$F$1315)","v":{"$error":"#N/A"}},null,39,"- - -","- - -"]
[null,40,-1,{"$f":"LOOKUP(C153,MassDataLink!$A$4:$A$1315,MassDataLink!$B$4:$B$1315)","v":{"$error":"#N/A"}},{"$f":"LOOKUP(C153,MassDataLink!$A$4:$A$1315,MassDataLink!$C$4:$C$1315)","v":{"$error":"#N/A"}},{"$f":"LOOKUP(C153,MassDataLink!$A$4:$A$1315,MassDataLink!$D$4:$D$1315)","v":{"$error":"#N/A"}},{"$f":"LOOKUP(C153,MassDataLink!$A$4:$A$1315,MassDataLink!$E$4:$E$1315)","v":{"$error":"#N/A"}},{"$f":"LOOKUP(C153,MassDataLink!$A$4:$A$1315,MassDataLink!$F$4:$F$1315)","v":{"$error":"#N/A"}},null,40,"- - -","- - -"]
[null,41,-1,{"$f":"LOOKUP(C154,MassDataLink!$A$4:$A$1315,MassDataLink!$B$4:$B$1315)","v":{"$error":"#N/A"}},{"$f":"LOOKUP(C154,MassDataLink!$A$4:$A$1315,MassDataLink!$C$4:$C$1315)","v":{"$error":"#N/A"}},{"$f":"LOOKUP(C154,MassDataLink!$A$4:$A$1315,MassDataLink!$D$4:$D$1315)","v":{"$error":"#N/A"}},{"$f":"LOOKUP(C154,MassDataLink!$A$4:$A$1315,MassDataLink!$E$4:$E$1315)","v":{"$error":"#N/A"}},{"$f":"LOOKUP(C154,MassDataLink!$A$4:$A$1315,MassDataLink!$F$4:$F$1315)","v":{"$error":"#N/A"}},null,41,"- - -","- - -"]
[null,42,-1,{"$f":"LOOKUP(C155,MassDataLink!$A$4:$A$1315,MassDataLink!$B$4:$B$1315)","v":{"$error":"#N/A"}},{"$f":"LOOKUP(C155,MassDataLink!$A$4:$A$1315,MassDataLink!$C$4:$C$1315)","v":{"$error":"#N/A"}},{"$f":"LOOKUP(C155,MassDataLink!$A$4:$A$1315,MassDataLink!$D$4:$D$1315)","v":{"$error":"#N/A"}},{"$f":"LOOKUP(C155,MassDataLink!$A$4:$A$1315,MassDataLink!$E$4:$E$1315)","v":{"$error":"#N/A"}},{"$f":"LOOKUP(C155,MassDataLink!$A$4:$A$1315,MassDataLink!$F$4:$F$1315)","v":{"$error":"#N/A"}},null,42,"- - -","- - -"]
[null,43,-1,{"$f":"LOOKUP(C156,MassDataLink!$A$4:$A$1315,MassDataLink!$B$4:$B$1315)","v":{"$error":"#N/A"}},{"$f":"LOOKUP(C156,MassDataLink!$A$4:$A$1315,MassDataLink!$C$4:$C$1315)","v":{"$error":"#N/A"}},{"$f":"LOOKUP(C156,MassDataLink!$A$4:$A$1315,MassDataLink!$D$4:$D$1315)","v":{"$error":"#N/A"}},{"$f":"LOOKUP(C156,MassDataLink!$A$4:$A$1315,MassDataLink!$E$4:$E$1315)","v":{"$error":"#N/A"}},{"$f":"LOOKUP(C156,MassDataLink!$A$4:$A$1315,MassDataLink!$F$4:$F$1315)","v":{"$error":"#N/A"}},null,43,"- - -","- - -"]
[null,44,-1,{"$f":"LOOKUP(C157,MassDataLink!$A$4:$A$1315,MassDataLink!$B$4:$B$1315)","v":{"$error":"#N/A"}},{"$f":"LOOKUP(C157,MassDataLink!$A$4:$A$1315,MassDataLink!$C$4:$C$1315)","v":{"$error":"#N/A"}},{"$f":"LOOKUP(C157,MassDataLink!$A$4:$A$1315,MassDataLink!$D$4:$D$1315)","v":{"$error":"#N/A"}},{"$f":"LOOKUP(C157,MassDataLink!$A$4:$A$1315,MassDataLink!$E$4:$E$1315)","v":{"$error":"#N/A"}},{"$f":"LOOKUP(C157,MassDataLink!$A$4:$A$1315,MassDataLink!$F$4:$F$1315)","v":{"$error":"#N/A"}},null,44,"- - -","- - -"]
[null,45,-1,{"$f":"LOOKUP(C158,MassDataLink!$A$4:$A$1315,MassDataLink!$B$4:$B$1315)","v":{"$error":"#N/A"}},{"$f":"LOOKUP(C158,MassDataLink!$A$4:$A$1315,MassDataLink!$C$4:$C$1315)","v":{"$error":"#N/A"}},{"$f":"LOOKUP(C158,MassDataLink!$A$4:$A$1315,MassDataLink!$D$4:$D$1315)","v":{"$error":"#N/A"}},{"$f":"LOOKUP(C158,MassDataLink!$A$4:$A$1315,MassDataLink!$E$4:$E$1315)","v":{"$error":"#N/A"}},{"$f":"LOOKUP(C158,MassDataLink!$A$4:$A$1315,MassDataLink!$F$4:$F$1315)","v":{"$error":"#N/A"}},null,45,"- - -","- - -"]
[null,46,-1,{"$f":"LOOKUP(C159,MassDataLink!$A$4:$A$1315,MassDataLink!$B$4:$B$1315)","v":{"$error":"#N/A"}},{"$f":"LOOKUP(C159,MassDataLink!$A$4:$A$1315,MassDataLink!$C$4:$C$1315)","v":{"$error":"#N/A"}},{"$f":"LOOKUP(C159,MassDataLink!$A$4:$A$1315,MassDataLink!$D$4:$D$1315)","v":{"$error":"#N/A"}},{"$f":"LOOKUP(C159,MassDataLink!$A$4:$A$1315,MassDataLink!$E$4:$E$1315)","v":{"$error":"#N/A"}},{"$f":"LOOKUP(C159,MassDataLink!$A$4:$A$1315,MassDataLink!$F$4:$F$1315)","v":{"$error":"#N/A"}},null,46,"- - -","- - -"]
[null,47,-1,{"$f":"LOOKUP(C160,MassDataLink!$A$4:$A$1315,MassDataLink!$B$4:$B$1315)","v":{"$error":"#N/A"}},{"$f":"LOOKUP(C160,MassDataLink!$A$4:$A$1315,MassDataLink!$C$4:$C$1315)","v":{"$error":"#N/A"}},{"$f":"LOOKUP(C160,MassDataLink!$A$4:$A$1315,MassDataLink!$D$4:$D$1315)","v":{"$error":"#N/A"}},{"$f":"LOOKUP(C160,MassDataLink!$A$4:$A$1315,MassDataLink!$E$4:$E$1315)","v":{"$error":"#N/A"}},{"$f":"LOOKUP(C160,MassDataLink!$A$4:$A$1315,MassDataLink!$F$4:$F$1315)","v":{"$error":"#N/A"}},null,47,"- - -","- - -"]
[null,48,-1,{"$f":"LOOKUP(C161,MassDataLink!$A$4:$A$1315,MassDataLink!$B$4:$B$1315)","v":{"$error":"#N/A"}},{"$f":"LOOKUP(C161,MassDataLink!$A$4:$A$1315,MassDataLink!$C$4:$C$1315)","v":{"$error":"#N/A"}},{"$f":"LOOKUP(C161,MassDataLink!$A$4:$A$1315,MassDataLink!$D$4:$D$1315)","v":{"$error":"#N/A"}},{"$f":"LOOKUP(C161,MassDataLink!$A$4:$A$1315,MassDataLink!$E$4:$E$1315)","v":{"$error":"#N/A"}},{"$f":"LOOKUP(C161,MassDataLink!$A$4:$A$1315,MassDataLink!$F$4:$F$1315)","v":{"$error":"#N/A"}},null,48,"- - -","- - -"]
[null,49,-1,{"$f":"LOOKUP(C162,MassDataLink!$A$4:$A$1315,MassDataLink!$B$4:$B$1315)","v":{"$error":"#N/A"}},{"$f":"LOOKUP(C162,MassDataLink!$A$4:$A$1315,MassDataLink!$C$4:$C$1315)","v":{"$error":"#N/A"}},{"$f":"LOOKUP(C162,MassDataLink!$A$4:$A$1315,MassDataLink!$D$4:$D$1315)","v":{"$error":"#N/A"}},{"$f":"LOOKUP(C162,MassDataLink!$A$4:$A$1315,MassDataLink!$E$4:$E$1315)","v":{"$error":"#N/A"}},{"$f":"LOOKUP(C162,MassDataLink!$A$4:$A$1315,MassDataLink!$F$4:$F$1315)","v":{"$error":"#N/A"}},null,49,"- - -","- - -"]
[null,50,-1,{"$f":"LOOKUP(C163,MassDataLink!$A$4:$A$1315,MassDataLink!$B$4:$B$1315)","v":{"$error":"#N/A"}},{"$f":"LOOKUP(C163,MassDataLink!$A$4:$A$1315,MassDataLink!$C$4:$C$1315)","v":{"$error":"#N/A"}},{"$f":"LOOKUP(C163,MassDataLink!$A$4:$A$1315,MassDataLink!$D$4:$D$1315)","v":{"$error":"#N/A"}},{"$f":"LOOKUP(C163,MassDataLink!$A$4:$A$1315,MassDataLink!$E$4:$E$1315)","v":{"$error":"#N/A"}},{"$f":"LOOKUP(C163,MassDataLink!$A$4:$A$1315,MassDataLink!$F$4:$F$1315)","v":{"$error":"#N/A"}},null,50,"- - -","- - -"]
[null,{"$f":"B163+1","v":51},{"$f":"IF(C163=-1,-1,H163)","v":-1},{"$f":"LOOKUP(C164,MassDataLink!$A$4:$A$1315,MassDataLink!$B$4:$B$1315)","v":{"$error":"#N/A"}},{"$f":"LOOKUP(C164,MassDataLink!$A$4:$A$1315,MassDataLink!$C$4:$C$1315)","v":{"$error":"#N/A"}},{"$f":"LOOKUP(C164,MassDataLink!$A$4:$A$1315,MassDataLink!$D$4:$D$1315)","v":{"$error":"#N/A"}},{"$f":"LOOKUP(C164,MassDataLink!$A$4:$A$1315,MassDataLink!$E$4:$E$1315)","v":{"$error":"#N/A"}},{"$f":"LOOKUP(C164,MassDataLink!$A$4:$A$1315,MassDataLink!$F$4:$F$1315)","v":{"$error":"#N/A"}},null,{"$f":"J163+1","v":51},{"$f":"IF(C164=-1,$L$112,IF($A$11=D164,ROUND((E164*$P$57),$R$57),$L$112))","v":"- - -"},{"$f":"IF(K164=$L$112,$L$112,F164)","v":"- - -"}]
[null,52,-1,{"$f":"LOOKUP(C165,MassDataLink!$A$4:$A$1315,MassDataLink!$B$4:$B$1315)","v":{"$error":"#N/A"}},{"$f":"LOOKUP(C165,MassDataLink!$A$4:$A$1315,MassDataLink!$C$4:$C$1315)","v":{"$error":"#N/A"}},{"$f":"LOOKUP(C165,MassDataLink!$A$4:$A$1315,MassDataLink!$D$4:$D$1315)","v":{"$error":"#N/A"}},{"$f":"LOOKUP(C165,MassDataLink!$A$4:$A$1315,MassDataLink!$E$4:$E$1315)","v":{"$error":"#N/A"}},{"$f":"LOOKUP(C165,MassDataLink!$A$4:$A$1315,MassDataLink!$F$4:$F$1315)","v":{"$error":"#N/A"}},null,52,"- - -","- - -"]
[null,53,-1,{"$f":"LOOKUP(C166,MassDataLink!$A$4:$A$1315,MassDataLink!$B$4:$B$1315)","v":{"$error":"#N/A"}},{"$f":"LOOKUP(C166,MassDataLink!$A$4:$A$1315,MassDataLink!$C$4:$C$1315)","v":{"$error":"#N/A"}},{"$f":"LOOKUP(C166,MassDataLink!$A$4:$A$1315,MassDataLink!$D$4:$D$1315)","v":{"$error":"#N/A"}},{"$f":"LOOKUP(C166,MassDataLink!$A$4:$A$1315,MassDataLink!$E$4:$E$1315)","v":{"$error":"#N/A"}},{"$f":"LOOKUP(C166,MassDataLink!$A$4:$A$1315,MassDataLink!$F$4:$F$1315)","v":{"$error":"#N/A"}},null,53,"- - -","- - -"]
[null,54,-1,{"$f":"LOOKUP(C167,MassDataLink!$A$4:$A$1315,MassDataLink!$B$4:$B$1315)","v":{"$error":"#N/A"}},{"$f":"LOOKUP(C167,MassDataLink!$A$4:$A$1315,MassDataLink!$C$4:$C$1315)","v":{"$error":"#N/A"}},{"$f":"LOOKUP(C167,MassDataLink!$A$4:$A$1315,MassDataLink!$D$4:$D$1315)","v":{"$error":"#N/A"}},{"$f":"LOOKUP(C167,MassDataLink!$A$4:$A$1315,MassDataLink!$E$4:$E$1315)","v":{"$error":"#N/A"}},{"$f":"LOOKUP(C167,MassDataLink!$A$4:$A$1315,MassDataLink!$F$4:$F$1315)","v":{"$error":"#N/A"}},null,54,"- - -","- - -"]
[null,55,-1,{"$f":"LOOKUP(C168,MassDataLink!$A$4:$A$1315,MassDataLink!$B$4:$B$1315)","v":{"$error":"#N/A"}},{"$f":"LOOKUP(C168,MassDataLink!$A$4:$A$1315,MassDataLink!$C$4:$C$1315)","v":{"$error":"#N/A"}},{"$f":"LOOKUP(C168,MassDataLink!$A$4:$A$1315,MassDataLink!$D$4:$D$1315)","v":{"$error":"#N/A"}},{"$f":"LOOKUP(C168,MassDataLink!$A$4:$A$1315,MassDataLink!$E$4:$E$1315)","v":{"$error":"#N/A"}},{"$f":"LOOKUP(C168,MassDataLink!$A$4:$A$1315,MassDataLink!$F$4:$F$1315)","v":{"$error":"#N/A"}},null,55,"- - -","- - -"]
[null,56,-1,{"$f":"LOOKUP(C169,MassDataLink!$A$4:$A$1315,MassDataLink!$B$4:$B$1315)","v":{"$error":"#N/A"}},{"$f":"LOOKUP(C169,MassDataLink!$A$4:$A$1315,MassDataLink!$C$4:$C$1315)","v":{"$error":"#N/A"}},{"$f":"LOOKUP(C169,MassDataLink!$A$4:$A$1315,MassDataLink!$D$4:$D$1315)","v":{"$error":"#N/A"}},{"$f":"LOOKUP(C169,MassDataLink!$A$4:$A$1315,MassDataLink!$E$4:$E$1315)","v":{"$error":"#N/A"}},{"$f":"LOOKUP(C169,MassDataLink!$A$4:$A$1315,MassDataLink!$F$4:$F$1315)","v":{"$error":"#N/A"}},null,56,"- - -","- - -"]
[null,57,-1,{"$f":"LOOKUP(C170,MassDataLink!$A$4:$A$1315,MassDataLink!$B$4:$B$1315)","v":{"$error":"#N/A"}},{"$f":"LOOKUP(C170,MassDataLink!$A$4:$A$1315,MassDataLink!$C$4:$C$1315)","v":{"$error":"#N/A"}},{"$f":"LOOKUP(C170,MassDataLink!$A$4:$A$1315,MassDataLink!$D$4:$D$1315)","v":{"$error":"#N/A"}},{"$f":"LOOKUP(C170,MassDataLink!$A$4:$A$1315,MassDataLink!$E$4:$E$1315)","v":{"$error":"#N/A"}},{"$f":"LOOKUP(C170,MassDataLink!$A$4:$A$1315,MassDataLink!$F$4:$F$1315)","v":{"$error":"#N/A"}},null,57,"- - -","- - -"]
[null,58,-1,{"$f":"LOOKUP(C171,MassDataLink!$A$4:$A$1315,MassDataLink!$B$4:$B$1315)","v":{"$error":"#N/A"}},{"$f":"LOOKUP(C171,MassDataLink!$A$4:$A$1315,MassDataLink!$C$4:$C$1315)","v":{"$error":"#N/A"}},{"$f":"LOOKUP(C171,MassDataLink!$A$4:$A$1315,MassDataLink!$D$4:$D$1315)","v":{"$error":"#N/A"}},{"$f":"LOOKUP(C171,MassDataLink!$A$4:$A$1315,MassDataLink!$E$4:$E$1315)","v":{"$error":"#N/A"}},{"$f":"LOOKUP(C171,MassDataLink!$A$4:$A$1315,MassDataLink!$F$4:$F$1315)","v":{"$error":"#N/A"}},null,58,"- - -","- - -"]
[null,59,-1,{"$f":"LOOKUP(C172,MassDataLink!$A$4:$A$1315,MassDataLink!$B$4:$B$1315)","v":{"$error":"#N/A"}},{"$f":"LOOKUP(C172,MassDataLink!$A$4:$A$1315,MassDataLink!$C$4:$C$1315)","v":{"$error":"#N/A"}},{"$f":"LOOKUP(C172,MassDataLink!$A$4:$A$1315,MassDataLink!$D$4:$D$1315)","v":{"$error":"#N/A"}},{"$f":"LOOKUP(C172,MassDataLink!$A$4:$A$1315,MassDataLink!$E$4:$E$1315)","v":{"$error":"#N/A"}},{"$f":"LOOKUP(C172,MassDataLink!$A$4:$A$1315,MassDataLink!$F$4:$F$1315)","v":{"$error":"#N/A"}},null,59,"- - -","- - -"]
[null,60,-1,{"$f":"LOOKUP(C173,MassDataLink!$A$4:$A$1315,MassDataLink!$B$4:$B$1315)","v":{"$error":"#N/A"}},{"$f":"LOOKUP(C173,MassDataLink!$A$4:$A$1315,MassDataLink!$C$4:$C$1315)","v":{"$error":"#N/A"}},{"$f":"LOOKUP(C173,MassDataLink!$A$4:$A$1315,MassDataLink!$D$4:$D$1315)","v":{"$error":"#N/A"}},{"$f":"LOOKUP(C173,MassDataLink!$A$4:$A$1315,MassDataLink!$E$4:$E$1315)","v":{"$error":"#N/A"}},{"$f":"LOOKUP(C173,MassDataLink!$A$4:$A$1315,MassDataLink!$F$4:$F$1315)","v":{"$error":"#N/A"}},null,60,"- - -","- - -"]
[null,61,-1,{"$f":"LOOKUP(C174,MassDataLink!$A$4:$A$1315,MassDataLink!$B$4:$B$1315)","v":{"$error":"#N/A"}},{"$f":"LOOKUP(C174,MassDataLink!$A$4:$A$1315,MassDataLink!$C$4:$C$1315)","v":{"$error":"#N/A"}},{"$f":"LOOKUP(C174,MassDataLink!$A$4:$A$1315,MassDataLink!$D$4:$D$1315)","v":{"$error":"#N/A"}},{"$f":"LOOKUP(C174,MassDataLink!$A$4:$A$1315,MassDataLink!$E$4:$E$1315)","v":{"$error":"#N/A"}},{"$f":"LOOKUP(C174,MassDataLink!$A$4:$A$1315,MassDataLink!$F$4:$F$1315)","v":{"$error":"#N/A"}},null,61,"- - -","- - -"]
[null,62,-1,{"$f":"LOOKUP(C175,MassDataLink!$A$4:$A$1315,MassDataLink!$B$4:$B$1315)","v":{"$error":"#N/A"}},{"$f":"LOOKUP(C175,MassDataLink!$A$4:$A$1315,MassDataLink!$C$4:$C$1315)","v":{"$error":"#N/A"}},{"$f":"LOOKUP(C175,MassDataLink!$A$4:$A$1315,MassDataLink!$D$4:$D$1315)","v":{"$error":"#N/A"}},{"$f":"LOOKUP(C175,MassDataLink!$A$4:$A$1315,MassDataLink!$E$4:$E$1315)","v":{"$error":"#N/A"}},{"$f":"LOOKUP(C175,MassDataLink!$A$4:$A$1315,MassDataLink!$F$4:$F$1315)","v":{"$error":"#N/A"}},null,62,"- - -","- - -"]
[null,63,-1,{"$f":"LOOKUP(C176,MassDataLink!$A$4:$A$1315,MassDataLink!$B$4:$B$1315)","v":{"$error":"#N/A"}},{"$f":"LOOKUP(C176,MassDataLink!$A$4:$A$1315,MassDataLink!$C$4:$C$1315)","v":{"$error":"#N/A"}},{"$f":"LOOKUP(C176,MassDataLink!$A$4:$A$1315,MassDataLink!$D$4:$D$1315)","v":{"$error":"#N/A"}},{"$f":"LOOKUP(C176,MassDataLink!$A$4:$A$1315,MassDataLink!$E$4:$E$1315)","v":{"$error":"#N/A"}},{"$f":"LOOKUP(C176,MassDataLink!$A$4:$A$1315,MassDataLink!$F$4:$F$1315)","v":{"$error":"#N/A"}},null,63,"- - -","- - -"]
[null,64,-1,{"$f":"LOOKUP(C177,MassDataLink!$A$4:$A$1315,MassDataLink!$B$4:$B$1315)","v":{"$error":"#N/A"}},{"$f":"LOOKUP(C177,MassDataLink!$A$4:$A$1315,MassDataLink!$C$4:$C$1315)","v":{"$error":"#N/A"}},{"$f":"LOOKUP(C177,MassDataLink!$A$4:$A$1315,MassDataLink!$D$4:$D$1315)","v":{"$error":"#N/A"}},{"$f":"LOOKUP(C177,MassDataLink!$A$4:$A$1315,MassDataLink!$E$4:$E$1315)","v":{"$error":"#N/A"}},{"$f":"LOOKUP(C177,MassDataLink!$A$4:$A$1315,MassDataLink!$F$4:$F$1315)","v":{"$error":"#N/A"}},null,64,"- - -","- - -"]
[null,65,-1,{"$f":"LOOKUP(C178,MassDataLink!$A$4:$A$1315,MassDataLink!$B$4:$B$1315)","v":{"$error":"#N/A"}},{"$f":"LOOKUP(C178,MassDataLink!$A$4:$A$1315,MassDataLink!$C$4:$C$1315)","v":{"$error":"#N/A"}},{"$f":"LOOKUP(C178,MassDataLink!$A$4:$A$1315,MassDataLink!$D$4:$D$1315)","v":{"$error":"#N/A"}},{"$f":"LOOKUP(C178,MassDataLink!$A$4:$A$1315,MassDataLink!$E$4:$E$1315)","v":{"$error":"#N/A"}},{"$f":"LOOKUP(C178,MassDataLink!$A$4:$A$1315,MassDataLink!$F$4:$F$1315)","v":{"$error":"#N/A"}},null,65,"- - -","- - -"]
[null,66,-1,{"$f":"LOOKUP(C179,MassDataLink!$A$4:$A$1315,MassDataLink!$B$4:$B$1315)","v":{"$error":"#N/A"}},{"$f":"LOOKUP(C179,MassDataLink!$A$4:$A$1315,MassDataLink!$C$4:$C$1315)","v":{"$error":"#N/A"}},{"$f":"LOOKUP(C179,MassDataLink!$A$4:$A$1315,MassDataLink!$D$4:$D$1315)","v":{"$error":"#N/A"}},{"$f":"LOOKUP(C179,MassDataLink!$A$4:$A$1315,MassDataLink!$E$4:$E$1315)","v":{"$error":"#N/A"}},{"$f":"LOOKUP(C179,MassDataLink!$A$4:$A$1315,MassDataLink!$F$4:$F$1315)","v":{"$error":"#N/A"}},null,66,"- - -","- - -"]
[null,67,-1,{"$f":"LOOKUP(C180,MassDataLink!$A$4:$A$1315,MassDataLink!$B$4:$B$1315)","v":{"$error":"#N/A"}},{"$f":"LOOKUP(C180,MassDataLink!$A$4:$A$1315,MassDataLink!$C$4:$C$1315)","v":{"$error":"#N/A"}},{"$f":"LOOKUP(C180,MassDataLink!$A$4:$A$1315,MassDataLink!$D$4:$D$1315)","v":{"$error":"#N/A"}},{"$f":"LOOKUP(C180,MassDataLink!$A$4:$A$1315,MassDataLink!$E$4:$E$1315)","v":{"$error":"#N/A"}},{"$f":"LOOKUP(C180,MassDataLink!$A$4:$A$1315,MassDataLink!$F$4:$F$1315)","v":{"$error":"#N/A"}},null,67,"- - -","- - -"]
[null,68,-1,{"$f":"LOOKUP(C181,MassDataLink!$A$4:$A$1315,MassDataLink!$B$4:$B$1315)","v":{"$error":"#N/A"}},{"$f":"LOOKUP(C181,MassDataLink!$A$4:$A$1315,MassDataLink!$C$4:$C$1315)","v":{"$error":"#N/A"}},{"$f":"LOOKUP(C181,MassDataLink!$A$4:$A$1315,MassDataLink!$D$4:$D$1315)","v":{"$error":"#N/A"}},{"$f":"LOOKUP(C181,MassDataLink!$A$4:$A$1315,MassDataLink!$E$4:$E$1315)","v":{"$error":"#N/A"}},{"$f":"LOOKUP(C181,MassDataLink!$A$4:$A$1315,MassDataLink!$F$4:$F$1315)","v":{"$error":"#N/A"}},null,68,"- - -","- - -"]
[null,69,-1,{"$f":"LOOKUP(C182,MassDataLink!$A$4:$A$1315,MassDataLink!$B$4:$B$1315)","v":{"$error":"#N/A"}},{"$f":"LOOKUP(C182,MassDataLink!$A$4:$A$1315,MassDataLink!$C$4:$C$1315)","v":{"$error":"#N/A"}},{"$f":"LOOKUP(C182,MassDataLink!$A$4:$A$1315,MassDataLink!$D$4:$D$1315)","v":{"$error":"#N/A"}},{"$f":"LOOKUP(C182,MassDataLink!$A$4:$A$1315,MassDataLink!$E$4:$E$1315)","v":{"$error":"#N/A"}},{"$f":"LOOKUP(C182,MassDataLink!$A$4:$A$1315,MassDataLink!$F$4:$F$1315)","v":{"$error":"#N/A"}},null,69,"- - -","- - -"]
[null,70,-1,{"$f":"LOOKUP(C183,MassDataLink!$A$4:$A$1315,MassDataLink!$B$4:$B$1315)","v":{"$error":"#N/A"}},{"$f":"LOOKUP(C183,MassDataLink!$A$4:$A$1315,MassDataLink!$C$4:$C$1315)","v":{"$error":"#N/A"}},{"$f":"LOOKUP(C183,MassDataLink!$A$4:$A$1315,MassDataLink!$D$4:$D$1315)","v":{"$error":"#N/A"}},{"$f":"LOOKUP(C183,MassDataLink!$A$4:$A$1315,MassDataLink!$E$4:$E$1315)","v":{"$error":"#N/A"}},{"$f":"LOOKUP(C183,MassDataLink!$A$4:$A$1315,MassDataLink!$F$4:$F$1315)","v":{"$error":"#N/A"}},null,70,"- - -","- - -"]
[null,71,-1,{"$f":"LOOKUP(C184,MassDataLink!$A$4:$A$1315,MassDataLink!$B$4:$B$1315)","v":{"$error":"#N/A"}},{"$f":"LOOKUP(C184,MassDataLink!$A$4:$A$1315,MassDataLink!$C$4:$C$1315)","v":{"$error":"#N/A"}},{"$f":"LOOKUP(C184,MassDataLink!$A$4:$A$1315,MassDataLink!$D$4:$D$1315)","v":{"$error":"#N/A"}},{"$f":"LOOKUP(C184,MassDataLink!$A$4:$A$1315,MassDataLink!$E$4:$E$1315)","v":{"$error":"#N/A"}},{"$f":"LOOKUP(C184,MassDataLink!$A$4:$A$1315,MassDataLink!$F$4:$F$1315)","v":{"$error":"#N/A"}},null,71,"- - -","- - -"]
[null,72,-1,{"$f":"LOOKUP(C185,MassDataLink!$A$4:$A$1315,MassDataLink!$B$4:$B$1315)","v":{"$error":"#N/A"}},{"$f":"LOOKUP(C185,MassDataLink!$A$4:$A$1315,MassDataLink!$C$4:$C$1315)","v":{"$error":"#N/A"}},{"$f":"LOOKUP(C185,MassDataLink!$A$4:$A$1315,MassDataLink!$D$4:$D$1315)","v":{"$error":"#N/A"}},{"$f":"LOOKUP(C185,MassDataLink!$A$4:$A$1315,MassDataLink!$E$4:$E$1315)","v":{"$error":"#N/A"}},{"$f":"LOOKUP(C185,MassDataLink!$A$4:$A$1315,MassDataLink!$F$4:$F$1315)","v":{"$error":"#N/A"}},null,72,"- - -","- - -"]
[null,73,-1,{"$f":"LOOKUP(C186,MassDataLink!$A$4:$A$1315,MassDataLink!$B$4:$B$1315)","v":{"$error":"#N/A"}},{"$f":"LOOKUP(C186,MassDataLink!$A$4:$A$1315,MassDataLink!$C$4:$C$1315)","v":{"$error":"#N/A"}},{"$f":"LOOKUP(C186,MassDataLink!$A$4:$A$1315,MassDataLink!$D$4:$D$1315)","v":{"$error":"#N/A"}},{"$f":"LOOKUP(C186,MassDataLink!$A$4:$A$1315,MassDataLink!$E$4:$E$1315)","v":{"$error":"#N/A"}},{"$f":"LOOKUP(C186,MassDataLink!$A$4:$A$1315,MassDataLink!$F$4:$F$1315)","v":{"$error":"#N/A"}},null,73,"- - -","- - -"]
[null,74,-1,{"$f":"LOOKUP(C187,MassDataLink!$A$4:$A$1315,MassDataLink!$B$4:$B$1315)","v":{"$error":"#N/A"}},{"$f":"LOOKUP(C187,MassDataLink!$A$4:$A$1315,MassDataLink!$C$4:$C$1315)","v":{"$error":"#N/A"}},{"$f":"LOOKUP(C187,MassDataLink!$A$4:$A$1315,MassDataLink!$D$4:$D$1315)","v":{"$error":"#N/A"}},{"$f":"LOOKUP(C187,MassDataLink!$A$4:$A$1315,MassDataLink!$E$4:$E$1315)","v":{"$error":"#N/A"}},{"$f":"LOOKUP(C187,MassDataLink!$A$4:$A$1315,MassDataLink!$F$4:$F$1315)","v":{"$error":"#N/A"}},null,74,"- - -","- - -"]
[null,75,-1,{"$f":"LOOKUP(C188,MassDataLink!$A$4:$A$1315,MassDataLink!$B$4:$B$1315)","v":{"$error":"#N/A"}},{"$f":"LOOKUP(C188,MassDataLink!$A$4:$A$1315,MassDataLink!$C$4:$C$1315)","v":{"$error":"#N/A"}},{"$f":"LOOKUP(C188,MassDataLink!$A$4:$A$1315,MassDataLink!$D$4:$D$1315)","v":{"$error":"#N/A"}},{"$f":"LOOKUP(C188,MassDataLink!$A$4:$A$1315,MassDataLink!$E$4:$E$1315)","v":{"$error":"#N/A"}},{"$f":"LOOKUP(C188,MassDataLink!$A$4:$A$1315,MassDataLink!$F$4:$F$1315)","v":{"$error":"#N/A"}},null,75,"- - -","- - -"]
[null,76,-1,{"$f":"LOOKUP(C189,MassDataLink!$A$4:$A$1315,MassDataLink!$B$4:$B$1315)","v":{"$error":"#N/A"}},{"$f":"LOOKUP(C189,MassDataLink!$A$4:$A$1315,MassDataLink!$C$4:$C$1315)","v":{"$error":"#N/A"}},{"$f":"LOOKUP(C189,MassDataLink!$A$4:$A$1315,MassDataLink!$D$4:$D$1315)","v":{"$error":"#N/A"}},{"$f":"LOOKUP(C189,MassDataLink!$A$4:$A$1315,MassDataLink!$E$4:$E$1315)","v":{"$error":"#N/A"}},{"$f":"LOOKUP(C189,MassDataLink!$A$4:$A$1315,MassDataLink!$F$4:$F$1315)","v":{"$error":"#N/A"}},null,76,"- - -","- - -"]
[null,77,-1,{"$f":"LOOKUP(C190,MassDataLink!$A$4:$A$1315,MassDataLink!$B$4:$B$1315)","v":{"$error":"#N/A"}},{"$f":"LOOKUP(C190,MassDataLink!$A$4:$A$1315,MassDataLink!$C$4:$C$1315)","v":{"$error":"#N/A"}},{"$f":"LOOKUP(C190,MassDataLink!$A$4:$A$1315,MassDataLink!$D$4:$D$1315)","v":{"$error":"#N/A"}},{"$f":"LOOKUP(C190,MassDataLink!$A$4:$A$1315,MassDataLink!$E$4:$E$1315)","v":{"$error":"#N/A"}},{"$f":"LOOKUP(C190,MassDataLink!$A$4:$A$1315,MassDataLink!$F$4:$F$1315)","v":{"$error":"#N/A"}},null,77,"- - -","- - -"]
[null,78,-1,{"$f":"LOOKUP(C191,MassDataLink!$A$4:$A$1315,MassDataLink!$B$4:$B$1315)","v":{"$error":"#N/A"}},{"$f":"LOOKUP(C191,MassDataLink!$A$4:$A$1315,MassDataLink!$C$4:$C$1315)","v":{"$error":"#N/A"}},{"$f":"LOOKUP(C191,MassDataLink!$A$4:$A$1315,MassDataLink!$D$4:$D$1315)","v":{"$error":"#N/A"}},{"$f":"LOOKUP(C191,MassDataLink!$A$4:$A$1315,MassDataLink!$E$4:$E$1315)","v":{"$error":"#N/A"}},{"$f":"LOOKUP(C191,MassDataLink!$A$4:$A$1315,MassDataLink!$F$4:$F$1315)","v":{"$error":"#N/A"}},null,78,"- - -","- - -"]
[null,79,-1,{"$f":"LOOKUP(C192,MassDataLink!$A$4:$A$1315,MassDataLink!$B$4:$B$1315)","v":{"$error":"#N/A"}},{"$f":"LOOKUP(C192,MassDataLink!$A$4:$A$1315,MassDataLink!$C$4:$C$1315)","v":{"$error":"#N/A"}},{"$f":"LOOKUP(C192,MassDataLink!$A$4:$A$1315,MassDataLink!$D$4:$D$1315)","v":{"$error":"#N/A"}},{"$f":"LOOKUP(C192,MassDataLink!$A$4:$A$1315,MassDataLink!$E$4:$E$1315)","v":{"$error":"#N/A"}},{"$f":"LOOKUP(C192,MassDataLink!$A$4:$A$1315,MassDataLink!$F$4:$F$1315)","v":{"$error":"#N/A"}},null,79,"- - -","- - -"]
[null,80,-1,{"$f":"LOOKUP(C193,MassDataLink!$A$4:$A$1315,MassDataLink!$B$4:$B$1315)","v":{"$error":"#N/A"}},{"$f":"LOOKUP(C193,MassDataLink!$A$4:$A$1315,MassDataLink!$C$4:$C$1315)","v":{"$error":"#N/A"}},{"$f":"LOOKUP(C193,MassDataLink!$A$4:$A$1315,MassDataLink!$D$4:$D$1315)","v":{"$error":"#N/A"}},{"$f":"LOOKUP(C193,MassDataLink!$A$4:$A$1315,MassDataLink!$E$4:$E$1315)","v":{"$error":"#N/A"}},{"$f":"LOOKUP(C193,MassDataLink!$A$4:$A$1315,MassDataLink!$F$4:$F$1315)","v":{"$error":"#N/A"}},null,80,"- - -","- - -"]
[null,81,-1,{"$f":"LOOKUP(C194,MassDataLink!$A$4:$A$1315,MassDataLink!$B$4:$B$1315)","v":{"$error":"#N/A"}},{"$f":"LOOKUP(C194,MassDataLink!$A$4:$A$1315,MassDataLink!$C$4:$C$1315)","v":{"$error":"#N/A"}},{"$f":"LOOKUP(C194,MassDataLink!$A$4:$A$1315,MassDataLink!$D$4:$D$1315)","v":{"$error":"#N/A"}},{"$f":"LOOKUP(C194,MassDataLink!$A$4:$A$1315,MassDataLink!$E$4:$E$1315)","v":{"$error":"#N/A"}},{"$f":"LOOKUP(C194,MassDataLink!$A$4:$A$1315,MassDataLink!$F$4:$F$1315)","v":{"$error":"#N/A"}},null,81,"- - -","- - -"]
[null,82,-1,{"$f":"LOOKUP(C195,MassDataLink!$A$4:$A$1315,MassDataLink!$B$4:$B$1315)","v":{"$error":"#N/A"}},{"$f":"LOOKUP(C195,MassDataLink!$A$4:$A$1315,MassDataLink!$C$4:$C$1315)","v":{"$error":"#N/A"}},{"$f":"LOOKUP(C195,MassDataLink!$A$4:$A$1315,MassDataLink!$D$4:$D$1315)","v":{"$error":"#N/A"}},{"$f":"LOOKUP(C195,MassDataLink!$A$4:$A$1315,MassDataLink!$E$4:$E$1315)","v":{"$error":"#N/A"}},{"$f":"LOOKUP(C195,MassDataLink!$A$4:$A$1315,MassDataLink!$F$4:$F$1315)","v":{"$error":"#N/A"}},null,82,"- - -","- - -"]
[null,83,-1,{"$f":"LOOKUP(C196,MassDataLink!$A$4:$A$1315,MassDataLink!$B$4:$B$1315)","v":{"$error":"#N/A"}},{"$f":"LOOKUP(C196,MassDataLink!$A$4:$A$1315,MassDataLink!$C$4:$C$1315)","v":{"$error":"#N/A"}},{"$f":"LOOKUP(C196,MassDataLink!$A$4:$A$1315,MassDataLink!$D$4:$D$1315)","v":{"$error":"#N/A"}},{"$f":"LOOKUP(C196,MassDataLink!$A$4:$A$1315,MassDataLink!$E$4:$E$1315)","v":{"$error":"#N/A"}},{"$f":"LOOKUP(C196,MassDataLink!$A$4:$A$1315,MassDataLink!$F$4:$F$1315)","v":{"$error":"#N/A"}},null,83,"- - -","- - -"]
[null,84,-1,{"$f":"LOOKUP(C197,MassDataLink!$A$4:$A$1315,MassDataLink!$B$4:$B$1315)","v":{"$error":"#N/A"}},{"$f":"LOOKUP(C197,MassDataLink!$A$4:$A$1315,MassDataLink!$C$4:$C$1315)","v":{"$error":"#N/A"}},{"$f":"LOOKUP(C197,MassDataLink!$A$4:$A$1315,MassDataLink!$D$4:$D$1315)","v":{"$error":"#N/A"}},{"$f":"LOOKUP(C197,MassDataLink!$A$4:$A$1315,MassDataLink!$E$4:$E$1315)","v":{"$error":"#N/A"}},{"$f":"LOOKUP(C197,MassDataLink!$A$4:$A$1315,MassDataLink!$F$4:$F$1315)","v":{"$error":"#N/A"}},null,84,"- - -","- - -"]
[null,85,-1,{"$f":"LOOKUP(C198,MassDataLink!$A$4:$A$1315,MassDataLink!$B$4:$B$1315)","v":{"$error":"#N/A"}},{"$f":"LOOKUP(C198,MassDataLink!$A$4:$A$1315,MassDataLink!$C$4:$C$1315)","v":{"$error":"#N/A"}},{"$f":"LOOKUP(C198,MassDataLink!$A$4:$A$1315,MassDataLink!$D$4:$D$1315)","v":{"$error":"#N/A"}},{"$f":"LOOKUP(C198,MassDataLink!$A$4:$A$1315,MassDataLink!$E$4:$E$1315)","v":{"$error":"#N/A"}},{"$f":"LOOKUP(C198,MassDataLink!$A$4:$A$1315,MassDataLink!$F$4:$F$1315)","v":{"$error":"#N/A"}},null,85,"- - -","- - -"]
[null,86,-1,{"$f":"LOOKUP(C199,MassDataLink!$A$4:$A$1315,MassDataLink!$B$4:$B$1315)","v":{"$error":"#N/A"}},{"$f":"LOOKUP(C199,MassDataLink!$A$4:$A$1315,MassDataLink!$C$4:$C$1315)","v":{"$error":"#N/A"}},{"$f":"LOOKUP(C199,MassDataLink!$A$4:$A$1315,MassDataLink!$D$4:$D$1315)","v":{"$error":"#N/A"}},{"$f":"LOOKUP(C199,MassDataLink!$A$4:$A$1315,MassDataLink!$E$4:$E$1315)","v":{"$error":"#N/A"}},{"$f":"LOOKUP(C199,MassDataLink!$A$4:$A$1315,MassDataLink!$F$4:$F$1315)","v":{"$error":"#N/A"}},null,86,"- - -","- - -"]
[null,87,-1,{"$f":"LOOKUP(C200,MassDataLink!$A$4:$A$1315,MassDataLink!$B$4:$B$1315)","v":{"$error":"#N/A"}},{"$f":"LOOKUP(C200,MassDataLink!$A$4:$A$1315,MassDataLink!$C$4:$C$1315)","v":{"$error":"#N/A"}},{"$f":"LOOKUP(C200,MassDataLink!$A$4:$A$1315,MassDataLink!$D$4:$D$1315)","v":{"$error":"#N/A"}},{"$f":"LOOKUP(C200,MassDataLink!$A$4:$A$1315,MassDataLink!$E$4:$E$1315)","v":{"$error":"#N/A"}},{"$f":"LOOKUP(C200,MassDataLink!$A$4:$A$1315,MassDataLink!$F$4:$F$1315)","v":{"$error":"#N/A"}},null,87,"- - -","- - -"]
[null,88,-1,{"$f":"LOOKUP(C201,MassDataLink!$A$4:$A$1315,MassDataLink!$B$4:$B$1315)","v":{"$error":"#N/A"}},{"$f":"LOOKUP(C201,MassDataLink!$A$4:$A$1315,MassDataLink!$C$4:$C$1315)","v":{"$error":"#N/A"}},{"$f":"LOOKUP(C201,MassDataLink!$A$4:$A$1315,MassDataLink!$D$4:$D$1315)","v":{"$error":"#N/A"}},{"$f":"LOOKUP(C201,MassDataLink!$A$4:$A$1315,MassDataLink!$E$4:$E$1315)","v":{"$error":"#N/A"}},{"$f":"LOOKUP(C201,MassDataLink!$A$4:$A$1315,MassDataLink!$F$4:$F$1315)","v":{"$error":"#N/A"}},null,88,"- - -","- - -"]
[null,89,-1,{"$f":"LOOKUP(C202,MassDataLink!$A$4:$A$1315,MassDataLink!$B$4:$B$1315)","v":{"$error":"#N/A"}},{"$f":"LOOKUP(C202,MassDataLink!$A$4:$A$1315,MassDataLink!$C$4:$C$1315)","v":{"$error":"#N/A"}},{"$f":"LOOKUP(C202,MassDataLink!$A$4:$A$1315,MassDataLink!$D$4:$D$1315)","v":{"$error":"#N/A"}},{"$f":"LOOKUP(C202,MassDataLink!$A$4:$A$1315,MassDataLink!$E$4:$E$1315)","v":{"$error":"#N/A"}},{"$f":"LOOKUP(C202,MassDataLink!$A$4:$A$1315,MassDataLink!$F$4:$F$1315)","v":{"$error":"#N/A"}},null,89,"- - -","- - -"]
[null,90,-1,{"$f":"LOOKUP(C203,MassDataLink!$A$4:$A$1315,MassDataLink!$B$4:$B$1315)","v":{"$error":"#N/A"}},{"$f":"LOOKUP(C203,MassDataLink!$A$4:$A$1315,MassDataLink!$C$4:$C$1315)","v":{"$error":"#N/A"}},{"$f":"LOOKUP(C203,MassDataLink!$A$4:$A$1315,MassDataLink!$D$4:$D$1315)","v":{"$error":"#N/A"}},{"$f":"LOOKUP(C203,MassDataLink!$A$4:$A$1315,MassDataLink!$E$4:$E$1315)","v":{"$error":"#N/A"}},{"$f":"LOOKUP(C203,MassDataLink!$A$4:$A$1315,MassDataLink!$F$4:$F$1315)","v":{"$error":"#N/A"}},null,90,"- - -","- - -"]
[null,91,-1,{"$f":"LOOKUP(C204,MassDataLink!$A$4:$A$1315,MassDataLink!$B$4:$B$1315)","v":{"$error":"#N/A"}},{"$f":"LOOKUP(C204,MassDataLink!$A$4:$A$1315,MassDataLink!$C$4:$C$1315)","v":{"$error":"#N/A"}},{"$f":"LOOKUP(C204,MassDataLink!$A$4:$A$1315,MassDataLink!$D$4:$D$1315)","v":{"$error":"#N/A"}},{"$f":"LOOKUP(C204,MassDataLink!$A$4:$A$1315,MassDataLink!$E$4:$E$1315)","v":{"$error":"#N/A"}},{"$f":"LOOKUP(C204,MassDataLink!$A$4:$A$1315,MassDataLink!$F$4:$F$1315)","v":{"$error":"#N/A"}},null,91,"- - -","- - -"]
[null,92,-1,{"$f":"LOOKUP(C205,MassDataLink!$A$4:$A$1315,MassDataLink!$B$4:$B$1315)","v":{"$error":"#N/A"}},{"$f":"LOOKUP(C205,MassDataLink!$A$4:$A$1315,MassDataLink!$C$4:$C$1315)","v":{"$error":"#N/A"}},{"$f":"LOOKUP(C205,MassDataLink!$A$4:$A$1315,MassDataLink!$D$4:$D$1315)","v":{"$error":"#N/A"}},{"$f":"LOOKUP(C205,MassDataLink!$A$4:$A$1315,MassDataLink!$E$4:$E$1315)","v":{"$error":"#N/A"}},{"$f":"LOOKUP(C205,MassDataLink!$A$4:$A$1315,MassDataLink!$F$4:$F$1315)","v":{"$error":"#N/A"}},null,92,"- - -","- - -"]
[null,93,-1,{"$f":"LOOKUP(C206,MassDataLink!$A$4:$A$1315,MassDataLink!$B$4:$B$1315)","v":{"$error":"#N/A"}},{"$f":"LOOKUP(C206,MassDataLink!$A$4:$A$1315,MassDataLink!$C$4:$C$1315)","v":{"$error":"#N/A"}},{"$f":"LOOKUP(C206,MassDataLink!$A$4:$A$1315,MassDataLink!$D$4:$D$1315)","v":{"$error":"#N/A"}},{"$f":"LOOKUP(C206,MassDataLink!$A$4:$A$1315,MassDataLink!$E$4:$E$1315)","v":{"$error":"#N/A"}},{"$f":"LOOKUP(C206,MassDataLink!$A$4:$A$1315,MassDataLink!$F$4:$F$1315)","v":{"$error":"#N/A"}},null,93,"- - -","- - -"]
[null,94,-1,{"$f":"LOOKUP(C207,MassDataLink!$A$4:$A$1315,MassDataLink!$B$4:$B$1315)","v":{"$error":"#N/A"}},{"$f":"LOOKUP(C207,MassDataLink!$A$4:$A$1315,MassDataLink!$C$4:$C$1315)","v":{"$error":"#N/A"}},{"$f":"LOOKUP(C207,MassDataLink!$A$4:$A$1315,MassDataLink!$D$4:$D$1315)","v":{"$error":"#N/A"}},{"$f":"LOOKUP(C207,MassDataLink!$A$4:$A$1315,MassDataLink!$E$4:$E$1315)","v":{"$error":"#N/A"}},{"$f":"LOOKUP(C207,MassDataLink!$A$4:$A$1315,MassDataLink!$F$4:$F$1315)","v":{"$error":"#N/A"}},null,94,"- - -","- - -"]
[null,95,-1,{"$f":"LOOKUP(C208,MassDataLink!$A$4:$A$1315,MassDataLink!$B$4:$B$1315)","v":{"$error":"#N/A"}},{"$f":"LOOKUP(C208,MassDataLink!$A$4:$A$1315,MassDataLink!$C$4:$C$1315)","v":{"$error":"#N/A"}},{"$f":"LOOKUP(C208,MassDataLink!$A$4:$A$1315,MassDataLink!$D$4:$D$1315)","v":{"$error":"#N/A"}},{"$f":"LOOKUP(C208,MassDataLink!$A$4:$A$1315,MassDataLink!$E$4:$E$1315)","v":{"$error":"#N/A"}},{"$f":"LOOKUP(C208,MassDataLink!$A$4:$A$1315,MassDataLink!$F$4:$F$1315)","v":{"$error":"#N/A"}},null,95,"- - -","- - -"]
[null,96,-1,{"$f":"LOOKUP(C209,MassDataLink!$A$4:$A$1315,MassDataLink!$B$4:$B$1315)","v":{"$error":"#N/A"}},{"$f":"LOOKUP(C209,MassDataLink!$A$4:$A$1315,MassDataLink!$C$4:$C$1315)","v":{"$error":"#N/A"}},{"$f":"LOOKUP(C209,MassDataLink!$A$4:$A$1315,MassDataLink!$D$4:$D$1315)","v":{"$error":"#N/A"}},{"$f":"LOOKUP(C209,MassDataLink!$A$4:$A$1315,MassDataLink!$E$4:$E$1315)","v":{"$error":"#N/A"}},{"$f":"LOOKUP(C209,MassDataLink!$A$4:$A$1315,MassDataLink!$F$4:$F$1315)","v":{"$error":"#N/A"}},null,96,"- - -","- - -"]
[null,97,-1,{"$f":"LOOKUP(C210,MassDataLink!$A$4:$A$1315,MassDataLink!$B$4:$B$1315)","v":{"$error":"#N/A"}},{"$f":"LOOKUP(C210,MassDataLink!$A$4:$A$1315,MassDataLink!$C$4:$C$1315)","v":{"$error":"#N/A"}},{"$f":"LOOKUP(C210,MassDataLink!$A$4:$A$1315,MassDataLink!$D$4:$D$1315)","v":{"$error":"#N/A"}},{"$f":"LOOKUP(C210,MassDataLink!$A$4:$A$1315,MassDataLink!$E$4:$E$1315)","v":{"$error":"#N/A"}},{"$f":"LOOKUP(C210,MassDataLink!$A$4:$A$1315,MassDataLink!$F$4:$F$1315)","v":{"$error":"#N/A"}},null,97,"- - -","- - -"]
[null,98,-1,{"$f":"LOOKUP(C211,MassDataLink!$A$4:$A$1315,MassDataLink!$B$4:$B$1315)","v":{"$error":"#N/A"}},{"$f":"LOOKUP(C211,MassDataLink!$A$4:$A$1315,MassDataLink!$C$4:$C$1315)","v":{"$error":"#N/A"}},{"$f":"LOOKUP(C211,MassDataLink!$A$4:$A$1315,MassDataLink!$D$4:$D$1315)","v":{"$error":"#N/A"}},{"$f":"LOOKUP(C211,MassDataLink!$A$4:$A$1315,MassDataLink!$E$4:$E$1315)","v":{"$error":"#N/A"}},{"$f":"LOOKUP(C211,MassDataLink!$A$4:$A$1315,MassDataLink!$F$4:$F$1315)","v":{"$error":"#N/A"}},null,98,"- - -","- - -"]
[null,99,-1,{"$f":"LOOKUP(C212,MassDataLink!$A$4:$A$1315,MassDataLink!$B$4:$B$1315)","v":{"$error":"#N/A"}},{"$f":"LOOKUP(C212,MassDataLink!$A$4:$A$1315,MassDataLink!$C$4:$C$1315)","v":{"$error":"#N/A"}},{"$f":"LOOKUP(C212,MassDataLink!$A$4:$A$1315,MassDataLink!$D$4:$D$1315)","v":{"$error":"#N/A"}},{"$f":"LOOKUP(C212,MassDataLink!$A$4:$A$1315,MassDataLink!$E$4:$E$1315)","v":{"$error":"#N/A"}},{"$f":"LOOKUP(C212,MassDataLink!$A$4:$A$1315,MassDataLink!$F$4:$F$1315)","v":{"$error":"#N/A"}},null,99,"- - -","- - -"]
[null,100,-1,{"$f":"LOOKUP(C213,MassDataLink!$A$4:$A$1315,MassDataLink!$B$4:$B$1315)","v":{"$error":"#N/A"}},{"$f":"LOOKUP(C213,MassDataLink!$A$4:$A$1315,MassDataLink!$C$4:$C$1315)","v":{"$error":"#N/A"}},{"$f":"LOOKUP(C213,MassDataLink!$A$4:$A$1315,MassDataLink!$D$4:$D$1315)","v":{"$error":"#N/A"}},{"$f":"LOOKUP(C213,MassDataLink!$A$4:$A$1315,MassDataLink!$E$4:$E$1315)","v":{"$error":"#N/A"}},{"$f":"LOOKUP(C213,MassDataLink!$A$4:$A$1315,MassDataLink!$F$4:$F$1315)","v":{"$error":"#N/A"}},null,100,"- - -","- - -"]
[null,101,-1,{"$f":"LOOKUP(C214,MassDataLink!$A$4:$A$1315,MassDataLink!$B$4:$B$1315)","v":{"$error":"#N/A"}},{"$f":"LOOKUP(C214,MassDataLink!$A$4:$A$1315,MassDataLink!$C$4:$C$1315)","v":{"$error":"#N/A"}},{"$f":"LOOKUP(C214,MassDataLink!$A$4:$A$1315,MassDataLink!$D$4:$D$1315)","v":{"$error":"#N/A"}},{"$f":"LOOKUP(C214,MassDataLink!$A$4:$A$1315,MassDataLink!$E$4:$E$1315)","v":{"$error":"#N/A"}},{"$f":"LOOKUP(C214,MassDataLink!$A$4:$A$1315,MassDataLink!$F$4:$F$1315)","v":{"$error":"#N/A"}},null,101,"- - -","- - -"]
[null,102,-1,{"$f":"LOOKUP(C215,MassDataLink!$A$4:$A$1315,MassDataLink!$B$4:$B$1315)","v":{"$error":"#N/A"}},{"$f":"LOOKUP(C215,MassDataLink!$A$4:$A$1315,MassDataLink!$C$4:$C$1315)","v":{"$error":"#N/A"}},{"$f":"LOOKUP(C215,MassDataLink!$A$4:$A$1315,MassDataLink!$D$4:$D$1315)","v":{"$error":"#N/A"}},{"$f":"LOOKUP(C215,MassDataLink!$A$4:$A$1315,MassDataLink!$E$4:$E$1315)","v":{"$error":"#N/A"}},{"$f":"LOOKUP(C215,MassDataLink!$A$4:$A$1315,MassDataLink!$F$4:$F$1315)","v":{"$error":"#N/A"}},null,102,"- - -","- - -"]
[null,103,-1,{"$f":"LOOKUP(C216,MassDataLink!$A$4:$A$1315,MassDataLink!$B$4:$B$1315)","v":{"$error":"#N/A"}},{"$f":"LOOKUP(C216,MassDataLink!$A$4:$A$1315,MassDataLink!$C$4:$C$1315)","v":{"$error":"#N/A"}},{"$f":"LOOKUP(C216,MassDataLink!$A$4:$A$1315,MassDataLink!$D$4:$D$1315)","v":{"$error":"#N/A"}},{"$f":"LOOKUP(C216,MassDataLink!$A$4:$A$1315,MassDataLink!$E$4:$E$1315)","v":{"$error":"#N/A"}},{"$f":"LOOKUP(C216,MassDataLink!$A$4:$A$1315,MassDataLink!$F$4:$F$1315)","v":{"$error":"#N/A"}},null,103,"- - -","- - -"]
[null,104,-1,{"$f":"LOOKUP(C217,MassDataLink!$A$4:$A$1315,MassDataLink!$B$4:$B$1315)","v":{"$error":"#N/A"}},{"$f":"LOOKUP(C217,MassDataLink!$A$4:$A$1315,MassDataLink!$C$4:$C$1315)","v":{"$error":"#N/A"}},{"$f":"LOOKUP(C217,MassDataLink!$A$4:$A$1315,MassDataLink!$D$4:$D$1315)","v":{"$error":"#N/A"}},{"$f":"LOOKUP(C217,MassDataLink!$A$4:$A$1315,MassDataLink!$E$4:$E$1315)","v":{"$error":"#N/A"}},{"$f":"LOOKUP(C217,MassDataLink!$A$4:$A$1315,MassDataLink!$F$4:$F$1315)","v":{"$error":"#N/A"}},null,104,"- - -","- - -"]
[null,105,-1,{"$f":"LOOKUP(C218,MassDataLink!$A$4:$A$1315,MassDataLink!$B$4:$B$1315)","v":{"$error":"#N/A"}},{"$f":"LOOKUP(C218,MassDataLink!$A$4:$A$1315,MassDataLink!$C$4:$C$1315)","v":{"$error":"#N/A"}},{"$f":"LOOKUP(C218,MassDataLink!$A$4:$A$1315,MassDataLink!$D$4:$D$1315)","v":{"$error":"#N/A"}},{"$f":"LOOKUP(C218,MassDataLink!$A$4:$A$1315,MassDataLink!$E$4:$E$1315)","v":{"$error":"#N/A"}},{"$f":"LOOKUP(C218,MassDataLink!$A$4:$A$1315,MassDataLink!$F$4:$F$1315)","v":{"$error":"#N/A"}},null,105,"- - -","- - -"]
[null,106,-1,{"$f":"LOOKUP(C219,MassDataLink!$A$4:$A$1315,MassDataLink!$B$4:$B$1315)","v":{"$error":"#N/A"}},{"$f":"LOOKUP(C219,MassDataLink!$A$4:$A$1315,MassDataLink!$C$4:$C$1315)","v":{"$error":"#N/A"}},{"$f":"LOOKUP(C219,MassDataLink!$A$4:$A$1315,MassDataLink!$D$4:$D$1315)","v":{"$error":"#N/A"}},{"$f":"LOOKUP(C219,MassDataLink!$A$4:$A$1315,MassDataLink!$E$4:$E$1315)","v":{"$error":"#N/A"}},{"$f":"LOOKUP(C219,MassDataLink!$A$4:$A$1315,MassDataLink!$F$4:$F$1315)","v":{"$error":"#N/A"}},null,106,"- - -","- - -"]
[null,107,-1,{"$f":"LOOKUP(C220,MassDataLink!$A$4:$A$1315,MassDataLink!$B$4:$B$1315)","v":{"$error":"#N/A"}},{"$f":"LOOKUP(C220,MassDataLink!$A$4:$A$1315,MassDataLink!$C$4:$C$1315)","v":{"$error":"#N/A"}},{"$f":"LOOKUP(C220,MassDataLink!$A$4:$A$1315,MassDataLink!$D$4:$D$1315)","v":{"$error":"#N/A"}},{"$f":"LOOKUP(C220,MassDataLink!$A$4:$A$1315,MassDataLink!$E$4:$E$1315)","v":{"$error":"#N/A"}},{"$f":"LOOKUP(C220,MassDataLink!$A$4:$A$1315,MassDataLink!$F$4:$F$1315)","v":{"$error":"#N/A"}},null,107,"- - -","- - -"]
[null,108,-1,{"$f":"LOOKUP(C221,MassDataLink!$A$4:$A$1315,MassDataLink!$B$4:$B$1315)","v":{"$error":"#N/A"}},{"$f":"LOOKUP(C221,MassDataLink!$A$4:$A$1315,MassDataLink!$C$4:$C$1315)","v":{"$error":"#N/A"}},{"$f":"LOOKUP(C221,MassDataLink!$A$4:$A$1315,MassDataLink!$D$4:$D$1315)","v":{"$error":"#N/A"}},{"$f":"LOOKUP(C221,MassDataLink!$A$4:$A$1315,MassDataLink!$E$4:$E$1315)","v":{"$error":"#N/A"}},{"$f":"LOOKUP(C221,MassDataLink!$A$4:$A$1315,MassDataLink!$F$4:$F$1315)","v":{"$error":"#N/A"}},null,108,"- - -","- - -"]
[null,109,-1,{"$f":"LOOKUP(C222,MassDataLink!$A$4:$A$1315,MassDataLink!$B$4:$B$1315)","v":{"$error":"#N/A"}},{"$f":"LOOKUP(C222,MassDataLink!$A$4:$A$1315,MassDataLink!$C$4:$C$1315)","v":{"$error":"#N/A"}},{"$f":"LOOKUP(C222,MassDataLink!$A$4:$A$1315,MassDataLink!$D$4:$D$1315)","v":{"$error":"#N/A"}},{"$f":"LOOKUP(C222,MassDataLink!$A$4:$A$1315,MassDataLink!$E$4:$E$1315)","v":{"$error":"#N/A"}},{"$f":"LOOKUP(C222,MassDataLink!$A$4:$A$1315,MassDataLink!$F$4:$F$1315)","v":{"$error":"#N/A"}},null,109,"- - -","- - -"]
[null,110,-1,{"$f":"LOOKUP(C223,MassDataLink!$A$4:$A$1315,MassDataLink!$B$4:$B$1315)","v":{"$error":"#N/A"}},{"$f":"LOOKUP(C223,MassDataLink!$A$4:$A$1315,MassDataLink!$C$4:$C$1315)","v":{"$error":"#N/A"}},{"$f":"LOOKUP(C223,MassDataLink!$A$4:$A$1315,MassDataLink!$D$4:$D$1315)","v":{"$error":"#N/A"}},{"$f":"LOOKUP(C223,MassDataLink!$A$4:$A$1315,MassDataLink!$E$4:$E$1315)","v":{"$error":"#N/A"}},{"$f":"LOOKUP(C223,MassDataLink!$A$4:$A$1315,MassDataLink!$F$4:$F$1315)","v":{"$error":"#N/A"}},null,110,"- - -","- - -"]
[null,111,-1,{"$f":"LOOKUP(C224,MassDataLink!$A$4:$A$1315,MassDataLink!$B$4:$B$1315)","v":{"$error":"#N/A"}},{"$f":"LOOKUP(C224,MassDataLink!$A$4:$A$1315,MassDataLink!$C$4:$C$1315)","v":{"$error":"#N/A"}},{"$f":"LOOKUP(C224,MassDataLink!$A$4:$A$1315,MassDataLink!$D$4:$D$1315)","v":{"$error":"#N/A"}},{"$f":"LOOKUP(C224,MassDataLink!$A$4:$A$1315,MassDataLink!$E$4:$E$1315)","v":{"$error":"#N/A"}},{"$f":"LOOKUP(C224,MassDataLink!$A$4:$A$1315,MassDataLink!$F$4:$F$1315)","v":{"$error":"#N/A"}},null,111,"- - -","- - -"]
[null,112,-1,{"$f":"LOOKUP(C225,MassDataLink!$A$4:$A$1315,MassDataLink!$B$4:$B$1315)","v":{"$error":"#N/A"}},{"$f":"LOOKUP(C225,MassDataLink!$A$4:$A$1315,MassDataLink!$C$4:$C$1315)","v":{"$error":"#N/A"}},{"$f":"LOOKUP(C225,MassDataLink!$A$4:$A$1315,MassDataLink!$D$4:$D$1315)","v":{"$error":"#N/A"}},{"$f":"LOOKUP(C225,MassDataLink!$A$4:$A$1315,MassDataLink!$E$4:$E$1315)","v":{"$error":"#N/A"}},{"$f":"LOOKUP(C225,MassDataLink!$A$4:$A$1315,MassDataLink!$F$4:$F$1315)","v":{"$error":"#N/A"}},null,112,"- - -","- - -"]
[null,113,-1,{"$f":"LOOKUP(C226,MassDataLink!$A$4:$A$1315,MassDataLink!$B$4:$B$1315)","v":{"$error":"#N/A"}},{"$f":"LOOKUP(C226,MassDataLink!$A$4:$A$1315,MassDataLink!$C$4:$C$1315)","v":{"$error":"#N/A"}},{"$f":"LOOKUP(C226,MassDataLink!$A$4:$A$1315,MassDataLink!$D$4:$D$1315)","v":{"$error":"#N/A"}},{"$f":"LOOKUP(C226,MassDataLink!$A$4:$A$1315,MassDataLink!$E$4:$E$1315)","v":{"$error":"#N/A"}},{"$f":"LOOKUP(C226,MassDataLink!$A$4:$A$1315,MassDataLink!$F$4:$F$1315)","v":{"$error":"#N/A"}},null,113,"- - -","- - -"]
[null,114,-1,{"$f":"LOOKUP(C227,MassDataLink!$A$4:$A$1315,MassDataLink!$B$4:$B$1315)","v":{"$error":"#N/A"}},{"$f":"LOOKUP(C227,MassDataLink!$A$4:$A$1315,MassDataLink!$C$4:$C$1315)","v":{"$error":"#N/A"}},{"$f":"LOOKUP(C227,MassDataLink!$A$4:$A$1315,MassDataLink!$D$4:$D$1315)","v":{"$error":"#N/A"}},{"$f":"LOOKUP(C227,MassDataLink!$A$4:$A$1315,MassDataLink!$E$4:$E$1315)","v":{"$error":"#N/A"}},{"$f":"LOOKUP(C227,MassDataLink!$A$4:$A$1315,MassDataLink!$F$4:$F$1315)","v":{"$error":"#N/A"}},null,114,"- - -","- - -"]
[null,{"$f":"B227+1","v":115},{"$f":"IF(C227=-1,-1,H227)","v":-1},{"$f":"LOOKUP(C228,MassDataLink!$A$4:$A$1315,MassDataLink!$B$4:$B$1315)","v":{"$error":"#N/A"}},{"$f":"LOOKUP(C228,MassDataLink!$A$4:$A$1315,MassDataLink!$C$4:$C$1315)","v":{"$error":"#N/A"}},{"$f":"LOOKUP(C228,MassDataLink!$A$4:$A$1315,MassDataLink!$D$4:$D$1315)","v":{"$error":"#N/A"}},{"$f":"LOOKUP(C228,MassDataLink!$A$4:$A$1315,MassDataLink!$E$4:$E$1315)","v":{"$error":"#N/A"}},{"$f":"LOOKUP(C228,MassDataLink!$A$4:$A$1315,MassDataLink!$F$4:$F$1315)","v":{"$error":"#N/A"}},null,{"$f":"J227+1","v":115},{"$f":"IF(C228=-1,$L$112,IF($A$11=D228,ROUND((E228*$P$57),$R$57),$L$112))","v":"- - -"},{"$f":"IF(K228=$L$112,$L$112,F228)","v":"- - -"}]
[null,116,-1,{"$f":"LOOKUP(C229,MassDataLink!$A$4:$A$1315,MassDataLink!$B$4:$B$1315)","v":{"$error":"#N/A"}},{"$f":"LOOKUP(C229,MassDataLink!$A$4:$A$1315,MassDataLink!$C$4:$C$1315)","v":{"$error":"#N/A"}},{"$f":"LOOKUP(C229,MassDataLink!$A$4:$A$1315,MassDataLink!$D$4:$D$1315)","v":{"$error":"#N/A"}},{"$f":"LOOKUP(C229,MassDataLink!$A$4:$A$1315,MassDataLink!$E$4:$E$1315)","v":{"$error":"#N/A"}},{"$f":"LOOKUP(C229,MassDataLink!$A$4:$A$1315,MassDataLink!$F$4:$F$1315)","v":{"$error":"#N/A"}},null,116,"- - -","- - -"]
[null,117,-1,{"$f":"LOOKUP(C230,MassDataLink!$A$4:$A$1315,MassDataLink!$B$4:$B$1315)","v":{"$error":"#N/A"}},{"$f":"LOOKUP(C230,MassDataLink!$A$4:$A$1315,MassDataLink!$C$4:$C$1315)","v":{"$error":"#N/A"}},{"$f":"LOOKUP(C230,MassDataLink!$A$4:$A$1315,MassDataLink!$D$4:$D$1315)","v":{"$error":"#N/A"}},{"$f":"LOOKUP(C230,MassDataLink!$A$4:$A$1315,MassDataLink!$E$4:$E$1315)","v":{"$error":"#N/A"}},{"$f":"LOOKUP(C230,MassDataLink!$A$4:$A$1315,MassDataLink!$F$4:$F$1315)","v":{"$error":"#N/A"}},null,117,"- - -","- - -"]
[null,118,-1,{"$f":"LOOKUP(C231,MassDataLink!$A$4:$A$1315,MassDataLink!$B$4:$B$1315)","v":{"$error":"#N/A"}},{"$f":"LOOKUP(C231,MassDataLink!$A$4:$A$1315,MassDataLink!$C$4:$C$1315)","v":{"$error":"#N/A"}},{"$f":"LOOKUP(C231,MassDataLink!$A$4:$A$1315,MassDataLink!$D$4:$D$1315)","v":{"$error":"#N/A"}},{"$f":"LOOKUP(C231,MassDataLink!$A$4:$A$1315,MassDataLink!$E$4:$E$1315)","v":{"$error":"#N/A"}},{"$f":"LOOKUP(C231,MassDataLink!$A$4:$A$1315,MassDataLink!$F$4:$F$1315)","v":{"$error":"#N/A"}},null,118,"- - -","- - -"]
[null,119,-1,{"$f":"LOOKUP(C232,MassDataLink!$A$4:$A$1315,MassDataLink!$B$4:$B$1315)","v":{"$error":"#N/A"}},{"$f":"LOOKUP(C232,MassDataLink!$A$4:$A$1315,MassDataLink!$C$4:$C$1315)","v":{"$error":"#N/A"}},{"$f":"LOOKUP(C232,MassDataLink!$A$4:$A$1315,MassDataLink!$D$4:$D$1315)","v":{"$error":"#N/A"}},{"$f":"LOOKUP(C232,MassDataLink!$A$4:$A$1315,MassDataLink!$E$4:$E$1315)","v":{"$error":"#N/A"}},{"$f":"LOOKUP(C232,MassDataLink!$A$4:$A$1315,MassDataLink!$F$4:$F$1315)","v":{"$error":"#N/A"}},null,119,"- - -","- - -"]
[null,120,-1,{"$f":"LOOKUP(C233,MassDataLink!$A$4:$A$1315,MassDataLink!$B$4:$B$1315)","v":{"$error":"#N/A"}},{"$f":"LOOKUP(C233,MassDataLink!$A$4:$A$1315,MassDataLink!$C$4:$C$1315)","v":{"$error":"#N/A"}},{"$f":"LOOKUP(C233,MassDataLink!$A$4:$A$1315,MassDataLink!$D$4:$D$1315)","v":{"$error":"#N/A"}},{"$f":"LOOKUP(C233,MassDataLink!$A$4:$A$1315,MassDataLink!$E$4:$E$1315)","v":{"$error":"#N/A"}},{"$f":"LOOKUP(C233,MassDataLink!$A$4:$A$1315,MassDataLink!$F$4:$F$1315)","v":{"$error":"#N/A"}},null,120,"- - -","- - -"]
[null,121,-1,{"$f":"LOOKUP(C234,MassDataLink!$A$4:$A$1315,MassDataLink!$B$4:$B$1315)","v":{"$error":"#N/A"}},{"$f":"LOOKUP(C234,MassDataLink!$A$4:$A$1315,MassDataLink!$C$4:$C$1315)","v":{"$error":"#N/A"}},{"$f":"LOOKUP(C234,MassDataLink!$A$4:$A$1315,MassDataLink!$D$4:$D$1315)","v":{"$error":"#N/A"}},{"$f":"LOOKUP(C234,MassDataLink!$A$4:$A$1315,MassDataLink!$E$4:$E$1315)","v":{"$error":"#N/A"}},{"$f":"LOOKUP(C234,MassDataLink!$A$4:$A$1315,MassDataLink!$F$4:$F$1315)","v":{"$error":"#N/A"}},null,121,"- - -","- - -"]
[null,122,-1,{"$f":"LOOKUP(C235,MassDataLink!$A$4:$A$1315,MassDataLink!$B$4:$B$1315)","v":{"$error":"#N/A"}},{"$f":"LOOKUP(C235,MassDataLink!$A$4:$A$1315,MassDataLink!$C$4:$C$1315)","v":{"$error":"#N/A"}},{"$f":"LOOKUP(C235,MassDataLink!$A$4:$A$1315,MassDataLink!$D$4:$D$1315)","v":{"$error":"#N/A"}},{"$f":"LOOKUP(C235,MassDataLink!$A$4:$A$1315,MassDataLink!$E$4:$E$1315)","v":{"$error":"#N/A"}},{"$f":"LOOKUP(C235,MassDataLink!$A$4:$A$1315,MassDataLink!$F$4:$F$1315)","v":{"$error":"#N/A"}},null,122,"- - -","- - -"]
[null,123,-1,{"$f":"LOOKUP(C236,MassDataLink!$A$4:$A$1315,MassDataLink!$B$4:$B$1315)","v":{"$error":"#N/A"}},{"$f":"LOOKUP(C236,MassDataLink!$A$4:$A$1315,MassDataLink!$C$4:$C$1315)","v":{"$error":"#N/A"}},{"$f":"LOOKUP(C236,MassDataLink!$A$4:$A$1315,MassDataLink!$D$4:$D$1315)","v":{"$error":"#N/A"}},{"$f":"LOOKUP(C236,MassDataLink!$A$4:$A$1315,MassDataLink!$E$4:$E$1315)","v":{"$error":"#N/A"}},{"$f":"LOOKUP(C236,MassDataLink!$A$4:$A$1315,MassDataLink!$F$4:$F$1315)","v":{"$error":"#N/A"}},null,123,"- - -","- - -"]
[null,124,-1,{"$f":"LOOKUP(C237,MassDataLink!$A$4:$A$1315,MassDataLink!$B$4:$B$1315)","v":{"$error":"#N/A"}},{"$f":"LOOKUP(C237,MassDataLink!$A$4:$A$1315,MassDataLink!$C$4:$C$1315)","v":{"$error":"#N/A"}},{"$f":"LOOKUP(C237,MassDataLink!$A$4:$A$1315,MassDataLink!$D$4:$D$1315)","v":{"$error":"#N/A"}},{"$f":"LOOKUP(C237,MassDataLink!$A$4:$A$1315,MassDataLink!$E$4:$E$1315)","v":{"$error":"#N/A"}},{"$f":"LOOKUP(C237,MassDataLink!$A$4:$A$1315,MassDataLink!$F$4:$F$1315)","v":{"$error":"#N/A"}},null,124,"- - -","- - -"]
[null,125,-1,{"$f":"LOOKUP(C238,MassDataLink!$A$4:$A$1315,MassDataLink!$B$4:$B$1315)","v":{"$error":"#N/A"}},{"$f":"LOOKUP(C238,MassDataLink!$A$4:$A$1315,MassDataLink!$C$4:$C$1315)","v":{"$error":"#N/A"}},{"$f":"LOOKUP(C238,MassDataLink!$A$4:$A$1315,MassDataLink!$D$4:$D$1315)","v":{"$error":"#N/A"}},{"$f":"LOOKUP(C238,MassDataLink!$A$4:$A$1315,MassDataLink!$E$4:$E$1315)","v":{"$error":"#N/A"}},{"$f":"LOOKUP(C238,MassDataLink!$A$4:$A$1315,MassDataLink!$F$4:$F$1315)","v":{"$error":"#N/A"}},null,125,"- - -","- - -"]
[null,126,-1,{"$f":"LOOKUP(C239,MassDataLink!$A$4:$A$1315,MassDataLink!$B$4:$B$1315)","v":{"$error":"#N/A"}},{"$f":"LOOKUP(C239,MassDataLink!$A$4:$A$1315,MassDataLink!$C$4:$C$1315)","v":{"$error":"#N/A"}},{"$f":"LOOKUP(C239,MassDataLink!$A$4:$A$1315,MassDataLink!$D$4:$D$1315)","v":{"$error":"#N/A"}},{"$f":"LOOKUP(C239,MassDataLink!$A$4:$A$1315,MassDataLink!$E$4:$E$1315)","v":{"$error":"#N/A"}},{"$f":"LOOKUP(C239,MassDataLink!$A$4:$A$1315,MassDataLink!$F$4:$F$1315)","v":{"$error":"#N/A"}},null,126,"- - -","- - -"]
[null,127,-1,{"$f":"LOOKUP(C240,MassDataLink!$A$4:$A$1315,MassDataLink!$B$4:$B$1315)","v":{"$error":"#N/A"}},{"$f":"LOOKUP(C240,MassDataLink!$A$4:$A$1315,MassDataLink!$C$4:$C$1315)","v":{"$error":"#N/A"}},{"$f":"LOOKUP(C240,MassDataLink!$A$4:$A$1315,MassDataLink!$D$4:$D$1315)","v":{"$error":"#N/A"}},{"$f":"LOOKUP(C240,MassDataLink!$A$4:$A$1315,MassDataLink!$E$4:$E$1315)","v":{"$error":"#N/A"}},{"$f":"LOOKUP(C240,MassDataLink!$A$4:$A$1315,MassDataLink!$F$4:$F$1315)","v":{"$error":"#N/A"}},null,127,"- - -","- - -"]
[null,128,-1,{"$f":"LOOKUP(C241,MassDataLink!$A$4:$A$1315,MassDataLink!$B$4:$B$1315)","v":{"$error":"#N/A"}},{"$f":"LOOKUP(C241,MassDataLink!$A$4:$A$1315,MassDataLink!$C$4:$C$1315)","v":{"$error":"#N/A"}},{"$f":"LOOKUP(C241,MassDataLink!$A$4:$A$1315,MassDataLink!$D$4:$D$1315)","v":{"$error":"#N/A"}},{"$f":"LOOKUP(C241,MassDataLink!$A$4:$A$1315,MassDataLink!$E$4:$E$1315)","v":{"$error":"#N/A"}},{"$f":"LOOKUP(C241,MassDataLink!$A$4:$A$1315,MassDataLink!$F$4:$F$1315)","v":{"$error":"#N/A"}},null,128,"- - -","- - -"]
[null,129,-1,{"$f":"LOOKUP(C242,MassDataLink!$A$4:$A$1315,MassDataLink!$B$4:$B$1315)","v":{"$error":"#N/A"}},{"$f":"LOOKUP(C242,MassDataLink!$A$4:$A$1315,MassDataLink!$C$4:$C$1315)","v":{"$error":"#N/A"}},{"$f":"LOOKUP(C242,MassDataLink!$A$4:$A$1315,MassDataLink!$D$4:$D$1315)","v":{"$error":"#N/A"}},{"$f":"LOOKUP(C242,MassDataLink!$A$4:$A$1315,MassDataLink!$E$4:$E$1315)","v":{"$error":"#N/A"}},{"$f":"LOOKUP(C242,MassDataLink!$A$4:$A$1315,MassDataLink!$F$4:$F$1315)","v":{"$error":"#N/A"}},null,129,"- - -","- - -"]
[null,130,-1,{"$f":"LOOKUP(C243,MassDataLink!$A$4:$A$1315,MassDataLink!$B$4:$B$1315)","v":{"$error":"#N/A"}},{"$f":"LOOKUP(C243,MassDataLink!$A$4:$A$1315,MassDataLink!$C$4:$C$1315)","v":{"$error":"#N/A"}},{"$f":"LOOKUP(C243,MassDataLink!$A$4:$A$1315,MassDataLink!$D$4:$D$1315)","v":{"$error":"#N/A"}},{"$f":"LOOKUP(C243,MassDataLink!$A$4:$A$1315,MassDataLink!$E$4:$E$1315)","v":{"$error":"#N/A"}},{"$f":"LOOKUP(C243,MassDataLink!$A$4:$A$1315,MassDataLink!$F$4:$F$1315)","v":{"$error":"#N/A"}},null,130,"- - -","- - -"]
[null,131,-1,{"$f":"LOOKUP(C244,MassDataLink!$A$4:$A$1315,MassDataLink!$B$4:$B$1315)","v":{"$error":"#N/A"}},{"$f":"LOOKUP(C244,MassDataLink!$A$4:$A$1315,MassDataLink!$C$4:$C$1315)","v":{"$error":"#N/A"}},{"$f":"LOOKUP(C244,MassDataLink!$A$4:$A$1315,MassDataLink!$D$4:$D$1315)","v":{"$error":"#N/A"}},{"$f":"LOOKUP(C244,MassDataLink!$A$4:$A$1315,MassDataLink!$E$4:$E$1315)","v":{"$error":"#N/A"}},{"$f":"LOOKUP(C244,MassDataLink!$A$4:$A$1315,MassDataLink!$F$4:$F$1315)","v":{"$error":"#N/A"}},null,131,"- - -","- - -"]
[null,132,-1,{"$f":"LOOKUP(C245,MassDataLink!$A$4:$A$1315,MassDataLink!$B$4:$B$1315)","v":{"$error":"#N/A"}},{"$f":"LOOKUP(C245,MassDataLink!$A$4:$A$1315,MassDataLink!$C$4:$C$1315)","v":{"$error":"#N/A"}},{"$f":"LOOKUP(C245,MassDataLink!$A$4:$A$1315,MassDataLink!$D$4:$D$1315)","v":{"$error":"#N/A"}},{"$f":"LOOKUP(C245,MassDataLink!$A$4:$A$1315,MassDataLink!$E$4:$E$1315)","v":{"$error":"#N/A"}},{"$f":"LOOKUP(C245,MassDataLink!$A$4:$A$1315,MassDataLink!$F$4:$F$1315)","v":{"$error":"#N/A"}},null,132,"- - -","- - -"]
[null,133,-1,{"$f":"LOOKUP(C246,MassDataLink!$A$4:$A$1315,MassDataLink!$B$4:$B$1315)","v":{"$error":"#N/A"}},{"$f":"LOOKUP(C246,MassDataLink!$A$4:$A$1315,MassDataLink!$C$4:$C$1315)","v":{"$error":"#N/A"}},{"$f":"LOOKUP(C246,MassDataLink!$A$4:$A$1315,MassDataLink!$D$4:$D$1315)","v":{"$error":"#N/A"}},{"$f":"LOOKUP(C246,MassDataLink!$A$4:$A$1315,MassDataLink!$E$4:$E$1315)","v":{"$error":"#N/A"}},{"$f":"LOOKUP(C246,MassDataLink!$A$4:$A$1315,MassDataLink!$F$4:$F$1315)","v":{"$error":"#N/A"}},null,133,"- - -","- - -"]
[null,134,-1,{"$f":"LOOKUP(C247,MassDataLink!$A$4:$A$1315,MassDataLink!$B$4:$B$1315)","v":{"$error":"#N/A"}},{"$f":"LOOKUP(C247,MassDataLink!$A$4:$A$1315,MassDataLink!$C$4:$C$1315)","v":{"$error":"#N/A"}},{"$f":"LOOKUP(C247,MassDataLink!$A$4:$A$1315,MassDataLink!$D$4:$D$1315)","v":{"$error":"#N/A"}},{"$f":"LOOKUP(C247,MassDataLink!$A$4:$A$1315,MassDataLink!$E$4:$E$1315)","v":{"$error":"#N/A"}},{"$f":"LOOKUP(C247,MassDataLink!$A$4:$A$1315,MassDataLink!$F$4:$F$1315)","v":{"$error":"#N/A"}},null,134,"- - -","- - -"]
[null,135,-1,{"$f":"LOOKUP(C248,MassDataLink!$A$4:$A$1315,MassDataLink!$B$4:$B$1315)","v":{"$error":"#N/A"}},{"$f":"LOOKUP(C248,MassDataLink!$A$4:$A$1315,MassDataLink!$C$4:$C$1315)","v":{"$error":"#N/A"}},{"$f":"LOOKUP(C248,MassDataLink!$A$4:$A$1315,MassDataLink!$D$4:$D$1315)","v":{"$error":"#N/A"}},{"$f":"LOOKUP(C248,MassDataLink!$A$4:$A$1315,MassDataLink!$E$4:$E$1315)","v":{"$error":"#N/A"}},{"$f":"LOOKUP(C248,MassDataLink!$A$4:$A$1315,MassDataLink!$F$4:$F$1315)","v":{"$error":"#N/A"}},null,135,"- - -","- - -"]
[null,136,-1,{"$f":"LOOKUP(C249,MassDataLink!$A$4:$A$1315,MassDataLink!$B$4:$B$1315)","v":{"$error":"#N/A"}},{"$f":"LOOKUP(C249,MassDataLink!$A$4:$A$1315,MassDataLink!$C$4:$C$1315)","v":{"$error":"#N/A"}},{"$f":"LOOKUP(C249,MassDataLink!$A$4:$A$1315,MassDataLink!$D$4:$D$1315)","v":{"$error":"#N/A"}},{"$f":"LOOKUP(C249,MassDataLink!$A$4:$A$1315,MassDataLink!$E$4:$E$1315)","v":{"$error":"#N/A"}},{"$f":"LOOKUP(C249,MassDataLink!$A$4:$A$1315,MassDataLink!$F$4:$F$1315)","v":{"$error":"#N/A"}},null,136,"- - -","- - -"]
[null,137,-1,{"$f":"LOOKUP(C250,MassDataLink!$A$4:$A$1315,MassDataLink!$B$4:$B$1315)","v":{"$error":"#N/A"}},{"$f":"LOOKUP(C250,MassDataLink!$A$4:$A$1315,MassDataLink!$C$4:$C$1315)","v":{"$error":"#N/A"}},{"$f":"LOOKUP(C250,MassDataLink!$A$4:$A$1315,MassDataLink!$D$4:$D$1315)","v":{"$error":"#N/A"}},{"$f":"LOOKUP(C250,MassDataLink!$A$4:$A$1315,MassDataLink!$E$4:$E$1315)","v":{"$error":"#N/A"}},{"$f":"LOOKUP(C250,MassDataLink!$A$4:$A$1315,MassDataLink!$F$4:$F$1315)","v":{"$error":"#N/A"}},null,137,"- - -","- - -"]
[null,138,-1,{"$f":"LOOKUP(C251,MassDataLink!$A$4:$A$1315,MassDataLink!$B$4:$B$1315)","v":{"$error":"#N/A"}},{"$f":"LOOKUP(C251,MassDataLink!$A$4:$A$1315,MassDataLink!$C$4:$C$1315)","v":{"$error":"#N/A"}},{"$f":"LOOKUP(C251,MassDataLink!$A$4:$A$1315,MassDataLink!$D$4:$D$1315)","v":{"$error":"#N/A"}},{"$f":"LOOKUP(C251,MassDataLink!$A$4:$A$1315,MassDataLink!$E$4:$E$1315)","v":{"$error":"#N/A"}},{"$f":"LOOKUP(C251,MassDataLink!$A$4:$A$1315,MassDataLink!$F$4:$F$1315)","v":{"$error":"#N/A"}},null,138,"- - -","- - -"]
[null,139,-1,{"$f":"LOOKUP(C252,MassDataLink!$A$4:$A$1315,MassDataLink!$B$4:$B$1315)","v":{"$error":"#N/A"}},{"$f":"LOOKUP(C252,MassDataLink!$A$4:$A$1315,MassDataLink!$C$4:$C$1315)","v":{"$error":"#N/A"}},{"$f":"LOOKUP(C252,MassDataLink!$A$4:$A$1315,MassDataLink!$D$4:$D$1315)","v":{"$error":"#N/A"}},{"$f":"LOOKUP(C252,MassDataLink!$A$4:$A$1315,MassDataLink!$E$4:$E$1315)","v":{"$error":"#N/A"}},{"$f":"LOOKUP(C252,MassDataLink!$A$4:$A$1315,MassDataLink!$F$4:$F$1315)","v":{"$error":"#N/A"}},null,139,"- - -","- - -"]
[null,140,-1,{"$f":"LOOKUP(C253,MassDataLink!$A$4:$A$1315,MassDataLink!$B$4:$B$1315)","v":{"$error":"#N/A"}},{"$f":"LOOKUP(C253,MassDataLink!$A$4:$A$1315,MassDataLink!$C$4:$C$1315)","v":{"$error":"#N/A"}},{"$f":"LOOKUP(C253,MassDataLink!$A$4:$A$1315,MassDataLink!$D$4:$D$1315)","v":{"$error":"#N/A"}},{"$f":"LOOKUP(C253,MassDataLink!$A$4:$A$1315,MassDataLink!$E$4:$E$1315)","v":{"$error":"#N/A"}},{"$f":"LOOKUP(C253,MassDataLink!$A$4:$A$1315,MassDataLink!$F$4:$F$1315)","v":{"$error":"#N/A"}},null,140,"- - -","- - -"]
[null,141,-1,{"$f":"LOOKUP(C254,MassDataLink!$A$4:$A$1315,MassDataLink!$B$4:$B$1315)","v":{"$error":"#N/A"}},{"$f":"LOOKUP(C254,MassDataLink!$A$4:$A$1315,MassDataLink!$C$4:$C$1315)","v":{"$error":"#N/A"}},{"$f":"LOOKUP(C254,MassDataLink!$A$4:$A$1315,MassDataLink!$D$4:$D$1315)","v":{"$error":"#N/A"}},{"$f":"LOOKUP(C254,MassDataLink!$A$4:$A$1315,MassDataLink!$E$4:$E$1315)","v":{"$error":"#N/A"}},{"$f":"LOOKUP(C254,MassDataLink!$A$4:$A$1315,MassDataLink!$F$4:$F$1315)","v":{"$error":"#N/A"}},null,141,"- - -","- - -"]
[null,142,-1,{"$f":"LOOKUP(C255,MassDataLink!$A$4:$A$1315,MassDataLink!$B$4:$B$1315)","v":{"$error":"#N/A"}},{"$f":"LOOKUP(C255,MassDataLink!$A$4:$A$1315,MassDataLink!$C$4:$C$1315)","v":{"$error":"#N/A"}},{"$f":"LOOKUP(C255,MassDataLink!$A$4:$A$1315,MassDataLink!$D$4:$D$1315)","v":{"$error":"#N/A"}},{"$f":"LOOKUP(C255,MassDataLink!$A$4:$A$1315,MassDataLink!$E$4:$E$1315)","v":{"$error":"#N/A"}},{"$f":"LOOKUP(C255,MassDataLink!$A$4:$A$1315,MassDataLink!$F$4:$F$1315)","v":{"$error":"#N/A"}},null,142,"- - -","- - -"]
[null,143,-1,{"$f":"LOOKUP(C256,MassDataLink!$A$4:$A$1315,MassDataLink!$B$4:$B$1315)","v":{"$error":"#N/A"}},{"$f":"LOOKUP(C256,MassDataLink!$A$4:$A$1315,MassDataLink!$C$4:$C$1315)","v":{"$error":"#N/A"}},{"$f":"LOOKUP(C256,MassDataLink!$A$4:$A$1315,MassDataLink!$D$4:$D$1315)","v":{"$error":"#N/A"}},{"$f":"LOOKUP(C256,MassDataLink!$A$4:$A$1315,MassDataLink!$E$4:$E$1315)","v":{"$error":"#N/A"}},{"$f":"LOOKUP(C256,MassDataLink!$A$4:$A$1315,MassDataLink!$F$4:$F$1315)","v":{"$error":"#N/A"}},null,143,"- - -","- - -"]
[null,144,-1,{"$f":"LOOKUP(C257,MassDataLink!$A$4:$A$1315,MassDataLink!$B$4:$B$1315)","v":{"$error":"#N/A"}},{"$f":"LOOKUP(C257,MassDataLink!$A$4:$A$1315,MassDataLink!$C$4:$C$1315)","v":{"$error":"#N/A"}},{"$f":"LOOKUP(C257,MassDataLink!$A$4:$A$1315,MassDataLink!$D$4:$D$1315)","v":{"$error":"#N/A"}},{"$f":"LOOKUP(C257,MassDataLink!$A$4:$A$1315,MassDataLink!$E$4:$E$1315)","v":{"$error":"#N/A"}},{"$f":"LOOKUP(C257,MassDataLink!$A$4:$A$1315,MassDataLink!$F$4:$F$1315)","v":{"$error":"#N/A"}},null,144,"- - -","- - -"]
[null,145,-1,{"$f":"LOOKUP(C258,MassDataLink!$A$4:$A$1315,MassDataLink!$B$4:$B$1315)","v":{"$error":"#N/A"}},{"$f":"LOOKUP(C258,MassDataLink!$A$4:$A$1315,MassDataLink!$C$4:$C$1315)","v":{"$error":"#N/A"}},{"$f":"LOOKUP(C258,MassDataLink!$A$4:$A$1315,MassDataLink!$D$4:$D$1315)","v":{"$error":"#N/A"}},{"$f":"LOOKUP(C258,MassDataLink!$A$4:$A$1315,MassDataLink!$E$4:$E$1315)","v":{"$error":"#N/A"}},{"$f":"LOOKUP(C258,MassDataLink!$A$4:$A$1315,MassDataLink!$F$4:$F$1315)","v":{"$error":"#N/A"}},null,145,"- - -","- - -"]
[null,146,-1,{"$f":"LOOKUP(C259,MassDataLink!$A$4:$A$1315,MassDataLink!$B$4:$B$1315)","v":{"$error":"#N/A"}},{"$f":"LOOKUP(C259,MassDataLink!$A$4:$A$1315,MassDataLink!$C$4:$C$1315)","v":{"$error":"#N/A"}},{"$f":"LOOKUP(C259,MassDataLink!$A$4:$A$1315,MassDataLink!$D$4:$D$1315)","v":{"$error":"#N/A"}},{"$f":"LOOKUP(C259,MassDataLink!$A$4:$A$1315,MassDataLink!$E$4:$E$1315)","v":{"$error":"#N/A"}},{"$f":"LOOKUP(C259,MassDataLink!$A$4:$A$1315,MassDataLink!$F$4:$F$1315)","v":{"$error":"#N/A"}},null,146,"- - -","- - -"]
[null,147,-1,{"$f":"LOOKUP(C260,MassDataLink!$A$4:$A$1315,MassDataLink!$B$4:$B$1315)","v":{"$error":"#N/A"}},{"$f":"LOOKUP(C260,MassDataLink!$A$4:$A$1315,MassDataLink!$C$4:$C$1315)","v":{"$error":"#N/A"}},{"$f":"LOOKUP(C260,MassDataLink!$A$4:$A$1315,MassDataLink!$D$4:$D$1315)","v":{"$error":"#N/A"}},{"$f":"LOOKUP(C260,MassDataLink!$A$4:$A$1315,MassDataLink!$E$4:$E$1315)","v":{"$error":"#N/A"}},{"$f":"LOOKUP(C260,MassDataLink!$A$4:$A$1315,MassDataLink!$F$4:$F$1315)","v":{"$error":"#N/A"}},null,147,"- - -","- - -"]
[null,148,-1,{"$f":"LOOKUP(C261,MassDataLink!$A$4:$A$1315,MassDataLink!$B$4:$B$1315)","v":{"$error":"#N/A"}},{"$f":"LOOKUP(C261,MassDataLink!$A$4:$A$1315,MassDataLink!$C$4:$C$1315)","v":{"$error":"#N/A"}},{"$f":"LOOKUP(C261,MassDataLink!$A$4:$A$1315,MassDataLink!$D$4:$D$1315)","v":{"$error":"#N/A"}},{"$f":"LOOKUP(C261,MassDataLink!$A$4:$A$1315,MassDataLink!$E$4:$E$1315)","v":{"$error":"#N/A"}},{"$f":"LOOKUP(C261,MassDataLink!$A$4:$A$1315,MassDataLink!$F$4:$F$1315)","v":{"$error":"#N/A"}},null,148,"- - -","- - -"]
[null,149,-1,{"$f":"LOOKUP(C262,MassDataLink!$A$4:$A$1315,MassDataLink!$B$4:$B$1315)","v":{"$error":"#N/A"}},{"$f":"LOOKUP(C262,MassDataLink!$A$4:$A$1315,MassDataLink!$C$4:$C$1315)","v":{"$error":"#N/A"}},{"$f":"LOOKUP(C262,MassDataLink!$A$4:$A$1315,MassDataLink!$D$4:$D$1315)","v":{"$error":"#N/A"}},{"$f":"LOOKUP(C262,MassDataLink!$A$4:$A$1315,MassDataLink!$E$4:$E$1315)","v":{"$error":"#N/A"}},{"$f":"LOOKUP(C262,MassDataLink!$A$4:$A$1315,MassDataLink!$F$4:$F$1315)","v":{"$error":"#N/A"}},null,149,"- - -","- - -"]
[null,150,-1,{"$f":"LOOKUP(C263,MassDataLink!$A$4:$A$1315,MassDataLink!$B$4:$B$1315)","v":{"$error":"#N/A"}},{"$f":"LOOKUP(C263,MassDataLink!$A$4:$A$1315,MassDataLink!$C$4:$C$1315)","v":{"$error":"#N/A"}},{"$f":"LOOKUP(C263,MassDataLink!$A$4:$A$1315,MassDataLink!$D$4:$D$1315)","v":{"$error":"#N/A"}},{"$f":"LOOKUP(C263,MassDataLink!$A$4:$A$1315,MassDataLink!$E$4:$E$1315)","v":{"$error":"#N/A"}},{"$f":"LOOKUP(C263,MassDataLink!$A$4:$A$1315,MassDataLink!$F$4:$F$1315)","v":{"$error":"#N/A"}},null,150,"- - -","- - -"]
[null,151,-1,{"$f":"LOOKUP(C264,MassDataLink!$A$4:$A$1315,MassDataLink!$B$4:$B$1315)","v":{"$error":"#N/A"}},{"$f":"LOOKUP(C264,MassDataLink!$A$4:$A$1315,MassDataLink!$C$4:$C$1315)","v":{"$error":"#N/A"}},{"$f":"LOOKUP(C264,MassDataLink!$A$4:$A$1315,MassDataLink!$D$4:$D$1315)","v":{"$error":"#N/A"}},{"$f":"LOOKUP(C264,MassDataLink!$A$4:$A$1315,MassDataLink!$E$4:$E$1315)","v":{"$error":"#N/A"}},{"$f":"LOOKUP(C264,MassDataLink!$A$4:$A$1315,MassDataLink!$F$4:$F$1315)","v":{"$error":"#N/A"}},null,151,"- - -","- - -"]
[null,152,-1,{"$f":"LOOKUP(C265,MassDataLink!$A$4:$A$1315,MassDataLink!$B$4:$B$1315)","v":{"$error":"#N/A"}},{"$f":"LOOKUP(C265,MassDataLink!$A$4:$A$1315,MassDataLink!$C$4:$C$1315)","v":{"$error":"#N/A"}},{"$f":"LOOKUP(C265,MassDataLink!$A$4:$A$1315,MassDataLink!$D$4:$D$1315)","v":{"$error":"#N/A"}},{"$f":"LOOKUP(C265,MassDataLink!$A$4:$A$1315,MassDataLink!$E$4:$E$1315)","v":{"$error":"#N/A"}},{"$f":"LOOKUP(C265,MassDataLink!$A$4:$A$1315,MassDataLink!$F$4:$F$1315)","v":{"$error":"#N/A"}},null,152,"- - -","- - -"]
[null,153,-1,{"$f":"LOOKUP(C266,MassDataLink!$A$4:$A$1315,MassDataLink!$B$4:$B$1315)","v":{"$error":"#N/A"}},{"$f":"LOOKUP(C266,MassDataLink!$A$4:$A$1315,MassDataLink!$C$4:$C$1315)","v":{"$error":"#N/A"}},{"$f":"LOOKUP(C266,MassDataLink!$A$4:$A$1315,MassDataLink!$D$4:$D$1315)","v":{"$error":"#N/A"}},{"$f":"LOOKUP(C266,MassDataLink!$A$4:$A$1315,MassDataLink!$E$4:$E$1315)","v":{"$error":"#N/A"}},{"$f":"LOOKUP(C266,MassDataLink!$A$4:$A$1315,MassDataLink!$F$4:$F$1315)","v":{"$error":"#N/A"}},null,153,"- - -","- - -"]
[null,154,-1,{"$f":"LOOKUP(C267,MassDataLink!$A$4:$A$1315,MassDataLink!$B$4:$B$1315)","v":{"$error":"#N/A"}},{"$f":"LOOKUP(C267,MassDataLink!$A$4:$A$1315,MassDataLink!$C$4:$C$1315)","v":{"$error":"#N/A"}},{"$f":"LOOKUP(C267,MassDataLink!$A$4:$A$1315,MassDataLink!$D$4:$D$1315)","v":{"$error":"#N/A"}},{"$f":"LOOKUP(C267,MassDataLink!$A$4:$A$1315,MassDataLink!$E$4:$E$1315)","v":{"$error":"#N/A"}},{"$f":"LOOKUP(C267,MassDataLink!$A$4:$A$1315,MassDataLink!$F$4:$F$1315)","v":{"$error":"#N/A"}},null,154,"- - -","- - -"]
[null,155,-1,{"$f":"LOOKUP(C268,MassDataLink!$A$4:$A$1315,MassDataLink!$B$4:$B$1315)","v":{"$error":"#N/A"}},{"$f":"LOOKUP(C268,MassDataLink!$A$4:$A$1315,MassDataLink!$C$4:$C$1315)","v":{"$error":"#N/A"}},{"$f":"LOOKUP(C268,MassDataLink!$A$4:$A$1315,MassDataLink!$D$4:$D$1315)","v":{"$error":"#N/A"}},{"$f":"LOOKUP(C268,MassDataLink!$A$4:$A$1315,MassDataLink!$E$4:$E$1315)","v":{"$error":"#N/A"}},{"$f":"LOOKUP(C268,MassDataLink!$A$4:$A$1315,MassDataLink!$F$4:$F$1315)","v":{"$error":"#N/A"}},null,155,"- - -","- - -"]
[null,156,-1,{"$f":"LOOKUP(C269,MassDataLink!$A$4:$A$1315,MassDataLink!$B$4:$B$1315)","v":{"$error":"#N/A"}},{"$f":"LOOKUP(C269,MassDataLink!$A$4:$A$1315,MassDataLink!$C$4:$C$1315)","v":{"$error":"#N/A"}},{"$f":"LOOKUP(C269,MassDataLink!$A$4:$A$1315,MassDataLink!$D$4:$D$1315)","v":{"$error":"#N/A"}},{"$f":"LOOKUP(C269,MassDataLink!$A$4:$A$1315,MassDataLink!$E$4:$E$1315)","v":{"$error":"#N/A"}},{"$f":"LOOKUP(C269,MassDataLink!$A$4:$A$1315,MassDataLink!$F$4:$F$1315)","v":{"$error":"#N/A"}},null,156,"- - -","- - -"]
[null,157,-1,{"$f":"LOOKUP(C270,MassDataLink!$A$4:$A$1315,MassDataLink!$B$4:$B$1315)","v":{"$error":"#N/A"}},{"$f":"LOOKUP(C270,MassDataLink!$A$4:$A$1315,MassDataLink!$C$4:$C$1315)","v":{"$error":"#N/A"}},{"$f":"LOOKUP(C270,MassDataLink!$A$4:$A$1315,MassDataLink!$D$4:$D$1315)","v":{"$error":"#N/A"}},{"$f":"LOOKUP(C270,MassDataLink!$A$4:$A$1315,MassDataLink!$E$4:$E$1315)","v":{"$error":"#N/A"}},{"$f":"LOOKUP(C270,MassDataLink!$A$4:$A$1315,MassDataLink!$F$4:$F$1315)","v":{"$error":"#N/A"}},null,157,"- - -","- - -"]
[null,158,-1,{"$f":"LOOKUP(C271,MassDataLink!$A$4:$A$1315,MassDataLink!$B$4:$B$1315)","v":{"$error":"#N/A"}},{"$f":"LOOKUP(C271,MassDataLink!$A$4:$A$1315,MassDataLink!$C$4:$C$1315)","v":{"$error":"#N/A"}},{"$f":"LOOKUP(C271,MassDataLink!$A$4:$A$1315,MassDataLink!$D$4:$D$1315)","v":{"$error":"#N/A"}},{"$f":"LOOKUP(C271,MassDataLink!$A$4:$A$1315,MassDataLink!$E$4:$E$1315)","v":{"$error":"#N/A"}},{"$f":"LOOKUP(C271,MassDataLink!$A$4:$A$1315,MassDataLink!$F$4:$F$1315)","v":{"$error":"#N/A"}},null,158,"- - -","- - -"]
[null,159,-1,{"$f":"LOOKUP(C272,MassDataLink!$A$4:$A$1315,MassDataLink!$B$4:$B$1315)","v":{"$error":"#N/A"}},{"$f":"LOOKUP(C272,MassDataLink!$A$4:$A$1315,MassDataLink!$C$4:$C$1315)","v":{"$error":"#N/A"}},{"$f":"LOOKUP(C272,MassDataLink!$A$4:$A$1315,MassDataLink!$D$4:$D$1315)","v":{"$error":"#N/A"}},{"$f":"LOOKUP(C272,MassDataLink!$A$4:$A$1315,MassDataLink!$E$4:$E$1315)","v":{"$error":"#N/A"}},{"$f":"LOOKUP(C272,MassDataLink!$A$4:$A$1315,MassDataLink!$F$4:$F$1315)","v":{"$error":"#N/A"}},null,159,"- - -","- - -"]
[null,160,-1,{"$f":"LOOKUP(C273,MassDataLink!$A$4:$A$1315,MassDataLink!$B$4:$B$1315)","v":{"$error":"#N/A"}},{"$f":"LOOKUP(C273,MassDataLink!$A$4:$A$1315,MassDataLink!$C$4:$C$1315)","v":{"$error":"#N/A"}},{"$f":"LOOKUP(C273,MassDataLink!$A$4:$A$1315,MassDataLink!$D$4:$D$1315)","v":{"$error":"#N/A"}},{"$f":"LOOKUP(C273,MassDataLink!$A$4:$A$1315,MassDataLink!$E$4:$E$1315)","v":{"$error":"#N/A"}},{"$f":"LOOKUP(C273,MassDataLink!$A$4:$A$1315,MassDataLink!$F$4:$F$1315)","v":{"$error":"#N/A"}},null,160,"- - -","- - -"]
[null,161,-1,{"$f":"LOOKUP(C274,MassDataLink!$A$4:$A$1315,MassDataLink!$B$4:$B$1315)","v":{"$error":"#N/A"}},{"$f":"LOOKUP(C274,MassDataLink!$A$4:$A$1315,MassDataLink!$C$4:$C$1315)","v":{"$error":"#N/A"}},{"$f":"LOOKUP(C274,MassDataLink!$A$4:$A$1315,MassDataLink!$D$4:$D$1315)","v":{"$error":"#N/A"}},{"$f":"LOOKUP(C274,MassDataLink!$A$4:$A$1315,MassDataLink!$E$4:$E$1315)","v":{"$error":"#N/A"}},{"$f":"LOOKUP(C274,MassDataLink!$A$4:$A$1315,MassDataLink!$F$4:$F$1315)","v":{"$error":"#N/A"}},null,161,"- - -","- - -"]
[null,162,-1,{"$f":"LOOKUP(C275,MassDataLink!$A$4:$A$1315,MassDataLink!$B$4:$B$1315)","v":{"$error":"#N/A"}},{"$f":"LOOKUP(C275,MassDataLink!$A$4:$A$1315,MassDataLink!$C$4:$C$1315)","v":{"$error":"#N/A"}},{"$f":"LOOKUP(C275,MassDataLink!$A$4:$A$1315,MassDataLink!$D$4:$D$1315)","v":{"$error":"#N/A"}},{"$f":"LOOKUP(C275,MassDataLink!$A$4:$A$1315,MassDataLink!$E$4:$E$1315)","v":{"$error":"#N/A"}},{"$f":"LOOKUP(C275,MassDataLink!$A$4:$A$1315,MassDataLink!$F$4:$F$1315)","v":{"$error":"#N/A"}},null,162,"- - -","- - -"]
[null,163,-1,{"$f":"LOOKUP(C276,MassDataLink!$A$4:$A$1315,MassDataLink!$B$4:$B$1315)","v":{"$error":"#N/A"}},{"$f":"LOOKUP(C276,MassDataLink!$A$4:$A$1315,MassDataLink!$C$4:$C$1315)","v":{"$error":"#N/A"}},{"$f":"LOOKUP(C276,MassDataLink!$A$4:$A$1315,MassDataLink!$D$4:$D$1315)","v":{"$error":"#N/A"}},{"$f":"LOOKUP(C276,MassDataLink!$A$4:$A$1315,MassDataLink!$E$4:$E$1315)","v":{"$error":"#N/A"}},{"$f":"LOOKUP(C276,MassDataLink!$A$4:$A$1315,MassDataLink!$F$4:$F$1315)","v":{"$error":"#N/A"}},null,163,"- - -","- - -"]
[null,164,-1,{"$f":"LOOKUP(C277,MassDataLink!$A$4:$A$1315,MassDataLink!$B$4:$B$1315)","v":{"$error":"#N/A"}},{"$f":"LOOKUP(C277,MassDataLink!$A$4:$A$1315,MassDataLink!$C$4:$C$1315)","v":{"$error":"#N/A"}},{"$f":"LOOKUP(C277,MassDataLink!$A$4:$A$1315,MassDataLink!$D$4:$D$1315)","v":{"$error":"#N/A"}},{"$f":"LOOKUP(C277,MassDataLink!$A$4:$A$1315,MassDataLink!$E$4:$E$1315)","v":{"$error":"#N/A"}},{"$f":"LOOKUP(C277,MassDataLink!$A$4:$A$1315,MassDataLink!$F$4:$F$1315)","v":{"$error":"#N/A"}},null,164,"- - -","- - -"]
[null,165,-1,{"$f":"LOOKUP(C278,MassDataLink!$A$4:$A$1315,MassDataLink!$B$4:$B$1315)","v":{"$error":"#N/A"}},{"$f":"LOOKUP(C278,MassDataLink!$A$4:$A$1315,MassDataLink!$C$4:$C$1315)","v":{"$error":"#N/A"}},{"$f":"LOOKUP(C278,MassDataLink!$A$4:$A$1315,MassDataLink!$D$4:$D$1315)","v":{"$error":"#N/A"}},{"$f":"LOOKUP(C278,MassDataLink!$A$4:$A$1315,MassDataLink!$E$4:$E$1315)","v":{"$error":"#N/A"}},{"$f":"LOOKUP(C278,MassDataLink!$A$4:$A$1315,MassDataLink!$F$4:$F$1315)","v":{"$error":"#N/A"}},null,165,"- - -","- - -"]
[null,166,-1,{"$f":"LOOKUP(C279,MassDataLink!$A$4:$A$1315,MassDataLink!$B$4:$B$1315)","v":{"$error":"#N/A"}},{"$f":"LOOKUP(C279,MassDataLink!$A$4:$A$1315,MassDataLink!$C$4:$C$1315)","v":{"$error":"#N/A"}},{"$f":"LOOKUP(C279,MassDataLink!$A$4:$A$1315,MassDataLink!$D$4:$D$1315)","v":{"$error":"#N/A"}},{"$f":"LOOKUP(C279,MassDataLink!$A$4:$A$1315,MassDataLink!$E$4:$E$1315)","v":{"$error":"#N/A"}},{"$f":"LOOKUP(C279,MassDataLink!$A$4:$A$1315,MassDataLink!$F$4:$F$1315)","v":{"$error":"#N/A"}},null,166,"- - -","- - -"]
[null,167,-1,{"$f":"LOOKUP(C280,MassDataLink!$A$4:$A$1315,MassDataLink!$B$4:$B$1315)","v":{"$error":"#N/A"}},{"$f":"LOOKUP(C280,MassDataLink!$A$4:$A$1315,MassDataLink!$C$4:$C$1315)","v":{"$error":"#N/A"}},{"$f":"LOOKUP(C280,MassDataLink!$A$4:$A$1315,MassDataLink!$D$4:$D$1315)","v":{"$error":"#N/A"}},{"$f":"LOOKUP(C280,MassDataLink!$A$4:$A$1315,MassDataLink!$E$4:$E$1315)","v":{"$error":"#N/A"}},{"$f":"LOOKUP(C280,MassDataLink!$A$4:$A$1315,MassDataLink!$F$4:$F$1315)","v":{"$error":"#N/A"}},null,167,"- - -","- - -"]
[null,168,-1,{"$f":"LOOKUP(C281,MassDataLink!$A$4:$A$1315,MassDataLink!$B$4:$B$1315)","v":{"$error":"#N/A"}},{"$f":"LOOKUP(C281,MassDataLink!$A$4:$A$1315,MassDataLink!$C$4:$C$1315)","v":{"$error":"#N/A"}},{"$f":"LOOKUP(C281,MassDataLink!$A$4:$A$1315,MassDataLink!$D$4:$D$1315)","v":{"$error":"#N/A"}},{"$f":"LOOKUP(C281,MassDataLink!$A$4:$A$1315,MassDataLink!$E$4:$E$1315)","v":{"$error":"#N/A"}},{"$f":"LOOKUP(C281,MassDataLink!$A$4:$A$1315,MassDataLink!$F$4:$F$1315)","v":{"$error":"#N/A"}},null,168,"- - -","- - -"]
[null,169,-1,{"$f":"LOOKUP(C282,MassDataLink!$A$4:$A$1315,MassDataLink!$B$4:$B$1315)","v":{"$error":"#N/A"}},{"$f":"LOOKUP(C282,MassDataLink!$A$4:$A$1315,MassDataLink!$C$4:$C$1315)","v":{"$error":"#N/A"}},{"$f":"LOOKUP(C282,MassDataLink!$A$4:$A$1315,MassDataLink!$D$4:$D$1315)","v":{"$error":"#N/A"}},{"$f":"LOOKUP(C282,MassDataLink!$A$4:$A$1315,MassDataLink!$E$4:$E$1315)","v":{"$error":"#N/A"}},{"$f":"LOOKUP(C282,MassDataLink!$A$4:$A$1315,MassDataLink!$F$4:$F$1315)","v":{"$error":"#N/A"}},null,169,"- - -","- - -"]
[null,170,-1,{"$f":"LOOKUP(C283,MassDataLink!$A$4:$A$1315,MassDataLink!$B$4:$B$1315)","v":{"$error":"#N/A"}},{"$f":"LOOKUP(C283,MassDataLink!$A$4:$A$1315,MassDataLink!$C$4:$C$1315)","v":{"$error":"#N/A"}},{"$f":"LOOKUP(C283,MassDataLink!$A$4:$A$1315,MassDataLink!$D$4:$D$1315)","v":{"$error":"#N/A"}},{"$f":"LOOKUP(C283,MassDataLink!$A$4:$A$1315,MassDataLink!$E$4:$E$1315)","v":{"$error":"#N/A"}},{"$f":"LOOKUP(C283,MassDataLink!$A$4:$A$1315,MassDataLink!$F$4:$F$1315)","v":{"$error":"#N/A"}},null,170,"- - -","- - -"]
[null,171,-1,{"$f":"LOOKUP(C284,MassDataLink!$A$4:$A$1315,MassDataLink!$B$4:$B$1315)","v":{"$error":"#N/A"}},{"$f":"LOOKUP(C284,MassDataLink!$A$4:$A$1315,MassDataLink!$C$4:$C$1315)","v":{"$error":"#N/A"}},{"$f":"LOOKUP(C284,MassDataLink!$A$4:$A$1315,MassDataLink!$D$4:$D$1315)","v":{"$error":"#N/A"}},{"$f":"LOOKUP(C284,MassDataLink!$A$4:$A$1315,MassDataLink!$E$4:$E$1315)","v":{"$error":"#N/A"}},{"$f":"LOOKUP(C284,MassDataLink!$A$4:$A$1315,MassDataLink!$F$4:$F$1315)","v":{"$error":"#N/A"}},null,171,"- - -","- - -"]
[null,172,-1,{"$f":"LOOKUP(C285,MassDataLink!$A$4:$A$1315,MassDataLink!$B$4:$B$1315)","v":{"$error":"#N/A"}},{"$f":"LOOKUP(C285,MassDataLink!$A$4:$A$1315,MassDataLink!$C$4:$C$1315)","v":{"$error":"#N/A"}},{"$f":"LOOKUP(C285,MassDataLink!$A$4:$A$1315,MassDataLink!$D$4:$D$1315)","v":{"$error":"#N/A"}},{"$f":"LOOKUP(C285,MassDataLink!$A$4:$A$1315,MassDataLink!$E$4:$E$1315)","v":{"$error":"#N/A"}},{"$f":"LOOKUP(C285,MassDataLink!$A$4:$A$1315,MassDataLink!$F$4:$F$1315)","v":{"$error":"#N/A"}},null,172,"- - -","- - -"]
[null,173,-1,{"$f":"LOOKUP(C286,MassDataLink!$A$4:$A$1315,MassDataLink!$B$4:$B$1315)","v":{"$error":"#N/A"}},{"$f":"LOOKUP(C286,MassDataLink!$A$4:$A$1315,MassDataLink!$C$4:$C$1315)","v":{"$error":"#N/A"}},{"$f":"LOOKUP(C286,MassDataLink!$A$4:$A$1315,MassDataLink!$D$4:$D$1315)","v":{"$error":"#N/A"}},{"$f":"LOOKUP(C286,MassDataLink!$A$4:$A$1315,MassDataLink!$E$4:$E$1315)","v":{"$error":"#N/A"}},{"$f":"LOOKUP(C286,MassDataLink!$A$4:$A$1315,MassDataLink!$F$4:$F$1315)","v":{"$error":"#N/A"}},null,173,"- - -","- - -"]
[null,174,-1,{"$f":"LOOKUP(C287,MassDataLink!$A$4:$A$1315,MassDataLink!$B$4:$B$1315)","v":{"$error":"#N/A"}},{"$f":"LOOKUP(C287,MassDataLink!$A$4:$A$1315,MassDataLink!$C$4:$C$1315)","v":{"$error":"#N/A"}},{"$f":"LOOKUP(C287,MassDataLink!$A$4:$A$1315,MassDataLink!$D$4:$D$1315)","v":{"$error":"#N/A"}},{"$f":"LOOKUP(C287,MassDataLink!$A$4:$A$1315,MassDataLink!$E$4:$E$1315)","v":{"$error":"#N/A"}},{"$f":"LOOKUP(C287,MassDataLink!$A$4:$A$1315,MassDataLink!$F$4:$F$1315)","v":{"$error":"#N/A"}},null,174,"- - -","- - -"]
[null,175,-1,{"$f":"LOOKUP(C288,MassDataLink!$A$4:$A$1315,MassDataLink!$B$4:$B$1315)","v":{"$error":"#N/A"}},{"$f":"LOOKUP(C288,MassDataLink!$A$4:$A$1315,MassDataLink!$C$4:$C$1315)","v":{"$error":"#N/A"}},{"$f":"LOOKUP(C288,MassDataLink!$A$4:$A$1315,MassDataLink!$D$4:$D$1315)","v":{"$error":"#N/A"}},{"$f":"LOOKUP(C288,MassDataLink!$A$4:$A$1315,MassDataLink!$E$4:$E$1315)","v":{"$error":"#N/A"}},{"$f":"LOOKUP(C288,MassDataLink!$A$4:$A$1315,MassDataLink!$F$4:$F$1315)","v":{"$error":"#N/A"}},null,175,"- - -","- - -"]
[null,176,-1,{"$f":"LOOKUP(C289,MassDataLink!$A$4:$A$1315,MassDataLink!$B$4:$B$1315)","v":{"$error":"#N/A"}},{"$f":"LOOKUP(C289,MassDataLink!$A$4:$A$1315,MassDataLink!$C$4:$C$1315)","v":{"$error":"#N/A"}},{"$f":"LOOKUP(C289,MassDataLink!$A$4:$A$1315,MassDataLink!$D$4:$D$1315)","v":{"$error":"#N/A"}},{"$f":"LOOKUP(C289,MassDataLink!$A$4:$A$1315,MassDataLink!$E$4:$E$1315)","v":{"$error":"#N/A"}},{"$f":"LOOKUP(C289,MassDataLink!$A$4:$A$1315,MassDataLink!$F$4:$F$1315)","v":{"$error":"#N/A"}},null,176,"- - -","- - -"]
[null,177,-1,{"$f":"LOOKUP(C290,MassDataLink!$A$4:$A$1315,MassDataLink!$B$4:$B$1315)","v":{"$error":"#N/A"}},{"$f":"LOOKUP(C290,MassDataLink!$A$4:$A$1315,MassDataLink!$C$4:$C$1315)","v":{"$error":"#N/A"}},{"$f":"LOOKUP(C290,MassDataLink!$A$4:$A$1315,MassDataLink!$D$4:$D$1315)","v":{"$error":"#N/A"}},{"$f":"LOOKUP(C290,MassDataLink!$A$4:$A$1315,MassDataLink!$E$4:$E$1315)","v":{"$error":"#N/A"}},{"$f":"LOOKUP(C290,MassDataLink!$A$4:$A$1315,MassDataLink!$F$4:$F$1315)","v":{"$error":"#N/A"}},null,177,"- - -","- - -"]
[null,178,-1,{"$f":"LOOKUP(C291,MassDataLink!$A$4:$A$1315,MassDataLink!$B$4:$B$1315)","v":{"$error":"#N/A"}},{"$f":"LOOKUP(C291,MassDataLink!$A$4:$A$1315,MassDataLink!$C$4:$C$1315)","v":{"$error":"#N/A"}},{"$f":"LOOKUP(C291,MassDataLink!$A$4:$A$1315,MassDataLink!$D$4:$D$1315)","v":{"$error":"#N/A"}},{"$f":"LOOKUP(C291,MassDataLink!$A$4:$A$1315,MassDataLink!$E$4:$E$1315)","v":{"$error":"#N/A"}},{"$f":"LOOKUP(C291,MassDataLink!$A$4:$A$1315,MassDataLink!$F$4:$F$1315)","v":{"$error":"#N/A"}},null,178,"- - -","- - -"]
[null,{"$f":"B291+1","v":179},{"$f":"IF(C291=-1,-1,H291)","v":-1},{"$f":"LOOKUP(C292,MassDataLink!$A$4:$A$1315,MassDataLink!$B$4:$B$1315)","v":{"$error":"#N/A"}},{"$f":"LOOKUP(C292,MassDataLink!$A$4:$A$1315,MassDataLink!$C$4:$C$1315)","v":{"$error":"#N/A"}},{"$f":"LOOKUP(C292,MassDataLink!$A$4:$A$1315,MassDataLink!$D$4:$D$1315)","v":{"$error":"#N/A"}},{"$f":"LOOKUP(C292,MassDataLink!$A$4:$A$1315,MassDataLink!$E$4:$E$1315)","v":{"$error":"#N/A"}},{"$f":"LOOKUP(C292,MassDataLink!$A$4:$A$1315,MassDataLink!$F$4:$F$1315)","v":{"$error":"#N/A"}},null,{"$f":"J291+1","v":179},{"$f":"IF(C292=-1,$L$112,IF($A$11=D292,ROUND((E292*$P$57),$R$57),$L$112))","v":"- - -"},{"$f":"IF(K292=$L$112,$L$112,F292)","v":"- - -"}]
[null,180,-1,{"$f":"LOOKUP(C293,MassDataLink!$A$4:$A$1315,MassDataLink!$B$4:$B$1315)","v":{"$error":"#N/A"}},{"$f":"LOOKUP(C293,MassDataLink!$A$4:$A$1315,MassDataLink!$C$4:$C$1315)","v":{"$error":"#N/A"}},{"$f":"LOOKUP(C293,MassDataLink!$A$4:$A$1315,MassDataLink!$D$4:$D$1315)","v":{"$error":"#N/A"}},{"$f":"LOOKUP(C293,MassDataLink!$A$4:$A$1315,MassDataLink!$E$4:$E$1315)","v":{"$error":"#N/A"}},{"$f":"LOOKUP(C293,MassDataLink!$A$4:$A$1315,MassDataLink!$F$4:$F$1315)","v":{"$error":"#N/A"}},null,180,"- - -","- - -"]
[null,181,-1,{"$f":"LOOKUP(C294,MassDataLink!$A$4:$A$1315,MassDataLink!$B$4:$B$1315)","v":{"$error":"#N/A"}},{"$f":"LOOKUP(C294,MassDataLink!$A$4:$A$1315,MassDataLink!$C$4:$C$1315)","v":{"$error":"#N/A"}},{"$f":"LOOKUP(C294,MassDataLink!$A$4:$A$1315,MassDataLink!$D$4:$D$1315)","v":{"$error":"#N/A"}},{"$f":"LOOKUP(C294,MassDataLink!$A$4:$A$1315,MassDataLink!$E$4:$E$1315)","v":{"$error":"#N/A"}},{"$f":"LOOKUP(C294,MassDataLink!$A$4:$A$1315,MassDataLink!$F$4:$F$1315)","v":{"$error":"#N/A"}},null,181,"- - -","- - -"]
[null,182,-1,{"$f":"LOOKUP(C295,MassDataLink!$A$4:$A$1315,MassDataLink!$B$4:$B$1315)","v":{"$error":"#N/A"}},{"$f":"LOOKUP(C295,MassDataLink!$A$4:$A$1315,MassDataLink!$C$4:$C$1315)","v":{"$error":"#N/A"}},{"$f":"LOOKUP(C295,MassDataLink!$A$4:$A$1315,MassDataLink!$D$4:$D$1315)","v":{"$error":"#N/A"}},{"$f":"LOOKUP(C295,MassDataLink!$A$4:$A$1315,MassDataLink!$E$4:$E$1315)","v":{"$error":"#N/A"}},{"$f":"LOOKUP(C295,MassDataLink!$A$4:$A$1315,MassDataLink!$F$4:$F$1315)","v":{"$error":"#N/A"}},null,182,"- - -","- - -"]
[null,183,-1,{"$f":"LOOKUP(C296,MassDataLink!$A$4:$A$1315,MassDataLink!$B$4:$B$1315)","v":{"$error":"#N/A"}},{"$f":"LOOKUP(C296,MassDataLink!$A$4:$A$1315,MassDataLink!$C$4:$C$1315)","v":{"$error":"#N/A"}},{"$f":"LOOKUP(C296,MassDataLink!$A$4:$A$1315,MassDataLink!$D$4:$D$1315)","v":{"$error":"#N/A"}},{"$f":"LOOKUP(C296,MassDataLink!$A$4:$A$1315,MassDataLink!$E$4:$E$1315)","v":{"$error":"#N/A"}},{"$f":"LOOKUP(C296,MassDataLink!$A$4:$A$1315,MassDataLink!$F$4:$F$1315)","v":{"$error":"#N/A"}},null,183,"- - -","- - -"]
[null,184,-1,{"$f":"LOOKUP(C297,MassDataLink!$A$4:$A$1315,MassDataLink!$B$4:$B$1315)","v":{"$error":"#N/A"}},{"$f":"LOOKUP(C297,MassDataLink!$A$4:$A$1315,MassDataLink!$C$4:$C$1315)","v":{"$error":"#N/A"}},{"$f":"LOOKUP(C297,MassDataLink!$A$4:$A$1315,MassDataLink!$D$4:$D$1315)","v":{"$error":"#N/A"}},{"$f":"LOOKUP(C297,MassDataLink!$A$4:$A$1315,MassDataLink!$E$4:$E$1315)","v":{"$error":"#N/A"}},{"$f":"LOOKUP(C297,MassDataLink!$A$4:$A$1315,MassDataLink!$F$4:$F$1315)","v":{"$error":"#N/A"}},null,184,"- - -","- - -"]
[null,185,-1,{"$f":"LOOKUP(C298,MassDataLink!$A$4:$A$1315,MassDataLink!$B$4:$B$1315)","v":{"$error":"#N/A"}},{"$f":"LOOKUP(C298,MassDataLink!$A$4:$A$1315,MassDataLink!$C$4:$C$1315)","v":{"$error":"#N/A"}},{"$f":"LOOKUP(C298,MassDataLink!$A$4:$A$1315,MassDataLink!$D$4:$D$1315)","v":{"$error":"#N/A"}},{"$f":"LOOKUP(C298,MassDataLink!$A$4:$A$1315,MassDataLink!$E$4:$E$1315)","v":{"$error":"#N/A"}},{"$f":"LOOKUP(C298,MassDataLink!$A$4:$A$1315,MassDataLink!$F$4:$F$1315)","v":{"$error":"#N/A"}},null,185,"- - -","- - -"]
[null,186,-1,{"$f":"LOOKUP(C299,MassDataLink!$A$4:$A$1315,MassDataLink!$B$4:$B$1315)","v":{"$error":"#N/A"}},{"$f":"LOOKUP(C299,MassDataLink!$A$4:$A$1315,MassDataLink!$C$4:$C$1315)","v":{"$error":"#N/A"}},{"$f":"LOOKUP(C299,MassDataLink!$A$4:$A$1315,MassDataLink!$D$4:$D$1315)","v":{"$error":"#N/A"}},{"$f":"LOOKUP(C299,MassDataLink!$A$4:$A$1315,MassDataLink!$E$4:$E$1315)","v":{"$error":"#N/A"}},{"$f":"LOOKUP(C299,MassDataLink!$A$4:$A$1315,MassDataLink!$F$4:$F$1315)","v":{"$error":"#N/A"}},null,186,"- - -","- - -"]
[null,187,-1,{"$f":"LOOKUP(C300,MassDataLink!$A$4:$A$1315,MassDataLink!$B$4:$B$1315)","v":{"$error":"#N/A"}},{"$f":"LOOKUP(C300,MassDataLink!$A$4:$A$1315,MassDataLink!$C$4:$C$1315)","v":{"$error":"#N/A"}},{"$f":"LOOKUP(C300,MassDataLink!$A$4:$A$1315,MassDataLink!$D$4:$D$1315)","v":{"$error":"#N/A"}},{"$f":"LOOKUP(C300,MassDataLink!$A$4:$A$1315,MassDataLink!$E$4:$E$1315)","v":{"$error":"#N/A"}},{"$f":"LOOKUP(C300,MassDataLink!$A$4:$A$1315,MassDataLink!$F$4:$F$1315)","v":{"$error":"#N/A"}},null,187,"- - -","- - -"]
[null,188,-1,{"$f":"LOOKUP(C301,MassDataLink!$A$4:$A$1315,MassDataLink!$B$4:$B$1315)","v":{"$error":"#N/A"}},{"$f":"LOOKUP(C301,MassDataLink!$A$4:$A$1315,MassDataLink!$C$4:$C$1315)","v":{"$error":"#N/A"}},{"$f":"LOOKUP(C301,MassDataLink!$A$4:$A$1315,MassDataLink!$D$4:$D$1315)","v":{"$error":"#N/A"}},{"$f":"LOOKUP(C301,MassDataLink!$A$4:$A$1315,MassDataLink!$E$4:$E$1315)","v":{"$error":"#N/A"}},{"$f":"LOOKUP(C301,MassDataLink!$A$4:$A$1315,MassDataLink!$F$4:$F$1315)","v":{"$error":"#N/A"}},null,188,"- - -","- - -"]
[null,189,-1,{"$f":"LOOKUP(C302,MassDataLink!$A$4:$A$1315,MassDataLink!$B$4:$B$1315)","v":{"$error":"#N/A"}},{"$f":"LOOKUP(C302,MassDataLink!$A$4:$A$1315,MassDataLink!$C$4:$C$1315)","v":{"$error":"#N/A"}},{"$f":"LOOKUP(C302,MassDataLink!$A$4:$A$1315,MassDataLink!$D$4:$D$1315)","v":{"$error":"#N/A"}},{"$f":"LOOKUP(C302,MassDataLink!$A$4:$A$1315,MassDataLink!$E$4:$E$1315)","v":{"$error":"#N/A"}},{"$f":"LOOKUP(C302,MassDataLink!$A$4:$A$1315,MassDataLink!$F$4:$F$1315)","v":{"$error":"#N/A"}},null,189,"- - -","- - -"]
[null,190,-1,{"$f":"LOOKUP(C303,MassDataLink!$A$4:$A$1315,MassDataLink!$B$4:$B$1315)","v":{"$error":"#N/A"}},{"$f":"LOOKUP(C303,MassDataLink!$A$4:$A$1315,MassDataLink!$C$4:$C$1315)","v":{"$error":"#N/A"}},{"$f":"LOOKUP(C303,MassDataLink!$A$4:$A$1315,MassDataLink!$D$4:$D$1315)","v":{"$error":"#N/A"}},{"$f":"LOOKUP(C303,MassDataLink!$A$4:$A$1315,MassDataLink!$E$4:$E$1315)","v":{"$error":"#N/A"}},{"$f":"LOOKUP(C303,MassDataLink!$A$4:$A$1315,MassDataLink!$F$4:$F$1315)","v":{"$error":"#N/A"}},null,190,"- - -","- - -"]
[null,191,-1,{"$f":"LOOKUP(C304,MassDataLink!$A$4:$A$1315,MassDataLink!$B$4:$B$1315)","v":{"$error":"#N/A"}},{"$f":"LOOKUP(C304,MassDataLink!$A$4:$A$1315,MassDataLink!$C$4:$C$1315)","v":{"$error":"#N/A"}},{"$f":"LOOKUP(C304,MassDataLink!$A$4:$A$1315,MassDataLink!$D$4:$D$1315)","v":{"$error":"#N/A"}},{"$f":"LOOKUP(C304,MassDataLink!$A$4:$A$1315,MassDataLink!$E$4:$E$1315)","v":{"$error":"#N/A"}},{"$f":"LOOKUP(C304,MassDataLink!$A$4:$A$1315,MassDataLink!$F$4:$F$1315)","v":{"$error":"#N/A"}},null,191,"- - -","- - -"]
[null,192,-1,{"$f":"LOOKUP(C305,MassDataLink!$A$4:$A$1315,MassDataLink!$B$4:$B$1315)","v":{"$error":"#N/A"}},{"$f":"LOOKUP(C305,MassDataLink!$A$4:$A$1315,MassDataLink!$C$4:$C$1315)","v":{"$error":"#N/A"}},{"$f":"LOOKUP(C305,MassDataLink!$A$4:$A$1315,MassDataLink!$D$4:$D$1315)","v":{"$error":"#N/A"}},{"$f":"LOOKUP(C305,MassDataLink!$A$4:$A$1315,MassDataLink!$E$4:$E$1315)","v":{"$error":"#N/A"}},{"$f":"LOOKUP(C305,MassDataLink!$A$4:$A$1315,MassDataLink!$F$4:$F$1315)","v":{"$error":"#N/A"}},null,192,"- - -","- - -"]
[null,193,-1,{"$f":"LOOKUP(C306,MassDataLink!$A$4:$A$1315,MassDataLink!$B$4:$B$1315)","v":{"$error":"#N/A"}},{"$f":"LOOKUP(C306,MassDataLink!$A$4:$A$1315,MassDataLink!$C$4:$C$1315)","v":{"$error":"#N/A"}},{"$f":"LOOKUP(C306,MassDataLink!$A$4:$A$1315,MassDataLink!$D$4:$D$1315)","v":{"$error":"#N/A"}},{"$f":"LOOKUP(C306,MassDataLink!$A$4:$A$1315,MassDataLink!$E$4:$E$1315)","v":{"$error":"#N/A"}},{"$f":"LOOKUP(C306,MassDataLink!$A$4:$A$1315,MassDataLink!$F$4:$F$1315)","v":{"$error":"#N/A"}},null,193,"- - -","- - -"]
[null,194,-1,{"$f":"LOOKUP(C307,MassDataLink!$A$4:$A$1315,MassDataLink!$B$4:$B$1315)","v":{"$error":"#N/A"}},{"$f":"LOOKUP(C307,MassDataLink!$A$4:$A$1315,MassDataLink!$C$4:$C$1315)","v":{"$error":"#N/A"}},{"$f":"LOOKUP(C307,MassDataLink!$A$4:$A$1315,MassDataLink!$D$4:$D$1315)","v":{"$error":"#N/A"}},{"$f":"LOOKUP(C307,MassDataLink!$A$4:$A$1315,MassDataLink!$E$4:$E$1315)","v":{"$error":"#N/A"}},{"$f":"LOOKUP(C307,MassDataLink!$A$4:$A$1315,MassDataLink!$F$4:$F$1315)","v":{"$error":"#N/A"}},null,194,"- - -","- - -"]
[null,195,-1,{"$f":"LOOKUP(C308,MassDataLink!$A$4:$A$1315,MassDataLink!$B$4:$B$1315)","v":{"$error":"#N/A"}},{"$f":"LOOKUP(C308,MassDataLink!$A$4:$A$1315,MassDataLink!$C$4:$C$1315)","v":{"$error":"#N/A"}},{"$f":"LOOKUP(C308,MassDataLink!$A$4:$A$1315,MassDataLink!$D$4:$D$1315)","v":{"$error":"#N/A"}},{"$f":"LOOKUP(C308,MassDataLink!$A$4:$A$1315,MassDataLink!$E$4:$E$1315)","v":{"$error":"#N/A"}},{"$f":"LOOKUP(C308,MassDataLink!$A$4:$A$1315,MassDataLink!$F$4:$F$1315)","v":{"$error":"#N/A"}},null,195,"- - -","- - -"]
[null,196,-1,{"$f":"LOOKUP(C309,MassDataLink!$A$4:$A$1315,MassDataLink!$B$4:$B$1315)","v":{"$error":"#N/A"}},{"$f":"LOOKUP(C309,MassDataLink!$A$4:$A$1315,MassDataLink!$C$4:$C$1315)","v":{"$error":"#N/A"}},{"$f":"LOOKUP(C309,MassDataLink!$A$4:$A$1315,MassDataLink!$D$4:$D$1315)","v":{"$error":"#N/A"}},{"$f":"LOOKUP(C309,MassDataLink!$A$4:$A$1315,MassDataLink!$E$4:$E$1315)","v":{"$error":"#N/A"}},{"$f":"LOOKUP(C309,MassDataLink!$A$4:$A$1315,MassDataLink!$F$4:$F$1315)","v":{"$error":"#N/A"}},null,196,"- - -","- - -"]
[null,197,-1,{"$f":"LOOKUP(C310,MassDataLink!$A$4:$A$1315,MassDataLink!$B$4:$B$1315)","v":{"$error":"#N/A"}},{"$f":"LOOKUP(C310,MassDataLink!$A$4:$A$1315,MassDataLink!$C$4:$C$1315)","v":{"$error":"#N/A"}},{"$f":"LOOKUP(C310,MassDataLink!$A$4:$A$1315,MassDataLink!$D$4:$D$1315)","v":{"$error":"#N/A"}},{"$f":"LOOKUP(C310,MassDataLink!$A$4:$A$1315,MassDataLink!$E$4:$E$1315)","v":{"$error":"#N/A"}},{"$f":"LOOKUP(C310,MassDataLink!$A$4:$A$1315,MassDataLink!$F$4:$F$1315)","v":{"$error":"#N/A"}},null,197,"- - -","- - -"]
[null,198,-1,{"$f":"LOOKUP(C311,MassDataLink!$A$4:$A$1315,MassDataLink!$B$4:$B$1315)","v":{"$error":"#N/A"}},{"$f":"LOOKUP(C311,MassDataLink!$A$4:$A$1315,MassDataLink!$C$4:$C$1315)","v":{"$error":"#N/A"}},{"$f":"LOOKUP(C311,MassDataLink!$A$4:$A$1315,MassDataLink!$D$4:$D$1315)","v":{"$error":"#N/A"}},{"$f":"LOOKUP(C311,MassDataLink!$A$4:$A$1315,MassDataLink!$E$4:$E$1315)","v":{"$error":"#N/A"}},{"$f":"LOOKUP(C311,MassDataLink!$A$4:$A$1315,MassDataLink!$F$4:$F$1315)","v":{"$error":"#N/A"}},null,198,"- - -","- - -"]
[null,199,-1,{"$f":"LOOKUP(C312,MassDataLink!$A$4:$A$1315,MassDataLink!$B$4:$B$1315)","v":{"$error":"#N/A"}},{"$f":"LOOKUP(C312,MassDataLink!$A$4:$A$1315,MassDataLink!$C$4:$C$1315)","v":{"$error":"#N/A"}},{"$f":"LOOKUP(C312,MassDataLink!$A$4:$A$1315,MassDataLink!$D$4:$D$1315)","v":{"$error":"#N/A"}},{"$f":"LOOKUP(C312,MassDataLink!$A$4:$A$1315,MassDataLink!$E$4:$E$1315)","v":{"$error":"#N/A"}},{"$f":"LOOKUP(C312,MassDataLink!$A$4:$A$1315,MassDataLink!$F$4:$F$1315)","v":{"$error":"#N/A"}},null,199,"- - -","- - -"]
[null,200,-1,{"$f":"LOOKUP(C313,MassDataLink!$A$4:$A$1315,MassDataLink!$B$4:$B$1315)","v":{"$error":"#N/A"}},{"$f":"LOOKUP(C313,MassDataLink!$A$4:$A$1315,MassDataLink!$C$4:$C$1315)","v":{"$error":"#N/A"}},{"$f":"LOOKUP(C313,MassDataLink!$A$4:$A$1315,MassDataLink!$D$4:$D$1315)","v":{"$error":"#N/A"}},{"$f":"LOOKUP(C313,MassDataLink!$A$4:$A$1315,MassDataLink!$E$4:$E$1315)","v":{"$error":"#N/A"}},{"$f":"LOOKUP(C313,MassDataLink!$A$4:$A$1315,MassDataLink!$F$4:$F$1315)","v":{"$error":"#N/A"}},null,200,"- - -","- - -"]
[null,201,-1,{"$f":"LOOKUP(C314,MassDataLink!$A$4:$A$1315,MassDataLink!$B$4:$B$1315)","v":{"$error":"#N/A"}},{"$f":"LOOKUP(C314,MassDataLink!$A$4:$A$1315,MassDataLink!$C$4:$C$1315)","v":{"$error":"#N/A"}},{"$f":"LOOKUP(C314,MassDataLink!$A$4:$A$1315,MassDataLink!$D$4:$D$1315)","v":{"$error":"#N/A"}},{"$f":"LOOKUP(C314,MassDataLink!$A$4:$A$1315,MassDataLink!$E$4:$E$1315)","v":{"$error":"#N/A"}},{"$f":"LOOKUP(C314,MassDataLink!$A$4:$A$1315,MassDataLink!$F$4:$F$1315)","v":{"$error":"#N/A"}},null,201,"- - -","- - -"]
[null,202,-1,{"$f":"LOOKUP(C315,MassDataLink!$A$4:$A$1315,MassDataLink!$B$4:$B$1315)","v":{"$error":"#N/A"}},{"$f":"LOOKUP(C315,MassDataLink!$A$4:$A$1315,MassDataLink!$C$4:$C$1315)","v":{"$error":"#N/A"}},{"$f":"LOOKUP(C315,MassDataLink!$A$4:$A$1315,MassDataLink!$D$4:$D$1315)","v":{"$error":"#N/A"}},{"$f":"LOOKUP(C315,MassDataLink!$A$4:$A$1315,MassDataLink!$E$4:$E$1315)","v":{"$error":"#N/A"}},{"$f":"LOOKUP(C315,MassDataLink!$A$4:$A$1315,MassDataLink!$F$4:$F$1315)","v":{"$error":"#N/A"}},null,202,"- - -","- - -"]
[null,203,-1,{"$f":"LOOKUP(C316,MassDataLink!$A$4:$A$1315,MassDataLink!$B$4:$B$1315)","v":{"$error":"#N/A"}},{"$f":"LOOKUP(C316,MassDataLink!$A$4:$A$1315,MassDataLink!$C$4:$C$1315)","v":{"$error":"#N/A"}},{"$f":"LOOKUP(C316,MassDataLink!$A$4:$A$1315,MassDataLink!$D$4:$D$1315)","v":{"$error":"#N/A"}},{"$f":"LOOKUP(C316,MassDataLink!$A$4:$A$1315,MassDataLink!$E$4:$E$1315)","v":{"$error":"#N/A"}},{"$f":"LOOKUP(C316,MassDataLink!$A$4:$A$1315,MassDataLink!$F$4:$F$1315)","v":{"$error":"#N/A"}},null,203,"- - -","- - -"]
[null,204,-1,{"$f":"LOOKUP(C317,MassDataLink!$A$4:$A$1315,MassDataLink!$B$4:$B$1315)","v":{"$error":"#N/A"}},{"$f":"LOOKUP(C317,MassDataLink!$A$4:$A$1315,MassDataLink!$C$4:$C$1315)","v":{"$error":"#N/A"}},{"$f":"LOOKUP(C317,MassDataLink!$A$4:$A$1315,MassDataLink!$D$4:$D$1315)","v":{"$error":"#N/A"}},{"$f":"LOOKUP(C317,MassDataLink!$A$4:$A$1315,MassDataLink!$E$4:$E$1315)","v":{"$error":"#N/A"}},{"$f":"LOOKUP(C317,MassDataLink!$A$4:$A$1315,MassDataLink!$F$4:$F$1315)","v":{"$error":"#N/A"}},null,204,"- - -","- - -"]
[null,205,-1,{"$f":"LOOKUP(C318,MassDataLink!$A$4:$A$1315,MassDataLink!$B$4:$B$1315)","v":{"$error":"#N/A"}},{"$f":"LOOKUP(C318,MassDataLink!$A$4:$A$1315,MassDataLink!$C$4:$C$1315)","v":{"$error":"#N/A"}},{"$f":"LOOKUP(C318,MassDataLink!$A$4:$A$1315,MassDataLink!$D$4:$D$1315)","v":{"$error":"#N/A"}},{"$f":"LOOKUP(C318,MassDataLink!$A$4:$A$1315,MassDataLink!$E$4:$E$1315)","v":{"$error":"#N/A"}},{"$f":"LOOKUP(C318,MassDataLink!$A$4:$A$1315,MassDataLink!$F$4:$F$1315)","v":{"$error":"#N/A"}},null,205,"- - -","- - -"]
[null,206,-1,{"$f":"LOOKUP(C319,MassDataLink!$A$4:$A$1315,MassDataLink!$B$4:$B$1315)","v":{"$error":"#N/A"}},{"$f":"LOOKUP(C319,MassDataLink!$A$4:$A$1315,MassDataLink!$C$4:$C$1315)","v":{"$error":"#N/A"}},{"$f":"LOOKUP(C319,MassDataLink!$A$4:$A$1315,MassDataLink!$D$4:$D$1315)","v":{"$error":"#N/A"}},{"$f":"LOOKUP(C319,MassDataLink!$A$4:$A$1315,MassDataLink!$E$4:$E$1315)","v":{"$error":"#N/A"}},{"$f":"LOOKUP(C319,MassDataLink!$A$4:$A$1315,MassDataLink!$F$4:$F$1315)","v":{"$error":"#N/A"}},null,206,"- - -","- - -"]
[null,207,-1,{"$f":"LOOKUP(C320,MassDataLink!$A$4:$A$1315,MassDataLink!$B$4:$B$1315)","v":{"$error":"#N/A"}},{"$f":"LOOKUP(C320,MassDataLink!$A$4:$A$1315,MassDataLink!$C$4:$C$1315)","v":{"$error":"#N/A"}},{"$f":"LOOKUP(C320,MassDataLink!$A$4:$A$1315,MassDataLink!$D$4:$D$1315)","v":{"$error":"#N/A"}},{"$f":"LOOKUP(C320,MassDataLink!$A$4:$A$1315,MassDataLink!$E$4:$E$1315)","v":{"$error":"#N/A"}},{"$f":"LOOKUP(C320,MassDataLink!$A$4:$A$1315,MassDataLink!$F$4:$F$1315)","v":{"$error":"#N/A"}},null,207,"- - -","- - -"]
[null,208,-1,{"$f":"LOOKUP(C321,MassDataLink!$A$4:$A$1315,MassDataLink!$B$4:$B$1315)","v":{"$error":"#N/A"}},{"$f":"LOOKUP(C321,MassDataLink!$A$4:$A$1315,MassDataLink!$C$4:$C$1315)","v":{"$error":"#N/A"}},{"$f":"LOOKUP(C321,MassDataLink!$A$4:$A$1315,MassDataLink!$D$4:$D$1315)","v":{"$error":"#N/A"}},{"$f":"LOOKUP(C321,MassDataLink!$A$4:$A$1315,MassDataLink!$E$4:$E$1315)","v":{"$error":"#N/A"}},{"$f":"LOOKUP(C321,MassDataLink!$A$4:$A$1315,MassDataLink!$F$4:$F$1315)","v":{"$error":"#N/A"}},null,208,"- - -","- - -"]
[null,209,-1,{"$f":"LOOKUP(C322,MassDataLink!$A$4:$A$1315,MassDataLink!$B$4:$B$1315)","v":{"$error":"#N/A"}},{"$f":"LOOKUP(C322,MassDataLink!$A$4:$A$1315,MassDataLink!$C$4:$C$1315)","v":{"$error":"#N/A"}},{"$f":"LOOKUP(C322,MassDataLink!$A$4:$A$1315,MassDataLink!$D$4:$D$1315)","v":{"$error":"#N/A"}},{"$f":"LOOKUP(C322,MassDataLink!$A$4:$A$1315,MassDataLink!$E$4:$E$1315)","v":{"$error":"#N/A"}},{"$f":"LOOKUP(C322,MassDataLink!$A$4:$A$1315,MassDataLink!$F$4:$F$1315)","v":{"$error":"#N/A"}},null,209,"- - -","- - -"]
[null,210,-1,{"$f":"LOOKUP(C323,MassDataLink!$A$4:$A$1315,MassDataLink!$B$4:$B$1315)","v":{"$error":"#N/A"}},{"$f":"LOOKUP(C323,MassDataLink!$A$4:$A$1315,MassDataLink!$C$4:$C$1315)","v":{"$error":"#N/A"}},{"$f":"LOOKUP(C323,MassDataLink!$A$4:$A$1315,MassDataLink!$D$4:$D$1315)","v":{"$error":"#N/A"}},{"$f":"LOOKUP(C323,MassDataLink!$A$4:$A$1315,MassDataLink!$E$4:$E$1315)","v":{"$error":"#N/A"}},{"$f":"LOOKUP(C323,MassDataLink!$A$4:$A$1315,MassDataLink!$F$4:$F$1315)","v":{"$error":"#N/A"}},null,210,"- - -","- - -"]
[null,211,-1,{"$f":"LOOKUP(C324,MassDataLink!$A$4:$A$1315,MassDataLink!$B$4:$B$1315)","v":{"$error":"#N/A"}},{"$f":"LOOKUP(C324,MassDataLink!$A$4:$A$1315,MassDataLink!$C$4:$C$1315)","v":{"$error":"#N/A"}},{"$f":"LOOKUP(C324,MassDataLink!$A$4:$A$1315,MassDataLink!$D$4:$D$1315)","v":{"$error":"#N/A"}},{"$f":"LOOKUP(C324,MassDataLink!$A$4:$A$1315,MassDataLink!$E$4:$E$1315)","v":{"$error":"#N/A"}},{"$f":"LOOKUP(C324,MassDataLink!$A$4:$A$1315,MassDataLink!$F$4:$F$1315)","v":{"$error":"#N/A"}},null,211,"- - -","- - -"]
[null,212,-1,{"$f":"LOOKUP(C325,MassDataLink!$A$4:$A$1315,MassDataLink!$B$4:$B$1315)","v":{"$error":"#N/A"}},{"$f":"LOOKUP(C325,MassDataLink!$A$4:$A$1315,MassDataLink!$C$4:$C$1315)","v":{"$error":"#N/A"}},{"$f":"LOOKUP(C325,MassDataLink!$A$4:$A$1315,MassDataLink!$D$4:$D$1315)","v":{"$error":"#N/A"}},{"$f":"LOOKUP(C325,MassDataLink!$A$4:$A$1315,MassDataLink!$E$4:$E$1315)","v":{"$error":"#N/A"}},{"$f":"LOOKUP(C325,MassDataLink!$A$4:$A$1315,MassDataLink!$F$4:$F$1315)","v":{"$error":"#N/A"}},null,212,"- - -","- - -"]
[null,213,-1,{"$f":"LOOKUP(C326,MassDataLink!$A$4:$A$1315,MassDataLink!$B$4:$B$1315)","v":{"$error":"#N/A"}},{"$f":"LOOKUP(C326,MassDataLink!$A$4:$A$1315,MassDataLink!$C$4:$C$1315)","v":{"$error":"#N/A"}},{"$f":"LOOKUP(C326,MassDataLink!$A$4:$A$1315,MassDataLink!$D$4:$D$1315)","v":{"$error":"#N/A"}},{"$f":"LOOKUP(C326,MassDataLink!$A$4:$A$1315,MassDataLink!$E$4:$E$1315)","v":{"$error":"#N/A"}},{"$f":"LOOKUP(C326,MassDataLink!$A$4:$A$1315,MassDataLink!$F$4:$F$1315)","v":{"$error":"#N/A"}},null,213,"- - -","- - -"]
[null,214,-1,{"$f":"LOOKUP(C327,MassDataLink!$A$4:$A$1315,MassDataLink!$B$4:$B$1315)","v":{"$error":"#N/A"}},{"$f":"LOOKUP(C327,MassDataLink!$A$4:$A$1315,MassDataLink!$C$4:$C$1315)","v":{"$error":"#N/A"}},{"$f":"LOOKUP(C327,MassDataLink!$A$4:$A$1315,MassDataLink!$D$4:$D$1315)","v":{"$error":"#N/A"}},{"$f":"LOOKUP(C327,MassDataLink!$A$4:$A$1315,MassDataLink!$E$4:$E$1315)","v":{"$error":"#N/A"}},{"$f":"LOOKUP(C327,MassDataLink!$A$4:$A$1315,MassDataLink!$F$4:$F$1315)","v":{"$error":"#N/A"}},null,214,"- - -","- - -"]
[null,215,-1,{"$f":"LOOKUP(C328,MassDataLink!$A$4:$A$1315,MassDataLink!$B$4:$B$1315)","v":{"$error":"#N/A"}},{"$f":"LOOKUP(C328,MassDataLink!$A$4:$A$1315,MassDataLink!$C$4:$C$1315)","v":{"$error":"#N/A"}},{"$f":"LOOKUP(C328,MassDataLink!$A$4:$A$1315,MassDataLink!$D$4:$D$1315)","v":{"$error":"#N/A"}},{"$f":"LOOKUP(C328,MassDataLink!$A$4:$A$1315,MassDataLink!$E$4:$E$1315)","v":{"$error":"#N/A"}},{"$f":"LOOKUP(C328,MassDataLink!$A$4:$A$1315,MassDataLink!$F$4:$F$1315)","v":{"$error":"#N/A"}},null,215,"- - -","- - -"]
[null,216,-1,{"$f":"LOOKUP(C329,MassDataLink!$A$4:$A$1315,MassDataLink!$B$4:$B$1315)","v":{"$error":"#N/A"}},{"$f":"LOOKUP(C329,MassDataLink!$A$4:$A$1315,MassDataLink!$C$4:$C$1315)","v":{"$error":"#N/A"}},{"$f":"LOOKUP(C329,MassDataLink!$A$4:$A$1315,MassDataLink!$D$4:$D$1315)","v":{"$error":"#N/A"}},{"$f":"LOOKUP(C329,MassDataLink!$A$4:$A$1315,MassDataLink!$E$4:$E$1315)","v":{"$error":"#N/A"}},{"$f":"LOOKUP(C329,MassDataLink!$A$4:$A$1315,MassDataLink!$F$4:$F$1315)","v":{"$error":"#N/A"}},null,216,"- - -","- - -"]
[null,217,-1,{"$f":"LOOKUP(C330,MassDataLink!$A$4:$A$1315,MassDataLink!$B$4:$B$1315)","v":{"$error":"#N/A"}},{"$f":"LOOKUP(C330,MassDataLink!$A$4:$A$1315,MassDataLink!$C$4:$C$1315)","v":{"$error":"#N/A"}},{"$f":"LOOKUP(C330,MassDataLink!$A$4:$A$1315,MassDataLink!$D$4:$D$1315)","v":{"$error":"#N/A"}},{"$f":"LOOKUP(C330,MassDataLink!$A$4:$A$1315,MassDataLink!$E$4:$E$1315)","v":{"$error":"#N/A"}},{"$f":"LOOKUP(C330,MassDataLink!$A$4:$A$1315,MassDataLink!$F$4:$F$1315)","v":{"$error":"#N/A"}},null,217,"- - -","- - -"]
[null,218,-1,{"$f":"LOOKUP(C331,MassDataLink!$A$4:$A$1315,MassDataLink!$B$4:$B$1315)","v":{"$error":"#N/A"}},{"$f":"LOOKUP(C331,MassDataLink!$A$4:$A$1315,MassDataLink!$C$4:$C$1315)","v":{"$error":"#N/A"}},{"$f":"LOOKUP(C331,MassDataLink!$A$4:$A$1315,MassDataLink!$D$4:$D$1315)","v":{"$error":"#N/A"}},{"$f":"LOOKUP(C331,MassDataLink!$A$4:$A$1315,MassDataLink!$E$4:$E$1315)","v":{"$error":"#N/A"}},{"$f":"LOOKUP(C331,MassDataLink!$A$4:$A$1315,MassDataLink!$F$4:$F$1315)","v":{"$error":"#N/A"}},null,218,"- - -","- - -"]
[null,219,-1,{"$f":"LOOKUP(C332,MassDataLink!$A$4:$A$1315,MassDataLink!$B$4:$B$1315)","v":{"$error":"#N/A"}},{"$f":"LOOKUP(C332,MassDataLink!$A$4:$A$1315,MassDataLink!$C$4:$C$1315)","v":{"$error":"#N/A"}},{"$f":"LOOKUP(C332,MassDataLink!$A$4:$A$1315,MassDataLink!$D$4:$D$1315)","v":{"$error":"#N/A"}},{"$f":"LOOKUP(C332,MassDataLink!$A$4:$A$1315,MassDataLink!$E$4:$E$1315)","v":{"$error":"#N/A"}},{"$f":"LOOKUP(C332,MassDataLink!$A$4:$A$1315,MassDataLink!$F$4:$F$1315)","v":{"$error":"#N/A"}},null,219,"- - -","- - -"]
[null,220,-1,{"$f":"LOOKUP(C333,MassDataLink!$A$4:$A$1315,MassDataLink!$B$4:$B$1315)","v":{"$error":"#N/A"}},{"$f":"LOOKUP(C333,MassDataLink!$A$4:$A$1315,MassDataLink!$C$4:$C$1315)","v":{"$error":"#N/A"}},{"$f":"LOOKUP(C333,MassDataLink!$A$4:$A$1315,MassDataLink!$D$4:$D$1315)","v":{"$error":"#N/A"}},{"$f":"LOOKUP(C333,MassDataLink!$A$4:$A$1315,MassDataLink!$E$4:$E$1315)","v":{"$error":"#N/A"}},{"$f":"LOOKUP(C333,MassDataLink!$A$4:$A$1315,MassDataLink!$F$4:$F$1315)","v":{"$error":"#N/A"}},null,220,"- - -","- - -"]
[null,221,-1,{"$f":"LOOKUP(C334,MassDataLink!$A$4:$A$1315,MassDataLink!$B$4:$B$1315)","v":{"$error":"#N/A"}},{"$f":"LOOKUP(C334,MassDataLink!$A$4:$A$1315,MassDataLink!$C$4:$C$1315)","v":{"$error":"#N/A"}},{"$f":"LOOKUP(C334,MassDataLink!$A$4:$A$1315,MassDataLink!$D$4:$D$1315)","v":{"$error":"#N/A"}},{"$f":"LOOKUP(C334,MassDataLink!$A$4:$A$1315,MassDataLink!$E$4:$E$1315)","v":{"$error":"#N/A"}},{"$f":"LOOKUP(C334,MassDataLink!$A$4:$A$1315,MassDataLink!$F$4:$F$1315)","v":{"$error":"#N/A"}},null,221,"- - -","- - -"]
[null,222,-1,{"$f":"LOOKUP(C335,MassDataLink!$A$4:$A$1315,MassDataLink!$B$4:$B$1315)","v":{"$error":"#N/A"}},{"$f":"LOOKUP(C335,MassDataLink!$A$4:$A$1315,MassDataLink!$C$4:$C$1315)","v":{"$error":"#N/A"}},{"$f":"LOOKUP(C335,MassDataLink!$A$4:$A$1315,MassDataLink!$D$4:$D$1315)","v":{"$error":"#N/A"}},{"$f":"LOOKUP(C335,MassDataLink!$A$4:$A$1315,MassDataLink!$E$4:$E$1315)","v":{"$error":"#N/A"}},{"$f":"LOOKUP(C335,MassDataLink!$A$4:$A$1315,MassDataLink!$F$4:$F$1315)","v":{"$error":"#N/A"}},null,222,"- - -","- - -"]
[null,223,-1,{"$f":"LOOKUP(C336,MassDataLink!$A$4:$A$1315,MassDataLink!$B$4:$B$1315)","v":{"$error":"#N/A"}},{"$f":"LOOKUP(C336,MassDataLink!$A$4:$A$1315,MassDataLink!$C$4:$C$1315)","v":{"$error":"#N/A"}},{"$f":"LOOKUP(C336,MassDataLink!$A$4:$A$1315,MassDataLink!$D$4:$D$1315)","v":{"$error":"#N/A"}},{"$f":"LOOKUP(C336,MassDataLink!$A$4:$A$1315,MassDataLink!$E$4:$E$1315)","v":{"$error":"#N/A"}},{"$f":"LOOKUP(C336,MassDataLink!$A$4:$A$1315,MassDataLink!$F$4:$F$1315)","v":{"$error":"#N/A"}},null,223,"- - -","- - -"]
[null,224,-1,{"$f":"LOOKUP(C337,MassDataLink!$A$4:$A$1315,MassDataLink!$B$4:$B$1315)","v":{"$error":"#N/A"}},{"$f":"LOOKUP(C337,MassDataLink!$A$4:$A$1315,MassDataLink!$C$4:$C$1315)","v":{"$error":"#N/A"}},{"$f":"LOOKUP(C337,MassDataLink!$A$4:$A$1315,MassDataLink!$D$4:$D$1315)","v":{"$error":"#N/A"}},{"$f":"LOOKUP(C337,MassDataLink!$A$4:$A$1315,MassDataLink!$E$4:$E$1315)","v":{"$error":"#N/A"}},{"$f":"LOOKUP(C337,MassDataLink!$A$4:$A$1315,MassDataLink!$F$4:$F$1315)","v":{"$error":"#N/A"}},null,224,"- - -","- - -"]
[null,225,-1,{"$f":"LOOKUP(C338,MassDataLink!$A$4:$A$1315,MassDataLink!$B$4:$B$1315)","v":{"$error":"#N/A"}},{"$f":"LOOKUP(C338,MassDataLink!$A$4:$A$1315,MassDataLink!$C$4:$C$1315)","v":{"$error":"#N/A"}},{"$f":"LOOKUP(C338,MassDataLink!$A$4:$A$1315,MassDataLink!$D$4:$D$1315)","v":{"$error":"#N/A"}},{"$f":"LOOKUP(C338,MassDataLink!$A$4:$A$1315,MassDataLink!$E$4:$E$1315)","v":{"$error":"#N/A"}},{"$f":"LOOKUP(C338,MassDataLink!$A$4:$A$1315,MassDataLink!$F$4:$F$1315)","v":{"$error":"#N/A"}},null,225,"- - -","- - -"]

{"sheet":"ModelData","index":2,"n_rows":89,"n_cols":29,"rows_kept":89,"cut":false,"hidden":true,"merged":[[1,5,1,7],[1,8,1,10],[1,23,1,25],[1,26,1,28],[1,11,1,13],[1,14,1,16],[1,17,1,19],[1,20,1,22]]}
[null,1,6,7,8,10,11,12,13,14,15,16,17,18,19,20,21,22,23,24,25,26,27,28,29,30,31,32,33]
["データ№","ｱｸﾁｭｴｰﾀ型式","最小ｽﾄﾛｰｸ","最大ｽﾄﾛｰｸ","動作種別","リンク[0]",null,null,"リンク[1]",null,null,"リンク[2]",null,null,"リンク[3]",null,null,"リンク[4]",null,null,"リンク[5]",null,null,"リンク[6]",null,null,"リンク[7]"]
[0,null,"㎜","㎜","1/0:回/直","ﾘｰﾄﾞ","ｽﾄﾛｰｸ","搬送負荷","ﾘｰﾄﾞ","ｽﾄﾛｰｸ","搬送負荷","ﾘｰﾄﾞ","ｽﾄﾛｰｸ","搬送負荷","ﾘｰﾄﾞ","ｽﾄﾛｰｸ","搬送負荷","ﾘｰﾄﾞ","ｽﾄﾛｰｸ","搬送負荷","ﾘｰﾄﾞ","ｽﾄﾛｰｸ","搬送負荷","ﾘｰﾄﾞ","ｽﾄﾛｰｸ","搬送負荷","ﾘｰﾄﾞ","ｽﾄﾛｰｸ","搬送負荷"]
[{"$f":"A3+1","v":1},"RCP3-SA2AC-20P-*S",25,100,0,{"$f":"LeadData!A4","v":1},{"$f":"StrokeData!A4","v":1},{"$f":"MassDataLink!A4","v":1},{"$f":"LeadData!A5","v":2},{"$f":"StrokeData!A5","v":2},{"$f":"MassDataLink!A5","v":2},{"$f":"LeadData!A6","v":3},{"$f":"StrokeData!A6","v":3},{"$f":"MassDataLink!A6","v":3},-1,-1,-1,-1,-1,-1,-1,-1,-1,-1,-1,-1,-1,-1,-1]
[{"$f":"A4+1","v":2},"RCP3-SA2BC-20P-*S",25,150,0,{"$f":"LeadData!A7","v":4},{"$f":"StrokeData!A7","v":4},{"$f":"MassDataLink!A7","v":4},{"$f":"LeadData!A8","v":5},{"$f":"StrokeData!A8","v":5},{"$f":"MassDataLink!A8","v":5},{"$f":"LeadData!A9","v":6},{"$f":"StrokeData!A9","v":6},{"$f":"MassDataLink!A9","v":6},-1,-1,-1,-1,-1,-1,-1,-1,-1,-1,-1,-1,-1,-1,-1]
[{"$f":"A5+1","v":3},"RCP3-SA3C",50,300,0,{"$f":"LeadData!A10","v":7},{"$f":"StrokeData!A10","v":7},{"$f":"MassDataLink!A10","v":7},{"$f":"LeadData!A11","v":8},{"$f":"StrokeData!A11","v":8},{"$f":"MassDataLink!A12","v":9},{"$f":"LeadData!A12","v":9},{"$f":"StrokeData!A12","v":9},{"$f":"MassDataLink!A14","v":11},-1,-1,-1,-1,-1,-1,-1,-1,-1,-1,-1,-1,-1,-1,-1]
[4,"RCP3-SA4C",50,500,0,{"$f":"LeadData!A13","v":10},{"$f":"StrokeData!A13","v":10},{"$f":"MassDataLink!A16","v":13},{"$f":"LeadData!A14","v":11},{"$f":"StrokeData!A15","v":12},{"$f":"MassDataLink!A26","v":23},{"$f":"LeadData!A15","v":12},{"$f":"StrokeData!A17","v":14},{"$f":"MassDataLink!A36","v":33},-1,-1,-1,-1,-1,-1,-1,-1,-1,-1,-1,-1,-1,-1,-1]
[{"$f":"A7+1","v":5},"RCP3-SA5C",50,800,0,{"$f":"LeadData!A16","v":13},{"$f":"StrokeData!A19","v":16},{"$f":"MassDataLink!A50","v":47},{"$f":"LeadData!A17","v":14},{"$f":"StrokeData!A26","v":23},{"$f":"MassDataLink!A69","v":66},{"$f":"LeadData!A18","v":15},{"$f":"StrokeData!A33","v":30},{"$f":"MassDataLink!A85","v":82},{"$f":"LeadData!A19","v":16},{"$f":"StrokeData!A40","v":37},{"$f":"MassDataLink!A98","v":95},-1,-1,-1,-1,-1,-1,-1,-1,-1,-1,-1,-1]
[6,"RCP3-SA6C",50,800,0,{"$f":"LeadData!A20","v":17},{"$f":"StrokeData!A45","v":42},{"$f":"MassDataLink!A106","v":103},{"$f":"LeadData!A21","v":18},{"$f":"StrokeData!A52","v":49},{"$f":"MassDataLink!A125","v":122},{"$f":"LeadData!A22","v":19},{"$f":"StrokeData!A59","v":56},{"$f":"MassDataLink!A141","v":138},{"$f":"LeadData!A23","v":20},{"$f":"StrokeData!A66","v":63},{"$f":"MassDataLink!A154","v":151},-1,-1,-1,-1,-1,-1,-1,-1,-1,-1,-1,-1]
[7,"RCP3-SA2AR-20P-*S",25,100,0,{"$f":"LeadData!A24","v":21},{"$f":"StrokeData!A71","v":68},{"$f":"MassDataLink!A162","v":159},{"$f":"LeadData!A25","v":22},{"$f":"StrokeData!A72","v":69},{"$f":"MassDataLink!A163","v":160},{"$f":"LeadData!A26","v":23},{"$f":"StrokeData!A73","v":70},{"$f":"MassDataLink!A164","v":161},-1,-1,-1,-1,-1,-1,-1,-1,-1,-1,-1,-1,-1,-1,-1]
[8,"RCP3-SA2BR-20P-*S",25,150,0,{"$f":"LeadData!A27","v":24},{"$f":"StrokeData!A74","v":71},{"$f":"MassDataLink!A165","v":162},{"$f":"LeadData!A28","v":25},{"$f":"StrokeData!A75","v":72},{"$f":"MassDataLink!A166","v":163},{"$f":"LeadData!A29","v":26},{"$f":"StrokeData!A76","v":73},{"$f":"MassDataLink!A167","v":164},-1,-1,-1,-1,-1,-1,-1,-1,-1,-1,-1,-1,-1,-1,-1]
[9,"RCP3-SA3R",50,300,0,{"$f":"LeadData!A30","v":27},{"$f":"StrokeData!A77","v":74},{"$f":"MassDataLink!A168","v":165},{"$f":"LeadData!A31","v":28},{"$f":"StrokeData!A78","v":75},{"$f":"MassDataLink!A170","v":167},{"$f":"LeadData!A32","v":29},{"$f":"StrokeData!A79","v":76},{"$f":"MassDataLink!A172","v":169},-1,-1,-1,-1,-1,-1,-1,-1,-1,-1,-1,-1,-1,-1,-1]
[10,"RCP3-SA4R",50,500,0,{"$f":"F7","v":10},{"$f":"G7","v":10},13,11,12,23,12,14,33,-1,-1,-1,-1,-1,-1,-1,-1,-1,-1,-1,-1,-1,-1,-1]
[11,"RCP3-SA5R",50,800,0,{"$f":"F8","v":13},16,47,14,23,66,15,30,82,-1,-1,-1,-1,-1,-1,-1,-1,-1,-1,-1,-1,-1,-1,-1]
[12,"RCP3-SA6R",50,800,0,{"$f":"F9","v":17},42,103,18,49,122,19,56,138,-1,-1,-1,-1,-1,-1,-1,-1,-1,-1,-1,-1,-1,-1,-1]
[13,"RCP2-SA5C",50,800,0,{"$f":"LeadData!A42","v":39},{"$f":"StrokeData!A128","v":125},{"$f":"MassDataLink!A205","v":202},{"$f":"LeadData!A43","v":40},{"$f":"StrokeData!A134","v":131},{"$f":"MassDataLink!A219","v":216},{"$f":"LeadData!A44","v":41},{"$f":"StrokeData!A140","v":137},{"$f":"MassDataLink!A230","v":227},-1,-1,-1,-1,-1,-1,-1,-1,-1,-1,-1,-1,-1,-1,-1]
[14,"RCP2-SA6C",50,800,0,{"$f":"LeadData!A45","v":42},{"$f":"StrokeData!A146","v":143},{"$f":"MassDataLink!A241","v":238},{"$f":"LeadData!A46","v":43},{"$f":"StrokeData!A152","v":149},{"$f":"MassDataLink!A254","v":251},{"$f":"LeadData!A47","v":44},{"$f":"StrokeData!A158","v":155},{"$f":"MassDataLink!A268","v":265},-1,-1,-1,-1,-1,-1,-1,-1,-1,-1,-1,-1,-1,-1,-1]
[15,"RCP2-SA7C",50,800,0,{"$f":"LeadData!A48","v":45},{"$f":"StrokeData!A164","v":161},{"$f":"MassDataLink!A278","v":275},{"$f":"LeadData!A49","v":46},{"$f":"StrokeData!A167","v":164},{"$f":"MassDataLink!A282","v":279},{"$f":"LeadData!A50","v":47},{"$f":"StrokeData!A170","v":167},{"$f":"MassDataLink!A289","v":286},-1,-1,-1,-1,-1,-1,-1,-1,-1,-1,-1,-1,-1,-1,-1]
[16,"RCP2-SS7C",50,600,0,{"$f":"LeadData!A51","v":48},{"$f":"StrokeData!A177","v":174},{"$f":"MassDataLink!A297","v":294},{"$f":"LeadData!A52","v":49},{"$f":"StrokeData!A179","v":176},{"$f":"MassDataLink!A302","v":299},{"$f":"LeadData!A53","v":50},{"$f":"StrokeData!A181","v":178},{"$f":"MassDataLink!A308","v":305},-1,-1,-1,-1,-1,-1,-1,-1,-1,-1,-1,-1,-1,-1,-1]
[17,"RCP2-SS8C",50,1000,0,{"$f":"LeadData!A54","v":51},{"$f":"StrokeData!A183","v":180},{"$f":"MassDataLink!A316","v":313},{"$f":"LeadData!A55","v":52},{"$f":"StrokeData!A187","v":184},{"$f":"MassDataLink!A324","v":321},{"$f":"LeadData!A56","v":53},{"$f":"StrokeData!A191","v":188},{"$f":"MassDataLink!A332","v":329},-1,-1,-1,-1,-1,-1,-1,-1,-1,-1,-1,-1,-1,-1,-1]
[18,"RCP2-HS8C",50,1000,0,{"$f":"LeadData!A57","v":54},{"$f":"StrokeData!A195","v":192},{"$f":"MassDataLink!A340","v":337},-1,-1,-1,-1,-1,-1,-1,-1,-1,-1,-1,-1,-1,-1,-1,-1,-1,-1,-1,-1,-1]
[19,"RCP2-SA5R",50,800,0,{"$f":"LeadData!A58","v":55},{"$f":"StrokeData!A199","v":196},{"$f":"MassDataLink!A348","v":345},{"$f":"LeadData!A59","v":56},{"$f":"StrokeData!A205","v":202},{"$f":"MassDataLink!A350","v":347},{"$f":"LeadData!A60","v":57},{"$f":"StrokeData!A211","v":208},{"$f":"MassDataLink!A352","v":349},-1,-1,-1,-1,-1,-1,-1,-1,-1,-1,-1,-1,-1,-1,-1]
[20,"RCP2-SA6R",50,800,0,{"$f":"LeadData!A61","v":58},{"$f":"StrokeData!A217","v":214},{"$f":"MassDataLink!A354","v":351},{"$f":"LeadData!A62","v":59},{"$f":"StrokeData!A223","v":220},{"$f":"MassDataLink!A357","v":354},{"$f":"LeadData!A63","v":60},{"$f":"StrokeData!A229","v":226},{"$f":"MassDataLink!A361","v":358},-1,-1,-1,-1,-1,-1,-1,-1,-1,-1,-1,-1,-1,-1,-1]
[21,"RCP2-SA7R",50,800,0,{"$f":"LeadData!A64","v":61},{"$f":"StrokeData!A235","v":232},{"$f":"MassDataLink!A365","v":362},{"$f":"LeadData!A65","v":62},{"$f":"StrokeData!A238","v":235},{"$f":"MassDataLink!A370","v":367},{"$f":"LeadData!A66","v":63},{"$f":"StrokeData!A241","v":238},{"$f":"MassDataLink!A377","v":374},-1,-1,-1,-1,-1,-1,-1,-1,-1,-1,-1,-1,-1,-1,-1]
[22,"RCP2-SS7R",50,600,0,{"$f":"LeadData!A67","v":64},{"$f":"StrokeData!A244","v":241},{"$f":"MassDataLink!A384","v":381},{"$f":"LeadData!A68","v":65},{"$f":"StrokeData!A246","v":243},{"$f":"MassDataLink!A389","v":386},{"$f":"LeadData!A69","v":66},{"$f":"StrokeData!A248","v":245},{"$f":"MassDataLink!A395","v":392},-1,-1,-1,-1,-1,-1,-1,-1,-1,-1,-1,-1,-1,-1,-1]
[23,"RCP2-SS8R",50,1000,0,{"$f":"LeadData!A70","v":67},{"$f":"StrokeData!A250","v":247},{"$f":"MassDataLink!A402","v":399},{"$f":"LeadData!A71","v":68},{"$f":"StrokeData!A254","v":251},{"$f":"MassDataLink!A410","v":407},{"$f":"LeadData!A72","v":69},{"$f":"StrokeData!A258","v":255},{"$f":"MassDataLink!A417","v":414},-1,-1,-1,-1,-1,-1,-1,-1,-1,-1,-1,-1,-1,-1,-1]
[24,"RCP2-HS8R",50,1000,0,{"$f":"LeadData!A73","v":70},{"$f":"StrokeData!A262","v":259},{"$f":"MassDataLink!A423","v":420},-1,-1,-1,-1,-1,-1,-1,-1,-1,-1,-1,-1,-1,-1,-1,-1,-1,-1,-1,-1,-1]
[25,"RCP2-BA6",500,1000,0,{"$f":"LeadData!A74","v":71},{"$f":"StrokeData!A266","v":263},{"$f":"MassDataLink!A432","v":429},-1,-1,-1,-1,-1,-1,-1,-1,-1,-1,-1,-1,-1,-1,-1,-1,-1,-1,-1,-1,-1]
[26,"RCP2-BA7",600,1200,0,{"$f":"LeadData!A75","v":72},{"$f":"StrokeData!A267","v":264},{"$f":"MassDataLink!A435","v":432},-1,-1,-1,-1,-1,-1,-1,-1,-1,-1,-1,-1,-1,-1,-1,-1,-1,-1,-1,-1,-1]
[27,"ERC2-SA6C",50,600,0,{"$f":"LeadData!A76","v":73},{"$f":"StrokeData!A268","v":265},{"$f":"MassDataLink!A440","v":437},{"$f":"LeadData!A77","v":74},{"$f":"StrokeData!A270","v":267},{"$f":"MassDataLink!A443","v":440},{"$f":"LeadData!A78","v":75},{"$f":"StrokeData!A272","v":269},{"$f":"MassDataLink!A446","v":443},-1,-1,-1,-1,-1,-1,-1,-1,-1,-1,-1,-1,-1,-1,-1]
[28,"ERC2-SA7C",50,600,0,{"$f":"LeadData!A79","v":76},{"$f":"StrokeData!A274","v":271},{"$f":"MassDataLink!A451","v":448},{"$f":"LeadData!A80","v":77},{"$f":"StrokeData!A275","v":272},{"$f":"MassDataLink!A454","v":451},{"$f":"LeadData!A81","v":78},{"$f":"StrokeData!A276","v":273},{"$f":"MassDataLink!A459","v":456},-1,-1,-1,-1,-1,-1,-1,-1,-1,-1,-1,-1,-1,-1,-1]
[29,"RCP3-RA2AC-20P-*S",25,100,0,{"$f":"LeadData!A82","v":79},{"$f":"StrokeData!A277","v":274},{"$f":"MassDataLink!A464","v":461},{"$f":"LeadData!A83","v":80},{"$f":"StrokeData!A278","v":275},{"$f":"MassDataLink!A466","v":463},{"$f":"LeadData!A84","v":81},{"$f":"StrokeData!A279","v":276},{"$f":"MassDataLink!A468","v":465},-1,-1,-1,-1,-1,-1,-1,-1,-1,-1,-1,-1,-1,-1,-1]
[30,"RCP3-RA2BC-20P-*S",25,150,0,{"$f":"LeadData!A85","v":82},{"$f":"StrokeData!A280","v":277},{"$f":"MassDataLink!A470","v":467},{"$f":"LeadData!A86","v":83},{"$f":"StrokeData!A281","v":278},{"$f":"MassDataLink!A472","v":469},{"$f":"LeadData!A87","v":84},{"$f":"StrokeData!A282","v":279},{"$f":"MassDataLink!A474","v":471},-1,-1,-1,-1,-1,-1,-1,-1,-1,-1,-1,-1,-1,-1,-1]
[31,"RCP3-RA2AR-20P-*S",25,100,0,{"$f":"LeadData!A88","v":85},{"$f":"StrokeData!A283","v":280},{"$f":"MassDataLink!A476","v":473},{"$f":"LeadData!A89","v":86},{"$f":"StrokeData!A284","v":281},{"$f":"MassDataLink!A478","v":475},{"$f":"LeadData!A90","v":87},{"$f":"StrokeData!A285","v":282},{"$f":"MassDataLink!A480","v":477},-1,-1,-1,-1,-1,-1,-1,-1,-1,-1,-1,-1,-1,-1,-1]
[32,"RCP3-RA2BR-20P-*S",25,150,0,{"$f":"LeadData!A91","v":88},{"$f":"StrokeData!A286","v":283},{"$f":"MassDataLink!A482","v":479},{"$f":"LeadData!A92","v":89},{"$f":"StrokeData!A287","v":284},{"$f":"MassDataLink!A484","v":481},{"$f":"LeadData!A93","v":90},{"$f":"StrokeData!A288","v":285},{"$f":"MassDataLink!A486","v":483},-1,-1,-1,-1,-1,-1,-1,-1,-1,-1,-1,-1,-1,-1,-1]
[33,"RCP2-RA2C",25,100,0,{"$f":"LeadData!A94","v":91},{"$f":"StrokeData!A289","v":286},{"$f":"MassDataLink!A488","v":485},-1,-1,-1,-1,-1,-1,-1,-1,-1,-1,-1,-1,-1,-1,-1,-1,-1,-1,-1,-1,-1]
[34,"RCP2-RA3C",50,200,0,{"$f":"LeadData!A95","v":92},{"$f":"StrokeData!A290","v":287},{"$f":"MassDataLink!A490","v":487},{"$f":"LeadData!A96","v":93},{"$f":"StrokeData!A291","v":288},{"$f":"MassDataLink!A497","v":494},-1,-1,-1,-1,-1,-1,-1,-1,-1,-1,-1,-1,-1,-1,-1,-1,-1,-1]
[35,"RCP2-RA4C",50,300,0,{"$f":"LeadData!A97","v":94},{"$f":"StrokeData!A292","v":289},{"$f":"MassDataLink!A505","v":502},{"$f":"LeadData!A98","v":95},{"$f":"StrokeData!A295","v":292},{"$f":"MassDataLink!A510","v":507},{"$f":"LeadData!A99","v":96},{"$f":"StrokeData!A298","v":295},{"$f":"MassDataLink!A517","v":514},-1,-1,-1,-1,-1,-1,-1,-1,-1,-1,-1,-1,-1,-1,-1]
[36,"RCP2-RA6C",50,300,0,{"$f":"LeadData!A100","v":97},{"$f":"StrokeData!A301","v":298},{"$f":"MassDataLink!A523","v":520},{"$f":"LeadData!A101","v":98},{"$f":"StrokeData!A302","v":299},{"$f":"MassDataLink!A532","v":529},{"$f":"LeadData!A102","v":99},{"$f":"StrokeData!A303","v":300},{"$f":"MassDataLink!A539","v":536},-1,-1,-1,-1,-1,-1,-1,-1,-1,-1,-1,-1,-1,-1,-1]
[37,"RCP2-RA10C",50,300,0,{"$f":"LeadData!A103","v":100},{"$f":"StrokeData!A304","v":301},{"$f":"MassDataLink!A547","v":544},{"$f":"LeadData!A104","v":101},{"$f":"StrokeData!A305","v":302},{"$f":"MassDataLink!A555","v":552},{"$f":"LeadData!A105","v":102},{"$f":"StrokeData!A306","v":303},{"$f":"MassDataLink!A569","v":566},-1,-1,-1,-1,-1,-1,-1,-1,-1,-1,-1,-1,-1,-1,-1]
[38,"RCP2-SRA4R",20,200,0,{"$f":"LeadData!A106","v":103},{"$f":"StrokeData!A307","v":304},{"$f":"MassDataLink!A581","v":578},{"$f":"LeadData!A107","v":104},{"$f":"StrokeData!A308","v":305},{"$f":"MassDataLink!A589","v":586},-1,-1,-1,-1,-1,-1,-1,-1,-1,-1,-1,-1,-1,-1,-1,-1,-1,-1]
[39,"RCP2-RGS4C",50,300,0,{"$f":"LeadData!A108","v":105},{"$f":"StrokeData!A309","v":306},{"$f":"MassDataLink!A598","v":595},{"$f":"LeadData!A109","v":106},{"$f":"StrokeData!A312","v":309},{"$f":"MassDataLink!A603","v":600},{"$f":"LeadData!A110","v":107},{"$f":"StrokeData!A315","v":312},{"$f":"MassDataLink!A611","v":608},-1,-1,-1,-1,-1,-1,-1,-1,-1,-1,-1,-1,-1,-1,-1]
[40,"RCP2-RGS6C",50,300,0,{"$f":"LeadData!A111","v":108},{"$f":"StrokeData!A318","v":315},{"$f":"MassDataLink!A618","v":615},{"$f":"LeadData!A112","v":109},{"$f":"StrokeData!A319","v":316},{"$f":"MassDataLink!A626","v":623},{"$f":"LeadData!A113","v":110},{"$f":"StrokeData!A320","v":317},{"$f":"MassDataLink!A633","v":630},-1,-1,-1,-1,-1,-1,-1,-1,-1,-1,-1,-1,-1,-1,-1]
[41,"RCP2-SRGS4R",20,200,0,{"$f":"LeadData!A114","v":111},{"$f":"StrokeData!A321","v":318},{"$f":"MassDataLink!A641","v":638},{"$f":"LeadData!A115","v":112},{"$f":"StrokeData!A322","v":319},{"$f":"MassDataLink!A649","v":646},-1,-1,-1,-1,-1,-1,-1,-1,-1,-1,-1,-1,-1,-1,-1,-1,-1,-1]
[42,"RCP2-RGD3C",50,200,0,{"$f":"LeadData!A116","v":113},{"$f":"StrokeData!A323","v":320},{"$f":"MassDataLink!A658","v":655},{"$f":"LeadData!A117","v":114},{"$f":"StrokeData!A324","v":321},{"$f":"MassDataLink!A664","v":661},-1,-1,-1,-1,-1,-1,-1,-1,-1,-1,-1,-1,-1,-1,-1,-1,-1,-1]
[43,"RCP2-RGD4C",50,300,0,{"$f":"LeadData!A118","v":115},{"$f":"StrokeData!A325","v":322},{"$f":"MassDataLink!A672","v":669},{"$f":"LeadData!A119","v":116},{"$f":"StrokeData!A328","v":325},{"$f":"MassDataLink!A677","v":674},{"$f":"LeadData!A120","v":117},{"$f":"StrokeData!A331","v":328},{"$f":"MassDataLink!A685","v":682},-1,-1,-1,-1,-1,-1,-1,-1,-1,-1,-1,-1,-1,-1,-1]
[44,"RCP2-RGD6C",50,300,0,{"$f":"LeadData!A121","v":118},{"$f":"StrokeData!A334","v":331},{"$f":"MassDataLink!A692","v":689},{"$f":"LeadData!A122","v":119},{"$f":"StrokeData!A335","v":332},{"$f":"MassDataLink!A700","v":697},{"$f":"LeadData!A123","v":120},{"$f":"StrokeData!A336","v":333},{"$f":"MassDataLink!A707","v":704},-1,-1,-1,-1,-1,-1,-1,-1,-1,-1,-1,-1,-1,-1,-1]
[45,"RCP2-SRGD4R",20,200,0,{"$f":"LeadData!A124","v":121},{"$f":"StrokeData!A337","v":334},{"$f":"MassDataLink!A715","v":712},{"$f":"LeadData!A125","v":122},{"$f":"StrokeData!A338","v":335},{"$f":"MassDataLink!A723","v":720},-1,-1,-1,-1,-1,-1,-1,-1,-1,-1,-1,-1,-1,-1,-1,-1,-1,-1]
[46,"ERC2-RA6C",50,300,0,{"$f":"LeadData!A126","v":123},{"$f":"StrokeData!A339","v":336},{"$f":"MassDataLink!A732","v":729},{"$f":"LeadData!A127","v":124},{"$f":"StrokeData!A341","v":338},{"$f":"MassDataLink!A736","v":733},{"$f":"LeadData!A128","v":125},{"$f":"StrokeData!A343","v":340},{"$f":"MassDataLink!A743","v":740},-1,-1,-1,-1,-1,-1,-1,-1,-1,-1,-1,-1,-1,-1,-1]
[47,"ERC2-RA7C",50,300,0,{"$f":"LeadData!A129","v":126},{"$f":"StrokeData!A345","v":342},{"$f":"MassDataLink!A750","v":747},{"$f":"LeadData!A130","v":127},{"$f":"StrokeData!A346","v":343},{"$f":"MassDataLink!A756","v":753},{"$f":"LeadData!A131","v":128},{"$f":"StrokeData!A347","v":344},{"$f":"MassDataLink!A764","v":761},-1,-1,-1,-1,-1,-1,-1,-1,-1,-1,-1,-1,-1,-1,-1]
[48,"ERC2-RGS6C",50,300,0,{"$f":"LeadData!A132","v":129},{"$f":"StrokeData!A348","v":345},{"$f":"MassDataLink!A769","v":766},{"$f":"LeadData!A133","v":130},{"$f":"StrokeData!A350","v":347},{"$f":"MassDataLink!A773","v":770},{"$f":"LeadData!A134","v":131},{"$f":"StrokeData!A352","v":349},{"$f":"MassDataLink!A780","v":777},-1,-1,-1,-1,-1,-1,-1,-1,-1,-1,-1,-1,-1,-1,-1]
[49,"ERC2-RGS7C",50,300,0,{"$f":"LeadData!A135","v":132},{"$f":"StrokeData!A354","v":351},{"$f":"MassDataLink!A787","v":784},{"$f":"LeadData!A136","v":133},{"$f":"StrokeData!A355","v":352},{"$f":"MassDataLink!A793","v":790},{"$f":"LeadData!A137","v":134},{"$f":"StrokeData!A356","v":353},{"$f":"MassDataLink!A801","v":798},-1,-1,-1,-1,-1,-1,-1,-1,-1,-1,-1,-1,-1,-1,-1]
[50,"ERC2-RGD6C",50,300,0,{"$f":"LeadData!A138","v":135},{"$f":"StrokeData!A357","v":354},{"$f":"MassDataLink!A806","v":803},{"$f":"LeadData!A139","v":136},{"$f":"StrokeData!A359","v":356},{"$f":"MassDataLink!A810","v":807},{"$f":"LeadData!A140","v":137},{"$f":"StrokeData!A361","v":358},{"$f":"MassDataLink!A817","v":814},-1,-1,-1,-1,-1,-1,-1,-1,-1,-1,-1,-1,-1,-1,-1]
[51,"ERC2-RGD7C",50,300,0,{"$f":"LeadData!A141","v":138},{"$f":"StrokeData!A363","v":360},{"$f":"MassDataLink!A824","v":821},{"$f":"LeadData!A142","v":139},{"$f":"StrokeData!A364","v":361},{"$f":"MassDataLink!A830","v":827},{"$f":"LeadData!A143","v":140},{"$f":"StrokeData!A365","v":362},{"$f":"MassDataLink!A838","v":835},-1,-1,-1,-1,-1,-1,-1,-1,-1,-1,-1,-1,-1,-1,-1]
[52,"RCP3-TA3C",20,100,0,{"$f":"LeadData!A144","v":141},{"$f":"StrokeData!A366","v":363},{"$f":"MassDataLink!A843","v":840},{"$f":"LeadData!A145","v":142},{"$f":"StrokeData!A367","v":364},{"$f":"MassDataLink!A847","v":844},{"$f":"LeadData!A146","v":143},{"$f":"StrokeData!A368","v":365},{"$f":"MassDataLink!A851","v":848},-1,-1,-1,-1,-1,-1,-1,-1,-1,-1,-1,-1,-1,-1,-1]
[53,"RCP3-TA4C",20,100,0,{"$f":"LeadData!A147","v":144},{"$f":"StrokeData!A369","v":366},{"$f":"MassDataLink!A855","v":852},{"$f":"LeadData!A148","v":145},{"$f":"StrokeData!A370","v":367},{"$f":"MassDataLink!A859","v":856},{"$f":"LeadData!A149","v":146},{"$f":"StrokeData!A371","v":368},{"$f":"MassDataLink!A863","v":860},-1,-1,-1,-1,-1,-1,-1,-1,-1,-1,-1,-1,-1,-1,-1]
[54,"RCP3-TA5C",25,100,0,{"$f":"LeadData!A150","v":147},{"$f":"StrokeData!A372","v":369},{"$f":"MassDataLink!A867","v":864},{"$f":"LeadData!A151","v":148},{"$f":"StrokeData!A373","v":370},{"$f":"MassDataLink!A875","v":872},{"$f":"LeadData!A152","v":149},{"$f":"StrokeData!A374","v":371},{"$f":"MassDataLink!A881","v":878},-1,-1,-1,-1,-1,-1,-1,-1,-1,-1,-1,-1,-1,-1,-1]
[55,"RCP3-TA6C",25,150,0,{"$f":"LeadData!A153","v":150},{"$f":"StrokeData!A375","v":372},{"$f":"MassDataLink!A885","v":882},{"$f":"LeadData!A154","v":151},{"$f":"StrokeData!A376","v":373},{"$f":"MassDataLink!A889","v":886},{"$f":"LeadData!A155","v":152},{"$f":"StrokeData!A377","v":374},{"$f":"MassDataLink!A893","v":890},-1,-1,-1,-1,-1,-1,-1,-1,-1,-1,-1,-1,-1,-1,-1]
[56,"RCP3-TA7C",25,200,0,{"$f":"LeadData!A156","v":153},{"$f":"StrokeData!A378","v":375},{"$f":"MassDataLink!A897","v":894},{"$f":"LeadData!A157","v":154},{"$f":"StrokeData!A379","v":376},{"$f":"MassDataLink!A901","v":898},{"$f":"LeadData!A158","v":155},{"$f":"StrokeData!A380","v":377},{"$f":"MassDataLink!A905","v":902},-1,-1,-1,-1,-1,-1,-1,-1,-1,-1,-1,-1,-1,-1,-1]
[57,"RCP3-TA3R",20,100,0,{"$f":"LeadData!A159","v":156},{"$f":"StrokeData!A381","v":378},{"$f":"MassDataLink!A910","v":907},{"$f":"LeadData!A160","v":157},{"$f":"StrokeData!A382","v":379},{"$f":"MassDataLink!A914","v":911},{"$f":"LeadData!A161","v":158},{"$f":"StrokeData!A383","v":380},{"$f":"MassDataLink!A918","v":915},-1,-1,-1,-1,-1,-1,-1,-1,-1,-1,-1,-1,-1,-1,-1]
[58,"RCP3-TA4R",20,100,0,{"$f":"LeadData!A162","v":159},{"$f":"StrokeData!A384","v":381},{"$f":"MassDataLink!A922","v":919},{"$f":"LeadData!A163","v":160},{"$f":"StrokeData!A385","v":382},{"$f":"MassDataLink!A926","v":923},{"$f":"LeadData!A164","v":161},{"$f":"StrokeData!A386","v":383},{"$f":"MassDataLink!A930","v":927},-1,-1,-1,-1,-1,-1,-1,-1,-1,-1,-1,-1,-1,-1,-1]
[59,"RCP3-TA5R",25,100,0,{"$f":"LeadData!A165","v":162},{"$f":"StrokeData!A387","v":384},{"$f":"MassDataLink!A934","v":931},{"$f":"LeadData!A166","v":163},{"$f":"StrokeData!A388","v":385},{"$f":"MassDataLink!A942","v":939},{"$f":"LeadData!A167","v":164},{"$f":"StrokeData!A389","v":386},{"$f":"MassDataLink!A948","v":945},-1,-1,-1,-1,-1,-1,-1,-1,-1,-1,-1,-1,-1,-1,-1]
[60,"RCP3-TA6R",25,150,0,{"$f":"LeadData!A168","v":165},{"$f":"StrokeData!A390","v":387},{"$f":"MassDataLink!A952","v":949},{"$f":"LeadData!A169","v":166},{"$f":"StrokeData!A391","v":388},{"$f":"MassDataLink!A956","v":953},{"$f":"LeadData!A170","v":167},{"$f":"StrokeData!A392","v":389},{"$f":"MassDataLink!A960","v":957},-1,-1,-1,-1,-1,-1,-1,-1,-1,-1,-1,-1,-1,-1,-1]
[61,"RCP3-TA7R",25,200,0,{"$f":"LeadData!A171","v":168},{"$f":"StrokeData!A393","v":390},{"$f":"MassDataLink!A964","v":961},{"$f":"LeadData!A172","v":169},{"$f":"StrokeData!A394","v":391},{"$f":"MassDataLink!A968","v":965},{"$f":"LeadData!A173","v":170},{"$f":"StrokeData!A395","v":392},{"$f":"MassDataLink!A972","v":969},-1,-1,-1,-1,-1,-1,-1,-1,-1,-1,-1,-1,-1,-1,-1]
[62,"RCP2-RTBSL",360,360,1,{"$f":"LeadData!A174","v":171},{"$f":"StrokeData!A396","v":393},{"$f":"MassDataLink!A977","v":974},{"$f":"LeadData!A175","v":172},{"$f":"StrokeData!A397","v":394},{"$f":"MassDataLink!A978","v":975},-1,-1,-1,-1,-1,-1,-1,-1,-1,-1,-1,-1,-1,-1,-1,-1,-1,-1]
[63,"RCP2-RTCSL",360,360,1,{"$f":"LeadData!A176","v":173},{"$f":"StrokeData!A398","v":395},{"$f":"MassDataLink!A979","v":976},{"$f":"LeadData!A177","v":174},{"$f":"StrokeData!A399","v":396},{"$f":"MassDataLink!A980","v":977},-1,-1,-1,-1,-1,-1,-1,-1,-1,-1,-1,-1,-1,-1,-1,-1,-1,-1]
[64,"RCP2-RTBL",360,360,1,{"$f":"LeadData!A178","v":175},{"$f":"StrokeData!A400","v":397},{"$f":"MassDataLink!A981","v":978},{"$f":"LeadData!A179","v":176},{"$f":"StrokeData!A401","v":398},{"$f":"MassDataLink!A983","v":980},-1,-1,-1,-1,-1,-1,-1,-1,-1,-1,-1,-1,-1,-1,-1,-1,-1,-1]
[65,"RCP2-RTCL",360,360,1,{"$f":"LeadData!A180","v":177},{"$f":"StrokeData!A402","v":399},{"$f":"MassDataLink!A985","v":982},{"$f":"LeadData!A181","v":178},{"$f":"StrokeData!A403","v":400},{"$f":"MassDataLink!A987","v":984},-1,-1,-1,-1,-1,-1,-1,-1,-1,-1,-1,-1,-1,-1,-1,-1,-1,-1]
[66,"RCP2-RTBBL",360,360,1,{"$f":"LeadData!A182","v":179},{"$f":"StrokeData!A404","v":401},{"$f":"MassDataLink!A989","v":986},{"$f":"LeadData!A183","v":180},{"$f":"StrokeData!A405","v":402},{"$f":"MassDataLink!A991","v":988},-1,-1,-1,-1,-1,-1,-1,-1,-1,-1,-1,-1,-1,-1,-1,-1,-1,-1]
[67,"RCP2-RTCBL",360,360,1,{"$f":"LeadData!A184","v":181},{"$f":"StrokeData!A406","v":403},{"$f":"MassDataLink!A993","v":990},{"$f":"LeadData!A185","v":182},{"$f":"StrokeData!A407","v":404},{"$f":"MassDataLink!A995","v":992},-1,-1,-1,-1,-1,-1,-1,-1,-1,-1,-1,-1,-1,-1,-1,-1,-1,-1]
[68,"RCP2CR-SA5C",50,800,0,{"$f":"LeadData!A186","v":183},{"$f":"StrokeData!A408","v":405},{"$f":"MassDataLink!A997","v":994},{"$f":"LeadData!A187","v":184},{"$f":"StrokeData!A414","v":411},{"$f":"MassDataLink!A1011","v":1008},{"$f":"LeadData!A188","v":185},{"$f":"StrokeData!A420","v":417},{"$f":"MassDataLink!A1022","v":1019},-1,-1,-1,-1,-1,-1,-1,-1,-1,-1,-1,-1,-1,-1,-1]
[69,"RCP2CR-SA6C",50,800,0,{"$f":"LeadData!A189","v":186},{"$f":"StrokeData!A426","v":423},{"$f":"MassDataLink!A1033","v":1030},{"$f":"LeadData!A190","v":187},{"$f":"StrokeData!A432","v":429},{"$f":"MassDataLink!A1046","v":1043},{"$f":"LeadData!A191","v":188},{"$f":"StrokeData!A438","v":435},{"$f":"MassDataLink!A1060","v":1057},-1,-1,-1,-1,-1,-1,-1,-1,-1,-1,-1,-1,-1,-1,-1]
[70,"RCP2CR-SA7C",50,800,0,{"$f":"LeadData!A192","v":189},{"$f":"StrokeData!A444","v":441},{"$f":"MassDataLink!A1070","v":1067},{"$f":"LeadData!A193","v":190},{"$f":"StrokeData!A447","v":444},{"$f":"MassDataLink!A1075","v":1072},{"$f":"LeadData!A194","v":191},{"$f":"StrokeData!A450","v":447},{"$f":"MassDataLink!A1082","v":1079},-1,-1,-1,-1,-1,-1,-1,-1,-1,-1,-1,-1,-1,-1,-1]
[71,"RCP2CR-SS7C",50,600,0,{"$f":"LeadData!A195","v":192},{"$f":"StrokeData!A457","v":454},{"$f":"MassDataLink!A1089","v":1086},{"$f":"LeadData!A196","v":193},{"$f":"StrokeData!A459","v":456},{"$f":"MassDataLink!A1095","v":1092},{"$f":"LeadData!A197","v":194},{"$f":"StrokeData!A461","v":458},{"$f":"MassDataLink!A1101","v":1098},-1,-1,-1,-1,-1,-1,-1,-1,-1,-1,-1,-1,-1,-1,-1]
[72,"RCP2CR-SS8C",50,1000,0,{"$f":"LeadData!A198","v":195},{"$f":"StrokeData!A463","v":460},{"$f":"MassDataLink!A1109","v":1106},{"$f":"LeadData!A199","v":196},{"$f":"StrokeData!A467","v":464},{"$f":"MassDataLink!A1117","v":1114},{"$f":"LeadData!A200","v":197},{"$f":"StrokeData!A471","v":468},{"$f":"MassDataLink!A1125","v":1122},-1,-1,-1,-1,-1,-1,-1,-1,-1,-1,-1,-1,-1,-1,-1]
[{"$f":"A75+1","v":73},"RCP2CR-HS8C",50,1000,0,{"$f":"LeadData!A201","v":198},{"$f":"StrokeData!A475","v":472},{"$f":"MassDataLink!A1132","v":1129},-1,-1,-1,-1,-1,-1,-1,-1,-1,-1,-1,-1,-1,-1,-1,-1,-1,-1,-1,-1,-1]
[{"$f":"A76+1","v":74},"RCP2W-RA4C",50,300,0,{"$f":"LeadData!A202","v":199},{"$f":"StrokeData!A479","v":476},{"$f":"MassDataLink!A1140","v":1137},{"$f":"LeadData!A203","v":200},{"$f":"StrokeData!A482","v":479},{"$f":"MassDataLink!A1145","v":1142},{"$f":"LeadData!A204","v":201},{"$f":"StrokeData!A485","v":482},{"$f":"MassDataLink!A1149","v":1146},-1,-1,-1,-1,-1,-1,-1,-1,-1,-1,-1,-1,-1,-1,-1]
[{"$f":"A77+1","v":75},"RCP2W-RA6C",50,300,0,{"$f":"LeadData!A205","v":202},{"$f":"StrokeData!A488","v":485},{"$f":"MassDataLink!A1154","v":1151},{"$f":"LeadData!A206","v":203},{"$f":"StrokeData!A489","v":486},{"$f":"MassDataLink!A1159","v":1156},{"$f":"LeadData!A207","v":204},{"$f":"StrokeData!A490","v":487},{"$f":"MassDataLink!A1164","v":1161},-1,-1,-1,-1,-1,-1,-1,-1,-1,-1,-1,-1,-1,-1,-1]
[{"$f":"A78+1","v":76},"RCP2W-RA10C",50,300,0,{"$f":"LeadData!A208","v":205},{"$f":"StrokeData!A491","v":488},{"$f":"MassDataLink!A1171","v":1168},{"$f":"LeadData!A209","v":206},{"$f":"StrokeData!A492","v":489},{"$f":"MassDataLink!A1179","v":1176},{"$f":"LeadData!A210","v":207},{"$f":"StrokeData!A493","v":490},{"$f":"MassDataLink!A1193","v":1190},-1,-1,-1,-1,-1,-1,-1,-1,-1,-1,-1,-1,-1,-1,-1]
[77,"RCP3-RA2AC-20P",25,100,0,{"$f":"LeadData!A211","v":208},{"$f":"StrokeData!A494","v":491},{"$f":"MassDataLink!A1205","v":1202},{"$f":"LeadData!A212","v":209},{"$f":"StrokeData!A495","v":492},{"$f":"MassDataLink!A1207","v":1204},{"$f":"LeadData!A213","v":210},{"$f":"StrokeData!A496","v":493},{"$f":"MassDataLink!A1209","v":1206},-1,-1,-1,-1,-1,-1,-1,-1,-1,-1,-1,-1,-1,-1,-1]
[78,"RCP3-RA2AC-20SP",25,100,0,{"$f":"LeadData!A214","v":211},{"$f":"StrokeData!A497","v":494},{"$f":"MassDataLink!A1211","v":1208},{"$f":"LeadData!A215","v":212},{"$f":"StrokeData!A498","v":495},{"$f":"MassDataLink!A1213","v":1210},{"$f":"LeadData!A216","v":213},{"$f":"StrokeData!A499","v":496},{"$f":"MassDataLink!A1215","v":1212},-1,-1,-1,-1,-1,-1,-1,-1,-1,-1,-1,-1,-1,-1,-1]
[79,"RCP3-RA2BC-20P",25,150,0,{"$f":"LeadData!A217","v":214},{"$f":"StrokeData!A500","v":497},{"$f":"MassDataLink!A1217","v":1214},{"$f":"LeadData!A218","v":215},{"$f":"StrokeData!A501","v":498},{"$f":"MassDataLink!A1219","v":1216},{"$f":"LeadData!A219","v":216},{"$f":"StrokeData!A502","v":499},{"$f":"MassDataLink!A1221","v":1218},{"$f":"LeadData!A220","v":217},{"$f":"StrokeData!A503","v":500},{"$f":"MassDataLink!A1223","v":1220},-1,-1,-1,-1,-1,-1,-1,-1,-1,-1,-1,-1]
[80,"RCP3-RA2BC-20SP",25,150,0,{"$f":"LeadData!A221","v":218},{"$f":"StrokeData!A504","v":501},{"$f":"MassDataLink!A1225","v":1222},{"$f":"LeadData!A222","v":219},{"$f":"StrokeData!A505","v":502},{"$f":"MassDataLink!A1227","v":1224},{"$f":"LeadData!A223","v":220},{"$f":"StrokeData!A506","v":503},{"$f":"MassDataLink!A1229","v":1226},{"$f":"LeadData!A224","v":221},{"$f":"StrokeData!A507","v":504},{"$f":"MassDataLink!A1231","v":1228},-1,-1,-1,-1,-1,-1,-1,-1,-1,-1,-1,-1]
[81,"RCP3-RA2AR-20P",25,100,0,{"$f":"LeadData!A225","v":222},{"$f":"StrokeData!A508","v":505},{"$f":"MassDataLink!A1233","v":1230},{"$f":"LeadData!A226","v":223},{"$f":"StrokeData!A509","v":506},{"$f":"MassDataLink!A1235","v":1232},{"$f":"LeadData!A227","v":224},{"$f":"StrokeData!A510","v":507},{"$f":"MassDataLink!A1237","v":1234},-1,-1,-1,-1,-1,-1,-1,-1,-1,-1,-1,-1,-1,-1,-1]
[82,"RCP3-RA2AR-20SP",25,100,0,{"$f":"LeadData!A228","v":225},{"$f":"StrokeData!A511","v":508},{"$f":"MassDataLink!A1239","v":1236},{"$f":"LeadData!A229","v":226},{"$f":"StrokeData!A512","v":509},{"$f":"MassDataLink!A1241","v":1238},{"$f":"LeadData!A230","v":227},{"$f":"StrokeData!A513","v":510},{"$f":"MassDataLink!A1243","v":1240},-1,-1,-1,-1,-1,-1,-1,-1,-1,-1,-1,-1,-1,-1,-1]
[83,"RCP3-RA2BR-20P",25,150,0,{"$f":"LeadData!A231","v":228},{"$f":"StrokeData!A514","v":511},{"$f":"MassDataLink!A1245","v":1242},{"$f":"LeadData!A232","v":229},{"$f":"StrokeData!A515","v":512},{"$f":"MassDataLink!A1247","v":1244},{"$f":"LeadData!A233","v":230},{"$f":"StrokeData!A516","v":513},{"$f":"MassDataLink!A1249","v":1246},{"$f":"LeadData!A234","v":231},{"$f":"StrokeData!A517","v":514},{"$f":"MassDataLink!A1251","v":1248},-1,-1,-1,-1,-1,-1,-1,-1,-1,-1,-1,-1]
[84,"RCP3-RA2BR-20SP",25,150,0,{"$f":"LeadData!A235","v":232},{"$f":"StrokeData!A518","v":515},{"$f":"MassDataLink!A1253","v":1250},{"$f":"LeadData!A236","v":233},{"$f":"StrokeData!A519","v":516},{"$f":"MassDataLink!A1255","v":1252},{"$f":"LeadData!A237","v":234},{"$f":"StrokeData!A520","v":517},{"$f":"MassDataLink!A1257","v":1254},{"$f":"LeadData!A238","v":235},{"$f":"StrokeData!A521","v":518},{"$f":"MassDataLink!A1259","v":1256},-1,-1,-1,-1,-1,-1,-1,-1,-1,-1,-1,-1]
[{"$f":"A87+1","v":85},"RCP2-RA8C",50,300,0,{"$f":"LeadData!A239","v":236},{"$f":"StrokeData!A522","v":519},{"$f":"MassDataLink!A1261","v":1258},{"$f":"LeadData!A240","v":237},{"$f":"StrokeData!A523","v":520},{"$f":"MassDataLink!A1273","v":1270},-1,-1,-1,-1,-1,-1,-1,-1,-1,-1,-1,-1,-1,-1,-1,-1,-1,-1]
[{"$f":"A88+1","v":86},"RCP2-RA8R",50,300,0,{"$f":"LeadData!A241","v":238},{"$f":"StrokeData!A524","v":521},{"$f":"MassDataLink!A1291","v":1288},{"$f":"LeadData!A242","v":239},{"$f":"StrokeData!A525","v":522},{"$f":"MassDataLink!A1299","v":1296},-1,-1,-1,-1,-1,-1,-1,-1,-1,-1,-1,-1,-1,-1,-1,-1,-1,-1]

{"sheet":"LeadData","index":3,"n_rows":242,"n_cols":12,"rows_kept":242,"cut":false,"hidden":true,"merged":[[197,10,199,10],[201,10,203,10],[26,10,28,10],[19,10,22,10],[15,10,18,10],[29,10,31,10],[32,10,34,10],[69,10,71,10],[35,10,37,10],[38,10,40,10],[41,10,43,10],[44,10,46,10],[47,10,49,10],[50,10,52,10],[53,10,55,10],[57,10,59,10],[3,10,5,10],[6,10,8,10],[9,10,11,10],[12,10,14,10],[23,10,25,10],[60,10,62,10],[63,10,65,10],[66,10,68,10],[107,10,109,10],[75,10,77,10],[78,10,80,10],[81,10,83,10],[84,10,86,10],[87,10,89,10],[90,10,92,10],[94,10,95,10],[96,10,98,10],[99,10,101,10],[102,10,104,10],[105,10,106,10],[140,10,142,10],[110,10,112,10],[113,10,114,10],[115,10,116,10],[117,10,119,10],[120,10,122,10],[123,10,124,10],[125,10,127,10],[128,10,130,10],[131,10,133,10],[134,10,136,10],[137,10,139,10],[143,10,145,10],[146,10,148,10],[238,10,239,10],[240,10,241,10],[234,10,237,10],[210,10,212,10],[216,10,219,10],[224,10,226,10],[230,10,233,10],[213,10,215,10],[185,10,187,10],[188,10,190,10],[173,10,174,10],[175,10,176,10],[177,10,178,10],[179,10,180,10],[220,10,223,10],[227,10,229,10],[149,10,151,10],[152,10,154,10],[155,10,157,10],[158,10,160,10],[161,10,163,10],[164,10,166,10],[167,10,169,10],[170,10,172,10],[181,10,182,10],[183,10,184,10],[204,10,206,10],[207,10,209,10],[191,10,193,10],[194,10,196,10]]}
[9.8066499999999994,1,3,4,5,6,10,11,13,15]
["データ№","ﾘｰﾄﾞ長","水平定格加速度","垂直定格加速度","水平最大加速度","垂直最大加速度","ｷﾞｱ比分子","ｷﾞｱ比分母","ｽﾄﾛｰｸ刻み","位置決め幅\n初期値","備考"]
[{"$f":"ModelData!A3","v":0},"0.001㎜","0.001mm/s^2","0.001mm/s^2","0.001mm/s^2","0.001mm/s^2",null,null,"mm","mm"]
[{"$f":"A3+1","v":1},1000,{"$f":"$A$1*1000*1000*0.2","v":1961330},-1,{"$f":"$A$1*1000*1000*0.2","v":1961330},-1,1,1,25,0.1,"RCP3-SA2AC-20P-*S"]
[2,2000,1961330,-1,1961330,-1,1,1,25,0.1]
[3,4000,1961330,-1,1961330,-1,1,1,25,0.1]
[4,2000,1961330,-1,1961330,-1,1,1,25,0.1,"RCP3-SA2BC-20P-*S"]
[5,4000,1961330,-1,1961330,-1,1,1,25,0.1]
[6,6000,1961330,-1,1961330,-1,1,1,25,0.1]
[7,2000,1961330,{"$f":"$A$1*1000*1000*0.2","v":1961330},1961330,{"$f":"$A$1*1000*1000*0.2","v":1961330},1,1,50,0.1,"RCP3-SA3C"]
[8,4000,{"$f":"$A$1*1000*1000*0.3","v":2941995},1961330,{"$f":"$A$1*1000*1000*0.3","v":2941995},{"$f":"$A$1*1000*1000*0.2","v":1961330},1,1,50,0.1]
[9,6000,{"$f":"$A$1*1000*1000*0.3","v":2941995},1961330,{"$f":"$A$1*1000*1000*0.3","v":2941995},{"$f":"$A$1*1000*1000*0.2","v":1961330},1,1,50,0.1]
[10,2500,{"$f":"$A$1*1000*1000*0.2","v":1961330},1961330,{"$f":"$A$1*1000*1000*0.7","v":6864655},{"$f":"$A$1*1000*1000*0.3","v":2941995},1,1,50,0.1,"RCP3-SA4C"]
[11,5000,{"$f":"$A$1*1000*1000*0.3","v":2941995},1961330,6864655,2941995,1,1,50,0.1]
[12,10000,{"$f":"$A$1*1000*1000*0.3","v":2941995},1961330,6864655,2941995,1,1,50,0.1]
[13,3000,{"$f":"$A$1*1000*1000*0.2","v":1961330},1961330,6864655,2941995,1,1,50,0.1,"RCP3-SA5C"]
[14,6000,{"$f":"$A$1*1000*1000*0.3","v":2941995},1961330,6864655,2941995,1,1,50,0.1]
[{"$f":"A17+1","v":15},12000,{"$f":"$A$1*1000*1000*0.3","v":2941995},1961330,6864655,2941995,1,1,50,0.1]
[16,20000,{"$f":"$A$1*1000*1000*0.3","v":2941995},{"$f":"$A$1*1000*1000*0.2","v":1961330},{"$f":"$A$1*1000*1000*0.7","v":6864655},{"$f":"$A$1*1000*1000*0.2","v":1961330},1,1,50,0.1]
[17,3000,{"$f":"$A$1*1000*1000*0.2","v":1961330},1961330,6864655,2941995,1,1,50,0.1,"RCP3-SA6C"]
[18,6000,{"$f":"$A$1*1000*1000*0.3","v":2941995},1961330,6864655,2941995,1,1,50,0.1]
[19,12000,{"$f":"$A$1*1000*1000*0.3","v":2941995},1961330,6864655,2941995,1,1,50,0.1]
[20,20000,{"$f":"$A$1*1000*1000*0.3","v":2941995},{"$f":"$A$1*1000*1000*0.2","v":1961330},{"$f":"$A$1*1000*1000*0.7","v":6864655},{"$f":"$A$1*1000*1000*0.2","v":1961330},1,1,50,0.1]
[21,1000,{"$f":"$A$1*1000*1000*0.2","v":1961330},-1,{"$f":"$A$1*1000*1000*0.2","v":1961330},-1,1,1,25,0.1,"RCP3-SA2AR-20P-*S"]
[22,2000,1961330,-1,1961330,-1,1,1,25,0.1]
[23,4000,1961330,-1,1961330,-1,1,1,25,0.1]
[24,2000,1961330,-1,1961330,-1,1,1,25,0.1,"RCP3-SA2BR-20P-*S"]
[25,4000,1961330,-1,1961330,-1,1,1,25,0.1]
[26,6000,1961330,-1,1961330,-1,1,1,25,0.1]
[27,2000,1961330,{"$f":"$A$1*1000*1000*0.2","v":1961330},1961330,{"$f":"$A$1*1000*1000*0.2","v":1961330},1,1,50,0.1,"RCP3-SA3R"]
[28,4000,{"$f":"$A$1*1000*1000*0.3","v":2941995},1961330,{"$f":"$A$1*1000*1000*0.3","v":2941995},1961330,1,1,50,0.1]
[29,6000,{"$f":"$A$1*1000*1000*0.3","v":2941995},1961330,{"$f":"$A$1*1000*1000*0.3","v":2941995},1961330,1,1,50,0.1]
[30,2500,{"$f":"$A$1*1000*1000*0.2","v":1961330},1961330,{"$f":"$A$1*1000*1000*0.2","v":1961330},1961330,1,1,50,0.1,"RCP3-SA4R","←Ver.Dまで使用していたデータ．販売部から機械諸元をストレートタイプと揃える依頼があり，参照先をストレートタイプと同一データへ移動．"]
[31,5000,{"$f":"$A$1*1000*1000*0.3","v":2941995},1961330,{"$f":"$A$1*1000*1000*0.3","v":2941995},1961330,1,1,50,0.1,null,"←Ver.Dまで使用していたデータ．販売部から機械諸元をストレートタイプと揃える依頼があり，参照先をストレートタイプと同一データへ移動．"]
[32,10000,{"$f":"$A$1*1000*1000*0.3","v":2941995},1961330,{"$f":"$A$1*1000*1000*0.3","v":2941995},1961330,1,1,50,0.1,null,"←Ver.Dまで使用していたデータ．販売部から機械諸元をストレートタイプと揃える依頼があり，参照先をストレートタイプと同一データへ移動．"]
[33,3000,{"$f":"$A$1*1000*1000*0.2","v":1961330},1961330,{"$f":"$A$1*1000*1000*0.2","v":1961330},1961330,1,1,50,0.1,"RCP3-SA5R","←Ver.Dまで使用していたデータ．販売部から機械諸元をストレートタイプと揃える依頼があり，参照先をストレートタイプと同一データへ移動．"]
[34,6000,{"$f":"$A$1*1000*1000*0.3","v":2941995},1961330,{"$f":"$A$1*1000*1000*0.3","v":2941995},1961330,1,1,50,0.1,null,"←Ver.Dまで使用していたデータ．販売部から機械諸元をストレートタイプと揃える依頼があり，参照先をストレートタイプと同一データへ移動．"]
[35,12000,{"$f":"$A$1*1000*1000*0.3","v":2941995},1961330,{"$f":"$A$1*1000*1000*0.3","v":2941995},1961330,1,1,50,0.1,null,"←Ver.Dまで使用していたデータ．販売部から機械諸元をストレートタイプと揃える依頼があり，参照先をストレートタイプと同一データへ移動．"]
[36,3000,{"$f":"$A$1*1000*1000*0.2","v":1961330},1961330,{"$f":"$A$1*1000*1000*0.2","v":1961330},1961330,1,1,50,0.1,"RCP3-SA6R","←Ver.Dまで使用していたデータ．販売部から機械諸元をストレートタイプと揃える依頼があり，参照先をストレートタイプと同一データへ移動．"]
[37,6000,{"$f":"$A$1*1000*1000*0.3","v":2941995},1961330,{"$f":"$A$1*1000*1000*0.3","v":2941995},1961330,1,1,50,0.1,null,"←Ver.Dまで使用していたデータ．販売部から機械諸元をストレートタイプと揃える依頼があり，参照先をストレートタイプと同一データへ移動．"]
[38,12000,{"$f":"$A$1*1000*1000*0.3","v":2941995},1961330,{"$f":"$A$1*1000*1000*0.3","v":2941995},1961330,1,1,50,0.1,null,"←Ver.Dまで使用していたデータ．販売部から機械諸元をストレートタイプと揃える依頼があり，参照先をストレートタイプと同一データへ移動．"]
[39,3000,{"$f":"$A$1*1000*1000*0.2","v":1961330},1961330,{"$f":"$A$1*1000*1000*0.7","v":6864655},{"$f":"$A$1*1000*1000*0.3","v":2941995},1,1,50,0.1,"RCP2-SA5C"]
[40,6000,{"$f":"$A$1*1000*1000*0.3","v":2941995},1961330,6864655,2941995,1,1,50,0.1]
[41,12000,{"$f":"$A$1*1000*1000*0.3","v":2941995},1961330,6864655,2941995,1,1,50,0.1]
[42,3000,{"$f":"$A$1*1000*1000*0.2","v":1961330},1961330,6864655,2941995,1,1,50,0.1,"RCP2-SA6C"]
[43,6000,{"$f":"$A$1*1000*1000*0.3","v":2941995},1961330,6864655,2941995,1,1,50,0.1]
[44,12000,{"$f":"$A$1*1000*1000*0.3","v":2941995},1961330,6864655,2941995,1,1,50,0.1]
[45,4000,{"$f":"$A$1*1000*1000*0.2","v":1961330},1961330,{"$f":"$A$1*1000*1000*0.2","v":1961330},1961330,1,1,50,0.1,"RCP2-SA7C"]
[46,8000,{"$f":"$A$1*1000*1000*0.3","v":2941995},1961330,{"$f":"$A$1*1000*1000*0.3","v":2941995},1961330,1,1,50,0.1]
[47,16000,{"$f":"$A$1*1000*1000*0.3","v":2941995},1961330,{"$f":"$A$1*1000*1000*0.3","v":2941995},1961330,1,1,50,0.1]
[48,3000,{"$f":"$A$1*1000*1000*0.2","v":1961330},1961330,{"$f":"$A$1*1000*1000*0.2","v":1961330},1961330,1,1,50,0.1,"RCP2-SS7C"]
[49,6000,{"$f":"$A$1*1000*1000*0.3","v":2941995},1961330,{"$f":"$A$1*1000*1000*0.3","v":2941995},1961330,1,1,50,0.1]
[50,12000,{"$f":"$A$1*1000*1000*0.3","v":2941995},1961330,{"$f":"$A$1*1000*1000*0.3","v":2941995},1961330,1,1,50,0.1]
[51,5000,{"$f":"$A$1*1000*1000*0.2","v":1961330},1961330,{"$f":"$A$1*1000*1000*0.2","v":1961330},1961330,1,1,50,0.1,"RCP2-SS8C"]
[52,10000,{"$f":"$A$1*1000*1000*0.3","v":2941995},1961330,{"$f":"$A$1*1000*1000*0.3","v":2941995},1961330,1,1,50,0.1]
[53,20000,{"$f":"$A$1*1000*1000*0.3","v":2941995},1961330,{"$f":"$A$1*1000*1000*0.3","v":2941995},1961330,1,1,50,0.1]
[54,30000,{"$f":"$A$1*1000*1000*0.3","v":2941995},1961330,{"$f":"$A$1*1000*1000*0.5","v":4903325},1961330,1,1,50,0.1,"RCP2-HS8C"]
[55,3000,{"$f":"$A$1*1000*1000*0.2","v":1961330},1961330,{"$f":"$A$1*1000*1000*0.2","v":1961330},1961330,1,1,50,0.1,"RCP2-SA5R"]
[56,6000,{"$f":"$A$1*1000*1000*0.3","v":2941995},1961330,{"$f":"$A$1*1000*1000*0.3","v":2941995},1961330,1,1,50,0.1]
[57,12000,{"$f":"$A$1*1000*1000*0.3","v":2941995},1961330,{"$f":"$A$1*1000*1000*0.3","v":2941995},1961330,1,1,50,0.1]
[58,3000,{"$f":"$A$1*1000*1000*0.2","v":1961330},1961330,{"$f":"$A$1*1000*1000*0.2","v":1961330},1961330,1,1,50,0.1,"RCP2-SA6R"]
[59,6000,{"$f":"$A$1*1000*1000*0.3","v":2941995},1961330,{"$f":"$A$1*1000*1000*0.3","v":2941995},1961330,1,1,50,0.1]
[60,12000,{"$f":"$A$1*1000*1000*0.3","v":2941995},1961330,{"$f":"$A$1*1000*1000*0.3","v":2941995},1961330,1,1,50,0.1]
[61,4000,{"$f":"$A$1*1000*1000*0.2","v":1961330},1961330,{"$f":"$A$1*1000*1000*0.2","v":1961330},1961330,1,1,50,0.1,"RCP2-SA7R"]
[62,8000,{"$f":"$A$1*1000*1000*0.3","v":2941995},1961330,{"$f":"$A$1*1000*1000*0.3","v":2941995},1961330,1,1,50,0.1]
[63,16000,{"$f":"$A$1*1000*1000*0.3","v":2941995},1961330,{"$f":"$A$1*1000*1000*0.3","v":2941995},1961330,1,1,50,0.1]
[64,3000,{"$f":"$A$1*1000*1000*0.2","v":1961330},1961330,{"$f":"$A$1*1000*1000*0.2","v":1961330},1961330,1,1,50,0.1,"RCP2-SS7R"]
[65,6000,{"$f":"$A$1*1000*1000*0.3","v":2941995},1961330,{"$f":"$A$1*1000*1000*0.3","v":2941995},1961330,1,1,50,0.1]
[66,12000,{"$f":"$A$1*1000*1000*0.3","v":2941995},1961330,{"$f":"$A$1*1000*1000*0.3","v":2941995},1961330,1,1,50,0.1]
[{"$f":"A69+1","v":67},5000,{"$f":"$A$1*1000*1000*0.2","v":1961330},1961330,{"$f":"$A$1*1000*1000*0.2","v":1961330},1961330,1,1,50,0.1,"RCP2-SS8R"]
[68,10000,{"$f":"$A$1*1000*1000*0.3","v":2941995},1961330,{"$f":"$A$1*1000*1000*0.3","v":2941995},1961330,1,1,50,0.1]
[69,20000,{"$f":"$A$1*1000*1000*0.3","v":2941995},1961330,{"$f":"$A$1*1000*1000*0.3","v":2941995},1961330,1,1,50,0.1]
[70,30000,{"$f":"$A$1*1000*1000*0.3","v":2941995},1961330,{"$f":"$A$1*1000*1000*0.5","v":4903325},1961330,1,1,50,0.1,"RCP2-HS8R"]
[71,54000,{"$f":"$A$1*1000*1000*0.5","v":4903325},-1,{"$f":"$A$1*1000*1000*0.5","v":4903325},-1,1,1,50,0.1,"RCP2-BA6"]
[72,54000,{"$f":"$A$1*1000*1000*0.5","v":4903325},-1,{"$f":"$A$1*1000*1000*0.5","v":4903325},-1,1,1,50,0.1,"RCP2-BA7"]
[73,3000,{"$f":"$A$1*1000*1000*0.2","v":1961330},{"$f":"$A$1*1000*1000*0.2","v":1961330},{"$f":"$A$1*1000*1000*0.2","v":1961330},{"$f":"$A$1*1000*1000*0.2","v":1961330},1,1,50,0.1,"ERC2-SA6C"]
[74,6000,{"$f":"$A$1*1000*1000*0.3","v":2941995},{"$f":"$A$1*1000*1000*0.2","v":1961330},{"$f":"$A$1*1000*1000*0.3","v":2941995},{"$f":"$A$1*1000*1000*0.2","v":1961330},1,1,50,0.1]
[75,12000,{"$f":"$A$1*1000*1000*0.3","v":2941995},1961330,{"$f":"$A$1*1000*1000*0.3","v":2941995},1961330,1,1,50,0.1]
[76,4000,{"$f":"$A$1*1000*1000*0.2","v":1961330},1961330,{"$f":"$A$1*1000*1000*0.2","v":1961330},1961330,1,1,50,0.1,"ERC2-SA7C"]
[77,8000,{"$f":"$A$1*1000*1000*0.3","v":2941995},1961330,{"$f":"$A$1*1000*1000*0.3","v":2941995},1961330,1,1,50,0.1]
[78,16000,{"$f":"$A$1*1000*1000*0.3","v":2941995},1961330,{"$f":"$A$1*1000*1000*0.3","v":2941995},1961330,1,1,50,0.1]
[79,1000,{"$f":"$A$1*1000*1000*0.2","v":1961330},1961330,{"$f":"$A$1*1000*1000*0.2","v":1961330},1961330,1,1,25,0.1,"RCP3-RA2AC-20P-*S"]
[80,2000,1961330,1961330,1961330,1961330,1,1,25,0.1]
[81,4000,1961330,1961330,1961330,1961330,1,1,25,0.1]
[82,2000,1961330,1961330,1961330,1961330,1,1,25,0.1,"RCP3-RA2BC-20P-*S"]
[83,4000,1961330,1961330,1961330,1961330,1,1,25,0.1]
[84,6000,1961330,1961330,1961330,1961330,1,1,25,0.1]
[85,1000,1961330,1961330,1961330,1961330,1,1,25,0.1,"RCP3-RA2AR-20P-*S"]
[86,2000,1961330,1961330,1961330,1961330,1,1,25,0.1]
[87,4000,1961330,1961330,1961330,1961330,1,1,25,0.1]
[88,2000,1961330,1961330,1961330,1961330,1,1,25,0.1,"RCP3-RA2BR-20P-*S"]
[89,4000,1961330,1961330,1961330,1961330,1,1,25,0.1]
[90,6000,1961330,1961330,1961330,1961330,1,1,25,0.1]
[91,1000,{"$f":"$A$1*1000*1000*0.05","v":490332.5},{"$f":"$A$1*1000*1000*0.05","v":490332.5},{"$f":"$A$1*1000*1000*0.05","v":490332.5},{"$f":"$A$1*1000*1000*0.05","v":490332.5},1,1,25,0.1,"RCP2-RA2C"]
[92,2500,{"$f":"$A$1*1000*1000*0.2","v":1961330},1961330,1961330,1961330,1,1,50,0.1,"RCP2-RA3C"]
[93,5000,1961330,1961330,1961330,1961330,1,1,50,0.1]
[94,2500,1961330,1961330,1961330,1961330,1,1,50,0.1,"RCP2-RA4C"]
[95,5000,1961330,1961330,1961330,1961330,1,1,50,0.1]
[96,10000,1961330,1961330,1961330,1961330,1,1,50,0.1]
[97,4000,1961330,1961330,1961330,1961330,1,1,50,0.1,"RCP2-RA6C"]
[98,8000,1961330,1961330,1961330,1961330,1,1,50,0.1]
[99,16000,1961330,1961330,1961330,1961330,1,1,50,0.1]
[100,2500,{"$f":"$A$1*1000*1000*0.01","v":98066.5},{"$f":"$A$1*1000*1000*0.01","v":98066.5},{"$f":"$A$1*1000*1000*0.01","v":98066.5},{"$f":"$A$1*1000*1000*0.01","v":98066.5},1,1,50,0.1,"RCP2-RA10C"]
[101,5000,{"$f":"$A$1*1000*1000*0.02","v":196133},{"$f":"$A$1*1000*1000*0.02","v":196133},{"$f":"$A$1*1000*1000*0.02","v":196133},{"$f":"$A$1*1000*1000*0.02","v":196133},1,1,50,0.1]
[102,10000,{"$f":"$A$1*1000*1000*0.04","v":392266},{"$f":"$A$1*1000*1000*0.04","v":392266},{"$f":"$A$1*1000*1000*0.04","v":392266},{"$f":"$A$1*1000*1000*0.04","v":392266},1,1,50,0.1]
[103,2500,1961330,1961330,1961330,1961330,1,1,10,0.1,"RCP2-SRA4R"]
[104,5000,{"$f":"$A$1*1000*1000*0.3","v":2941995},{"$f":"$A$1*1000*1000*0.2","v":1961330},{"$f":"$A$1*1000*1000*0.3","v":2941995},{"$f":"$A$1*1000*1000*0.2","v":1961330},1,1,10,0.1]
[105,2500,{"$f":"$A$1*1000*1000*0.2","v":1961330},1961330,{"$f":"$A$1*1000*1000*0.2","v":1961330},1961330,1,1,50,0.1,"RCP2-RGS4C"]
[106,5000,1961330,1961330,1961330,1961330,1,1,50,0.1]
[107,10000,1961330,1961330,1961330,1961330,1,1,50,0.1]
[108,4000,1961330,1961330,1961330,1961330,1,1,50,0.1,"RCP2-RGS6C"]
[109,8000,1961330,1961330,1961330,1961330,1,1,50,0.1]
[110,16000,1961330,1961330,1961330,1961330,1,1,50,0.1]
[111,2500,1961330,1961330,1961330,1961330,1,1,10,0.1,"RCP2-SRGS4R"]
[112,5000,{"$f":"$A$1*1000*1000*0.3","v":2941995},1961330,{"$f":"$A$1*1000*1000*0.3","v":2941995},1961330,1,1,10,0.1]
[113,2500,{"$f":"$A$1*1000*1000*0.2","v":1961330},1961330,{"$f":"$A$1*1000*1000*0.2","v":1961330},1961330,1,1,50,0.1,"RCP2-RGD3C"]
[114,5000,1961330,1961330,1961330,1961330,1,1,50,0.1]
[115,2500,1961330,1961330,1961330,1961330,1,1,50,0.1,"RCP2-RGD4C"]
[116,5000,1961330,1961330,1961330,1961330,1,1,50,0.1]
[117,10000,1961330,1961330,1961330,1961330,1,1,50,0.1]
[118,4000,1961330,1961330,1961330,1961330,1,1,50,0.1,"RCP2-RGD6C"]
[119,8000,1961330,1961330,1961330,1961330,1,1,50,0.1]
[120,16000,1961330,1961330,1961330,1961330,1,1,50,0.1]
[121,2500,1961330,1961330,1961330,1961330,1,1,10,0.1,"RCP2-SRGD4R"]
[122,5000,{"$f":"$A$1*1000*1000*0.3","v":2941995},1961330,{"$f":"$A$1*1000*1000*0.3","v":2941995},1961330,1,1,10,0.1]
[123,3000,{"$f":"$A$1*1000*1000*0.2","v":1961330},1961330,{"$f":"$A$1*1000*1000*0.2","v":1961330},1961330,1,1,50,0.1,"ERC2-RA6C"]
[124,6000,{"$f":"$A$1*1000*1000*0.3","v":2941995},1961330,{"$f":"$A$1*1000*1000*0.3","v":2941995},1961330,1,1,50,0.1]
[125,12000,{"$f":"$A$1*1000*1000*0.3","v":2941995},1961330,{"$f":"$A$1*1000*1000*0.3","v":2941995},1961330,1,1,50,0.1]
[126,4000,{"$f":"$A$1*1000*1000*0.2","v":1961330},1961330,{"$f":"$A$1*1000*1000*0.2","v":1961330},1961330,1,1,50,0.1,"ERC2-RA7C"]
[127,8000,{"$f":"$A$1*1000*1000*0.3","v":2941995},1961330,{"$f":"$A$1*1000*1000*0.3","v":2941995},1961330,1,1,50,0.1]
[128,16000,{"$f":"$A$1*1000*1000*0.3","v":2941995},1961330,{"$f":"$A$1*1000*1000*0.3","v":2941995},1961330,1,1,50,0.1]
[129,3000,{"$f":"$A$1*1000*1000*0.2","v":1961330},1961330,{"$f":"$A$1*1000*1000*0.2","v":1961330},1961330,1,1,50,0.1,"ERC2-RGS6C"]
[130,6000,{"$f":"$A$1*1000*1000*0.3","v":2941995},1961330,{"$f":"$A$1*1000*1000*0.3","v":2941995},1961330,1,1,50,0.1]
[{"$f":"A133+1","v":131},12000,{"$f":"$A$1*1000*1000*0.3","v":2941995},1961330,{"$f":"$A$1*1000*1000*0.3","v":2941995},1961330,1,1,50,0.1]
[132,4000,{"$f":"$A$1*1000*1000*0.2","v":1961330},1961330,{"$f":"$A$1*1000*1000*0.2","v":1961330},1961330,1,1,50,0.1,"ERC2-RGS7C"]
[133,8000,{"$f":"$A$1*1000*1000*0.3","v":2941995},1961330,{"$f":"$A$1*1000*1000*0.3","v":2941995},1961330,1,1,50,0.1]
[134,16000,{"$f":"$A$1*1000*1000*0.3","v":2941995},1961330,{"$f":"$A$1*1000*1000*0.3","v":2941995},1961330,1,1,50,0.1]
[135,3000,{"$f":"$A$1*1000*1000*0.2","v":1961330},1961330,{"$f":"$A$1*1000*1000*0.2","v":1961330},1961330,1,1,50,0.1,"ERC2-RGD6C"]
[136,6000,{"$f":"$A$1*1000*1000*0.3","v":2941995},{"$f":"$A$1*1000*1000*0.2","v":1961330},{"$f":"$A$1*1000*1000*0.3","v":2941995},{"$f":"$A$1*1000*1000*0.2","v":1961330},1,1,50,0.1]
[137,12000,{"$f":"$A$1*1000*1000*0.3","v":2941995},1961330,{"$f":"$A$1*1000*1000*0.3","v":2941995},1961330,1,1,50,0.1]
[138,4000,{"$f":"$A$1*1000*1000*0.2","v":1961330},1961330,{"$f":"$A$1*1000*1000*0.2","v":1961330},1961330,1,1,50,0.1,"ERC2-RGD7C"]
[139,8000,{"$f":"$A$1*1000*1000*0.3","v":2941995},1961330,{"$f":"$A$1*1000*1000*0.3","v":2941995},1961330,1,1,50,0.1]
[140,16000,{"$f":"$A$1*1000*1000*0.3","v":2941995},1961330,{"$f":"$A$1*1000*1000*0.3","v":2941995},1961330,1,1,50,0.1]
[141,2000,{"$f":"$A$1*1000*1000*0.2","v":1961330},1961330,{"$f":"$A$1*1000*1000*0.2","v":1961330},1961330,1,1,10,0.1,"RCP3-TA3C"]
[142,4000,{"$f":"$A$1*1000*1000*0.3","v":2941995},1961330,{"$f":"$A$1*1000*1000*0.3","v":2941995},1961330,1,1,10,0.1]
[143,6000,{"$f":"$A$1*1000*1000*0.3","v":2941995},1961330,{"$f":"$A$1*1000*1000*0.3","v":2941995},1961330,1,1,10,0.1]
[144,2000,{"$f":"$A$1*1000*1000*0.2","v":1961330},1961330,{"$f":"$A$1*1000*1000*0.2","v":1961330},1961330,1,1,10,0.1,"RCP3-TA4C"]
[145,4000,{"$f":"$A$1*1000*1000*0.3","v":2941995},1961330,{"$f":"$A$1*1000*1000*0.3","v":2941995},1961330,1,1,10,0.1]
[146,6000,{"$f":"$A$1*1000*1000*0.3","v":2941995},1961330,{"$f":"$A$1*1000*1000*0.3","v":2941995},1961330,1,1,10,0.1]
[147,2500,{"$f":"$A$1*1000*1000*0.2","v":1961330},1961330,{"$f":"$A$1*1000*1000*0.2","v":1961330},1961330,1,1,25,0.1,"RCP3-TA5C"]
[148,5000,{"$f":"$A$1*1000*1000*0.3","v":2941995},1961330,{"$f":"$A$1*1000*1000*0.3","v":2941995},1961330,1,1,25,0.1]
[149,10000,{"$f":"$A$1*1000*1000*0.3","v":2941995},1961330,{"$f":"$A$1*1000*1000*0.3","v":2941995},1961330,1,1,25,0.1]
[150,3000,{"$f":"$A$1*1000*1000*0.2","v":1961330},1961330,{"$f":"$A$1*1000*1000*0.2","v":1961330},1961330,1,1,25,0.1,"RCP3-TA6C"]
[151,6000,{"$f":"$A$1*1000*1000*0.3","v":2941995},1961330,{"$f":"$A$1*1000*1000*0.3","v":2941995},1961330,1,1,25,0.1]
[152,12000,{"$f":"$A$1*1000*1000*0.3","v":2941995},1961330,{"$f":"$A$1*1000*1000*0.3","v":2941995},1961330,1,1,25,0.1]
[153,3000,{"$f":"$A$1*1000*1000*0.2","v":1961330},1961330,{"$f":"$A$1*1000*1000*0.2","v":1961330},1961330,1,1,25,0.1,"RCP3-TA7C"]
[154,6000,{"$f":"$A$1*1000*1000*0.3","v":2941995},1961330,{"$f":"$A$1*1000*1000*0.3","v":2941995},1961330,1,1,25,0.1]
[155,12000,{"$f":"$A$1*1000*1000*0.3","v":2941995},1961330,{"$f":"$A$1*1000*1000*0.3","v":2941995},1961330,1,1,25,0.1]
[156,2000,{"$f":"$A$1*1000*1000*0.2","v":1961330},1961330,{"$f":"$A$1*1000*1000*0.2","v":1961330},1961330,1,1,10,0.1,"RCP3-TA3R"]
[157,4000,{"$f":"$A$1*1000*1000*0.3","v":2941995},1961330,{"$f":"$A$1*1000*1000*0.3","v":2941995},1961330,1,1,10,0.1]
[158,6000,{"$f":"$A$1*1000*1000*0.3","v":2941995},1961330,{"$f":"$A$1*1000*1000*0.3","v":2941995},1961330,1,1,10,0.1]
[159,2000,{"$f":"$A$1*1000*1000*0.2","v":1961330},1961330,{"$f":"$A$1*1000*1000*0.2","v":1961330},1961330,1,1,10,0.1,"RCP3-TA4R"]
[160,4000,{"$f":"$A$1*1000*1000*0.3","v":2941995},1961330,{"$f":"$A$1*1000*1000*0.3","v":2941995},1961330,1,1,10,0.1]
[161,6000,{"$f":"$A$1*1000*1000*0.3","v":2941995},1961330,{"$f":"$A$1*1000*1000*0.3","v":2941995},1961330,1,1,10,0.1]
[162,2500,{"$f":"$A$1*1000*1000*0.2","v":1961330},1961330,{"$f":"$A$1*1000*1000*0.2","v":1961330},1961330,1,1,25,0.1,"RCP3-TA5R"]
[163,5000,{"$f":"$A$1*1000*1000*0.3","v":2941995},1961330,{"$f":"$A$1*1000*1000*0.3","v":2941995},1961330,1,1,25,0.1]
[164,10000,{"$f":"$A$1*1000*1000*0.3","v":2941995},1961330,{"$f":"$A$1*1000*1000*0.3","v":2941995},1961330,1,1,25,0.1]
[165,3000,{"$f":"$A$1*1000*1000*0.2","v":1961330},1961330,{"$f":"$A$1*1000*1000*0.2","v":1961330},1961330,1,1,25,0.1,"RCP3-TA6R"]
[166,6000,{"$f":"$A$1*1000*1000*0.3","v":2941995},1961330,{"$f":"$A$1*1000*1000*0.3","v":2941995},1961330,1,1,25,0.1]
[167,12000,{"$f":"$A$1*1000*1000*0.3","v":2941995},1961330,{"$f":"$A$1*1000*1000*0.3","v":2941995},1961330,1,1,25,0.1]
[168,3000,{"$f":"$A$1*1000*1000*0.2","v":1961330},{"$f":"$A$1*1000*1000*0.2","v":1961330},{"$f":"$A$1*1000*1000*0.2","v":1961330},{"$f":"$A$1*1000*1000*0.2","v":1961330},1,1,25,0.1,"RCP3-TA7R"]
[169,6000,{"$f":"$A$1*1000*1000*0.3","v":2941995},{"$f":"$A$1*1000*1000*0.2","v":1961330},{"$f":"$A$1*1000*1000*0.3","v":2941995},{"$f":"$A$1*1000*1000*0.2","v":1961330},1,1,25,0.1]
[170,12000,{"$f":"$A$1*1000*1000*0.3","v":2941995},{"$f":"$A$1*1000*1000*0.2","v":1961330},{"$f":"$A$1*1000*1000*0.3","v":2941995},{"$f":"$A$1*1000*1000*0.2","v":1961330},1,1,25,0.1]
[171,45000,{"$f":"$A$1*1000*1000*0.2","v":1961330},-1,{"$f":"$A$1*1000*1000*0.2","v":1961330},-1,1,45,360,0.1,"RCP2-RTBSL"]
[172,30000,{"$f":"$A$1*1000*1000*0.2","v":1961330},-1,{"$f":"$A$1*1000*1000*0.2","v":1961330},-1,1,30,360,0.1]
[173,45000,{"$f":"$A$1*1000*1000*0.2","v":1961330},-1,{"$f":"$A$1*1000*1000*0.2","v":1961330},-1,1,45,360,0.1,"RCP2-RTCSL"]
[174,30000,{"$f":"$A$1*1000*1000*0.2","v":1961330},-1,{"$f":"$A$1*1000*1000*0.2","v":1961330},-1,1,30,360,0.1]
[175,30000,{"$f":"$A$1*1000*1000*0.3","v":2941995},-1,2941995,-1,1,30,360,0.1,"RCP2-RTBL"]
[176,20000,2941995,-1,2941995,-1,1,20,360,0.1]
[177,30000,2941995,-1,2941995,-1,1,30,360,0.1,"RCP2-RTCL"]
[178,20000,2941995,-1,2941995,-1,1,20,360,0.1]
[179,30000,2941995,-1,2941995,-1,1,30,360,0.1,"RCP2-RTBBL"]
[180,20000,2941995,-1,2941995,-1,1,20,360,0.1]
[181,30000,2941995,-1,2941995,-1,1,30,360,0.1,"RCP2-RTCBL"]
[182,20000,2941995,-1,2941995,-1,1,20,360,0.1]
[183,3000,{"$f":"$A$1*1000*1000*0.2","v":1961330},{"$f":"$A$1*1000*1000*0.2","v":1961330},{"$f":"$A$1*1000*1000*0.7","v":6864655},{"$f":"$A$1*1000*1000*0.3","v":2941995},1,1,50,0.1,"RCP2CR-SA5C"]
[184,6000,{"$f":"$A$1*1000*1000*0.3","v":2941995},1961330,6864655,2941995,1,1,50,0.1]
[185,12000,{"$f":"$A$1*1000*1000*0.3","v":2941995},1961330,6864655,2941995,1,1,50,0.1]
[186,3000,{"$f":"$A$1*1000*1000*0.2","v":1961330},1961330,6864655,2941995,1,1,50,0.1,"RCP2CR-SA6C"]
[187,6000,{"$f":"$A$1*1000*1000*0.3","v":2941995},1961330,6864655,2941995,1,1,50,0.1]
[188,12000,{"$f":"$A$1*1000*1000*0.3","v":2941995},1961330,6864655,2941995,1,1,50,0.1]
[189,4000,{"$f":"$A$1*1000*1000*0.2","v":1961330},{"$f":"$A$1*1000*1000*0.2","v":1961330},{"$f":"$A$1*1000*1000*0.2","v":1961330},{"$f":"$A$1*1000*1000*0.2","v":1961330},1,1,50,0.1,"RCP2CR-SA7C"]
[190,8000,{"$f":"$A$1*1000*1000*0.3","v":2941995},1961330,{"$f":"$A$1*1000*1000*0.3","v":2941995},1961330,1,1,50,0.1]
[191,16000,{"$f":"$A$1*1000*1000*0.3","v":2941995},1961330,{"$f":"$A$1*1000*1000*0.3","v":2941995},1961330,1,1,50,0.1]
[192,3000,{"$f":"$A$1*1000*1000*0.2","v":1961330},1961330,{"$f":"$A$1*1000*1000*0.2","v":1961330},1961330,1,1,50,0.1,"RCP2CR-SS7C"]
[193,6000,{"$f":"$A$1*1000*1000*0.3","v":2941995},1961330,{"$f":"$A$1*1000*1000*0.3","v":2941995},1961330,1,1,50,0.1]
[194,12000,{"$f":"$A$1*1000*1000*0.3","v":2941995},1961330,{"$f":"$A$1*1000*1000*0.3","v":2941995},1961330,1,1,50,0.1]
[{"$f":"A197+1","v":195},5000,{"$f":"$A$1*1000*1000*0.2","v":1961330},1961330,{"$f":"$A$1*1000*1000*0.2","v":1961330},1961330,1,1,50,0.1,"RCP2CR-SS8C"]
[196,10000,{"$f":"$A$1*1000*1000*0.3","v":2941995},1961330,{"$f":"$A$1*1000*1000*0.3","v":2941995},1961330,1,1,50,0.1]
[197,20000,{"$f":"$A$1*1000*1000*0.3","v":2941995},1961330,{"$f":"$A$1*1000*1000*0.3","v":2941995},1961330,1,1,50,0.1]
[198,30000,{"$f":"$A$1*1000*1000*0.3","v":2941995},1961330,{"$f":"$A$1*1000*1000*0.5","v":4903325},{"$f":"$A$1*1000*1000*0.2","v":1961330},1,1,50,0.1,"RCP2CR-HS8C"]
[199,2500,{"$f":"$A$1*1000*1000*0.2","v":1961330},1961330,{"$f":"$A$1*1000*1000*0.2","v":1961330},1961330,1,1,50,0.1,"RCP2W-RA4C"]
[200,5000,1961330,1961330,1961330,1961330,1,1,50,0.1]
[201,10000,1961330,1961330,1961330,1961330,1,1,50,0.1]
[202,4000,1961330,1961330,1961330,1961330,1,1,50,0.1,"RCP2W-RA6C"]
[203,8000,1961330,1961330,1961330,1961330,1,1,50,0.1]
[204,16000,1961330,1961330,1961330,1961330,1,1,50,0.1]
[205,2500,{"$f":"$A$1*1000*1000*0.01","v":98066.5},{"$f":"$A$1*1000*1000*0.01","v":98066.5},{"$f":"$A$1*1000*1000*0.01","v":98066.5},{"$f":"$A$1*1000*1000*0.01","v":98066.5},1,1,50,0.1,"RCP2W-RA10C"]
[206,5000,{"$f":"$A$1*1000*1000*0.02","v":196133},{"$f":"$A$1*1000*1000*0.02","v":196133},{"$f":"$A$1*1000*1000*0.02","v":196133},{"$f":"$A$1*1000*1000*0.02","v":196133},1,1,50,0.1]
[207,10000,{"$f":"$A$1*1000*1000*0.04","v":392266},{"$f":"$A$1*1000*1000*0.04","v":392266},{"$f":"$A$1*1000*1000*0.04","v":392266},{"$f":"$A$1*1000*1000*0.04","v":392266},1,1,50,0.1]
[208,1000,{"$f":"$A$1*1000*1000*0.3","v":2941995},{"$f":"$A$1*1000*1000*0.2","v":1961330},{"$f":"$A$1*1000*1000*0.3","v":2941995},{"$f":"$A$1*1000*1000*0.2","v":1961330},1,1,25,0.1,"RCP3-RA2AC-20P"]
[209,2000,{"$f":"$A$1*1000*1000*0.3","v":2941995},{"$f":"$A$1*1000*1000*0.2","v":1961330},2941995,1961330,1,1,25,0.1]
[210,4000,2941995,1961330,2941995,1961330,1,1,25,0.1]
[211,1000,2941995,1961330,2941995,1961330,1,1,25,0.1,"RCP3-RA2AC-20SP"]
[212,2000,2941995,1961330,2941995,1961330,1,1,25,0.1]
[213,4000,2941995,1961330,2941995,1961330,1,1,25,0.1]
[214,1000,2941995,1961330,2941995,1961330,1,1,25,0.1,"RCP3-RA2BC-20P"]
[215,2000,2941995,1961330,2941995,1961330,1,1,25,0.1]
[216,4000,2941995,1961330,2941995,1961330,1,1,25,0.1]
[217,6000,2941995,1961330,2941995,1961330,1,1,25,0.1]
[218,1000,2941995,1961330,2941995,1961330,1,1,25,0.1,"RCP3-RA2BC-20SP"]
[219,2000,2941995,1961330,2941995,1961330,1,1,25,0.1]
[220,4000,2941995,1961330,2941995,1961330,1,1,25,0.1]
[221,6000,2941995,1961330,2941995,1961330,1,1,25,0.1]
[222,1000,2941995,1961330,2941995,1961330,1,1,25,0.1,"RCP3-RA2AR-20P"]
[223,2000,2941995,1961330,2941995,1961330,1,1,25,0.1]
[224,4000,2941995,1961330,2941995,1961330,1,1,25,0.1]
[225,1000,2941995,1961330,2941995,1961330,1,1,25,0.1,"RCP3-RA2AR-20SP"]
[226,2000,2941995,1961330,2941995,1961330,1,1,25,0.1]
[227,4000,2941995,1961330,2941995,1961330,1,1,25,0.1]
[228,1000,2941995,1961330,2941995,1961330,1,1,25,0.1,"RCP3-RA2BR-20P"]
[229,2000,2941995,1961330,2941995,1961330,1,1,25,0.1]
[230,4000,2941995,1961330,2941995,1961330,1,1,25,0.1]
[231,6000,2941995,1961330,2941995,1961330,1,1,25,0.1]
[232,1000,2941995,1961330,2941995,1961330,1,1,25,0.1,"RCP3-RA2BR-20SP"]
[233,2000,2941995,1961330,2941995,1961330,1,1,25,0.1]
[234,4000,2941995,1961330,2941995,1961330,1,1,25,0.1]
[235,6000,2941995,1961330,2941995,1961330,1,1,25,0.1]
[{"$f":"A238+1","v":236},5000,{"$f":"$A$1*1000*1000*0.1","v":980665},{"$f":"$A$1*1000*1000*0.1","v":980665},{"$f":"$A$1*1000*1000*0.1","v":980665},{"$f":"$A$1*1000*1000*0.1","v":980665},1,1,50,0.1,"RCP2-RA8C"]
[{"$f":"A239+1","v":237},10000,{"$f":"$A$1*1000*1000*0.2","v":1961330},{"$f":"$A$1*1000*1000*0.2","v":1961330},{"$f":"$A$1*1000*1000*0.2","v":1961330},{"$f":"$A$1*1000*1000*0.2","v":1961330},1,1,50,0.1]
[{"$f":"A240+1","v":238},5000,{"$f":"$A$1*1000*1000*0.1","v":980665},{"$f":"$A$1*1000*1000*0.1","v":980665},{"$f":"$A$1*1000*1000*0.1","v":980665},{"$f":"$A$1*1000*1000*0.1","v":980665},1,1,50,0.1,"RCP2-RA8R"]
[{"$f":"A241+1","v":239},10000,{"$f":"$A$1*1000*1000*0.2","v":1961330},{"$f":"$A$1*1000*1000*0.2","v":1961330},{"$f":"$A$1*1000*1000*0.2","v":1961330},{"$f":"$A$1*1000*1000*0.2","v":1961330},1,1,50,0.1]

{"sheet":"StrokeData","index":4,"n_rows":525,"n_cols":19,"rows_kept":525,"cut":false,"hidden":true,"merged":[[358,11,359,11],[360,11,361,11],[347,11,348,11],[349,11,350,11],[351,11,352,11],[356,11,357,11],[330,11,332,11],[338,11,339,11],[340,11,341,11],[342,11,343,11],[311,11,313,11],[314,11,316,11],[324,11,326,11],[327,11,329,11],[291,11,293,11],[294,11,296,11],[297,11,299,11],[308,11,310,11],[261,11,264,11],[267,11,268,11],[269,11,270,11],[271,11,272,11],[247,11,248,11],[249,11,252,11],[253,11,256,11],[257,11,260,11],[237,11,239,11],[240,11,242,11],[243,11,244,11],[245,11,246,11],[216,11,221,11],[222,11,227,11],[228,11,233,11],[234,11,236,11],[194,11,197,11],[198,11,203,11],[204,11,209,11],[210,11,215,11],[186,11,189,11],[190,11,193,11],[166,11,168,11],[169,11,175,11],[176,11,177,11],[178,11,179,11],[32,11,38,11],[44,11,50,11],[39,11,43,11],[65,11,69,11],[145,11,150,11],[120,11,126,11],[127,11,132,11],[133,11,138,11],[139,11,144,11],[12,11,13,11],[14,11,15,11],[16,11,17,11],[18,11,24,11],[25,11,31,11],[407,11,412,11],[51,11,57,11],[58,11,64,11],[79,11,80,11],[81,11,82,11],[83,11,84,11],[85,11,91,11],[92,11,98,11],[99,11,105,11],[106,11,112,11],[113,11,119,11],[151,11,156,11],[157,11,162,11],[163,11,165,11],[180,11,181,11],[182,11,185,11],[462,11,465,11],[413,11,418,11],[419,11,424,11],[425,11,430,11],[431,11,436,11],[437,11,442,11],[443,11,445,11],[446,11,448,11],[449,11,455,11],[456,11,457,11],[458,11,459,11],[460,11,461,11],[481,11,483,11],[484,11,486,11],[466,11,469,11],[470,11,473,11],[474,11,477,11],[478,11,480,11]]}
[null,1,2,5,6,7,8,9,10,16,17]
["ﾃﾞｰﾀ№","ｽﾄﾛｰｸ長","有効ｽﾄﾛｰｸ補正","水平可搬質量","垂直可搬質量","最大速度","位置ｹﾞｲﾝ","FFｹﾞｲﾝ","速度制御帯域","前ﾃﾞｰﾀ№","次ﾃﾞｰﾀ№","備考"]
[{"$f":"ModelData!A3","v":0},"㎜","㎜","1g","1g","㎜/s","1/s","%","rad/s"]
[{"$f":"A3+1","v":1},100,0,1000,-1,50,60,0,800,-1,-1,"RCP3-SA2AC-20P-1S"]
[{"$f":"A4+1","v":2},100,0,500,-1,100,60,0,800,-1,-1,"RCP3-SA2AC-20P-2S"]
[{"$f":"A5+1","v":3},100,0,250,-1,200,60,0,800,-1,-1,"RCP3-SA2AC-20P-4S"]
[4,150,0,1000,-1,100,60,0,800,-1,-1,"RCP3-SA2BC-20P-2S"]
[5,150,0,500,-1,200,60,0,800,-1,-1,"RCP3-SA2BC-20P-4S"]
[6,150,0,250,-1,300,60,0,800,-1,-1,"RCP3-SA2BC-20P-6S"]
[7,300,0,3000,1500,100,60,0,400,-1,-1,"RCP3-SA3C-2"]
[8,300,0,2000,1000,200,60,0,400,-1,-1,"RCP3-SA3C-4"]
[9,300,0,1000,500,300,60,0,400,-1,-1,"RCP3-SA3C-6"]
[10,400,0,11000,8000,125,60,0,400,-1,{"$f":"A14","v":11},"RCP3-SA4C-2.5",null,400,400,{"$f":"IF(N13=O13, \"○\",\"\")","v":"○"},125,125,{"$f":"IF(Q13=R13, \"○\",\"\")","v":"○"}]
[11,500,0,11000,8000,125,60,0,400,{"$f":"A13","v":10},-1,null,null,500,500,{"$f":"IF(N14=O14, \"○\",\"\")","v":"○"},125,125,{"$f":"IF(Q14=R14, \"○\",\"\")","v":"○"}]
[12,400,0,10000,4000,250,60,0,400,-1,{"$f":"A16","v":13},"RCP3-SA4C-5",null,400,400,"○",250,250,"○"]
[13,500,0,10000,4000,250,60,0,400,{"$f":"A15","v":12},-1,null,null,500,500,"○",250,250,{"$f":"IF(Q16=R16, \"○\",\"\")","v":"○"}]
[14,400,0,9000,1500,500,60,0,400,-1,{"$f":"A18","v":15},"RCP3-SA4C-10",null,400,400,"○",500,500,"○"]
[15,500,0,9000,1500,500,60,0,400,{"$f":"A17","v":14},-1,null,null,500,500,"○",500,500,"○"]
[16,400,0,19000,10000,150,60,0,300,-1,{"$f":"A20","v":17},"RCP3-SA5C-3",null,400,400,"○",150,150,"○"]
[17,550,0,19000,10000,150,60,0,300,{"$f":"A19","v":16},18,null,null,550,550,"○",150,150,"○"]
[18,600,0,19000,10000,140,60,0,300,17,19,null,null,600,600,"○",140,140,"○"]
[19,650,0,19000,10000,120,60,0,300,18,20,null,null,650,650,"○",120,120,"○"]
[20,700,0,19000,10000,105,60,0,300,19,21,null,null,700,700,"○",105,105,"○"]
[21,750,0,19000,10000,90,60,0,300,20,22,null,null,750,750,"○",90,90,"○"]
[22,800,0,19000,10000,80,60,0,300,21,-1,null,null,800,800,"○",80,80,"○"]
[23,400,0,12000,5000,300,60,0,300,-1,{"$f":"A27","v":24},"RCP3-SA5C-6",null,400,400,"○",300,300,"○"]
[24,550,0,12000,5000,300,60,0,300,{"$f":"A26","v":23},25,null,null,550,550,"○",300,300,"○"]
[25,600,0,12000,5000,285,60,0,300,24,26,null,null,600,600,"○",285,285,"○"]
[26,650,0,12000,5000,245,60,0,300,25,27,null,null,650,650,"○",245,245,"○"]
[27,700,0,12000,5000,210,60,0,300,26,28,null,null,700,700,"○",210,210,"○"]
[28,750,0,12000,5000,185,60,0,300,27,29,null,null,750,750,"○",185,185,"○"]
[29,800,0,12000,5000,165,60,0,300,28,-1,null,null,800,800,"○",165,165,"○"]
[30,400,0,8000,2000,600,60,0,300,-1,{"$f":"A34","v":31},"RCP3-SA5C-12",null,400,400,"○",600,600,"○"]
[31,550,0,8000,2000,600,60,0,300,{"$f":"A33","v":30},32,null,null,550,550,"○",600,600,"○"]
[32,600,0,8000,2000,570,60,0,300,31,33,null,null,600,600,"○",570,570,"○"]
[33,650,0,8000,2000,490,60,0,300,32,34,null,null,650,650,"○",490,490,"○"]
[34,700,0,8000,2000,425,60,0,300,33,35,null,null,700,700,"○",425,425,"○"]
[35,750,0,8000,2000,370,60,0,300,34,36,null,null,750,750,"○",370,370,"○"]
[{"$f":"A38+1","v":36},800,0,8000,2000,330,60,0,300,35,-1,null,null,800,800,"○",330,330,"○"]
[37,600,0,4000,500,1000,60,0,300,-1,{"$f":"A41","v":38},"RCP3-SA5C-20"]
[38,650,0,4000,500,910,60,0,300,{"$f":"A40","v":37},{"$f":"A42","v":39}]
[39,700,0,4000,500,790,60,0,300,{"$f":"A41","v":38},{"$f":"A43","v":40}]
[40,750,0,4000,500,690,60,0,300,{"$f":"A42","v":39},{"$f":"A44","v":41}]
[41,800,0,4000,500,610,60,0,300,{"$f":"A43","v":40},-1]
[42,400,0,19000,10000,150,60,0,300,-1,{"$f":"A46","v":43},"RCP3-SA6C-3",null,400,400,{"$f":"IF(N45=O45, \"○\",\"\")","v":"○"},150,150,{"$f":"IF(Q45=R45, \"○\",\"\")","v":"○"}]
[43,550,0,19000,10000,150,60,0,300,{"$f":"A45","v":42},44,null,null,550,550,{"$f":"IF(N46=O46, \"○\",\"\")","v":"○"},150,150,{"$f":"IF(Q46=R46, \"○\",\"\")","v":"○"}]
[44,600,0,19000,10000,140,60,0,300,43,45,null,null,600,600,"○",140,140,"○"]
[45,650,0,19000,10000,120,60,0,300,44,46,null,null,650,650,"○",120,120,"○"]
[46,700,0,19000,10000,105,60,0,300,45,47,null,null,700,700,"○",105,105,"○"]
[47,750,0,19000,10000,90,60,0,300,46,48,null,null,750,750,"○",90,90,"○"]
[48,800,0,19000,10000,80,60,0,300,47,-1,null,null,800,800,"○",80,80,"○"]
[49,400,0,12000,5000,300,60,0,300,-1,{"$f":"A53","v":50},"RCP3-SA6C-6",null,400,400,"○",300,300,"○"]
[50,550,0,12000,5000,300,60,0,300,{"$f":"A52","v":49},51,null,null,550,550,"○",300,300,"○"]
[51,600,0,12000,5000,285,60,0,300,50,52,null,null,600,600,"○",285,285,"○"]
[52,650,0,12000,5000,245,60,0,300,51,53,null,null,650,650,"○",245,245,"○"]
[53,700,0,12000,5000,210,60,0,300,52,54,null,null,700,700,"○",210,210,"○"]
[54,750,0,12000,5000,185,60,0,300,53,55,null,null,750,750,"○",185,185,"○"]
[55,800,0,12000,5000,165,60,0,300,54,-1,null,null,800,800,"○",165,165,"○"]
[56,400,0,8000,2000,600,60,0,300,-1,{"$f":"A60","v":57},"RCP3-SA6C-12",null,400,400,"○",600,600,"○"]
[57,550,0,8000,2000,600,60,0,300,{"$f":"A59","v":56},58,null,null,550,550,"○",600,600,"○"]
[58,600,0,8000,2000,570,60,0,300,57,59,null,null,600,600,"○",570,570,"○"]
[59,650,0,8000,2000,490,60,0,300,58,60,null,null,650,650,"○",490,490,"○"]
[60,700,0,8000,2000,425,60,0,300,59,61,null,null,700,700,"○",425,425,"○"]
[61,750,0,8000,2000,370,60,0,300,60,62,null,null,750,750,"○",370,370,"○"]
[{"$f":"A64+1","v":62},800,0,8000,2000,330,60,0,300,61,-1,null,null,800,800,"○",330,330,"○"]
[63,600,0,4000,500,1000,60,0,300,-1,{"$f":"A67","v":64},"RCP3-SA6C-20"]
[64,650,0,4000,500,910,60,0,300,{"$f":"A66","v":63},{"$f":"A68","v":65}]
[65,700,0,4000,500,790,60,0,300,{"$f":"A67","v":64},{"$f":"A69","v":66}]
[66,750,0,4000,500,690,60,0,300,{"$f":"A68","v":65},{"$f":"A70","v":67}]
[67,800,0,4000,500,610,60,0,300,{"$f":"A69","v":66},-1]
[68,100,0,1000,-1,50,60,0,800,-1,-1,"RCP3-SA2AR-20P-1S"]
[69,100,0,500,-1,100,60,0,800,-1,-1,"RCP3-SA2AR-20P-2S"]
[70,100,0,250,-1,200,60,0,800,-1,-1,"RCP3-SA2AR-20P-4S"]
[71,150,0,1000,-1,100,60,0,800,-1,-1,"RCP3-SA2BR-20P-2S"]
[72,150,0,500,-1,200,60,0,800,-1,-1,"RCP3-SA2BR-20P-4S"]
[73,150,0,250,-1,300,60,0,800,-1,-1,"RCP3-SA2BR-20P-6S"]
[74,300,0,3000,1500,100,60,0,400,-1,-1,"RCP3-SA3R-2"]
[75,300,0,2000,1000,200,60,0,400,-1,-1,"RCP3-SA3R-4"]
[76,300,0,1000,500,300,60,0,400,-1,-1,"RCP3-SA3R-6"]
[{"$f":"A79+1","v":77},400,0,6000,3000,125,60,0,400,-1,{"$f":"A81","v":78},"RCP3-SA4R-2.5","←Ver.Dまで使用していたデータ．販売部から機械諸元をストレートタイプと揃える依頼があり，参照先をストレートタイプと同一データへ移動．"]
[78,500,0,6000,3000,125,60,0,400,{"$f":"A80","v":77},-1,null,"←Ver.Dまで使用していたデータ．販売部から機械諸元をストレートタイプと揃える依頼があり，参照先をストレートタイプと同一データへ移動．"]
[79,400,0,4000,1500,250,60,0,400,-1,{"$f":"A83","v":80},"RCP3-SA4R-5","←Ver.Dまで使用していたデータ．販売部から機械諸元をストレートタイプと揃える依頼があり，参照先をストレートタイプと同一データへ移動．"]
[80,500,0,4000,1500,250,60,0,400,{"$f":"A82","v":79},-1,null,"←Ver.Dまで使用していたデータ．販売部から機械諸元をストレートタイプと揃える依頼があり，参照先をストレートタイプと同一データへ移動．"]
[81,400,0,2000,1000,500,60,0,400,-1,{"$f":"A85","v":82},"RCP3-SA4R-10","←Ver.Dまで使用していたデータ．販売部から機械諸元をストレートタイプと揃える依頼があり，参照先をストレートタイプと同一データへ移動．"]
[82,500,0,2000,1000,500,60,0,400,{"$f":"A84","v":81},-1,null,"←Ver.Dまで使用していたデータ．販売部から機械諸元をストレートタイプと揃える依頼があり，参照先をストレートタイプと同一データへ移動．"]
[83,400,0,10000,4000,150,60,0,300,-1,{"$f":"A87","v":84},"RCP3-SA5R-3","←Ver.Dまで使用していたデータ．販売部から機械諸元をストレートタイプと揃える依頼があり，参照先をストレートタイプと同一データへ移動．"]
[84,550,0,10000,4000,150,60,0,300,{"$f":"A86","v":83},85,null,"←Ver.Dまで使用していたデータ．販売部から機械諸元をストレートタイプと揃える依頼があり，参照先をストレートタイプと同一データへ移動．"]
[85,600,0,10000,4000,140,60,0,300,84,86,null,"←Ver.Dまで使用していたデータ．販売部から機械諸元をストレートタイプと揃える依頼があり，参照先をストレートタイプと同一データへ移動．"]
[86,650,0,10000,4000,120,60,0,300,85,87,null,"←Ver.Dまで使用していたデータ．販売部から機械諸元をストレートタイプと揃える依頼があり，参照先をストレートタイプと同一データへ移動．"]
[87,700,0,10000,4000,105,60,0,300,86,88,null,"←Ver.Dまで使用していたデータ．販売部から機械諸元をストレートタイプと揃える依頼があり，参照先をストレートタイプと同一データへ移動．"]
[88,750,0,10000,4000,90,60,0,300,87,89,null,"←Ver.Dまで使用していたデータ．販売部から機械諸元をストレートタイプと揃える依頼があり，参照先をストレートタイプと同一データへ移動．"]
[89,800,0,10000,4000,80,60,0,300,88,-1,null,"←Ver.Dまで使用していたデータ．販売部から機械諸元をストレートタイプと揃える依頼があり，参照先をストレートタイプと同一データへ移動．"]
[90,400,0,8000,2000,300,60,0,300,-1,{"$f":"A94","v":91},"RCP3-SA5R-6","←Ver.Dまで使用していたデータ．販売部から機械諸元をストレートタイプと揃える依頼があり，参照先をストレートタイプと同一データへ移動．"]
[91,550,0,8000,2000,300,60,0,300,{"$f":"A93","v":90},92,null,"←Ver.Dまで使用していたデータ．販売部から機械諸元をストレートタイプと揃える依頼があり，参照先をストレートタイプと同一データへ移動．"]
[92,600,0,8000,2000,285,60,0,300,91,93,null,"←Ver.Dまで使用していたデータ．販売部から機械諸元をストレートタイプと揃える依頼があり，参照先をストレートタイプと同一データへ移動．"]
[93,650,0,8000,2000,245,60,0,300,92,94,null,"←Ver.Dまで使用していたデータ．販売部から機械諸元をストレートタイプと揃える依頼があり，参照先をストレートタイプと同一データへ移動．"]
[94,700,0,8000,2000,210,60,0,300,93,95,null,"←Ver.Dまで使用していたデータ．販売部から機械諸元をストレートタイプと揃える依頼があり，参照先をストレートタイプと同一データへ移動．"]
[95,750,0,8000,2000,185,60,0,300,94,96,null,"←Ver.Dまで使用していたデータ．販売部から機械諸元をストレートタイプと揃える依頼があり，参照先をストレートタイプと同一データへ移動．"]
[96,800,0,8000,2000,165,60,0,300,95,-1,null,"←Ver.Dまで使用していたデータ．販売部から機械諸元をストレートタイプと揃える依頼があり，参照先をストレートタイプと同一データへ移動．"]
[97,400,0,6000,1000,600,60,0,300,-1,{"$f":"A101","v":98},"RCP3-SA5R-12","←Ver.Dまで使用していたデータ．販売部から機械諸元をストレートタイプと揃える依頼があり，参照先をストレートタイプと同一データへ移動．"]
[98,550,0,6000,1000,600,60,0,300,{"$f":"A100","v":97},99,null,"←Ver.Dまで使用していたデータ．販売部から機械諸元をストレートタイプと揃える依頼があり，参照先をストレートタイプと同一データへ移動．"]
[99,600,0,6000,1000,570,60,0,300,98,100,null,"←Ver.Dまで使用していたデータ．販売部から機械諸元をストレートタイプと揃える依頼があり，参照先をストレートタイプと同一データへ移動．"]
[100,650,0,6000,1000,490,60,0,300,99,101,null,"←Ver.Dまで使用していたデータ．販売部から機械諸元をストレートタイプと揃える依頼があり，参照先をストレートタイプと同一データへ移動．"]
[101,700,0,6000,1000,425,60,0,300,100,102,null,"←Ver.Dまで使用していたデータ．販売部から機械諸元をストレートタイプと揃える依頼があり，参照先をストレートタイプと同一データへ移動．"]
[102,750,0,6000,1000,370,60,0,300,101,103,null,"←Ver.Dまで使用していたデータ．販売部から機械諸元をストレートタイプと揃える依頼があり，参照先をストレートタイプと同一データへ移動．"]
[103,800,0,6000,1000,330,60,0,300,102,-1,null,"←Ver.Dまで使用していたデータ．販売部から機械諸元をストレートタイプと揃える依頼があり，参照先をストレートタイプと同一データへ移動．"]
[104,400,0,10000,4000,150,60,0,300,-1,{"$f":"A108","v":105},"RCP3-SA6R-3","←Ver.Dまで使用していたデータ．販売部から機械諸元をストレートタイプと揃える依頼があり，参照先をストレートタイプと同一データへ移動．"]
[105,550,0,10000,4000,150,60,0,300,{"$f":"A107","v":104},106,null,"←Ver.Dまで使用していたデータ．販売部から機械諸元をストレートタイプと揃える依頼があり，参照先をストレートタイプと同一データへ移動．"]
[106,600,0,10000,4000,140,60,0,300,105,107,null,"←Ver.Dまで使用していたデータ．販売部から機械諸元をストレートタイプと揃える依頼があり，参照先をストレートタイプと同一データへ移動．"]
[107,650,0,10000,4000,120,60,0,300,106,108,null,"←Ver.Dまで使用していたデータ．販売部から機械諸元をストレートタイプと揃える依頼があり，参照先をストレートタイプと同一データへ移動．"]
[108,700,0,10000,4000,105,60,0,300,107,109,null,"←Ver.Dまで使用していたデータ．販売部から機械諸元をストレートタイプと揃える依頼があり，参照先をストレートタイプと同一データへ移動．"]
[109,750,0,10000,4000,90,60,0,300,108,110,null,"←Ver.Dまで使用していたデータ．販売部から機械諸元をストレートタイプと揃える依頼があり，参照先をストレートタイプと同一データへ移動．"]
[110,800,0,10000,4000,80,60,0,300,109,-1,null,"←Ver.Dまで使用していたデータ．販売部から機械諸元をストレートタイプと揃える依頼があり，参照先をストレートタイプと同一データへ移動．"]
[111,400,0,8000,2000,300,60,0,300,-1,{"$f":"A115","v":112},"RCP3-SA6R-6","←Ver.Dまで使用していたデータ．販売部から機械諸元をストレートタイプと揃える依頼があり，参照先をストレートタイプと同一データへ移動．"]
[112,550,0,8000,2000,300,60,0,300,{"$f":"A114","v":111},113,null,"←Ver.Dまで使用していたデータ．販売部から機械諸元をストレートタイプと揃える依頼があり，参照先をストレートタイプと同一データへ移動．"]
[113,600,0,8000,2000,285,60,0,300,112,114,null,"←Ver.Dまで使用していたデータ．販売部から機械諸元をストレートタイプと揃える依頼があり，参照先をストレートタイプと同一データへ移動．"]
[114,650,0,8000,2000,245,60,0,300,113,115,null,"←Ver.Dまで使用していたデータ．販売部から機械諸元をストレートタイプと揃える依頼があり，参照先をストレートタイプと同一データへ移動．"]
[115,700,0,8000,2000,210,60,0,300,114,116,null,"←Ver.Dまで使用していたデータ．販売部から機械諸元をストレートタイプと揃える依頼があり，参照先をストレートタイプと同一データへ移動．"]
[116,750,0,8000,2000,185,60,0,300,115,117,null,"←Ver.Dまで使用していたデータ．販売部から機械諸元をストレートタイプと揃える依頼があり，参照先をストレートタイプと同一データへ移動．"]
[117,800,0,8000,2000,165,60,0,300,116,-1,null,"←Ver.Dまで使用していたデータ．販売部から機械諸元をストレートタイプと揃える依頼があり，参照先をストレートタイプと同一データへ移動．"]
[118,400,0,6000,1000,600,60,0,300,-1,{"$f":"A122","v":119},"RCP3-SA6R-12","←Ver.Dまで使用していたデータ．販売部から機械諸元をストレートタイプと揃える依頼があり，参照先をストレートタイプと同一データへ移動．"]
[119,550,0,6000,1000,600,60,0,300,{"$f":"A121","v":118},120,null,"←Ver.Dまで使用していたデータ．販売部から機械諸元をストレートタイプと揃える依頼があり，参照先をストレートタイプと同一データへ移動．"]
[120,600,0,6000,1000,570,60,0,300,119,121,null,"←Ver.Dまで使用していたデータ．販売部から機械諸元をストレートタイプと揃える依頼があり，参照先をストレートタイプと同一データへ移動．"]
[121,650,0,6000,1000,490,60,0,300,120,122,null,"←Ver.Dまで使用していたデータ．販売部から機械諸元をストレートタイプと揃える依頼があり，参照先をストレートタイプと同一データへ移動．"]
[122,700,0,6000,1000,425,60,0,300,121,123,null,"←Ver.Dまで使用していたデータ．販売部から機械諸元をストレートタイプと揃える依頼があり，参照先をストレートタイプと同一データへ移動．"]
[123,750,0,6000,1000,370,60,0,300,122,124,null,"←Ver.Dまで使用していたデータ．販売部から機械諸元をストレートタイプと揃える依頼があり，参照先をストレートタイプと同一データへ移動．"]
[124,800,0,6000,1000,330,60,0,300,123,-1,null,"←Ver.Dまで使用していたデータ．販売部から機械諸元をストレートタイプと揃える依頼があり，参照先をストレートタイプと同一データへ移動．"]
[125,550,0,16000,8000,150,45,0,300,-1,{"$f":"A129","v":126},"RCP2-SA5C-3"]
[126,600,0,16000,8000,135,45,0,300,{"$f":"A128","v":125},{"$f":"A130","v":127}]
[127,650,0,16000,8000,115,45,0,300,126,{"$f":"A131","v":128}]
[128,700,0,16000,8000,100,45,0,300,127,{"$f":"A132","v":129}]
[129,750,0,16000,8000,90,45,0,300,128,{"$f":"A133","v":130}]
[130,800,0,16000,8000,75,45,0,300,129,-1]
[131,550,0,13000,4000,300,45,0,300,-1,{"$f":"A135","v":132},"RCP2-SA5C-6"]
[132,600,0,13000,4000,270,45,0,300,131,{"$f":"A136","v":133}]
[133,650,0,13000,4000,230,45,0,300,132,{"$f":"A137","v":134}]
[134,700,0,13000,4000,200,45,0,300,133,{"$f":"A138","v":135}]
[135,750,0,13000,4000,180,45,0,300,134,{"$f":"A139","v":136}]
[136,800,0,13000,4000,150,45,0,300,135,-1]
[137,550,0,8000,1000,600,45,0,300,-1,{"$f":"A141","v":138},"RCP2-SA5C-12"]
[138,600,0,8000,1000,540,45,0,300,137,{"$f":"A142","v":139}]
[139,650,0,8000,1000,460,45,0,300,138,{"$f":"A143","v":140}]
[140,700,0,8000,1000,400,45,0,300,139,{"$f":"A144","v":141}]
[141,750,0,8000,1000,360,45,0,300,140,{"$f":"A145","v":142}]
[142,800,0,8000,1000,300,45,0,300,141,-1]
[143,550,0,19000,6000,150,45,0,300,-1,{"$f":"A147","v":144},"RCP2-SA6C-3"]
[144,600,0,19000,6000,135,45,0,300,{"$f":"A146","v":143},{"$f":"A148","v":145}]
[145,650,0,19000,6000,115,45,0,300,{"$f":"A147","v":144},{"$f":"A149","v":146}]
[146,700,0,19000,6000,100,45,0,300,{"$f":"A148","v":145},{"$f":"A150","v":147}]
[147,750,0,19000,6000,90,45,0,300,{"$f":"A149","v":146},{"$f":"A151","v":148}]
[148,800,0,19000,6000,75,45,0,300,{"$f":"A150","v":147},-1]
[149,550,0,16000,4000,300,45,0,300,-1,{"$f":"A153","v":150},"RCP2-SA6C-6"]
[150,600,0,16000,4000,270,45,0,300,{"$f":"A152","v":149},{"$f":"A154","v":151}]
[151,650,0,16000,4000,230,45,0,300,{"$f":"A153","v":150},{"$f":"A155","v":152}]
[152,700,0,16000,4000,200,45,0,300,{"$f":"A154","v":151},{"$f":"A156","v":153}]
[153,750,0,16000,4000,180,45,0,300,{"$f":"A155","v":152},{"$f":"A157","v":154}]
[{"$f":"A156+1","v":154},800,0,16000,4000,150,45,0,300,{"$f":"A156","v":153},-1]
[155,550,0,8500,1500,600,45,0,300,-1,{"$f":"A159","v":156},"RCP2-SA6C-12"]
[156,600,0,8500,1500,540,45,0,300,{"$f":"A158","v":155},{"$f":"A160","v":157}]
[157,650,0,8500,1500,460,45,0,300,156,{"$f":"A161","v":158}]
[158,700,0,8500,1500,400,45,0,300,157,{"$f":"A162","v":159}]
[159,750,0,8500,1500,360,45,0,300,158,{"$f":"A163","v":160}]
[160,800,0,8500,1500,300,45,0,300,159,-1]
[161,600,0,40000,15000,133,45,0,350,-1,{"$f":"A165","v":162},"RCP2-SA7C-4"]
[162,700,0,40000,15000,133,45,0,350,161,{"$f":"A166","v":163}]
[163,800,0,40000,15000,120,45,0,300,162,-1]
[164,600,0,40000,10000,266,45,0,350,-1,{"$f":"A168","v":165},"RCP2-SA7C-8"]
[165,700,0,40000,10000,266,45,0,350,{"$f":"A167","v":164},{"$f":"A169","v":166}]
[166,800,0,40000,10000,240,45,0,300,{"$f":"A168","v":165},-1]
[167,100,0,35000,5000,533,45,0,200,-1,{"$f":"A171","v":168},"RCP2-SA7C-16"]
[168,200,0,35000,5000,533,45,0,180,{"$f":"A170","v":167},169]
[169,300,0,35000,5000,533,45,0,160,168,170]
[170,400,0,35000,5000,533,45,0,140,169,171]
[171,500,0,35000,5000,533,45,0,120,170,172]
[172,700,0,35000,5000,533,45,0,80,171,173]
[173,800,0,35000,5000,480,45,0,80,172,-1]
[174,500,0,30000,12000,150,45,0,200,-1,{"$f":"A178","v":175},"RCP2-SS7C-3"]
[175,600,0,30000,12000,115,45,0,200,{"$f":"A177","v":174},-1]
[176,500,0,30000,8000,300,45,0,200,-1,{"$f":"A180","v":177},"RCP2-SS7C-6"]
[177,600,0,30000,8000,230,45,0,200,{"$f":"A179","v":176},-1]
[178,500,0,30000,4000,600,45,0,200,-1,{"$f":"A182","v":179},"RCP2-SS7C-12"]
[179,600,0,30000,4000,470,45,0,200,{"$f":"A181","v":178},-1]
[180,600,0,55000,20000,165,45,0,180,-1,{"$f":"A184","v":181},"RCP2-SS8C-5"]
[181,800,0,55000,20000,165,45,0,180,{"$f":"A183","v":180},{"$f":"A185","v":182}]
[182,900,0,55000,20000,155,45,0,180,{"$f":"A184","v":181},{"$f":"A186","v":183}]
[183,1000,0,55000,20000,125,45,0,180,{"$f":"A185","v":182},-1]
[184,600,0,50000,12000,333,45,0,180,-1,{"$f":"A188","v":185},"RCP2-SS8C-10"]
[185,800,0,50000,12000,333,45,0,180,{"$f":"A187","v":184},{"$f":"A189","v":186}]
[186,900,0,50000,12000,310,45,0,180,{"$f":"A188","v":185},{"$f":"A190","v":187}]
[187,1000,0,50000,12000,255,45,0,180,{"$f":"A189","v":186},-1]
[188,700,0,40000,5000,666,45,0,160,-1,{"$f":"A192","v":189},"RCP2-SS8C-20"]
[189,800,0,40000,5000,666,45,0,160,{"$f":"A191","v":188},{"$f":"A193","v":190}]
[190,900,0,40000,5000,625,45,0,160,{"$f":"A192","v":189},{"$f":"A194","v":191}]
[191,1000,0,40000,5000,515,45,0,160,{"$f":"A193","v":190},-1]
[192,500,0,20000,3000,1200,35,0,80,-1,{"$f":"A196","v":193},"RCP2-HS8C-30"]
[193,800,0,20000,3000,1200,35,0,80,{"$f":"A195","v":192},{"$f":"A197","v":194}]
[194,900,0,20000,3000,1000,35,0,80,{"$f":"A196","v":193},{"$f":"A198","v":195}]
[195,1000,0,20000,3000,800,35,0,80,{"$f":"A197","v":194},-1]
[196,550,0,8000,4500,150,45,0,300,-1,{"$f":"A200","v":197},"RCP2-SA5R-3"]
[197,600,0,8000,4500,135,45,0,300,{"$f":"A199","v":196},{"$f":"A201","v":198}]
[198,650,0,8000,4500,115,45,0,300,{"$f":"A200","v":197},{"$f":"A202","v":199}]
[199,700,0,8000,4500,100,45,0,300,{"$f":"A201","v":198},{"$f":"A203","v":200}]
[200,750,0,8000,4500,90,45,0,300,{"$f":"A202","v":199},{"$f":"A204","v":201}]
[201,800,0,8000,4500,75,45,0,300,{"$f":"A203","v":200},-1]
[202,550,0,8000,2500,300,45,0,300,-1,{"$f":"A206","v":203},"RCP2-SA5R-6"]
[203,600,0,8000,2500,270,45,0,300,{"$f":"A205","v":202},{"$f":"A207","v":204}]
[204,650,0,8000,2500,230,45,0,300,{"$f":"A206","v":203},{"$f":"A208","v":205}]
[205,700,0,8000,2500,200,45,0,300,{"$f":"A207","v":204},{"$f":"A209","v":206}]
[206,750,0,8000,2500,180,45,0,300,{"$f":"A208","v":205},{"$f":"A210","v":207}]
[207,800,0,8000,2500,150,45,0,300,{"$f":"A209","v":206},-1]
[208,550,0,4000,1000,600,45,0,300,-1,{"$f":"A212","v":209},"RCP2-SA5R-12"]
[209,600,0,4000,1000,540,45,0,300,{"$f":"A211","v":208},{"$f":"A213","v":210}]
[210,650,0,4000,1000,460,45,0,300,{"$f":"A212","v":209},{"$f":"A214","v":211}]
[211,700,0,4000,1000,400,45,0,300,{"$f":"A213","v":210},{"$f":"A215","v":212}]
[212,750,0,4000,1000,360,45,0,300,{"$f":"A214","v":211},{"$f":"A216","v":213}]
[213,800,0,4000,1000,300,45,0,300,{"$f":"A215","v":212},-1]
[214,550,0,12000,6000,150,45,0,300,-1,{"$f":"A218","v":215},"RCP2-SA6R-3"]
[215,600,0,12000,6000,135,45,0,300,{"$f":"A217","v":214},{"$f":"A219","v":216}]
[216,650,0,12000,6000,115,45,0,300,{"$f":"A218","v":215},{"$f":"A220","v":217}]
[217,700,0,12000,6000,100,45,0,300,{"$f":"A219","v":216},{"$f":"A221","v":218}]
[{"$f":"A220+1","v":218},750,0,12000,6000,90,45,0,300,{"$f":"A220","v":217},{"$f":"A222","v":219}]
[219,800,0,12000,6000,75,45,0,300,{"$f":"A221","v":218},-1]
[220,550,0,12000,3000,300,45,0,300,-1,{"$f":"A224","v":221},"RCP2-SA6R-6"]
[221,600,0,12000,3000,270,45,0,300,{"$f":"A223","v":220},{"$f":"A225","v":222}]
[222,650,0,12000,3000,230,45,0,300,{"$f":"A224","v":221},{"$f":"A226","v":223}]
[223,700,0,12000,3000,200,45,0,300,{"$f":"A225","v":222},{"$f":"A227","v":224}]
[224,750,0,12000,3000,180,45,0,300,{"$f":"A226","v":223},{"$f":"A228","v":225}]
[225,800,0,12000,3000,150,45,0,300,{"$f":"A227","v":224},-1]
[226,550,0,6000,1500,600,45,0,300,-1,{"$f":"A230","v":227},"RCP2-SA6R-12"]
[227,600,0,6000,1500,540,45,0,300,{"$f":"A229","v":226},{"$f":"A231","v":228}]
[228,650,0,6000,1500,460,45,0,300,{"$f":"A230","v":227},{"$f":"A232","v":229}]
[229,700,0,6000,1500,400,45,0,300,{"$f":"A231","v":228},{"$f":"A233","v":230}]
[230,750,0,6000,1500,360,45,0,300,{"$f":"A232","v":229},{"$f":"A234","v":231}]
[231,800,0,6000,1500,300,45,0,300,{"$f":"A233","v":230},-1]
[232,600,0,35000,15000,133,45,0,300,-1,{"$f":"A236","v":233},"RCP2-SA7R-4"]
[233,700,0,35000,15000,133,45,0,300,{"$f":"A235","v":232},{"$f":"A237","v":234}]
[234,800,0,35000,15000,120,45,0,300,{"$f":"A236","v":233},-1]
[235,600,0,35000,10000,266,45,0,350,-1,{"$f":"A239","v":236},"RCP2-SA7R-8"]
[236,700,0,35000,10000,266,45,0,350,{"$f":"A238","v":235},{"$f":"A240","v":237}]
[237,800,0,35000,10000,240,45,0,350,{"$f":"A239","v":236},-1]
[238,500,0,25000,5000,533,45,0,100,-1,{"$f":"A242","v":239},"RCP2-SA7R-16"]
[239,700,0,25000,5000,533,45,0,100,{"$f":"A241","v":238},{"$f":"A243","v":240}]
[240,800,0,25000,5000,480,45,0,100,{"$f":"A242","v":239},-1]
[241,500,0,30000,10000,105,45,0,200,-1,{"$f":"A245","v":242},"RCP2-SS7R-3"]
[242,600,0,30000,10000,105,45,0,200,{"$f":"A244","v":241},-1]
[243,500,0,20000,5000,250,45,0,200,-1,{"$f":"A247","v":244},"RCP2-SS7R-6"]
[244,600,0,20000,5000,230,45,0,200,{"$f":"A246","v":243},-1]
[245,500,0,20000,4000,600,45,0,200,-1,{"$f":"A249","v":246},"RCP2-SS7R-12"]
[246,600,0,20000,4000,470,45,0,200,{"$f":"A248","v":245},-1]
[247,600,0,55000,20000,160,45,0,180,-1,{"$f":"A251","v":248},"RCP2-SS8R-5"]
[248,800,0,55000,20000,160,45,0,180,{"$f":"A250","v":247},{"$f":"A252","v":249}]
[249,900,0,55000,20000,155,45,0,180,{"$f":"A251","v":248},{"$f":"A253","v":250}]
[250,1000,0,55000,20000,125,45,0,180,{"$f":"A252","v":249},-1]
[251,600,0,28000,9000,300,45,0,180,-1,{"$f":"A255","v":252},"RCP2-SS8R-10"]
[252,800,0,28000,9000,300,45,0,180,{"$f":"A254","v":251},{"$f":"A256","v":253}]
[253,900,0,28000,9000,300,45,0,180,{"$f":"A255","v":252},{"$f":"A257","v":254}]
[254,1000,0,28000,9000,255,45,0,180,{"$f":"A256","v":253},-1]
[255,700,0,23000,3000,600,45,0,160,-1,{"$f":"A259","v":256},"RCP2-SS8R-20"]
[256,800,0,23000,3000,600,45,0,160,{"$f":"A258","v":255},{"$f":"A260","v":257}]
[257,900,0,23000,3000,600,45,0,160,{"$f":"A259","v":256},{"$f":"A261","v":258}]
[258,1000,0,23000,3000,515,45,0,160,{"$f":"A260","v":257},-1]
[259,500,0,20000,3000,1200,35,0,80,-1,{"$f":"A263","v":260},"RCP2-HS8R-30"]
[260,800,0,20000,3000,1200,35,0,80,{"$f":"A262","v":259},{"$f":"A264","v":261}]
[261,900,0,20000,3000,1000,35,0,80,{"$f":"A263","v":260},{"$f":"A265","v":262}]
[262,1000,0,20000,3000,800,35,0,80,{"$f":"A264","v":261},-1]
[263,1000,0,4000,-1,1000,10,0,20,-1,-1,"RCP2-BA6-54"]
[264,1200,0,8000,-1,1500,10,0,15,-1,-1,"RCP2-BA7-54"]
[265,550,0,12000,6000,150,60,0,300,-1,{"$f":"A269","v":266},"ERC2-SA6C-3"]
[266,600,0,12000,6000,125,60,0,300,{"$f":"A268","v":265},-1]
[267,550,0,12000,3000,300,60,0,300,-1,{"$f":"A271","v":268},"ERC2-SA6C-6"]
[268,600,0,12000,3000,255,60,0,300,{"$f":"A270","v":267},-1]
[269,550,0,6000,1500,600,60,0,250,-1,{"$f":"A273","v":270},"ERC2-SA6C-12"]
[270,600,0,6000,1500,515,60,0,250,{"$f":"A272","v":269},-1]
[271,600,0,20000,10000,125,45,0,300,-1,-1,"ERC2-SA7C-4"]
[272,600,0,20000,5000,250,45,0,300,-1,-1,"ERC2-SA7C-8"]
[273,600,0,10000,2500,450,45,0,300,-1,-1,"ERC2-SA7C-16"]
[274,100,0,1000,500,50,60,0,800,-1,-1,"RCP3-RA2AC-20P-1S"]
[275,100,0,500,250,100,60,0,800,-1,-1,"RCP3-RA2AC-20P-2S"]
[276,100,0,250,125,200,60,0,800,-1,-1,"RCP3-RA2AC-20P-4S"]
[277,150,0,1000,500,100,60,0,800,-1,-1,"RCP3-RA2BC-20P-2S"]
[278,150,0,500,250,200,60,0,800,-1,-1,"RCP3-RA2BC-20P-4S"]
[279,150,0,250,125,300,60,0,800,-1,-1,"RCP3-RA2BC-20P-6S"]
[280,100,0,1000,500,50,60,0,800,-1,-1,"RCP3-RA2AR-20P-1S"]
[281,100,0,500,250,100,60,0,800,-1,-1,"RCP3-RA2AR-20P-2S"]
[{"$f":"A284+1","v":282},100,0,250,125,200,60,0,800,-1,-1,"RCP3-RA2AR-20P-4S"]
[283,150,0,1000,500,100,60,0,800,-1,-1,"RCP3-RA2BR-20P-2S"]
[284,150,0,500,250,200,60,0,800,-1,-1,"RCP3-RA2BR-20P-4S"]
[285,150,0,250,125,300,60,0,800,-1,-1,"RCP3-RA2BR-20P-6S"]
[286,100,0,7000,2500,25,60,0,300,-1,-1,"RCP2-RA2C-1"]
[287,200,0,30000,10000,114,60,0,300,-1,-1,"RCP2-RA3C-2.5"]
[288,200,0,15000,6000,187,60,0,300,-1,-1,"RCP2-RA3C-5"]
[289,200,0,40000,19000,125,60,0,300,-1,{"$f":"A293","v":290},"RCP2-RA4C-2.5"]
[290,250,0,40000,19000,118,60,0,300,{"$f":"A292","v":289},{"$f":"A294","v":291}]
[291,300,0,40000,19000,87,60,0,300,{"$f":"A293","v":290},-1]
[292,200,0,40000,12000,250,60,0,300,-1,{"$f":"A296","v":293},"RCP2-RA4C-5"]
[293,250,0,40000,12000,237,60,0,300,{"$f":"A295","v":292},{"$f":"A297","v":294}]
[294,300,0,40000,12000,175,60,0,300,{"$f":"A296","v":293},-1]
[295,200,0,25000,4500,458,60,0,250,-1,{"$f":"A299","v":296},"RCP2-RA4C-10"]
[296,250,0,25000,4500,458,60,0,250,{"$f":"A298","v":295},{"$f":"A300","v":297}]
[297,300,0,25000,4500,350,60,0,250,{"$f":"A299","v":296},-1]
[298,300,0,55000,26000,130,60,0,200,-1,-1,"RCP2-RA6C-4"]
[299,300,0,50000,17500,210,60,0,200,-1,-1,"RCP2-RA6C-8"]
[300,300,0,40000,5000,450,60,0,200,-1,-1,"RCP2-RA6C-16"]
[301,300,0,300000,150000,63,60,0,400,-1,-1,"RCP2-RA10C-2.5"]
[302,300,0,150000,100000,125,60,0,400,-1,-1,"RCP2-RA10C-5"]
[303,300,0,80000,80000,250,60,0,400,-1,-1,"RCP2-RA10C-10"]
[304,200,0,35000,15000,125,60,0,400,-1,-1,"RCP2-SRA4R-2.5"]
[305,200,0,25000,9000,250,60,0,400,-1,-1,"RCP2-SRA4R-5"]
[306,200,0,40000,18000,125,60,0,300,-1,{"$f":"A310","v":307},"RCP2-RGS4C-2.5"]
[307,250,0,40000,18000,118,60,0,300,{"$f":"A309","v":306},{"$f":"A311","v":308}]
[308,300,0,40000,18000,87,60,0,300,{"$f":"A310","v":307},-1]
[309,200,0,40000,11000,250,60,0,300,-1,{"$f":"A313","v":310},"RCP2-RGS4C-5"]
[310,250,0,40000,11000,237,60,0,300,{"$f":"A312","v":309},{"$f":"A314","v":311}]
[311,300,0,40000,11000,175,60,0,300,{"$f":"A313","v":310},-1]
[312,200,0,25000,3500,458,60,0,250,-1,{"$f":"A316","v":313},"RCP2-RGS4C-10"]
[313,250,0,25000,3500,458,60,0,250,{"$f":"A315","v":312},{"$f":"A317","v":314}]
[314,300,0,25000,3500,350,60,0,250,{"$f":"A316","v":313},-1]
[315,300,0,55000,24000,130,60,0,200,-1,-1,"RCP2-RGS6C-4"]
[316,300,0,50000,16000,210,60,0,200,-1,-1,"RCP2-RGS6C-8"]
[317,300,0,40000,4000,450,60,0,200,-1,-1,"RCP2-RGS6C-16"]
[318,200,0,35000,15000,125,60,0,400,-1,-1,"RCP2-SRGS4R-2.5"]
[319,200,0,24000,8000,250,60,0,400,-1,-1,"RCP2-SRGS4R-5"]
[320,200,0,30000,9000,114,60,0,300,-1,-1,"RCP2-RGD3C-2.5"]
[321,200,0,15000,5000,187,60,0,300,-1,-1,"RCP2-RGD3C-5"]
[322,200,0,40000,18000,125,60,0,300,-1,{"$f":"A326","v":323},"RCP2-RGD4C-2.5"]
[323,250,0,40000,18000,118,60,0,300,{"$f":"A325","v":322},{"$f":"A327","v":324}]
[324,300,0,40000,18000,87,60,0,300,{"$f":"A326","v":323},-1]
[325,200,0,40000,11000,250,60,0,300,-1,{"$f":"A329","v":326},"RCP2-RGD4C-5"]
[326,250,0,40000,11000,237,60,0,300,{"$f":"A328","v":325},{"$f":"A330","v":327}]
[327,300,0,40000,11000,175,60,0,300,{"$f":"A329","v":326},-1]
[328,200,0,25000,3500,458,60,0,250,-1,{"$f":"A332","v":329},"RCP2-RGD4C-10"]
[329,250,0,25000,3500,458,60,0,250,{"$f":"A331","v":328},{"$f":"A333","v":330}]
[330,300,0,25000,3500,350,60,0,250,{"$f":"A332","v":329},-1]
[331,300,0,55000,24000,130,60,0,200,-1,-1,"RCP2-RGD6C-4"]
[332,300,0,50000,16000,210,60,0,200,-1,-1,"RCP2-RGD6C-8"]
[333,300,0,40000,4000,450,60,0,200,-1,-1,"RCP2-RGD6C-16"]
[334,200,0,35000,15000,125,60,0,400,-1,-1,"RCP2-SRGD4R-2.5"]
[335,200,0,24000,8000,250,60,0,400,-1,-1,"RCP2-SRGD4R-5"]
[336,250,0,40000,18000,150,60,0,300,-1,{"$f":"A340","v":337},"ERC2-RA6C-3"]
[337,300,0,40000,18000,125,60,0,300,{"$f":"A339","v":336},-1]
[338,250,0,40000,12000,300,60,0,150,-1,{"$f":"A342","v":339},"ERC2-RA6C-6"]
[339,300,0,40000,12000,250,60,0,150,{"$f":"A341","v":338},-1]
[340,250,0,25000,4500,600,60,0,110,-1,{"$f":"A344","v":341},"ERC2-RA6C-12"]
[341,300,0,25000,4500,500,60,0,110,{"$f":"A343","v":340},-1]
[342,300,0,55000,25000,125,60,0,300,-1,-1,"ERC2-RA7C-4"]
[343,300,0,50000,17500,250,60,0,300,-1,-1,"ERC2-RA7C-8"]
[344,300,0,40000,5000,450,60,0,150,-1,-1,"ERC2-RA7C-16"]
[345,250,0,40000,18000,150,60,0,300,-1,{"$f":"A349","v":346},"ERC2-RGS6C-3"]
[{"$f":"A348+1","v":346},300,0,40000,18000,125,60,0,300,{"$f":"A348","v":345},-1]
[347,250,0,40000,12000,300,60,0,150,-1,{"$f":"A351","v":348},"ERC2-RGS6C-6"]
[348,300,0,40000,12000,250,60,0,150,{"$f":"A350","v":347},-1]
[349,250,0,25000,4500,600,60,0,110,-1,{"$f":"A353","v":350},"ERC2-RGS6C-12"]
[350,300,0,25000,4500,500,60,0,110,{"$f":"A352","v":349},-1]
[351,300,0,55000,25000,125,60,0,300,-1,-1,"ERC2-RGS7C-4"]
[352,300,0,50000,17500,250,60,0,300,-1,-1,"ERC2-RGS7C-8"]
[353,300,0,40000,5000,450,60,0,150,-1,-1,"ERC2-RGS7C-16"]
[354,250,0,40000,18000,150,60,0,300,-1,{"$f":"A358","v":355},"ERC2-RGD6C-3"]
[355,300,0,40000,18000,125,60,0,300,{"$f":"A357","v":354},-1]
[356,250,0,40000,12000,300,60,0,150,-1,{"$f":"A360","v":357},"ERC2-RGD6C-6"]
[357,300,0,40000,12000,250,60,0,150,{"$f":"A359","v":356},-1]
[358,250,0,25000,4500,600,60,0,110,-1,{"$f":"A362","v":359},"ERC2-RGD6C-12"]
[359,300,0,25000,4500,500,60,0,110,{"$f":"A361","v":358},-1]
[360,300,0,55000,25000,125,60,0,300,-1,-1,"ERC2-RGD7C-4"]
[361,300,0,50000,17500,250,60,0,300,-1,-1,"ERC2-RGD7C-8"]
[362,300,0,40000,5000,450,60,0,150,-1,-1,"ERC2-RGD7C-16"]
[363,100,0,2000,1000,100,60,0,400,-1,-1,"RCP3-TA3C-2"]
[364,100,0,1400,600,200,60,0,400,-1,-1,"RCP3-TA3C-4"]
[365,100,0,700,300,300,60,0,400,-1,-1,"RCP3-TA3C-6"]
[366,100,0,3000,1500,100,60,0,400,-1,-1,"RCP3-TA4C-2"]
[367,100,0,2000,1000,200,60,0,400,-1,-1,"RCP3-TA4C-4"]
[368,100,0,1000,500,300,60,0,400,-1,-1,"RCP3-TA4C-6"]
[369,100,0,6000,3000,125,60,0,400,-1,-1,"RCP3-TA5C-2.5"]
[370,100,0,4000,1500,250,60,0,400,-1,-1,"RCP3-TA5C-5"]
[371,100,0,2000,1000,465,60,0,400,-1,-1,"RCP3-TA5C-10"]
[372,150,0,8000,4000,150,60,0,400,-1,-1,"RCP3-TA6C-3"]
[373,150,0,6000,2000,300,60,0,400,-1,-1,"RCP3-TA6C-6"]
[374,150,0,4000,1000,560,60,0,400,-1,-1,"RCP3-TA6C-12"]
[375,200,0,10000,4000,150,60,0,400,-1,-1,"RCP3-TA7C-3"]
[376,200,0,8000,2000,300,60,0,400,-1,-1,"RCP3-TA7C-6"]
[377,200,0,6000,1000,600,60,0,400,-1,-1,"RCP3-TA7C-12"]
[378,100,0,2000,1000,100,60,0,400,-1,-1,"RCP3-TA3R-2"]
[379,100,0,1400,600,200,60,0,400,-1,-1,"RCP3-TA3R-4"]
[380,100,0,700,300,300,60,0,400,-1,-1,"RCP3-TA3R-6"]
[381,100,0,3000,1500,100,60,0,400,-1,-1,"RCP3-TA4R-2"]
[382,100,0,2000,1000,200,60,0,400,-1,-1,"RCP3-TA4R-4"]
[383,100,0,1000,500,300,60,0,400,-1,-1,"RCP3-TA4R-6"]
[384,100,0,6000,3000,125,60,0,400,-1,-1,"RCP3-TA5R-2.5"]
[385,100,0,4000,1500,250,60,0,400,-1,-1,"RCP3-TA5R-5"]
[386,100,0,2000,1000,465,60,0,400,-1,-1,"RCP3-TA5R-10"]
[387,150,0,8000,4000,150,60,0,400,-1,-1,"RCP3-TA6R-3"]
[388,150,0,6000,2000,300,60,0,400,-1,-1,"RCP3-TA6R-6"]
[389,150,0,4000,1000,560,60,0,400,-1,-1,"RCP3-TA6R-12"]
[390,200,0,10000,4000,150,60,0,400,-1,-1,"RCP3-TA7R-3"]
[391,200,0,8000,2000,300,60,0,400,-1,-1,"RCP3-TA7R-6"]
[392,200,0,6000,1000,600,60,0,400,-1,-1,"RCP3-TA7R-12"]
[393,360,0,3500,-1,266,35,0,250,-1,-1,"RCP2-RTBSL-45"]
[394,360,0,2300,-1,400,35,0,250,-1,-1,"RCP2-RTBSL-30"]
[395,360,0,3500,-1,266,35,0,250,-1,-1,"RCP2-RTCSL-45"]
[396,360,0,2300,-1,400,35,0,250,-1,-1,"RCP2-RTCSL-30"]
[397,360,0,15000,-1,400,60,0,250,-1,-1,"RCP2-RTBL-30"]
[398,360,0,10000,-1,600,60,0,250,-1,-1,"RCP2-RTBL-20"]
[399,360,0,15000,-1,400,60,0,250,-1,-1,"RCP2-RTCL-30"]
[400,360,0,10000,-1,600,60,0,250,-1,-1,"RCP2-RTCL-20"]
[401,360,0,30000,-1,400,50,0,400,-1,-1,"RCP2-RTBBL-30","Ver4.1 位置ゲイン変更 60➡50"]
[402,360,0,20000,-1,600,45,0,400,-1,-1,"RCP2-RTBBL-20","Ver4.1 位置ゲイン変更 60➡45"]
[403,360,0,30000,-1,400,50,0,400,-1,-1,"RCP2-RTCBL-30","Ver4.1 位置ゲイン変更 60➡50"]
[404,360,0,20000,-1,600,45,0,400,-1,-1,"RCP2-RTCBL-20","Ver4.1 位置ゲイン変更 60➡45"]
[405,550,0,16000,8000,150,45,0,300,-1,{"$f":"A409","v":406},"RCP2CR-SA5C-3"]
[406,600,0,16000,8000,135,45,0,300,{"$f":"A408","v":405},{"$f":"A410","v":407}]
[407,650,0,16000,8000,115,45,0,300,{"$f":"A409","v":406},{"$f":"A411","v":408}]
[408,700,0,16000,8000,100,45,0,300,{"$f":"A410","v":407},{"$f":"A412","v":409}]
[409,750,0,16000,8000,90,45,0,300,{"$f":"A411","v":408},{"$f":"A413","v":410}]
[{"$f":"A412+1","v":410},800,0,16000,8000,75,45,0,300,{"$f":"A412","v":409},-1]
[411,550,0,13000,4000,300,45,0,300,-1,{"$f":"A415","v":412},"RCP2CR-SA5C-6"]
[412,600,0,13000,4000,270,45,0,300,{"$f":"A414","v":411},{"$f":"A416","v":413}]
[413,650,0,13000,4000,230,45,0,300,{"$f":"A415","v":412},{"$f":"A417","v":414}]
[414,700,0,13000,4000,200,45,0,300,{"$f":"A416","v":413},{"$f":"A418","v":415}]
[415,750,0,13000,4000,180,45,0,300,{"$f":"A417","v":414},{"$f":"A419","v":416}]
[416,800,0,13000,4000,150,45,0,300,{"$f":"A418","v":415},-1]
[417,550,0,8000,1000,600,45,0,300,-1,{"$f":"A421","v":418},"RCP2CR-SA5C-12"]
[418,600,0,8000,1000,540,45,0,300,{"$f":"A420","v":417},{"$f":"A422","v":419}]
[419,650,0,8000,1000,460,45,0,300,{"$f":"A421","v":418},{"$f":"A423","v":420}]
[420,700,0,8000,1000,400,45,0,300,{"$f":"A422","v":419},{"$f":"A424","v":421}]
[421,750,0,8000,1000,360,45,0,300,{"$f":"A423","v":420},{"$f":"A425","v":422}]
[422,800,0,8000,1000,300,45,0,300,{"$f":"A424","v":421},-1]
[423,550,0,19000,6000,150,45,0,300,-1,{"$f":"A427","v":424},"RCP2CR-SA6C-3"]
[424,600,0,19000,6000,135,45,0,300,{"$f":"A426","v":423},{"$f":"A428","v":425}]
[425,650,0,19000,6000,115,45,0,300,{"$f":"A427","v":424},{"$f":"A429","v":426}]
[426,700,0,19000,6000,100,45,0,300,{"$f":"A428","v":425},{"$f":"A430","v":427}]
[427,750,0,19000,6000,90,45,0,300,{"$f":"A429","v":426},{"$f":"A431","v":428}]
[428,800,0,19000,6000,75,45,0,300,{"$f":"A430","v":427},-1]
[429,550,0,16000,4000,300,45,0,300,-1,{"$f":"A433","v":430},"RCP2CR-SA6C-6"]
[430,600,0,16000,4000,270,45,0,300,{"$f":"A432","v":429},{"$f":"A434","v":431}]
[431,650,0,16000,4000,230,45,0,300,{"$f":"A433","v":430},{"$f":"A435","v":432}]
[432,700,0,16000,4000,200,45,0,300,{"$f":"A434","v":431},{"$f":"A436","v":433}]
[433,750,0,16000,4000,180,45,0,300,{"$f":"A435","v":432},{"$f":"A437","v":434}]
[434,800,0,16000,4000,150,45,0,300,{"$f":"A436","v":433},-1]
[435,550,0,8500,1500,600,45,0,300,-1,{"$f":"A439","v":436},"RCP2CR-SA6C-12"]
[436,600,0,8500,1500,540,45,0,300,{"$f":"A438","v":435},{"$f":"A440","v":437}]
[437,650,0,8500,1500,460,45,0,300,{"$f":"A439","v":436},{"$f":"A441","v":438}]
[438,700,0,8500,1500,400,45,0,300,{"$f":"A440","v":437},{"$f":"A442","v":439}]
[439,750,0,8500,1500,360,45,0,300,{"$f":"A441","v":438},{"$f":"A443","v":440}]
[440,800,0,8500,1500,300,45,0,300,{"$f":"A442","v":439},-1]
[441,600,0,30000,15000,133,45,0,350,-1,{"$f":"A445","v":442},"RCP2CR-SA7C-4"]
[442,700,0,30000,15000,133,45,0,350,{"$f":"A444","v":441},{"$f":"A446","v":443}]
[443,800,0,30000,15000,120,45,0,300,{"$f":"A445","v":442},-1]
[444,600,0,30000,10000,266,45,0,350,-1,{"$f":"A448","v":445},"RCP2CR-SA7C-8"]
[445,700,0,30000,10000,266,45,0,350,{"$f":"A447","v":444},{"$f":"A449","v":446}]
[446,800,0,30000,10000,240,45,0,300,{"$f":"A448","v":445},-1]
[447,100,0,25000,5000,533,45,0,200,-1,{"$f":"A451","v":448},"RCP2CR-SA7C-16"]
[448,200,0,25000,5000,533,45,0,180,{"$f":"A450","v":447},449]
[449,300,0,25000,5000,533,45,0,160,448,450]
[450,400,0,25000,5000,533,45,0,140,449,451]
[451,500,0,25000,5000,533,45,0,120,450,452]
[452,700,0,25000,5000,533,45,0,80,451,453]
[453,800,0,25000,5000,480,45,0,80,452,-1]
[454,500,0,30000,12000,150,45,0,200,-1,{"$f":"A458","v":455},"RCP2CR-SS7C-3"]
[455,600,0,30000,12000,115,45,0,200,{"$f":"A457","v":454},-1]
[456,500,0,30000,8000,300,45,0,200,-1,{"$f":"A460","v":457},"RCP2CR-SS7C-6"]
[457,600,0,30000,8000,230,45,0,200,{"$f":"A459","v":456},-1]
[458,500,0,30000,4000,600,45,0,200,-1,{"$f":"A462","v":459},"RCP2CR-SS7C-12"]
[459,600,0,30000,4000,470,45,0,200,{"$f":"A461","v":458},-1]
[460,600,0,55000,20000,165,45,0,180,-1,{"$f":"A464","v":461},"RCP2CR-SS8C-5"]
[461,800,0,55000,20000,165,45,0,180,{"$f":"A463","v":460},{"$f":"A465","v":462}]
[462,900,0,55000,20000,155,45,0,180,{"$f":"A464","v":461},{"$f":"A466","v":463}]
[463,1000,0,55000,20000,125,45,0,180,{"$f":"A465","v":462},-1]
[464,600,0,50000,12000,333,45,0,180,-1,{"$f":"A468","v":465},"RCP2CR-SS8C-10"]
[465,800,0,50000,12000,333,45,0,180,{"$f":"A467","v":464},{"$f":"A469","v":466}]
[466,900,0,50000,12000,310,45,0,180,{"$f":"A468","v":465},{"$f":"A470","v":467}]
[467,1000,0,50000,12000,255,45,0,180,{"$f":"A469","v":466},-1]
[468,700,0,40000,5000,666,45,0,160,-1,{"$f":"A472","v":469},"RCP2CR-SS8C-20"]
[469,800,0,40000,5000,666,45,0,160,{"$f":"A471","v":468},{"$f":"A473","v":470}]
[470,900,0,40000,5000,625,45,0,160,{"$f":"A472","v":469},{"$f":"A474","v":471}]
[471,1000,0,40000,5000,515,45,0,160,{"$f":"A473","v":470},-1]
[472,500,0,20000,3000,1200,35,0,80,-1,{"$f":"A476","v":473},"RCP2CR-HS8C-30"]
[473,800,0,20000,3000,1200,35,0,80,{"$f":"A475","v":472},{"$f":"A477","v":474}]
[{"$f":"A476+1","v":474},900,0,20000,3000,1000,35,0,80,{"$f":"A476","v":473},{"$f":"A478","v":475}]
[475,1000,0,20000,3000,800,35,0,80,{"$f":"A477","v":474},-1]
[476,200,0,40000,19000,125,60,0,300,-1,{"$f":"A480","v":477},"RCP2W-RA4C-2.5"]
[477,250,0,40000,19000,115,60,0,300,{"$f":"A479","v":476},{"$f":"A481","v":478}]
[478,300,0,40000,19000,85,60,0,300,{"$f":"A480","v":477},-1]
[479,200,0,40000,12000,190,60,0,300,-1,{"$f":"A483","v":480},"RCP2W-RA4C-5"]
[480,250,0,40000,12000,190,60,0,300,{"$f":"A482","v":479},{"$f":"A484","v":481}]
[481,300,0,40000,12000,175,60,0,300,{"$f":"A483","v":480},-1]
[482,200,0,25000,4500,450,60,0,250,-1,{"$f":"A486","v":483},"RCP2W-RA4C-10"]
[483,250,0,25000,4500,450,60,0,250,{"$f":"A485","v":482},{"$f":"A487","v":484}]
[484,300,0,25000,4500,350,60,0,250,{"$f":"A486","v":483},-1]
[485,300,0,55000,26000,100,60,0,200,-1,-1,"RCP2W-RA6C-4"]
[486,300,0,50000,17500,200,60,0,200,-1,-1,"RCP2W-RA6C-8"]
[487,300,0,40000,5000,320,60,0,200,-1,-1,"RCP2W-RA6C-16"]
[488,300,0,300000,150000,63,60,0,400,-1,-1,"RCP2W-RA10C-2.5"]
[489,300,0,150000,100000,125,60,0,400,-1,-1,"RCP2W-RA10C-5"]
[{"$f":"A492+1","v":490},300,0,80000,80000,250,60,0,400,-1,-1,"RCP2W-RA10C-10"]
[491,100,0,2000,750,50,60,0,630,-1,-1,"RCP3-RA2AC-20P-1"]
[492,100,0,1000,375,100,60,0,780,-1,-1,"RCP3-RA2AC-20P-2"]
[493,100,0,500,200,200,60,0,960,-1,-1,"RCP3-RA2AC-20P-4"]
[494,100,0,4000,1250,50,60,0,480,-1,-1,"RCP3-RA2AC-20SP-1"]
[495,100,0,2000,625,100,60,0,530,-1,-1,"RCP3-RA2AC-20SP-2"]
[496,100,0,1000,325,200,60,0,590,-1,-1,"RCP3-RA2AC-20SP-4"]
[497,150,0,4000,1500,50,60,0,570,-1,-1,"RCP3-RA2BC-20P-1"]
[498,150,0,2000,750,100,60,0,610,-1,-1,"RCP3-RA2BC-20P-2"]
[499,150,0,1000,375,200,60,0,655,-1,-1,"RCP3-RA2BC-20P-4"]
[500,150,0,500,200,300,60,0,660,-1,-1,"RCP3-RA2BC-20P-6"]
[501,150,0,8000,2500,50,60,0,450,-1,-1,"RCP3-RA2BC-20SP-1"]
[502,150,0,4000,1250,100,60,0,440,-1,-1,"RCP3-RA2BC-20SP-2"]
[503,150,0,2000,625,200,60,0,430,-1,-1,"RCP3-RA2BC-20SP-4"]
[504,150,0,1000,325,300,60,0,425,-1,-1,"RCP3-RA2BC-20SP-6"]
[505,100,0,2000,750,50,60,0,630,-1,-1,"RCP3-RA2AR-20P-1"]
[506,100,0,1000,375,100,60,0,780,-1,-1,"RCP3-RA2AR-20P-2"]
[507,100,0,500,200,200,60,0,960,-1,-1,"RCP3-RA2AR-20P-4"]
[508,100,0,4000,1250,50,60,0,480,-1,-1,"RCP3-RA2AR-20SP-1"]
[509,100,0,2000,625,100,60,0,530,-1,-1,"RCP3-RA2AR-20SP-2"]
[510,100,0,1000,325,200,60,0,590,-1,-1,"RCP3-RA2AR-20SP-4"]
[511,150,0,4000,1500,50,60,0,570,-1,-1,"RCP3-RA2BR-20P-1"]
[512,150,0,2000,750,100,60,0,610,-1,-1,"RCP3-RA2BR-20P-2"]
[513,150,0,1000,375,200,60,0,655,-1,-1,"RCP3-RA2BR-20P-4"]
[514,150,0,500,200,300,60,0,660,-1,-1,"RCP3-RA2BR-20P-6"]
[515,150,0,8000,2500,50,60,0,450,-1,-1,"RCP3-RA2BR-20SP-1"]
[516,150,0,4000,1250,100,60,0,440,-1,-1,"RCP3-RA2BR-20SP-2"]
[517,150,0,2000,625,200,60,0,430,-1,-1,"RCP3-RA2BR-20SP-4"]
[518,150,0,1000,325,300,60,0,425,-1,-1,"RCP3-RA2BR-20SP-6"]
[{"$f":"A521+1","v":519},300,0,100000,70000,150,60,0,400,-1,-1,"RCP2-RA8C-5"]
[{"$f":"A522+1","v":520},300,0,60000,40000,300,60,0,400,-1,-1,"RCP2-RA8C-10"]
[{"$f":"A523+1","v":521},300,0,100000,70000,100,60,0,400,-1,-1,"RCP2-RA8R-5"]
[{"$f":"A524+1","v":522},300,0,60000,40000,200,60,0,400,-1,-1,"RCP2-RA8R-10"]

{"sheet":"MassDataLink","index":5,"n_rows":1315,"n_cols":10,"rows_kept":1315,"cut":false,"hidden":true,"merged":[[153,6,159,6],[97,6,103,6]]}
[null,1,2,3,4,5,null,1000]
["ﾃﾞｰﾀ№","ｱｸﾁｭｴｰﾀ姿勢","搬送負荷質量","加減速・速度ﾃﾞｰﾀ","前ﾃﾞｰﾀ№","次ﾃﾞｰﾀ№","備考"]
[{"$f":"ModelData!A3","v":0},"0/1","1g","ﾚｺｰﾄﾞ№","ﾚｺｰﾄﾞ№","ﾚｺｰﾄﾞ№","型式-姿勢","質量","前№ﾁｪｯｸ","後№ﾁｪｯｸ"]
[{"$f":"A3+1","v":1},0,1000,{"$f":"AccVelDataLink!A4","v":1},-1,-1,"RCP3-SA2AC-20P-1S水平"]
[2,0,500,{"$f":"AccVelDataLink!A5","v":2},-1,-1,"RCP3-SA2AC-20P-2S水平"]
[3,0,250,{"$f":"AccVelDataLink!A6","v":3},-1,-1,"RCP3-SA2AC-20P-4S水平"]
[4,0,1000,{"$f":"AccVelDataLink!A7","v":4},-1,-1,"RCP3-SA2BC-20P-2S水平"]
[5,0,500,{"$f":"AccVelDataLink!A8","v":5},-1,-1,"RCP3-SA2BC-20P-4S水平"]
[6,0,250,{"$f":"AccVelDataLink!A9","v":6},-1,-1,"RCP3-SA2BC-20P-6S水平"]
[7,0,3000,{"$f":"AccVelDataLink!A10","v":7},-1,{"$f":"A11","v":8},"RCP3-SA3C-2水平"]
[8,1,1500,{"$f":"AccVelDataLink!A11","v":8},{"$f":"A10","v":7},-1,"RCP3-SA3C-2垂直"]
[9,0,2000,{"$f":"AccVelDataLink!A12","v":9},-1,{"$f":"A13","v":10},"RCP3-SA3C-4水平"]
[10,1,1000,{"$f":"AccVelDataLink!A13","v":10},{"$f":"A12","v":9},-1,"RCP3-SA3C-4垂直"]
[11,0,1000,{"$f":"AccVelDataLink!A14","v":11},-1,{"$f":"A15","v":12},"RCP3-SA3C-6水平"]
[12,1,500,{"$f":"AccVelDataLink!A15","v":12},{"$f":"A14","v":11},-1,"RCP3-SA3C-6垂直"]
[13,0,6000,{"$f":"AccVelDataLink!A16","v":13},-1,{"$f":"A17","v":14},"RCP3-SA4C-2.5-水平-06kg"]
[14,0,7000,{"$f":"AccVelDataLink!A17","v":14},{"$f":"A16","v":13},15,"RCP3-SA4C-2.5-水平-07kg"]
[15,0,8000,{"$f":"AccVelDataLink!A18","v":15},14,16,"RCP3-SA4C-2.5-水平-08kg"]
[16,0,9000,{"$f":"AccVelDataLink!A20","v":17},15,17,"RCP3-SA4C-2.5-水平-09kg"]
[17,0,10000,{"$f":"AccVelDataLink!A22","v":19},16,18,"RCP3-SA4C-2.5-水平-10kg"]
[18,0,11000,{"$f":"AccVelDataLink!A23","v":20},17,19,"RCP3-SA4C-2.5-水平-11kg"]
[19,1,4000,{"$f":"AccVelDataLink!A24","v":21},18,20,"RCP3-SA4C-2.5-垂直-04kg"]
[20,1,5000,{"$f":"AccVelDataLink!A25","v":22},19,21,"RCP3-SA4C-2.5-垂直-05kg"]
[21,1,6000,{"$f":"AccVelDataLink!A26","v":23},20,22,"RCP3-SA4C-2.5-垂直-06kg"]
[22,1,8000,{"$f":"AccVelDataLink!A27","v":24},21,-1,"RCP3-SA4C-2.5-垂直-08kg"]
[23,0,5000,{"$f":"AccVelDataLink!A29","v":26},-1,{"$f":"A27","v":24},"RCP3-SA4C-5-水平-05kg"]
[24,0,6000,{"$f":"AccVelDataLink!A30","v":27},{"$f":"A26","v":23},25,"RCP3-SA4C-5-水平-06kg"]
[25,0,7000,{"$f":"AccVelDataLink!A32","v":29},24,26,"RCP3-SA4C-5-水平-07kg"]
[26,0,8000,{"$f":"AccVelDataLink!A35","v":32},25,27,"RCP3-SA4C-5-水平-08kg"]
[27,0,9000,{"$f":"AccVelDataLink!A38","v":35},26,28,"RCP3-SA4C-5-水平-09kg"]
[28,0,10000,{"$f":"AccVelDataLink!A40","v":37},27,29,"RCP3-SA4C-5-水平-10kg"]
[29,1,2000,{"$f":"AccVelDataLink!A41","v":38},28,30,"RCP3-SA4C-5-垂直-02kg"]
[30,1,2500,{"$f":"AccVelDataLink!A42","v":39},29,31,"RCP3-SA4C-5-垂直-02.5kg"]
[31,1,3000,{"$f":"AccVelDataLink!A43","v":40},30,32,"RCP3-SA4C-5-垂直-03kg"]
[32,1,4000,{"$f":"AccVelDataLink!A44","v":41},31,-1,"RCP3-SA4C-5-垂直-04kg"]
[33,0,1000,{"$f":"AccVelDataLink!A45","v":42},-1,{"$f":"A37","v":34},"RCP3-SA4C-10-水平-01kg"]
[34,0,2000,{"$f":"AccVelDataLink!A46","v":43},{"$f":"A36","v":33},35,"RCP3-SA4C-10-水平-02kg"]
[35,0,3000,{"$f":"AccVelDataLink!A48","v":45},34,36,"RCP3-SA4C-10-水平-03kg"]
[36,0,4000,{"$f":"AccVelDataLink!A51","v":48},35,37,"RCP3-SA4C-10-水平-04kg"]
[37,0,5000,{"$f":"AccVelDataLink!A55","v":52},36,38,"RCP3-SA4C-10-水平-05kg"]
[38,0,5500,{"$f":"AccVelDataLink!A58","v":55},37,39,"RCP3-SA4C-10-水平-05.5kg"]
[39,0,6000,{"$f":"AccVelDataLink!A59","v":56},38,40,"RCP3-SA4C-10-水平-06kg"]
[40,0,6500,{"$f":"AccVelDataLink!A61","v":58},39,41,"RCP3-SA4C-10-水平-06.5kg"]
[41,0,7000,{"$f":"AccVelDataLink!A62","v":59},40,42,"RCP3-SA4C-10-水平-07kg"]
[42,0,7500,{"$f":"AccVelDataLink!A63","v":60},41,43,"RCP3-SA4C-10-水平-07.5kg"]
[43,0,9000,{"$f":"AccVelDataLink!A64","v":61},42,44,"RCP3-SA4C-10-水平-09kg"]
[44,1,500,{"$f":"AccVelDataLink!A65","v":62},43,45,"RCP3-SA4C-10-垂直-00.5kg"]
[45,1,1000,{"$f":"AccVelDataLink!A66","v":63},44,46,"RCP3-SA4C-10-垂直-01kg"]
[46,1,1500,{"$f":"AccVelDataLink!A67","v":64},45,-1,"RCP3-SA4C-10-垂直-01.5kg"]
[47,0,3000,{"$f":"AccVelDataLink!A68","v":65},-1,{"$f":"A51","v":48},"RCP3-SA5C-3-水平-03kg"]
[48,0,5000,{"$f":"AccVelDataLink!A69","v":66},{"$f":"A50","v":47},49,"RCP3-SA5C-3-水平-05kg"]
[49,0,7000,{"$f":"AccVelDataLink!A71","v":68},48,50,"RCP3-SA5C-3-水平-07kg"]
[50,0,8000,{"$f":"AccVelDataLink!A73","v":70},49,51,"RCP3-SA5C-3-水平-08kg"]
[51,0,9000,{"$f":"AccVelDataLink!A74","v":71},50,52,"RCP3-SA5C-3-水平-09kg"]
[52,0,11000,{"$f":"AccVelDataLink!A75","v":72},51,53,"RCP3-SA5C-3-水平-11kg"]
[53,0,12000,{"$f":"AccVelDataLink!A76","v":73},52,54,"RCP3-SA5C-3-水平-12kg"]
[54,0,14000,{"$f":"AccVelDataLink!A77","v":74},53,55,"RCP3-SA5C-3-水平-14kg"]
[55,0,16000,{"$f":"AccVelDataLink!A78","v":75},54,56,"RCP3-SA5C-3-水平-16kg"]
[56,0,19000,{"$f":"AccVelDataLink!A79","v":76},55,57,"RCP3-SA5C-3-水平-19kg"]
[57,1,2000,{"$f":"AccVelDataLink!A80","v":77},56,58,"RCP3-SA5C-3-垂直-02kg"]
[58,1,3000,{"$f":"AccVelDataLink!A81","v":78},57,59,"RCP3-SA5C-3-垂直-03kg"]
[59,1,4000,{"$f":"AccVelDataLink!A82","v":79},58,60,"RCP3-SA5C-3-垂直-04kg"]
[60,1,5000,{"$f":"AccVelDataLink!A83","v":80},59,61,"RCP3-SA5C-3-垂直-05kg"]
[61,1,6000,{"$f":"AccVelDataLink!A84","v":81},60,62,"RCP3-SA5C-3-垂直-06kg"]
[62,1,7000,{"$f":"AccVelDataLink!A85","v":82},61,63,"RCP3-SA5C-3-垂直-07kg"]
[63,1,8000,{"$f":"AccVelDataLink!A86","v":83},62,64,"RCP3-SA5C-3-垂直-08kg"]
[64,1,9000,{"$f":"AccVelDataLink!A87","v":84},63,65,"RCP3-SA5C-3-垂直-09kg"]
[{"$f":"A67+1","v":65},1,10000,{"$f":"AccVelDataLink!A88","v":85},64,-1,"RCP3-SA5C-3-垂直-10kg"]
[66,0,1000,{"$f":"AccVelDataLink!A90","v":87},-1,{"$f":"A70","v":67},"RCP3-SA5C-6-水平-01kg"]
[67,0,3000,{"$f":"AccVelDataLink!A91","v":88},{"$f":"A69","v":66},68,"RCP3-SA5C-6-水平-03kg"]
[68,0,4500,{"$f":"AccVelDataLink!A92","v":89},67,69,"RCP3-SA5C-6-水平-04.5kg"]
[69,0,6000,{"$f":"AccVelDataLink!A93","v":90},68,70,"RCP3-SA5C-6-水平-06kg"]
[70,0,7000,{"$f":"AccVelDataLink!A96","v":93},69,71,"RCP3-SA5C-6-水平-07kg"]
[71,0,8000,{"$f":"AccVelDataLink!A97","v":94},70,72,"RCP3-SA5C-6-水平-08kg"]
[72,0,8500,{"$f":"AccVelDataLink!A98","v":95},71,73,"RCP3-SA5C-6-水平-08.5kg"]
[73,0,10000,{"$f":"AccVelDataLink!A99","v":96},72,74,"RCP3-SA5C-6-水平-10kg"]
[74,0,12000,{"$f":"AccVelDataLink!A101","v":98},73,75,"RCP3-SA5C-6-水平-12kg"]
[75,1,500,{"$f":"AccVelDataLink!A102","v":99},74,76,"RCP3-SA5C-6-垂直-00.5kg"]
[76,1,1500,{"$f":"AccVelDataLink!A103","v":100},75,77,"RCP3-SA5C-6-垂直-01.5kg"]
[77,1,2000,{"$f":"AccVelDataLink!A104","v":101},76,78,"RCP3-SA5C-6-垂直-02kg"]
[78,1,3000,{"$f":"AccVelDataLink!A106","v":103},77,79,"RCP3-SA5C-6-垂直-03kg"]
[79,1,3500,{"$f":"AccVelDataLink!A107","v":104},78,80,"RCP3-SA5C-6-垂直-03.5kg"]
[80,1,4500,{"$f":"AccVelDataLink!A109","v":106},79,81,"RCP3-SA5C-6-垂直-04.5kg"]
[81,1,5000,{"$f":"AccVelDataLink!A110","v":107},80,-1,"RCP3-SA5C-6-垂直-05kg"]
[82,0,500,{"$f":"AccVelDataLink!A112","v":109},-1,{"$f":"A86","v":83},"RCP3-SA5C-12-水平-00.5kg"]
[83,0,1000,{"$f":"AccVelDataLink!A113","v":110},{"$f":"A85","v":82},84,"RCP3-SA5C-12-水平-01kg"]
[84,0,1500,{"$f":"AccVelDataLink!A114","v":111},83,85,"RCP3-SA5C-12-水平-01.5kg"]
[85,0,2000,{"$f":"AccVelDataLink!A115","v":112},84,86,"RCP3-SA5C-12-水平-02kg"]
[86,0,2500,{"$f":"AccVelDataLink!A117","v":114},85,87,"RCP3-SA5C-12-水平-02.5kg"]
[87,0,3000,{"$f":"AccVelDataLink!A118","v":115},86,88,"RCP3-SA5C-12-水平-03kg"]
[88,0,4000,{"$f":"AccVelDataLink!A122","v":119},87,89,"RCP3-SA5C-12-水平-04kg"]
[89,0,5000,{"$f":"AccVelDataLink!A125","v":122},88,90,"RCP3-SA5C-12-水平-05kg"]
[90,0,6000,{"$f":"AccVelDataLink!A126","v":123},89,91,"RCP3-SA5C-12-水平-06kg"]
[91,0,8000,{"$f":"AccVelDataLink!A127","v":124},90,92,"RCP3-SA5C-12-水平-08kg"]
[92,1,500,{"$f":"AccVelDataLink!A128","v":125},91,93,"RCP3-SA5C-12-垂直-00.5kg"]
[93,1,1000,{"$f":"AccVelDataLink!A129","v":126},92,94,"RCP3-SA5C-12-垂直-01kg"]
[{"$f":"A96+1","v":94},1,2000,{"$f":"AccVelDataLink!A130","v":127},93,-1,"RCP3-SA5C-12-垂直-02kg"]
[95,0,{"$f":"H98*$H$1","v":300},{"$f":"AccVelDataLink!A131","v":128},-1,{"$f":"A99","v":96},{"$f":"AccVelDataLink!F131","v":"RCP3-SA5C-20-水平"},{"$f":"AccVelDataLink!G131","v":0.3},{"$f":"IF(E98=-1,IF(B98=B97,\"切替異常\",\"○\"),IF(E98<>A97,\"リンク№異常\",\"○\"))","v":"○"},{"$f":"IF(F98=-1,IF(B98=B99,\"切替異常\",\"○\"),IF(F98<>A99,\"リンク№異常\",\"○\"))","v":"○"}]
[96,0,500,{"$f":"AccVelDataLink!A132","v":129},{"$f":"A98","v":95},97,null,{"$f":"AccVelDataLink!G132","v":0.5},"○","○"]
[97,0,1000,{"$f":"AccVelDataLink!A133","v":130},96,98,null,{"$f":"AccVelDataLink!G133","v":1},"○","○"]
[98,0,1500,{"$f":"AccVelDataLink!A134","v":131},97,99,null,{"$f":"AccVelDataLink!G134","v":1.5},"○","○"]
[99,0,2000,{"$f":"AccVelDataLink!A135","v":132},98,100,null,{"$f":"AccVelDataLink!G135","v":2},"○","○"]
[100,0,3000,{"$f":"AccVelDataLink!A137","v":134},99,101,null,{"$f":"AccVelDataLink!G137","v":3},"○","○"]
[101,0,4000,{"$f":"AccVelDataLink!A138","v":135},100,102,null,{"$f":"AccVelDataLink!G138","v":4},"○","○"]
[102,1,500,{"$f":"AccVelDataLink!A139","v":136},101,-1,{"$f":"AccVelDataLink!F139","v":"RCP3-SA5C-20-垂直"},{"$f":"AccVelDataLink!G139","v":0.5},"○","○"]
[103,0,3000,{"$f":"AccVelDataLink!A140","v":137},-1,{"$f":"A107","v":104},"RCP3-SA6C-3-水平-03kg"]
[104,0,5000,{"$f":"AccVelDataLink!A141","v":138},{"$f":"A106","v":103},105,"RCP3-SA6C-3-水平-05kg"]
[105,0,7000,{"$f":"AccVelDataLink!A143","v":140},104,106,"RCP3-SA6C-3-水平-07kg"]
[106,0,8000,{"$f":"AccVelDataLink!A145","v":142},105,107,"RCP3-SA6C-3-水平-08kg"]
[107,0,9000,{"$f":"AccVelDataLink!A146","v":143},106,108,"RCP3-SA6C-3-水平-09kg"]
[108,0,11000,{"$f":"AccVelDataLink!A147","v":144},107,109,"RCP3-SA6C-3-水平-11kg"]
[109,0,12000,{"$f":"AccVelDataLink!A148","v":145},108,110,"RCP3-SA6C-3-水平-12kg"]
[110,0,14000,{"$f":"AccVelDataLink!A149","v":146},109,111,"RCP3-SA6C-3-水平-14kg"]
[111,0,16000,{"$f":"AccVelDataLink!A150","v":147},110,112,"RCP3-SA6C-3-水平-16kg"]
[112,0,19000,{"$f":"AccVelDataLink!A151","v":148},111,113,"RCP3-SA6C-3-水平-19kg"]
[113,1,2000,{"$f":"AccVelDataLink!A152","v":149},112,114,"RCP3-SA6C-3-垂直-02kg"]
[114,1,3000,{"$f":"AccVelDataLink!A153","v":150},113,115,"RCP3-SA6C-3-垂直-03kg"]
[115,1,4000,{"$f":"AccVelDataLink!A154","v":151},114,116,"RCP3-SA6C-3-垂直-04kg"]
[116,1,5000,{"$f":"AccVelDataLink!A155","v":152},115,117,"RCP3-SA6C-3-垂直-05kg"]
[117,1,6000,{"$f":"AccVelDataLink!A156","v":153},116,118,"RCP3-SA6C-3-垂直-06kg"]
[118,1,7000,{"$f":"AccVelDataLink!A157","v":154},117,119,"RCP3-SA6C-3-垂直-07kg"]
[119,1,8000,{"$f":"AccVelDataLink!A158","v":155},118,120,"RCP3-SA6C-3-垂直-08kg"]
[120,1,9000,{"$f":"AccVelDataLink!A159","v":156},119,121,"RCP3-SA6C-3-垂直-09kg"]
[121,1,10000,{"$f":"AccVelDataLink!A160","v":157},120,-1,"RCP3-SA6C-3-垂直-10kg"]
[122,0,1000,{"$f":"AccVelDataLink!A162","v":159},-1,{"$f":"A126","v":123},"RCP3-SA6C-6-水平-01kg"]
[123,0,3000,{"$f":"AccVelDataLink!A163","v":160},{"$f":"A125","v":122},124,"RCP3-SA6C-6-水平-03kg"]
[124,0,4500,{"$f":"AccVelDataLink!A164","v":161},123,125,"RCP3-SA6C-6-水平-04.5kg"]
[125,0,6000,{"$f":"AccVelDataLink!A165","v":162},124,126,"RCP3-SA6C-6-水平-06kg"]
[126,0,7000,{"$f":"AccVelDataLink!A168","v":165},125,127,"RCP3-SA6C-6-水平-07kg"]
[127,0,8000,{"$f":"AccVelDataLink!A169","v":166},126,128,"RCP3-SA6C-6-水平-08kg"]
[128,0,8500,{"$f":"AccVelDataLink!A170","v":167},127,129,"RCP3-SA6C-6-水平-08.5kg"]
[129,0,10000,{"$f":"AccVelDataLink!A171","v":168},128,130,"RCP3-SA6C-6-水平-10kg"]
[130,0,12000,{"$f":"AccVelDataLink!A173","v":170},129,131,"RCP3-SA6C-6-水平-12kg"]
[131,1,500,{"$f":"AccVelDataLink!A174","v":171},130,132,"RCP3-SA6C-6-垂直-00.5kg"]
[132,1,1500,{"$f":"AccVelDataLink!A175","v":172},131,133,"RCP3-SA6C-6-垂直-01.5kg"]
[133,1,2000,{"$f":"AccVelDataLink!A176","v":173},132,134,"RCP3-SA6C-6-垂直-02kg"]
[134,1,3000,{"$f":"AccVelDataLink!A178","v":175},133,135,"RCP3-SA6C-6-垂直-03kg"]
[135,1,3500,{"$f":"AccVelDataLink!A179","v":176},134,136,"RCP3-SA6C-6-垂直-03.5kg"]
[136,1,4500,{"$f":"AccVelDataLink!A181","v":178},135,137,"RCP3-SA6C-6-垂直-04.5kg"]
[{"$f":"A139+1","v":137},1,5000,{"$f":"AccVelDataLink!A182","v":179},136,-1,"RCP3-SA6C-6-垂直-05kg"]
[138,0,500,{"$f":"AccVelDataLink!A184","v":181},-1,{"$f":"A142","v":139},"RCP3-SA6C-12-水平-00.5kg"]
[139,0,1000,{"$f":"AccVelDataLink!A185","v":182},{"$f":"A141","v":138},140,"RCP3-SA6C-12-水平-01kg"]
[140,0,1500,{"$f":"AccVelDataLink!A186","v":183},139,141,"RCP3-SA6C-12-水平-01.5kg"]
[141,0,2000,{"$f":"AccVelDataLink!A187","v":184},140,142,"RCP3-SA6C-12-水平-02kg"]
[142,0,2500,{"$f":"AccVelDataLink!A189","v":186},141,143,"RCP3-SA6C-12-水平-02.5kg"]
[143,0,3000,{"$f":"AccVelDataLink!A190","v":187},142,144,"RCP3-SA6C-12-水平-03kg"]
[144,0,4000,{"$f":"AccVelDataLink!A194","v":191},143,145,"RCP3-SA6C-12-水平-04kg"]
[145,0,5000,{"$f":"AccVelDataLink!A197","v":194},144,146,"RCP3-SA6C-12-水平-05kg"]
[146,0,6000,{"$f":"AccVelDataLink!A198","v":195},145,147,"RCP3-SA6C-12-水平-06kg"]
[147,0,8000,{"$f":"AccVelDataLink!A199","v":196},146,148,"RCP3-SA6C-12-水平-08kg"]
[148,1,500,{"$f":"AccVelDataLink!A200","v":197},147,149,"RCP3-SA6C-12-垂直-00.5kg"]
[149,1,1000,{"$f":"AccVelDataLink!A201","v":198},148,150,"RCP3-SA6C-12-垂直-01kg"]
[{"$f":"A152+1","v":150},1,2000,{"$f":"AccVelDataLink!A202","v":199},149,-1,"RCP3-SA6C-12-垂直-02kg"]
[151,0,{"$f":"H154*$H$1","v":300},{"$f":"AccVelDataLink!A203","v":200},-1,{"$f":"A155","v":152},{"$f":"AccVelDataLink!F203","v":"RCP3-SA6C-20-水平"},{"$f":"AccVelDataLink!G203","v":0.3},{"$f":"IF(E154=-1,IF(B154=B153,\"切替異常\",\"○\"),IF(E154<>A153,\"リンク№異常\",\"○\"))","v":"○"},{"$f":"IF(F154=-1,IF(B154=B155,\"切替異常\",\"○\"),IF(F154<>A155,\"リンク№異常\",\"○\"))","v":"○"}]
[152,0,500,{"$f":"AccVelDataLink!A204","v":201},{"$f":"A154","v":151},153,null,{"$f":"AccVelDataLink!G204","v":0.5},"○","○"]
[153,0,1000,{"$f":"AccVelDataLink!A205","v":202},152,154,null,{"$f":"AccVelDataLink!G205","v":1},"○","○"]
[154,0,1500,{"$f":"AccVelDataLink!A206","v":203},153,155,null,{"$f":"AccVelDataLink!G206","v":1.5},"○","○"]
[155,0,2000,{"$f":"AccVelDataLink!A207","v":204},154,156,null,{"$f":"AccVelDataLink!G207","v":2},"○","○"]
[156,0,3000,{"$f":"AccVelDataLink!A209","v":206},155,157,null,{"$f":"AccVelDataLink!G209","v":3},"○","○"]
[157,0,4000,{"$f":"AccVelDataLink!A210","v":207},156,158,null,{"$f":"AccVelDataLink!G210","v":4},"○","○"]
[158,1,500,{"$f":"AccVelDataLink!A211","v":208},157,-1,{"$f":"AccVelDataLink!F211","v":"RCP3-SA6C-20-垂直"},{"$f":"AccVelDataLink!G211","v":0.5},"○","○"]
[159,0,1000,{"$f":"AccVelDataLink!A212","v":209},-1,-1,"RCP3-SA2AR-20P-1S水平"]
[160,0,500,{"$f":"AccVelDataLink!A213","v":210},-1,-1,"RCP3-SA2AR-20P-2S水平"]
[161,0,250,{"$f":"AccVelDataLink!A214","v":211},-1,-1,"RCP3-SA2AR-20P-4S水平"]
[162,0,1000,{"$f":"AccVelDataLink!A215","v":212},-1,-1,"RCP3-SA2BR-20P-2S水平"]
[163,0,500,{"$f":"AccVelDataLink!A216","v":213},-1,-1,"RCP3-SA2BR-20P-4S水平"]
[164,0,250,{"$f":"AccVelDataLink!A217","v":214},-1,-1,"RCP3-SA2BR-20P-6S水平"]
[165,0,3000,{"$f":"AccVelDataLink!A218","v":215},-1,{"$f":"A169","v":166},"RCP3-SA3R-2水平"]
[166,1,1500,{"$f":"AccVelDataLink!A219","v":216},{"$f":"A168","v":165},-1,"RCP3-SA3R-2垂直"]
[167,0,2000,{"$f":"AccVelDataLink!A220","v":217},-1,{"$f":"A171","v":168},"RCP3-SA3R-4水平"]
[168,1,1000,{"$f":"AccVelDataLink!A221","v":218},{"$f":"A170","v":167},-1,"RCP3-SA3R-4垂直"]
[169,0,1000,{"$f":"AccVelDataLink!A222","v":219},-1,{"$f":"A173","v":170},"RCP3-SA3R-6水平"]
[170,1,500,{"$f":"AccVelDataLink!A223","v":220},{"$f":"A172","v":169},-1,"RCP3-SA3R-6垂直"]
[171,0,6000,{"$f":"AccVelDataLink!A224","v":221},-1,{"$f":"A175","v":172},"RCP3-SA4R-2.5水平","←Ver.Dまで使用していたデータ．販売部から機械諸元をストレートタイプと揃える依頼があり，参照先をストレートタイプと同一データへ移動．"]
[172,1,3000,{"$f":"AccVelDataLink!A225","v":222},{"$f":"A174","v":171},-1,"RCP3-SA4R-2.5垂直","←Ver.Dまで使用していたデータ．販売部から機械諸元をストレートタイプと揃える依頼があり，参照先をストレートタイプと同一データへ移動．"]
[173,0,4000,{"$f":"AccVelDataLink!A226","v":223},-1,{"$f":"A177","v":174},"RCP3-SA4R-5水平","←Ver.Dまで使用していたデータ．販売部から機械諸元をストレートタイプと揃える依頼があり，参照先をストレートタイプと同一データへ移動．"]
[174,1,1500,{"$f":"AccVelDataLink!A227","v":224},{"$f":"A176","v":173},-1,"RCP3-SA4R-5垂直","←Ver.Dまで使用していたデータ．販売部から機械諸元をストレートタイプと揃える依頼があり，参照先をストレートタイプと同一データへ移動．"]
[175,0,2000,{"$f":"AccVelDataLink!A228","v":225},-1,{"$f":"A179","v":176},"RCP3-SA4R-10水平","←Ver.Dまで使用していたデータ．販売部から機械諸元をストレートタイプと揃える依頼があり，参照先をストレートタイプと同一データへ移動．"]
[176,1,500,{"$f":"AccVelDataLink!A229","v":226},{"$f":"A178","v":175},{"$f":"A180","v":177},"RCP3-SA4R-10垂直-00.5kg","←Ver.Dまで使用していたデータ．販売部から機械諸元をストレートタイプと揃える依頼があり，参照先をストレートタイプと同一データへ移動．"]
[177,1,1000,{"$f":"AccVelDataLink!A230","v":227},{"$f":"A179","v":176},-1,"RCP3-SA4R-10垂直-01kg","←Ver.Dまで使用していたデータ．販売部から機械諸元をストレートタイプと揃える依頼があり，参照先をストレートタイプと同一データへ移動．"]
[178,0,10000,{"$f":"AccVelDataLink!A231","v":228},-1,{"$f":"A182","v":179},"RCP3-SA5R-3水平","←Ver.Dまで使用していたデータ．販売部から機械諸元をストレートタイプと揃える依頼があり，参照先をストレートタイプと同一データへ移動．"]
[179,1,2000,{"$f":"AccVelDataLink!A232","v":229},{"$f":"A181","v":178},{"$f":"A183","v":180},"RCP3-SA5R-3垂直-02kg","←Ver.Dまで使用していたデータ．販売部から機械諸元をストレートタイプと揃える依頼があり，参照先をストレートタイプと同一データへ移動．"]
[180,1,4000,{"$f":"AccVelDataLink!A233","v":230},{"$f":"A182","v":179},-1,"RCP3-SA5R-3垂直-04kg","←Ver.Dまで使用していたデータ．販売部から機械諸元をストレートタイプと揃える依頼があり，参照先をストレートタイプと同一データへ移動．"]
[181,0,6000,{"$f":"AccVelDataLink!A234","v":231},-1,{"$f":"A185","v":182},"RCP3-SA5R-6水平-06kg","←Ver.Dまで使用していたデータ．販売部から機械諸元をストレートタイプと揃える依頼があり，参照先をストレートタイプと同一データへ移動．"]
[182,0,8000,{"$f":"AccVelDataLink!A235","v":232},{"$f":"A184","v":181},{"$f":"A186","v":183},"RCP3-SA5R-6水平-08kg","←Ver.Dまで使用していたデータ．販売部から機械諸元をストレートタイプと揃える依頼があり，参照先をストレートタイプと同一データへ移動．"]
[183,1,1000,{"$f":"AccVelDataLink!A236","v":233},{"$f":"A185","v":182},{"$f":"A187","v":184},"RCP3-SA5R-6垂直-01kg","←Ver.Dまで使用していたデータ．販売部から機械諸元をストレートタイプと揃える依頼があり，参照先をストレートタイプと同一データへ移動．"]
[184,1,2000,{"$f":"AccVelDataLink!A237","v":234},{"$f":"A186","v":183},-1,"RCP3-SA5R-6垂直-02kg","←Ver.Dまで使用していたデータ．販売部から機械諸元をストレートタイプと揃える依頼があり，参照先をストレートタイプと同一データへ移動．"]
[185,0,2000,{"$f":"AccVelDataLink!A238","v":235},-1,{"$f":"A189","v":186},"RCP3-SA5R-12水平-02kg","←Ver.Dまで使用していたデータ．販売部から機械諸元をストレートタイプと揃える依頼があり，参照先をストレートタイプと同一データへ移動．"]
[186,0,4000,{"$f":"AccVelDataLink!A239","v":236},{"$f":"A188","v":185},{"$f":"A190","v":187},"RCP3-SA5R-12水平-04kg","←Ver.Dまで使用していたデータ．販売部から機械諸元をストレートタイプと揃える依頼があり，参照先をストレートタイプと同一データへ移動．"]
[187,0,6000,{"$f":"AccVelDataLink!A240","v":237},{"$f":"A189","v":186},{"$f":"A191","v":188},"RCP3-SA5R-12水平-06kg","←Ver.Dまで使用していたデータ．販売部から機械諸元をストレートタイプと揃える依頼があり，参照先をストレートタイプと同一データへ移動．"]
[188,1,500,{"$f":"AccVelDataLink!A241","v":238},{"$f":"A190","v":187},{"$f":"A192","v":189},"RCP3-SA5R-12垂直-00.5kg","←Ver.Dまで使用していたデータ．販売部から機械諸元をストレートタイプと揃える依頼があり，参照先をストレートタイプと同一データへ移動．"]
[189,1,1000,{"$f":"AccVelDataLink!A242","v":239},{"$f":"A191","v":188},-1,"RCP3-SA5R-12垂直-01kg","←Ver.Dまで使用していたデータ．販売部から機械諸元をストレートタイプと揃える依頼があり，参照先をストレートタイプと同一データへ移動．"]
[190,0,10000,{"$f":"AccVelDataLink!A243","v":240},-1,{"$f":"A194","v":191},"RCP3-SA6R-3水平","←Ver.Dまで使用していたデータ．販売部から機械諸元をストレートタイプと揃える依頼があり，参照先をストレートタイプと同一データへ移動．"]
[191,1,2000,{"$f":"AccVelDataLink!A244","v":241},{"$f":"A193","v":190},{"$f":"A195","v":192},"RCP3-SA6R-3垂直-02kg","←Ver.Dまで使用していたデータ．販売部から機械諸元をストレートタイプと揃える依頼があり，参照先をストレートタイプと同一データへ移動．"]
[192,1,4000,{"$f":"AccVelDataLink!A245","v":242},{"$f":"A194","v":191},-1,"RCP3-SA6R-3垂直-04kg","←Ver.Dまで使用していたデータ．販売部から機械諸元をストレートタイプと揃える依頼があり，参照先をストレートタイプと同一データへ移動．"]
[193,0,6000,{"$f":"AccVelDataLink!A246","v":243},-1,{"$f":"A197","v":194},"RCP3-SA6R-6水平-06kg","←Ver.Dまで使用していたデータ．販売部から機械諸元をストレートタイプと揃える依頼があり，参照先をストレートタイプと同一データへ移動．"]
[194,0,8000,{"$f":"AccVelDataLink!A247","v":244},{"$f":"A196","v":193},{"$f":"A198","v":195},"RCP3-SA6R-6水平-08kg","←Ver.Dまで使用していたデータ．販売部から機械諸元をストレートタイプと揃える依頼があり，参照先をストレートタイプと同一データへ移動．"]
[195,1,1000,{"$f":"AccVelDataLink!A248","v":245},{"$f":"A197","v":194},{"$f":"A199","v":196},"RCP3-SA6R-6垂直-01kg","←Ver.Dまで使用していたデータ．販売部から機械諸元をストレートタイプと揃える依頼があり，参照先をストレートタイプと同一データへ移動．"]
[196,1,2000,{"$f":"AccVelDataLink!A249","v":246},{"$f":"A198","v":195},-1,"RCP3-SA6R-6垂直-02kg","←Ver.Dまで使用していたデータ．販売部から機械諸元をストレートタイプと揃える依頼があり，参照先をストレートタイプと同一データへ移動．"]
[197,0,2000,{"$f":"AccVelDataLink!A250","v":247},-1,{"$f":"A201","v":198},"RCP3-SA6R-12水平-02kg","←Ver.Dまで使用していたデータ．販売部から機械諸元をストレートタイプと揃える依頼があり，参照先をストレートタイプと同一データへ移動．"]
[198,0,4000,{"$f":"AccVelDataLink!A251","v":248},{"$f":"A200","v":197},{"$f":"A202","v":199},"RCP3-SA6R-12水平-04kg","←Ver.Dまで使用していたデータ．販売部から機械諸元をストレートタイプと揃える依頼があり，参照先をストレートタイプと同一データへ移動．"]
[199,0,6000,{"$f":"AccVelDataLink!A252","v":249},{"$f":"A201","v":198},{"$f":"A203","v":200},"RCP3-SA6R-12水平-06kg","←Ver.Dまで使用していたデータ．販売部から機械諸元をストレートタイプと揃える依頼があり，参照先をストレートタイプと同一データへ移動．"]
[200,1,500,{"$f":"AccVelDataLink!A253","v":250},{"$f":"A202","v":199},{"$f":"A204","v":201},"RCP3-SA6R-12垂直-00.5kg","←Ver.Dまで使用していたデータ．販売部から機械諸元をストレートタイプと揃える依頼があり，参照先をストレートタイプと同一データへ移動．"]
[201,1,1000,{"$f":"AccVelDataLink!A254","v":251},{"$f":"A203","v":200},-1,"RCP3-SA6R-12垂直-01kg","←Ver.Dまで使用していたデータ．販売部から機械諸元をストレートタイプと揃える依頼があり，参照先をストレートタイプと同一データへ移動．"]
[202,0,8000,{"$f":"AccVelDataLink!A255","v":252},-1,{"$f":"A206","v":203},"RCP2-SA5C-3水平-08kg"]
[203,0,9000,{"$f":"AccVelDataLink!A256","v":253},{"$f":"A205","v":202},204,"RCP2-SA5C-3水平-09kg"]
[204,0,10000,{"$f":"AccVelDataLink!A257","v":254},203,205,"RCP2-SA5C-3水平-10kg"]
[205,0,11000,{"$f":"AccVelDataLink!A259","v":256},204,206,"RCP2-SA5C-3水平-11kg"]
[206,0,12000,{"$f":"AccVelDataLink!A260","v":257},205,207,"RCP2-SA5C-3水平-12kg"]
[207,0,13000,{"$f":"AccVelDataLink!A261","v":258},206,208,"RCP2-SA5C-3水平-13kg"]
[208,0,14000,{"$f":"AccVelDataLink!A262","v":259},207,209,"RCP2-SA5C-3水平-14kg"]
[{"$f":"A211+1","v":209},0,16000,{"$f":"AccVelDataLink!A264","v":261},208,210,"RCP2-SA5C-3水平-16kg"]
[210,1,1500,{"$f":"AccVelDataLink!A268","v":265},209,211,"RCP2-SA5C-3垂直-01.5kg"]
[211,1,4500,{"$f":"AccVelDataLink!A269","v":266},210,212,"RCP2-SA5C-3垂直-04.5kg"]
[212,1,5000,{"$f":"AccVelDataLink!A270","v":267},211,213,"RCP2-SA5C-3垂直-05kg"]
[213,1,5500,{"$f":"AccVelDataLink!A272","v":269},212,214,"RCP2-SA5C-3垂直-05.5kg"]
[214,1,6000,{"$f":"AccVelDataLink!A273","v":270},213,215,"RCP2-SA5C-3垂直-06kg"]
[215,1,8000,{"$f":"AccVelDataLink!A274","v":271},214,-1,"RCP2-SA5C-3垂直-08kg"]
[216,0,4000,{"$f":"AccVelDataLink!A275","v":272},-1,{"$f":"A220","v":217},"RCP2-SA5C-6水平-04kg"]
[217,0,5000,{"$f":"AccVelDataLink!A276","v":273},{"$f":"A219","v":216},218,"RCP2-SA5C-6水平-05kg"]
[218,0,7000,{"$f":"AccVelDataLink!A277","v":274},217,219,"RCP2-SA5C-6水平-07kg"]
[219,0,8000,{"$f":"AccVelDataLink!A278","v":275},218,220,"RCP2-SA5C-6水平-08kg"]
[220,0,9000,{"$f":"AccVelDataLink!A280","v":277},219,221,"RCP2-SA5C-6水平-09kg"]
[221,0,12000,{"$f":"AccVelDataLink!A281","v":278},220,222,"RCP2-SA5C-6水平-12kg"]
[222,0,13000,{"$f":"AccVelDataLink!A282","v":279},221,223,"RCP2-SA5C-6水平-13kg"]
[223,1,1500,{"$f":"AccVelDataLink!A284","v":281},222,224,"RCP2-SA5C-6垂直-01.5kg"]
[224,1,2500,{"$f":"AccVelDataLink!A285","v":282},223,225,"RCP2-SA5C-6垂直-02.5kg"]
[225,1,3000,{"$f":"AccVelDataLink!A286","v":283},224,226,"RCP2-SA5C-6垂直-03kg"]
[226,1,4000,{"$f":"AccVelDataLink!A287","v":284},225,-1,"RCP2-SA5C-6垂直-04kg"]
[227,0,1500,{"$f":"AccVelDataLink!A289","v":286},-1,{"$f":"A231","v":228},"RCP2-SA5C-12水平-01.5kg"]
[228,0,2000,{"$f":"AccVelDataLink!A290","v":287},{"$f":"A230","v":227},229,"RCP2-SA5C-12水平-02kg"]
[229,0,3500,{"$f":"AccVelDataLink!A291","v":288},228,230,"RCP2-SA5C-12水平-03.5kg"]
[230,0,4000,{"$f":"AccVelDataLink!A292","v":289},229,231,"RCP2-SA5C-12水平-04kg"]
[231,0,5000,{"$f":"AccVelDataLink!A294","v":291},230,232,"RCP2-SA5C-12水平-05kg"]
[232,0,5500,{"$f":"AccVelDataLink!A296","v":293},231,233,"RCP2-SA5C-12水平-05.5kg"]
[233,0,6000,{"$f":"AccVelDataLink!A297","v":294},232,234,"RCP2-SA5C-12水平-06kg"]
[234,0,7000,{"$f":"AccVelDataLink!A298","v":295},233,235,"RCP2-SA5C-12水平-07kg"]
[235,0,8000,{"$f":"AccVelDataLink!A299","v":296},234,236,"RCP2-SA5C-12水平-08kg"]
[236,1,500,{"$f":"AccVelDataLink!A300","v":297},235,237,"RCP2-SA5C-12垂直-00.5kg"]
[237,1,1000,{"$f":"AccVelDataLink!A301","v":298},236,-1,"RCP2-SA5C-12垂直-01kg"]
[238,0,9000,{"$f":"AccVelDataLink!A303","v":300},-1,{"$f":"A242","v":239},"RCP2-SA6C-3水平-09kg"]
[239,0,10000,{"$f":"AccVelDataLink!A304","v":301},{"$f":"A241","v":238},240,"RCP2-SA6C-3水平-10kg"]
[240,0,11000,{"$f":"AccVelDataLink!A306","v":303},239,241,"RCP2-SA6C-3水平-11kg"]
[241,0,12000,{"$f":"AccVelDataLink!A308","v":305},240,242,"RCP2-SA6C-3水平-12kg"]
[242,0,13000,{"$f":"AccVelDataLink!A309","v":306},241,243,"RCP2-SA6C-3水平-13kg"]
[243,0,14000,{"$f":"AccVelDataLink!A310","v":307},242,244,"RCP2-SA6C-3水平-14kg"]
[244,0,15000,{"$f":"AccVelDataLink!A311","v":308},243,245,"RCP2-SA6C-3水平-15kg"]
[245,0,16000,{"$f":"AccVelDataLink!A313","v":310},244,246,"RCP2-SA6C-3水平-16kg"]
[246,0,17000,{"$f":"AccVelDataLink!A314","v":311},245,247,"RCP2-SA6C-3水平-17kg"]
[247,0,19000,{"$f":"AccVelDataLink!A315","v":312},246,248,"RCP2-SA6C-3水平-19kg"]
[248,1,2000,{"$f":"AccVelDataLink!A316","v":313},247,249,"RCP2-SA6C-3垂直-02kg"]
[249,1,4000,{"$f":"AccVelDataLink!A317","v":314},248,250,"RCP2-SA6C-3垂直-04kg"]
[250,1,6000,{"$f":"AccVelDataLink!A318","v":315},249,-1,"RCP2-SA6C-3垂直-06kg"]
[251,0,3000,{"$f":"AccVelDataLink!A319","v":316},-1,{"$f":"A255","v":252},"RCP2-SA6C-6水平-03kg"]
[252,0,4000,{"$f":"AccVelDataLink!A320","v":317},{"$f":"A254","v":251},253,"RCP2-SA6C-6水平-04kg"]
[253,0,6000,{"$f":"AccVelDataLink!A321","v":318},252,254,"RCP2-SA6C-6水平-06kg"]
[254,0,8000,{"$f":"AccVelDataLink!A322","v":319},253,255,"RCP2-SA6C-6水平-08kg"]
[255,0,10000,{"$f":"AccVelDataLink!A323","v":320},254,256,"RCP2-SA6C-6水平-10kg"]
[256,0,12000,{"$f":"AccVelDataLink!A324","v":321},255,257,"RCP2-SA6C-6水平-12kg"]
[257,0,13000,{"$f":"AccVelDataLink!A326","v":323},256,258,"RCP2-SA6C-6水平-13kg"]
[258,0,15000,{"$f":"AccVelDataLink!A327","v":324},257,259,"RCP2-SA6C-6水平-15kg"]
[259,0,16000,{"$f":"AccVelDataLink!A329","v":326},258,260,"RCP2-SA6C-6水平-16kg"]
[260,1,1000,{"$f":"AccVelDataLink!A330","v":327},259,261,"RCP2-SA6C-6垂直-01kg"]
[261,1,2000,{"$f":"AccVelDataLink!A331","v":328},260,262,"RCP2-SA6C-6垂直-02kg"]
[262,1,2500,{"$f":"AccVelDataLink!A332","v":329},261,263,"RCP2-SA6C-6垂直-02.5kg"]
[263,1,3000,{"$f":"AccVelDataLink!A333","v":330},262,264,"RCP2-SA6C-6垂直-03kg"]
[264,1,4000,{"$f":"AccVelDataLink!A334","v":331},263,-1,"RCP2-SA6C-6垂直-04kg"]
[265,0,1000,{"$f":"AccVelDataLink!A335","v":332},-1,{"$f":"A269","v":266},"RCP2-SA6C-12水平-01kg"]
[266,0,2000,{"$f":"AccVelDataLink!A336","v":333},{"$f":"A268","v":265},267,"RCP2-SA6C-12水平-02kg"]
[267,0,3000,{"$f":"AccVelDataLink!A338","v":335},266,268,"RCP2-SA6C-12水平-03kg"]
[268,0,4000,{"$f":"AccVelDataLink!A340","v":337},267,269,"RCP2-SA6C-12水平-04kg"]
[269,0,6000,{"$f":"AccVelDataLink!A341","v":338},268,270,"RCP2-SA6C-12水平-06kg"]
[270,0,7000,{"$f":"AccVelDataLink!A343","v":340},269,271,"RCP2-SA6C-12水平-07kg"]
[271,0,8500,{"$f":"AccVelDataLink!A344","v":341},270,272,"RCP2-SA6C-12水平-08.5kg"]
[272,1,500,{"$f":"AccVelDataLink!A345","v":342},271,273,"RCP2-SA6C-12垂直-00.5kg"]
[{"$f":"A275+1","v":273},1,1000,{"$f":"AccVelDataLink!A346","v":343},272,274,"RCP2-SA6C-12垂直-01kg"]
[274,1,1500,{"$f":"AccVelDataLink!A347","v":344},273,-1,"RCP2-SA6C-12垂直-01.5kg"]
[275,0,40000,{"$f":"AccVelDataLink!A350","v":347},-1,{"$f":"A279","v":276},"RCP2-SA7C-4水平-40kg"]
[276,1,5000,{"$f":"AccVelDataLink!A351","v":348},{"$f":"A278","v":275},{"$f":"A280","v":277},"RCP2-SA7C-4垂直-05kg"]
[277,1,10000,{"$f":"AccVelDataLink!A352","v":349},{"$f":"A279","v":276},{"$f":"A281","v":278},"RCP2-SA7C-4垂直-10kg"]
[278,1,15000,{"$f":"AccVelDataLink!A353","v":350},{"$f":"A280","v":277},-1,"RCP2-SA7C-4垂直-15kg"]
[279,0,10000,{"$f":"AccVelDataLink!A354","v":351},-1,{"$f":"A283","v":280},"RCP2-SA7C-8水平-10kg"]
[280,0,25000,{"$f":"AccVelDataLink!A355","v":352},{"$f":"A282","v":279},281,"RCP2-SA7C-8水平-25kg"]
[281,0,40000,{"$f":"AccVelDataLink!A356","v":353},280,282,"RCP2-SA7C-8水平-40kg"]
[282,1,1500,{"$f":"AccVelDataLink!A357","v":354},281,283,"RCP2-SA7C-8垂直-01.5kg"]
[283,1,4000,{"$f":"AccVelDataLink!A358","v":355},282,284,"RCP2-SA7C-8垂直-04kg"]
[284,1,7000,{"$f":"AccVelDataLink!A359","v":356},283,285,"RCP2-SA7C-8垂直-07kg"]
[285,1,10000,{"$f":"AccVelDataLink!A360","v":357},284,-1,"RCP2-SA7C-8垂直-10kg"]
[286,0,7000,{"$f":"AccVelDataLink!A361","v":358},-1,{"$f":"A290","v":287},"RCP2-SA7C-16水平-07kg"]
[287,0,15000,{"$f":"AccVelDataLink!A362","v":359},{"$f":"A289","v":286},288,"RCP2-SA7C-16水平-15kg"]
[288,0,25000,{"$f":"AccVelDataLink!A363","v":360},287,289,"RCP2-SA7C-16水平-25kg"]
[289,0,35000,{"$f":"AccVelDataLink!A364","v":361},288,290,"RCP2-SA7C-16水平-35kg"]
[290,1,500,{"$f":"AccVelDataLink!A365","v":362},289,291,"RCP2-SA7C-16垂直-00.5kg"]
[291,1,1500,{"$f":"AccVelDataLink!A366","v":363},290,292,"RCP2-SA7C-16垂直-01.5kg"]
[292,1,3000,{"$f":"AccVelDataLink!A367","v":364},291,293,"RCP2-SA7C-16垂直-03kg"]
[293,1,5000,{"$f":"AccVelDataLink!A368","v":365},292,-1,"RCP2-SA7C-16垂直-05kg"]
[294,0,20000,{"$f":"AccVelDataLink!A369","v":366},-1,{"$f":"A298","v":295},"RCP2-SS7C-3水平-20kg"]
[295,0,30000,{"$f":"AccVelDataLink!A370","v":367},{"$f":"A297","v":294},{"$f":"A299","v":296},"RCP2-SS7C-3水平-30kg"]
[296,1,4000,{"$f":"AccVelDataLink!A371","v":368},{"$f":"A298","v":295},{"$f":"A300","v":297},"RCP2-SS7C-3垂直-04kg"]
[297,1,8000,{"$f":"AccVelDataLink!A372","v":369},{"$f":"A299","v":296},{"$f":"A301","v":298},"RCP2-SS7C-3垂直-08kg"]
[298,1,12000,{"$f":"AccVelDataLink!A373","v":370},{"$f":"A300","v":297},-1,"RCP2-SS7C-3垂直-12kg"]
[299,0,20000,{"$f":"AccVelDataLink!A374","v":371},-1,{"$f":"A303","v":300},"RCP2-SS7C-6水平-20kg"]
[300,0,30000,{"$f":"AccVelDataLink!A375","v":372},{"$f":"A302","v":299},{"$f":"A304","v":301},"RCP2-SS7C-6水平-30kg"]
[301,1,2000,{"$f":"AccVelDataLink!A376","v":373},{"$f":"A303","v":300},{"$f":"A305","v":302},"RCP2-SS7C-6垂直-02kg"]
[302,1,4000,{"$f":"AccVelDataLink!A377","v":374},{"$f":"A304","v":301},{"$f":"A306","v":303},"RCP2-SS7C-6垂直-04kg"]
[303,1,6000,{"$f":"AccVelDataLink!A378","v":375},{"$f":"A305","v":302},{"$f":"A307","v":304},"RCP2-SS7C-6垂直-06kg"]
[304,1,8000,{"$f":"AccVelDataLink!A379","v":376},{"$f":"A306","v":303},-1,"RCP2-SS7C-6垂直-08kg"]
[305,0,6000,{"$f":"AccVelDataLink!A380","v":377},-1,{"$f":"A309","v":306},"RCP2-SS7C-12水平-06kg"]
[306,0,10000,{"$f":"AccVelDataLink!A381","v":378},{"$f":"A308","v":305},307,"RCP2-SS7C-12水平-10kg"]
[307,0,18000,{"$f":"AccVelDataLink!A382","v":379},306,308,"RCP2-SS7C-12水平-18kg"]
[308,0,30000,{"$f":"AccVelDataLink!A383","v":380},307,309,"RCP2-SS7C-12水平-30kg"]
[309,1,1000,{"$f":"AccVelDataLink!A384","v":381},308,310,"RCP2-SS7C-12垂直-01kg"]
[310,1,2000,{"$f":"AccVelDataLink!A385","v":382},309,311,"RCP2-SS7C-12垂直-02kg"]
[311,1,3000,{"$f":"AccVelDataLink!A386","v":383},310,312,"RCP2-SS7C-12垂直-03kg"]
[312,1,4000,{"$f":"AccVelDataLink!A387","v":384},311,-1,"RCP2-SS7C-12垂直-04kg"]
[313,0,10000,{"$f":"AccVelDataLink!A388","v":385},-1,{"$f":"A317","v":314},"RCP2-SS8C-5水平-10kg"]
[314,0,30000,{"$f":"AccVelDataLink!A389","v":386},{"$f":"A316","v":313},315,"RCP2-SS8C-5水平-30kg"]
[315,0,40000,{"$f":"AccVelDataLink!A390","v":387},314,316,"RCP2-SS8C-5水平-40kg"]
[316,0,55000,{"$f":"AccVelDataLink!A391","v":388},315,317,"RCP2-SS8C-5水平-55kg"]
[317,1,500,{"$f":"AccVelDataLink!A392","v":389},316,318,"RCP2-SS8C-5垂直-00.5kg"]
[318,1,4000,{"$f":"AccVelDataLink!A393","v":390},317,319,"RCP2-SS8C-5垂直-04kg"]
[319,1,7000,{"$f":"AccVelDataLink!A394","v":391},318,320,"RCP2-SS8C-5垂直-07kg"]
[320,1,20000,{"$f":"AccVelDataLink!A395","v":392},319,-1,"RCP2-SS8C-5垂直-20kg"]
[321,0,4000,{"$f":"AccVelDataLink!A396","v":393},-1,{"$f":"A325","v":322},"RCP2-SS8C-10水平-04kg"]
[322,0,15000,{"$f":"AccVelDataLink!A397","v":394},{"$f":"A324","v":321},323,"RCP2-SS8C-10水平-15kg"]
[323,0,40000,{"$f":"AccVelDataLink!A398","v":395},322,324,"RCP2-SS8C-10水平-40kg"]
[324,0,50000,{"$f":"AccVelDataLink!A399","v":396},323,325,"RCP2-SS8C-10水平-50kg"]
[325,1,2000,{"$f":"AccVelDataLink!A400","v":397},324,326,"RCP2-SS8C-10垂直-02kg"]
[326,1,4000,{"$f":"AccVelDataLink!A401","v":398},325,327,"RCP2-SS8C-10垂直-04kg"]
[327,1,6000,{"$f":"AccVelDataLink!A402","v":399},326,328,"RCP2-SS8C-10垂直-06kg"]
[328,1,12000,{"$f":"AccVelDataLink!A403","v":400},327,-1,"RCP2-SS8C-10垂直-12kg"]
[329,0,10000,{"$f":"AccVelDataLink!A404","v":401},-1,{"$f":"A333","v":330},"RCP2-SS8C-20水平-10kg"]
[330,0,17000,{"$f":"AccVelDataLink!A405","v":402},{"$f":"A332","v":329},331,"RCP2-SS8C-20水平-17kg"]
[331,0,25000,{"$f":"AccVelDataLink!A406","v":403},330,332,"RCP2-SS8C-20水平-25kg"]
[332,0,40000,{"$f":"AccVelDataLink!A407","v":404},331,333,"RCP2-SS8C-20水平-40kg"]
[333,1,500,{"$f":"AccVelDataLink!A408","v":405},332,334,"RCP2-SS8C-20垂直-00.5kg"]
[334,1,1000,{"$f":"AccVelDataLink!A409","v":406},333,335,"RCP2-SS8C-20垂直-01kg"]
[335,1,2000,{"$f":"AccVelDataLink!A410","v":407},334,336,"RCP2-SS8C-20垂直-02kg"]
[336,1,5000,{"$f":"AccVelDataLink!A411","v":408},335,-1,"RCP2-SS8C-20垂直-05kg"]
[{"$f":"A339+1","v":337},0,1000,{"$f":"AccVelDataLink!A412","v":409},-1,{"$f":"A341","v":338},"RCP2-HS8C-30水平-01kg"]
[338,0,2000,{"$f":"AccVelDataLink!A413","v":410},{"$f":"A340","v":337},339,"RCP2-HS8C-30水平-02kg"]
[339,0,4000,{"$f":"AccVelDataLink!A415","v":412},338,340,"RCP2-HS8C-30水平-04kg"]
[340,0,7000,{"$f":"AccVelDataLink!A416","v":413},339,341,"RCP2-HS8C-30水平-07kg"]
[341,0,12000,{"$f":"AccVelDataLink!A417","v":414},340,342,"RCP2-HS8C-30水平-12kg"]
[342,0,20000,{"$f":"AccVelDataLink!A419","v":416},341,343,"RCP2-HS8C-30水平-20kg"]
[343,1,2000,{"$f":"AccVelDataLink!A420","v":417},342,344,"RCP2-HS8C-30垂直-02kg"]
[344,1,3000,{"$f":"AccVelDataLink!A421","v":418},343,-1,"RCP2-HS8C-30垂直-03kg"]
[345,0,8000,{"$f":"AccVelDataLink!A422","v":419},-1,{"$f":"A349","v":346},"RCP2-SA5R-3水平-08kg"]
[346,1,4500,{"$f":"AccVelDataLink!A423","v":420},{"$f":"A348","v":345},-1,"RCP2-SA5R-3垂直-04.5kg"]
[347,0,8000,{"$f":"AccVelDataLink!A424","v":421},-1,{"$f":"A351","v":348},"RCP2-SA5R-6水平-08kg"]
[348,1,2500,{"$f":"AccVelDataLink!A425","v":422},{"$f":"A350","v":347},-1,"RCP2-SA5R-6垂直-02.5kg"]
[349,0,4000,{"$f":"AccVelDataLink!A426","v":423},-1,{"$f":"A353","v":350},"RCP2-SA5R-12水平-04kg"]
[350,1,1000,{"$f":"AccVelDataLink!A427","v":424},{"$f":"A352","v":349},-1,"RCP2-SA5R-12垂直-01kg"]
[351,0,12000,{"$f":"AccVelDataLink!A428","v":425},-1,{"$f":"A355","v":352},"RCP2-SA6R-3水平-12kg"]
[352,1,4000,{"$f":"AccVelDataLink!A429","v":426},{"$f":"A354","v":351},{"$f":"A356","v":353},"RCP2-SA6R-3垂直-04kg"]
[353,1,6000,{"$f":"AccVelDataLink!A430","v":427},{"$f":"A355","v":352},-1,"RCP2-SA6R-3垂直-06kg"]
[354,0,12000,{"$f":"AccVelDataLink!A431","v":428},-1,{"$f":"A358","v":355},"RCP2-SA6R-6水平-12kg"]
[355,1,2000,{"$f":"AccVelDataLink!A432","v":429},{"$f":"A357","v":354},{"$f":"A359","v":356},"RCP2-SA6R-6垂直-02kg"]
[356,1,2500,{"$f":"AccVelDataLink!A433","v":430},{"$f":"A358","v":355},{"$f":"A360","v":357},"RCP2-SA6R-6垂直-02.5kg"]
[357,1,3000,{"$f":"AccVelDataLink!A434","v":431},{"$f":"A359","v":356},-1,"RCP2-SA6R-6垂直-03kg"]
[358,0,6000,{"$f":"AccVelDataLink!A435","v":432},-1,{"$f":"A362","v":359},"RCP2-SA6R-12水平-6kg"]
[359,1,500,{"$f":"AccVelDataLink!A436","v":433},{"$f":"A361","v":358},{"$f":"A363","v":360},"RCP2-SA6R-12垂直-00.5kg"]
[360,1,1000,{"$f":"AccVelDataLink!A437","v":434},{"$f":"A362","v":359},{"$f":"A364","v":361},"RCP2-SA6R-12垂直-01kg"]
[361,1,1500,{"$f":"AccVelDataLink!A438","v":435},{"$f":"A363","v":360},-1,"RCP2-SA6R-12垂直-01.5kg"]
[362,0,20000,{"$f":"AccVelDataLink!A439","v":436},-1,{"$f":"A366","v":363},"RCP2-SA7R-4水平-20kg"]
[363,0,35000,{"$f":"AccVelDataLink!A440","v":437},{"$f":"A365","v":362},{"$f":"A367","v":364},"RCP2-SA7R-4水平-35kg"]
[364,1,3000,{"$f":"AccVelDataLink!A441","v":438},{"$f":"A366","v":363},{"$f":"A368","v":365},"RCP2-SA7R-4垂直-03kg"]
[365,1,9000,{"$f":"AccVelDataLink!A442","v":439},{"$f":"A367","v":364},{"$f":"A369","v":366},"RCP2-SA7R-4垂直-09kg"]
[366,1,15000,{"$f":"AccVelDataLink!A443","v":440},{"$f":"A368","v":365},-1,"RCP2-SA7R-4垂直-15kg"]
[367,0,7000,{"$f":"AccVelDataLink!A444","v":441},-1,{"$f":"A371","v":368},"RCP2-SA7R-8水平-07kg"]
[368,0,25000,{"$f":"AccVelDataLink!A445","v":442},{"$f":"A370","v":367},369,"RCP2-SA7R-8水平-25kg"]
[369,0,35000,{"$f":"AccVelDataLink!A446","v":443},368,370,"RCP2-SA7R-8水平-35kg"]
[370,1,1500,{"$f":"AccVelDataLink!A447","v":444},369,371,"RCP2-SA7R-8垂直-01.5kg"]
[371,1,4500,{"$f":"AccVelDataLink!A448","v":445},370,372,"RCP2-SA7R-8垂直-04.5kg"]
[372,1,7500,{"$f":"AccVelDataLink!A449","v":446},371,373,"RCP2-SA7R-8垂直-07.5kg"]
[373,1,10000,{"$f":"AccVelDataLink!A450","v":447},372,-1,"RCP2-SA7R-8垂直-10kg"]
[374,0,4000,{"$f":"AccVelDataLink!A451","v":448},-1,{"$f":"A378","v":375},"RCP2-SA7R-16水平-04kg"]
[375,0,12000,{"$f":"AccVelDataLink!A452","v":449},{"$f":"A377","v":374},376,"RCP2-SA7R-16水平-12kg"]
[376,0,20000,{"$f":"AccVelDataLink!A453","v":450},375,377,"RCP2-SA7R-16水平-20kg"]
[377,0,25000,{"$f":"AccVelDataLink!A454","v":451},376,378,"RCP2-SA7R-16水平-25kg"]
[378,1,1000,{"$f":"AccVelDataLink!A455","v":452},377,{"$f":"A382","v":379},"RCP2-SA7R-16垂直-01kg"]
[{"$f":"A381+1","v":379},1,3500,{"$f":"AccVelDataLink!A456","v":453},{"$f":"A381","v":378},380,"RCP2-SA7R-16垂直-03.5kg"]
[380,1,5000,{"$f":"AccVelDataLink!A457","v":454},379,-1,"RCP2-SA7R-16垂直-05kg"]
[381,0,20000,{"$f":"AccVelDataLink!A458","v":455},-1,{"$f":"A385","v":382},"RCP2-SS7R-3水平-20kg"]
[382,0,30000,{"$f":"AccVelDataLink!A459","v":456},{"$f":"A384","v":381},{"$f":"A386","v":383},"RCP2-SS7R-3水平-30kg"]
[383,1,1500,{"$f":"AccVelDataLink!A460","v":457},{"$f":"A385","v":382},{"$f":"A387","v":384},"RCP2-SS7R-3垂直-01.5kg"]
[384,1,5000,{"$f":"AccVelDataLink!A461","v":458},{"$f":"A386","v":383},{"$f":"A388","v":385},"RCP2-SS7R-3垂直-05kg"]
[385,1,10000,{"$f":"AccVelDataLink!A462","v":459},{"$f":"A387","v":384},-1,"RCP2-SS7R-3垂直-10kg"]
[386,0,2500,{"$f":"AccVelDataLink!A463","v":460},-1,{"$f":"A390","v":387},"RCP2-SS7R-6水平-02.5kg"]
[387,0,12000,{"$f":"AccVelDataLink!A464","v":461},{"$f":"A389","v":386},{"$f":"A391","v":388},"RCP2-SS7R-6水平-12kg"]
[388,0,20000,{"$f":"AccVelDataLink!A465","v":462},{"$f":"A390","v":387},{"$f":"A392","v":389},"RCP2-SS7R-6水平-20kg"]
[389,1,500,{"$f":"AccVelDataLink!A466","v":463},{"$f":"A391","v":388},{"$f":"A393","v":390},"RCP2-SS7R-6垂直-00.5kg"]
[390,1,4000,{"$f":"AccVelDataLink!A467","v":464},{"$f":"A392","v":389},{"$f":"A394","v":391},"RCP2-SS7R-6垂直-04kg"]
[391,1,5000,{"$f":"AccVelDataLink!A468","v":465},{"$f":"A393","v":390},-1,"RCP2-SS7R-6垂直-05kg"]
[392,0,5500,{"$f":"AccVelDataLink!A469","v":466},-1,{"$f":"A396","v":393},"RCP2-SS7R-12水平-05.5kg"]
[393,0,7000,{"$f":"AccVelDataLink!A470","v":467},{"$f":"A395","v":392},394,"RCP2-SS7R-12水平-7kg"]
[394,0,12500,{"$f":"AccVelDataLink!A471","v":468},393,395,"RCP2-SS7R-12水平-12.5kg"]
[395,0,20000,{"$f":"AccVelDataLink!A472","v":469},394,396,"RCP2-SS7R-12水平-20kg"]
[396,1,500,{"$f":"AccVelDataLink!A473","v":470},395,397,"RCP2-SS7R-12垂直-00.5kg"]
[397,1,2000,{"$f":"AccVelDataLink!A474","v":471},396,398,"RCP2-SS7R-12垂直-02kg"]
[398,1,4000,{"$f":"AccVelDataLink!A475","v":472},397,-1,"RCP2-SS7R-12垂直-04kg"]
[399,0,1500,{"$f":"AccVelDataLink!A476","v":473},-1,{"$f":"A403","v":400},"RCP2-SS8R-5水平-01.5kg"]
[{"$f":"A402+1","v":400},0,23000,{"$f":"AccVelDataLink!A477","v":474},{"$f":"A402","v":399},401,"RCP2-SS8R-5水平-23kg"]
[401,0,40000,{"$f":"AccVelDataLink!A478","v":475},400,402,"RCP2-SS8R-5水平-40kg"]
[402,0,55000,{"$f":"AccVelDataLink!A479","v":476},401,403,"RCP2-SS8R-5水平-55kg"]
[403,1,500,{"$f":"AccVelDataLink!A480","v":477},402,404,"RCP2-SS8R-5垂直-00.5kg"]
[404,1,5000,{"$f":"AccVelDataLink!A481","v":478},403,405,"RCP2-SS8R-5垂直-05kg"]
[405,1,15000,{"$f":"AccVelDataLink!A482","v":479},404,406,"RCP2-SS8R-5垂直-15kg"]
[406,1,20000,{"$f":"AccVelDataLink!A483","v":480},405,-1,"RCP2-SS8R-5垂直-20kg"]
[407,0,4000,{"$f":"AccVelDataLink!A484","v":481},-1,{"$f":"A411","v":408},"RCP2-SS8R-10水平-04kg"]
[408,0,10000,{"$f":"AccVelDataLink!A485","v":482},{"$f":"A410","v":407},409,"RCP2-SS8R-10水平-10kg"]
[409,0,23000,{"$f":"AccVelDataLink!A486","v":483},408,410,"RCP2-SS8R-10水平-23kg"]
[410,0,28000,{"$f":"AccVelDataLink!A487","v":484},409,411,"RCP2-SS8R-10水平-28kg"]
[411,1,500,{"$f":"AccVelDataLink!A488","v":485},410,412,"RCP2-SS8R-10垂直-00.5kg"]
[412,1,3000,{"$f":"AccVelDataLink!A489","v":486},411,413,"RCP2-SS8R-10垂直-03kg"]
[413,1,9000,{"$f":"AccVelDataLink!A490","v":487},412,-1,"RCP2-SS8R-10垂直-09kg"]
[414,0,1000,{"$f":"AccVelDataLink!A491","v":488},-1,{"$f":"A418","v":415},"RCP2-SS8R-20水平-01kg"]
[415,0,4000,{"$f":"AccVelDataLink!A492","v":489},{"$f":"A417","v":414},416,"RCP2-SS8R-20水平-04kg"]
[416,0,8000,{"$f":"AccVelDataLink!A493","v":490},{"$f":"A418","v":415},417,"RCP2-SS8R-20水平-08kg"]
[417,0,23000,{"$f":"AccVelDataLink!A494","v":491},{"$f":"A419","v":416},418,"RCP2-SS8R-20水平-23kg"]
[418,1,500,{"$f":"AccVelDataLink!A495","v":492},{"$f":"A420","v":417},419,"RCP2-SS8R-20垂直-00.5kg"]
[419,1,3000,{"$f":"AccVelDataLink!A496","v":493},{"$f":"A421","v":418},-1,"RCP2-SS8R-20垂直-03kg"]
[420,0,500,{"$f":"AccVelDataLink!A497","v":494},-1,421,"RCP2-HS8R-30水平-00.5kg"]
[421,0,1000,{"$f":"AccVelDataLink!A498","v":495},{"$f":"A423","v":420},422,"RCP2-HS8R-30水平-01kg"]
[422,0,3000,{"$f":"AccVelDataLink!A500","v":497},421,423,"RCP2-HS8R-30水平-03kg"]
[423,0,6000,{"$f":"AccVelDataLink!A501","v":498},422,424,"RCP2-HS8R-30水平-06kg"]
[424,0,10000,{"$f":"AccVelDataLink!A502","v":499},423,425,"RCP2-HS8R-30水平-10kg"]
[425,0,12000,{"$f":"AccVelDataLink!A503","v":500},424,426,"RCP2-HS8R-30水平-12kg"]
[426,0,20000,{"$f":"AccVelDataLink!A504","v":501},425,427,"RCP2-HS8R-30水平-20kg"]
[427,1,1000,{"$f":"AccVelDataLink!A505","v":502},426,428,"RCP2-HS8R-30垂直-01kg"]
[428,1,3000,{"$f":"AccVelDataLink!A506","v":503},427,-1,"RCP2-HS8R-30垂直-03kg"]
[429,0,2000,{"$f":"AccVelDataLink!A507","v":504},-1,{"$f":"A433","v":430},"RCP2-BA6-54水平-02kg"]
[430,0,3000,{"$f":"AccVelDataLink!A508","v":505},{"$f":"A432","v":429},{"$f":"A434","v":431},"RCP2-BA6-54水平-03kg"]
[431,0,4000,{"$f":"AccVelDataLink!A509","v":506},{"$f":"A433","v":430},-1,"RCP2-BA6-54水平-04kg"]
[432,0,2000,{"$f":"AccVelDataLink!A510","v":507},-1,{"$f":"A436","v":433},"RCP2-BA7-54水平-02kg"]
[433,0,3500,{"$f":"AccVelDataLink!A511","v":508},{"$f":"A435","v":432},{"$f":"A437","v":434},"RCP2-BA7-54水平-03.5kg"]
[434,0,5000,{"$f":"AccVelDataLink!A512","v":509},{"$f":"A436","v":433},{"$f":"A438","v":435},"RCP2-BA7-54水平-05kg"]
[435,0,6500,{"$f":"AccVelDataLink!A513","v":510},{"$f":"A437","v":434},{"$f":"A439","v":436},"RCP2-BA7-54水平-06.5kg"]
[436,0,8000,{"$f":"AccVelDataLink!A514","v":511},{"$f":"A438","v":435},-1,"RCP2-BA7-54水平-08kg"]
[437,0,12000,{"$f":"AccVelDataLink!A515","v":512},-1,{"$f":"A441","v":438},"ERC2-SA6C-3水平-12kg"]
[438,1,4000,{"$f":"AccVelDataLink!A516","v":513},{"$f":"A440","v":437},{"$f":"A442","v":439},"ERC2-SA6C-3垂直-04kg"]
[439,1,6000,{"$f":"AccVelDataLink!A517","v":514},{"$f":"A441","v":438},-1,"ERC2-SA6C-3垂直-06kg"]
[440,0,12000,{"$f":"AccVelDataLink!A518","v":515},-1,{"$f":"A444","v":441},"ERC2-SA6C-6水平-12kg"]
[441,1,2500,{"$f":"AccVelDataLink!A519","v":516},{"$f":"A443","v":440},{"$f":"A445","v":442},"ERC2-SA6C-6垂直-02.5kg"]
[442,1,3000,{"$f":"AccVelDataLink!A520","v":517},{"$f":"A444","v":441},-1,"ERC2-SA6C-6垂直-03kg"]
[443,0,2000,{"$f":"AccVelDataLink!A521","v":518},-1,{"$f":"A447","v":444},"ERC2-SA6C-12水平-02kg"]
[444,0,4000,{"$f":"AccVelDataLink!A522","v":519},{"$f":"A446","v":443},{"$f":"A448","v":445},"ERC2-SA6C-12水平-04kg"]
[445,0,6000,{"$f":"AccVelDataLink!A523","v":520},{"$f":"A447","v":444},{"$f":"A449","v":446},"ERC2-SA6C-12水平-06kg"]
[446,1,1000,{"$f":"AccVelDataLink!A524","v":521},{"$f":"A448","v":445},{"$f":"A450","v":447},"ERC2-SA6C-12垂直-01kg"]
[447,1,1500,{"$f":"AccVelDataLink!A525","v":522},{"$f":"A449","v":446},-1,"ERC2-SA6C-12垂直-01.5kg"]
[448,0,20000,{"$f":"AccVelDataLink!A526","v":523},-1,{"$f":"A452","v":449},"ERC2-SA7C-4水平-20kg"]
[449,1,2000,{"$f":"AccVelDataLink!A527","v":524},{"$f":"A451","v":448},{"$f":"A453","v":450},"ERC2-SA7C-4垂直-02kg"]
[450,1,10000,{"$f":"AccVelDataLink!A528","v":525},{"$f":"A452","v":449},-1,"ERC2-SA7C-4垂直-10kg"]
[451,0,3500,{"$f":"AccVelDataLink!A529","v":526},-1,{"$f":"A455","v":452},"ERC2-SA7C-8水平-03.5kg"]
[452,0,20000,{"$f":"AccVelDataLink!A530","v":527},{"$f":"A454","v":451},{"$f":"A456","v":453},"ERC2-SA7C-8水平-20kg"]
[453,1,500,{"$f":"AccVelDataLink!A531","v":528},{"$f":"A455","v":452},{"$f":"A457","v":454},"ERC2-SA7C-8垂直-00.5kg"]
[454,1,1000,{"$f":"AccVelDataLink!A532","v":529},{"$f":"A456","v":453},{"$f":"A458","v":455},"ERC2-SA7C-8垂直-01kg"]
[455,1,5000,{"$f":"AccVelDataLink!A533","v":530},{"$f":"A457","v":454},-1,"ERC2-SA7C-8垂直-05kg"]
[456,0,2000,{"$f":"AccVelDataLink!A534","v":531},-1,{"$f":"A460","v":457},"ERC2-SA7C-16水平-02kg"]
[457,0,5000,{"$f":"AccVelDataLink!A535","v":532},{"$f":"A459","v":456},{"$f":"A461","v":458},"ERC2-SA7C-16水平-05kg"]
[458,0,10000,{"$f":"AccVelDataLink!A536","v":533},{"$f":"A460","v":457},{"$f":"A462","v":459},"ERC2-SA7C-16水平-10kg"]
[459,1,500,{"$f":"AccVelDataLink!A537","v":534},{"$f":"A461","v":458},{"$f":"A463","v":460},"ERC2-SA7C-16垂直-00.5kg"]
[460,1,2500,{"$f":"AccVelDataLink!A538","v":535},{"$f":"A462","v":459},-1,"ERC2-SA7C-16垂直-02.5kg"]
[461,0,1000,{"$f":"AccVelDataLink!A539","v":536},-1,{"$f":"A465","v":462},"RCP3-RA2AC-20P-1S水平"]
[462,1,500,{"$f":"AccVelDataLink!A540","v":537},{"$f":"A464","v":461},-1,"RCP3-RA2AC-20P-1S垂直"]
[463,0,500,{"$f":"AccVelDataLink!A541","v":538},-1,{"$f":"A467","v":464},"RCP3-RA2AC-20P-2S水平"]
[{"$f":"A466+1","v":464},1,250,{"$f":"AccVelDataLink!A542","v":539},{"$f":"A466","v":463},-1,"RCP3-RA2AC-20P-2S垂直"]
[465,0,250,{"$f":"AccVelDataLink!A543","v":540},-1,{"$f":"A469","v":466},"RCP3-RA2AC-20P-4S水平"]
[466,1,125,{"$f":"AccVelDataLink!A544","v":541},{"$f":"A468","v":465},-1,"RCP3-RA2AC-20P-4S垂直"]
[467,0,1000,{"$f":"AccVelDataLink!A545","v":542},-1,{"$f":"A471","v":468},"RCP3-RA2BC-20P-2S水平"]
[468,1,500,{"$f":"AccVelDataLink!A546","v":543},{"$f":"A470","v":467},-1,"RCP3-RA2BC-20P-2S垂直"]
[469,0,500,{"$f":"AccVelDataLink!A547","v":544},-1,{"$f":"A473","v":470},"RCP3-RA2BC-20P-4S水平"]
[470,1,250,{"$f":"AccVelDataLink!A548","v":545},{"$f":"A472","v":469},-1,"RCP3-RA2BC-20P-4S垂直"]
[471,0,250,{"$f":"AccVelDataLink!A549","v":546},-1,{"$f":"A475","v":472},"RCP3-RA2BC-20P-6S水平"]
[472,1,125,{"$f":"AccVelDataLink!A550","v":547},{"$f":"A474","v":471},-1,"RCP3-RA2BC-20P-6S垂直"]
[473,0,1000,{"$f":"AccVelDataLink!A551","v":548},-1,{"$f":"A477","v":474},"RCP3-RA2AR-20P-1S水平"]
[474,1,500,{"$f":"AccVelDataLink!A552","v":549},{"$f":"A476","v":473},-1,"RCP3-RA2AR-20P-1S垂直"]
[475,0,500,{"$f":"AccVelDataLink!A553","v":550},-1,{"$f":"A479","v":476},"RCP3-RA2AR-20P-2S水平"]
[476,1,250,{"$f":"AccVelDataLink!A554","v":551},{"$f":"A478","v":475},-1,"RCP3-RA2AR-20P-2S垂直"]
[477,0,250,{"$f":"AccVelDataLink!A555","v":552},-1,{"$f":"A481","v":478},"RCP3-RA2AR-20P-4S水平"]
[478,1,125,{"$f":"AccVelDataLink!A556","v":553},{"$f":"A480","v":477},-1,"RCP3-RA2AR-20P-4S垂直"]
[479,0,1000,{"$f":"AccVelDataLink!A557","v":554},-1,{"$f":"A483","v":480},"RCP3-RA2BR-20P-2S水平"]
[480,1,500,{"$f":"AccVelDataLink!A558","v":555},{"$f":"A482","v":479},-1,"RCP3-RA2BR-20P-2S垂直"]
[481,0,500,{"$f":"AccVelDataLink!A559","v":556},-1,{"$f":"A485","v":482},"RCP3-RA2BR-20P-4S水平"]
[482,1,250,{"$f":"AccVelDataLink!A560","v":557},{"$f":"A484","v":481},-1,"RCP3-RA2BR-20P-4S垂直"]
[483,0,250,{"$f":"AccVelDataLink!A561","v":558},-1,{"$f":"A487","v":484},"RCP3-RA2BR-20P-6S水平"]
[484,1,125,{"$f":"AccVelDataLink!A562","v":559},{"$f":"A486","v":483},-1,"RCP3-RA2BR-20P-6S垂直"]
[485,0,7000,{"$f":"AccVelDataLink!A563","v":560},-1,{"$f":"A489","v":486},"RCP2-RA2C-1水平"]
[486,1,2500,{"$f":"AccVelDataLink!A564","v":561},{"$f":"A488","v":485},-1,"RCP2-RA2C-1垂直"]
[487,0,4000,{"$f":"AccVelDataLink!A565","v":562},-1,{"$f":"A491","v":488},"RCP2-RA3C-2.5水平-04kg"]
[488,0,15000,{"$f":"AccVelDataLink!A566","v":563},{"$f":"A490","v":487},489,"RCP2-RA3C-2.5水平-15kg"]
[489,0,30000,{"$f":"AccVelDataLink!A567","v":564},488,490,"RCP2-RA3C-2.5水平-30kg"]
[490,1,2000,{"$f":"AccVelDataLink!A568","v":565},489,491,"RCP2-RA3C-2.5垂直-02kg"]
[491,1,3000,{"$f":"AccVelDataLink!A569","v":566},490,492,"RCP2-RA3C-2.5垂直-03kg"]
[492,1,5000,{"$f":"AccVelDataLink!A570","v":567},491,493,"RCP2-RA3C-2.5垂直-05kg"]
[493,1,10000,{"$f":"AccVelDataLink!A571","v":568},492,-1,"RCP2-RA3C-2.5垂直-10kg"]
[494,0,2000,{"$f":"AccVelDataLink!A572","v":569},-1,{"$f":"A498","v":495},"RCP2-RA3C-5水平-02kg"]
[495,0,8000,{"$f":"AccVelDataLink!A573","v":570},{"$f":"A497","v":494},496,"RCP2-RA3C-5水平-08kg"]
[496,0,13000,{"$f":"AccVelDataLink!A574","v":571},495,497,"RCP2-RA3C-5水平-13kg"]
[497,0,15000,{"$f":"AccVelDataLink!A575","v":572},496,498,"RCP2-RA3C-5水平-15kg"]
[498,1,1000,{"$f":"AccVelDataLink!A576","v":573},497,499,"RCP2-RA3C-5垂直-01kg"]
[499,1,3000,{"$f":"AccVelDataLink!A577","v":574},498,500,"RCP2-RA3C-5垂直-03kg"]
[500,1,5000,{"$f":"AccVelDataLink!A578","v":575},499,501,"RCP2-RA3C-5垂直-05kg"]
[501,1,6000,{"$f":"AccVelDataLink!A579","v":576},500,-1,"RCP2-RA3C-5垂直-06kg"]
[502,0,40000,{"$f":"AccVelDataLink!A580","v":577},-1,{"$f":"A506","v":503},"RCP2-RA4C-2.5水平-40kg"]
[503,1,2500,{"$f":"AccVelDataLink!A581","v":578},{"$f":"A505","v":502},{"$f":"A507","v":504},"RCP2-RA4C-2.5垂直-02.5kg"]
[504,1,5000,{"$f":"AccVelDataLink!A582","v":579},{"$f":"A506","v":503},{"$f":"A508","v":505},"RCP2-RA4C-2.5垂直-05kg"]
[505,1,15000,{"$f":"AccVelDataLink!A583","v":580},{"$f":"A507","v":504},{"$f":"A509","v":506},"RCP2-RA4C-2.5垂直-15kg"]
[506,1,19000,{"$f":"AccVelDataLink!A584","v":581},{"$f":"A508","v":505},-1,"RCP2-RA4C-2.5垂直-19kg"]
[507,0,10000,{"$f":"AccVelDataLink!A585","v":582},-1,{"$f":"A511","v":508},"RCP2-RA4C-5水平-10kg"]
[508,0,20000,{"$f":"AccVelDataLink!A586","v":583},{"$f":"A510","v":507},509,"RCP2-RA4C-5水平-20kg"]
[509,0,40000,{"$f":"AccVelDataLink!A587","v":584},508,510,"RCP2-RA4C-5水平-40kg"]
[510,1,2000,{"$f":"AccVelDataLink!A588","v":585},509,511,"RCP2-RA4C-5垂直-02kg"]
[511,1,3000,{"$f":"AccVelDataLink!A589","v":586},510,512,"RCP2-RA4C-5垂直-03kg"]
[512,1,7000,{"$f":"AccVelDataLink!A590","v":587},511,513,"RCP2-RA4C-5垂直-07kg"]
[513,1,12000,{"$f":"AccVelDataLink!A591","v":588},512,-1,"RCP2-RA4C-5垂直-12kg"]
[514,0,5000,{"$f":"AccVelDataLink!A592","v":589},-1,{"$f":"A518","v":515},"RCP2-RA4C-10水平-05kg"]
[515,0,15000,{"$f":"AccVelDataLink!A593","v":590},{"$f":"A517","v":514},{"$f":"A519","v":516},"RCP2-RA4C-10水平-15kg"]
[516,0,25000,{"$f":"AccVelDataLink!A594","v":591},{"$f":"A518","v":515},{"$f":"A520","v":517},"RCP2-RA4C-10水平-25kg"]
[517,1,500,{"$f":"AccVelDataLink!A595","v":592},{"$f":"A519","v":516},{"$f":"A521","v":518},"RCP2-RA4C-10垂直-00.5kg"]
[518,1,2000,{"$f":"AccVelDataLink!A596","v":593},{"$f":"A520","v":517},{"$f":"A522","v":519},"RCP2-RA4C-10垂直-02kg"]
[519,1,4500,{"$f":"AccVelDataLink!A597","v":594},{"$f":"A521","v":518},-1,"RCP2-RA4C-10垂直-04.5kg"]
[520,0,35000,{"$f":"AccVelDataLink!A598","v":595},-1,{"$f":"A524","v":521},"RCP2-RA6C-4水平-35kg"]
[521,0,47000,{"$f":"AccVelDataLink!A599","v":596},{"$f":"A523","v":520},522,"RCP2-RA6C-4水平-47kg"]
[522,0,55000,{"$f":"AccVelDataLink!A600","v":597},521,523,"RCP2-RA6C-4水平-55kg"]
[523,1,1500,{"$f":"AccVelDataLink!A601","v":598},522,524,"RCP2-RA6C-4垂直-01.5kg"]
[524,1,2000,{"$f":"AccVelDataLink!A602","v":599},523,525,"RCP2-RA6C-4垂直-02kg"]
[525,1,3000,{"$f":"AccVelDataLink!A603","v":600},524,526,"RCP2-RA6C-4垂直-03kg"]
[526,1,13000,{"$f":"AccVelDataLink!A604","v":601},525,527,"RCP2-RA6C-4垂直-13kg"]
[527,1,25000,{"$f":"AccVelDataLink!A605","v":602},526,528,"RCP2-RA6C-4垂直-25kg"]
[{"$f":"A530+1","v":528},1,26000,{"$f":"AccVelDataLink!A606","v":603},527,-1,"RCP2-RA6C-4垂直-26kg"]
[529,0,30000,{"$f":"AccVelDataLink!A607","v":604},-1,{"$f":"A533","v":530},"RCP2-RA6C-8水平-30kg"]
[530,0,50000,{"$f":"AccVelDataLink!A608","v":605},{"$f":"A532","v":529},531,"RCP2-RA6C-8水平-50kg"]
[531,1,1500,{"$f":"AccVelDataLink!A609","v":606},530,532,"RCP2-RA6C-8垂直-01.5kg"]
[532,1,2300,{"$f":"AccVelDataLink!A610","v":607},531,533,"RCP2-RA6C-8垂直-02.3kg"]
[533,1,6100,{"$f":"AccVelDataLink!A611","v":608},532,534,"RCP2-RA6C-8垂直-06.1kg"]
[534,1,10000,{"$f":"AccVelDataLink!A612","v":609},533,535,"RCP2-RA6C-8垂直-10kg"]
[535,1,17500,{"$f":"AccVelDataLink!A613","v":610},534,-1,"RCP2-RA6C-8垂直-17.5kg"]
[536,0,10000,{"$f":"AccVelDataLink!A614","v":611},-1,{"$f":"A540","v":537},"RCP2-RA6C-16水平-10kg"]
[537,0,20000,{"$f":"AccVelDataLink!A615","v":612},{"$f":"A539","v":536},538,"RCP2-RA6C-16水平-20kg"]
[538,0,30000,{"$f":"AccVelDataLink!A616","v":613},537,539,"RCP2-RA6C-16水平-30kg"]
[539,0,35000,{"$f":"AccVelDataLink!A617","v":614},538,540,"RCP2-RA6C-16水平-35kg"]
[540,0,40000,{"$f":"AccVelDataLink!A618","v":615},539,541,"RCP2-RA6C-16水平-40kg"]
[541,1,1000,{"$f":"AccVelDataLink!A619","v":616},540,542,"RCP2-RA6C-16垂直-01kg"]
[542,1,3000,{"$f":"AccVelDataLink!A620","v":617},541,543,"RCP2-RA6C-16垂直-03kg"]
[543,1,5000,{"$f":"AccVelDataLink!A621","v":618},542,-1,"RCP2-RA6C-16垂直-05kg"]
[544,0,300000,{"$f":"AccVelDataLink!A622","v":619},-1,{"$f":"A548","v":545},"RCP2-RA10C-2.5水平-300kg"]
[545,1,10000,{"$f":"AccVelDataLink!A623","v":620},{"$f":"A547","v":544},546,"RCP2-RA10C-2.5垂直-10kg"]
[546,1,20000,{"$f":"AccVelDataLink!A624","v":621},545,547,"RCP2-RA10C-2.5垂直-20kg"]
[547,1,30000,{"$f":"AccVelDataLink!A625","v":622},546,548,"RCP2-RA10C-2.5垂直-30kg"]
[548,1,65000,{"$f":"AccVelDataLink!A626","v":623},547,549,"RCP2-RA10C-2.5垂直-65kg"]
[549,1,75000,{"$f":"AccVelDataLink!A627","v":624},548,550,"RCP2-RA10C-2.5垂直-75kg"]
[550,1,100000,{"$f":"AccVelDataLink!A628","v":625},549,551,"RCP2-RA10C-2.5垂直-100kg"]
[551,1,150000,{"$f":"AccVelDataLink!A629","v":626},550,-1,"RCP2-RA10C-2.5垂直-150kg"]
[552,0,150000,{"$f":"AccVelDataLink!A630","v":627},-1,{"$f":"A556","v":553},"RCP2-RA10C-5水平-150kg"]
[553,1,3000,{"$f":"AccVelDataLink!A631","v":628},{"$f":"A555","v":552},554,"RCP2-RA10C-5垂直-03kg"]
[554,1,7000,{"$f":"AccVelDataLink!A632","v":629},553,555,"RCP2-RA10C-5垂直-07kg"]
[555,1,9000,{"$f":"AccVelDataLink!A633","v":630},554,556,"RCP2-RA10C-5垂直-09kg"]
[556,1,13000,{"$f":"AccVelDataLink!A634","v":631},555,557,"RCP2-RA10C-5垂直-13kg"]
[557,1,20000,{"$f":"AccVelDataLink!A635","v":632},556,558,"RCP2-RA10C-5垂直-20kg"]
[558,1,25000,{"$f":"AccVelDataLink!A636","v":633},557,559,"RCP2-RA10C-5垂直-25kg"]
[559,1,27000,{"$f":"AccVelDataLink!A637","v":634},558,560,"RCP2-RA10C-5垂直-27kg"]
[560,1,29000,{"$f":"AccVelDataLink!A638","v":635},559,561,"RCP2-RA10C-5垂直-29kg"]
[561,1,35000,{"$f":"AccVelDataLink!A639","v":636},560,562,"RCP2-RA10C-5垂直-35kg"]
[562,1,37000,{"$f":"AccVelDataLink!A640","v":637},561,563,"RCP2-RA10C-5垂直-37kg"]
[563,1,42000,{"$f":"AccVelDataLink!A641","v":638},562,564,"RCP2-RA10C-5垂直-42kg"]
[564,1,51000,{"$f":"AccVelDataLink!A642","v":639},563,565,"RCP2-RA10C-5垂直-51kg"]
[565,1,100000,{"$f":"AccVelDataLink!A643","v":640},564,-1,"RCP2-RA10C-5垂直-100kg"]
[566,0,15000,{"$f":"AccVelDataLink!A644","v":641},-1,{"$f":"A570","v":567},"RCP2-RA10C-10水平-15kg"]
[567,0,21000,{"$f":"AccVelDataLink!A645","v":642},{"$f":"A569","v":566},568,"RCP2-RA10C-10水平-21kg"]
[568,0,38000,{"$f":"AccVelDataLink!A646","v":643},567,569,"RCP2-RA10C-10水平-38kg"]
[569,0,80000,{"$f":"AccVelDataLink!A647","v":644},568,570,"RCP2-RA10C-10水平-80kg"]
[570,1,6000,{"$f":"AccVelDataLink!A648","v":645},569,571,"RCP2-RA10C-10垂直-06kg"]
[571,1,8000,{"$f":"AccVelDataLink!A649","v":646},570,572,"RCP2-RA10C-10垂直-08kg"]
[572,1,10000,{"$f":"AccVelDataLink!A650","v":647},571,573,"RCP2-RA10C-10垂直-10kg"]
[573,1,15000,{"$f":"AccVelDataLink!A651","v":648},572,574,"RCP2-RA10C-10垂直-15kg"]
[574,1,20000,{"$f":"AccVelDataLink!A652","v":649},573,575,"RCP2-RA10C-10垂直-20kg"]
[575,1,35000,{"$f":"AccVelDataLink!A653","v":650},574,576,"RCP2-RA10C-10垂直-35kg"]
[576,1,58000,{"$f":"AccVelDataLink!A654","v":651},575,577,"RCP2-RA10C-10垂直-58kg"]
[577,1,80000,{"$f":"AccVelDataLink!A655","v":652},576,-1,"RCP2-RA10C-10垂直-80kg"]
[578,0,30000,{"$f":"AccVelDataLink!A656","v":653},-1,{"$f":"A582","v":579},"RCP2-SRA4R-2.5水平-30kg"]
[579,0,35000,{"$f":"AccVelDataLink!A657","v":654},{"$f":"A581","v":578},580,"RCP2-SRA4R-2.5水平-35kg"]
[580,1,3000,{"$f":"AccVelDataLink!A658","v":655},579,581,"RCP2-SRA4R-2.5垂直-03kg"]
[581,1,5500,{"$f":"AccVelDataLink!A659","v":656},580,582,"RCP2-SRA4R-2.5垂直-05.5kg"]
[582,1,8000,{"$f":"AccVelDataLink!A660","v":657},581,583,"RCP2-SRA4R-2.5垂直-08kg"]
[583,1,11000,{"$f":"AccVelDataLink!A661","v":658},582,584,"RCP2-SRA4R-2.5垂直-11kg"]
[584,1,13500,{"$f":"AccVelDataLink!A662","v":659},583,585,"RCP2-SRA4R-2.5垂直-13.5kg"]
[585,1,15000,{"$f":"AccVelDataLink!A663","v":660},584,-1,"RCP2-SRA4R-2.5垂直-15kg"]
[586,0,10000,{"$f":"AccVelDataLink!A664","v":661},-1,{"$f":"A590","v":587},"RCP2-SRA4R-5水平-10kg"]
[587,0,15000,{"$f":"AccVelDataLink!A665","v":662},{"$f":"A589","v":586},588,"RCP2-SRA4R-5水平-15kg"]
[588,0,20000,{"$f":"AccVelDataLink!A666","v":663},587,589,"RCP2-SRA4R-5水平-20kg"]
[589,0,25000,{"$f":"AccVelDataLink!A667","v":664},588,590,"RCP2-SRA4R-5水平-25kg"]
[590,1,2000,{"$f":"AccVelDataLink!A668","v":665},589,591,"RCP2-SRA4R-5垂直-02kg"]
[591,1,3500,{"$f":"AccVelDataLink!A669","v":666},590,592,"RCP2-SRA4R-5垂直-03.5kg"]
[{"$f":"A594+1","v":592},1,5000,{"$f":"AccVelDataLink!A670","v":667},591,593,"RCP2-SRA4R-5垂直-05kg"]
[593,1,7000,{"$f":"AccVelDataLink!A671","v":668},592,594,"RCP2-SRA4R-5垂直-07kg"]
[594,1,9000,{"$f":"AccVelDataLink!A672","v":669},593,-1,"RCP2-SRA4R-5垂直-09kg"]
[595,0,40000,{"$f":"AccVelDataLink!A673","v":670},-1,{"$f":"A599","v":596},"RCP2-RGS4C-2.5水平-40kg"]
[596,1,1500,{"$f":"AccVelDataLink!A674","v":671},{"$f":"A598","v":595},{"$f":"A600","v":597},"RCP2-RGS4C-2.5垂直-01.5kg"]
[597,1,4000,{"$f":"AccVelDataLink!A675","v":672},{"$f":"A599","v":596},{"$f":"A601","v":598},"RCP2-RGS4C-2.5垂直-04kg"]
[598,1,14000,{"$f":"AccVelDataLink!A676","v":673},{"$f":"A600","v":597},{"$f":"A602","v":599},"RCP2-RGS4C-2.5垂直-14kg"]
[599,1,18000,{"$f":"AccVelDataLink!A677","v":674},{"$f":"A601","v":598},-1,"RCP2-RGS4C-2.5垂直-18kg"]
[600,0,10000,{"$f":"AccVelDataLink!A678","v":675},-1,{"$f":"A604","v":601},"RCP2-RGS4C-5水平-10kg"]
[601,0,20000,{"$f":"AccVelDataLink!A679","v":676},{"$f":"A603","v":600},602,"RCP2-RGS4C-5水平-20kg"]
[602,0,40000,{"$f":"AccVelDataLink!A680","v":677},601,603,"RCP2-RGS4C-5水平-40kg"]
[603,1,500,{"$f":"AccVelDataLink!A681","v":678},602,604,"RCP2-RGS4C-5垂直-00.5kg"]
[604,1,1000,{"$f":"AccVelDataLink!A682","v":679},603,605,"RCP2-RGS4C-5垂直-01kg"]
[605,1,2000,{"$f":"AccVelDataLink!A683","v":680},604,606,"RCP2-RGS4C-5垂直-02kg"]
[606,1,6000,{"$f":"AccVelDataLink!A684","v":681},605,607,"RCP2-RGS4C-5垂直-06kg"]
[607,1,11000,{"$f":"AccVelDataLink!A685","v":682},606,-1,"RCP2-RGS4C-5垂直-11kg"]
[608,0,5000,{"$f":"AccVelDataLink!A686","v":683},-1,{"$f":"A612","v":609},"RCP2-RGS4C-10水平-05kg"]
[609,0,15000,{"$f":"AccVelDataLink!A687","v":684},{"$f":"A611","v":608},610,"RCP2-RGS4C-10水平-15kg"]
[610,0,25000,{"$f":"AccVelDataLink!A688","v":685},609,611,"RCP2-RGS4C-10水平-25kg"]
[611,1,500,{"$f":"AccVelDataLink!A689","v":686},610,612,"RCP2-RGS4C-10垂直-00.5kg"]
[612,1,1000,{"$f":"AccVelDataLink!A690","v":687},611,613,"RCP2-RGS4C-10垂直-01kg"]
[613,1,2000,{"$f":"AccVelDataLink!A691","v":688},612,614,"RCP2-RGS4C-10垂直-02kg"]
[614,1,3500,{"$f":"AccVelDataLink!A692","v":689},613,-1,"RCP2-RGS4C-10垂直-03.5kg"]
[615,0,35000,{"$f":"AccVelDataLink!A693","v":690},-1,{"$f":"A619","v":616},"RCP2-RGS6C-4水平-35kg"]
[616,0,47000,{"$f":"AccVelDataLink!A694","v":691},{"$f":"A618","v":615},617,"RCP2-RGS6C-4水平-47kg"]
[617,0,55000,{"$f":"AccVelDataLink!A695","v":692},616,618,"RCP2-RGS6C-4水平-55kg"]
[618,1,500,{"$f":"AccVelDataLink!A696","v":693},617,619,"RCP2-RGS6C-4垂直-00.5kg"]
[619,1,1000,{"$f":"AccVelDataLink!A697","v":694},618,620,"RCP2-RGS6C-4垂直-01kg"]
[620,1,2000,{"$f":"AccVelDataLink!A698","v":695},619,621,"RCP2-RGS6C-4垂直-02kg"]
[621,1,13000,{"$f":"AccVelDataLink!A699","v":696},620,622,"RCP2-RGS6C-4垂直-13kg"]
[622,1,24000,{"$f":"AccVelDataLink!A700","v":697},621,-1,"RCP2-RGS6C-4垂直-24kg"]
[623,0,30000,{"$f":"AccVelDataLink!A701","v":698},-1,{"$f":"A627","v":624},"RCP2-RGS6C-8水平-30kg"]
[624,0,50000,{"$f":"AccVelDataLink!A702","v":699},{"$f":"A626","v":623},625,"RCP2-RGS6C-8水平-50kg"]
[625,1,1000,{"$f":"AccVelDataLink!A703","v":700},624,626,"RCP2-RGS6C-8垂直-01kg"]
[626,1,1500,{"$f":"AccVelDataLink!A704","v":701},625,627,"RCP2-RGS6C-8垂直-01.5kg"]
[627,1,7000,{"$f":"AccVelDataLink!A705","v":702},626,628,"RCP2-RGS6C-8垂直-07kg"]
[628,1,10000,{"$f":"AccVelDataLink!A706","v":703},627,629,"RCP2-RGS6C-8垂直-10kg"]
[629,1,16000,{"$f":"AccVelDataLink!A707","v":704},628,-1,"RCP2-RGS6C-8垂直-16kg"]
[630,0,10000,{"$f":"AccVelDataLink!A708","v":705},-1,{"$f":"A634","v":631},"RCP2-RGS6C-16水平-10kg"]
[631,0,20000,{"$f":"AccVelDataLink!A709","v":706},{"$f":"A633","v":630},632,"RCP2-RGS6C-16水平-20kg"]
[632,0,30000,{"$f":"AccVelDataLink!A710","v":707},631,633,"RCP2-RGS6C-16水平-30kg"]
[633,0,35000,{"$f":"AccVelDataLink!A711","v":708},632,634,"RCP2-RGS6C-16水平-35kg"]
[634,0,40000,{"$f":"AccVelDataLink!A712","v":709},633,635,"RCP2-RGS6C-16水平-40kg"]
[635,1,500,{"$f":"AccVelDataLink!A713","v":710},634,636,"RCP2-RGS6C-16垂直-00.5kg"]
[636,1,3000,{"$f":"AccVelDataLink!A714","v":711},635,637,"RCP2-RGS6C-16垂直-03kg"]
[637,1,4000,{"$f":"AccVelDataLink!A715","v":712},636,-1,"RCP2-RGS6C-16垂直-04kg"]
[638,0,30000,{"$f":"AccVelDataLink!A716","v":713},-1,{"$f":"A642","v":639},"RCP2-SRGS4R-2.5水平-30kg"]
[639,0,35000,{"$f":"AccVelDataLink!A717","v":714},{"$f":"A641","v":638},640,"RCP2-SRGS4R-2.5水平-35kg"]
[640,1,3000,{"$f":"AccVelDataLink!A718","v":715},639,641,"RCP2-SRGS4R-2.5垂直-03kg"]
[641,1,5500,{"$f":"AccVelDataLink!A719","v":716},640,642,"RCP2-SRGS4R-2.5垂直-05.5kg"]
[642,1,8000,{"$f":"AccVelDataLink!A720","v":717},641,643,"RCP2-SRGS4R-2.5垂直-08kg"]
[643,1,11000,{"$f":"AccVelDataLink!A721","v":718},642,644,"RCP2-SRGS4R-2.5垂直-11kg"]
[644,1,13500,{"$f":"AccVelDataLink!A722","v":719},643,645,"RCP2-SRGS4R-2.5垂直-13.5kg"]
[645,1,15000,{"$f":"AccVelDataLink!A723","v":720},644,-1,"RCP2-SRGS4R-2.5垂直-15kg"]
[646,0,9000,{"$f":"AccVelDataLink!A724","v":721},-1,{"$f":"A650","v":647},"RCP2-SRGS4R-5水平-09kg"]
[647,0,14000,{"$f":"AccVelDataLink!A725","v":722},{"$f":"A649","v":646},648,"RCP2-SRGS4R-5水平-14kg"]
[648,0,19000,{"$f":"AccVelDataLink!A726","v":723},647,649,"RCP2-SRGS4R-5水平-19kg"]
[649,0,24000,{"$f":"AccVelDataLink!A727","v":724},648,650,"RCP2-SRGS4R-5水平-24kg"]
[650,1,1000,{"$f":"AccVelDataLink!A728","v":725},649,651,"RCP2-SRGS4R-5垂直-01kg"]
[651,1,2500,{"$f":"AccVelDataLink!A729","v":726},650,652,"RCP2-SRGS4R-5垂直-02.5kg"]
[652,1,4000,{"$f":"AccVelDataLink!A730","v":727},651,653,"RCP2-SRGS4R-5垂直-04kg"]
[653,1,6000,{"$f":"AccVelDataLink!A731","v":728},652,654,"RCP2-SRGS4R-5垂直-06kg"]
[654,1,8000,{"$f":"AccVelDataLink!A732","v":729},653,-1,"RCP2-SRGS4R-5垂直-08kg"]
[655,0,4000,{"$f":"AccVelDataLink!A733","v":730},-1,{"$f":"A659","v":656},"RCP2-RGD3C-2.5水平-04kg"]
[{"$f":"A658+1","v":656},0,15000,{"$f":"AccVelDataLink!A734","v":731},{"$f":"A658","v":655},{"$f":"A660","v":657},"RCP2-RGD3C-2.5水平-15kg"]
[657,0,30000,{"$f":"AccVelDataLink!A735","v":732},{"$f":"A659","v":656},{"$f":"A661","v":658},"RCP2-RGD3C-2.5水平-30kg"]
[658,1,1000,{"$f":"AccVelDataLink!A736","v":733},{"$f":"A660","v":657},{"$f":"A662","v":659},"RCP2-RGD3C-2.5垂直-01kg"]
[{"$f":"A661+1","v":659},1,4000,{"$f":"AccVelDataLink!A737","v":734},{"$f":"A661","v":658},{"$f":"A663","v":660},"RCP2-RGD3C-2.5垂直-04kg"]
[660,1,9000,{"$f":"AccVelDataLink!A738","v":735},{"$f":"A662","v":659},-1,"RCP2-RGD3C-2.5垂直-09kg"]
[661,0,2000,{"$f":"AccVelDataLink!A739","v":736},-1,{"$f":"A665","v":662},"RCP2-RGD3C-5水平-02kg"]
[662,0,8000,{"$f":"AccVelDataLink!A740","v":737},{"$f":"A664","v":661},663,"RCP2-RGD3C-5水平-08kg"]
[663,0,13000,{"$f":"AccVelDataLink!A741","v":738},662,664,"RCP2-RGD3C-5水平-13kg"]
[664,0,15000,{"$f":"AccVelDataLink!A742","v":739},663,665,"RCP2-RGD3C-5水平-15kg"]
[665,1,500,{"$f":"AccVelDataLink!A743","v":740},664,666,"RCP2-RGD3C-5垂直-00.5kg"]
[666,1,2000,{"$f":"AccVelDataLink!A744","v":741},665,667,"RCP2-RGD3C-5垂直-02kg"]
[667,1,4000,{"$f":"AccVelDataLink!A745","v":742},666,668,"RCP2-RGD3C-5垂直-04kg"]
[668,1,5000,{"$f":"AccVelDataLink!A746","v":743},667,-1,"RCP2-RGD3C-5垂直-05kg"]
[669,0,40000,{"$f":"AccVelDataLink!A747","v":744},-1,{"$f":"A673","v":670},"RCP2-RGD4C-2.5水平-40kg"]
[670,1,1500,{"$f":"AccVelDataLink!A748","v":745},{"$f":"A672","v":669},{"$f":"A674","v":671},"RCP2-RGD4C-2.5垂直-01.5kg"]
[671,1,4000,{"$f":"AccVelDataLink!A749","v":746},{"$f":"A673","v":670},{"$f":"A675","v":672},"RCP2-RGD4C-2.5垂直-04kg"]
[672,1,14000,{"$f":"AccVelDataLink!A750","v":747},{"$f":"A674","v":671},{"$f":"A676","v":673},"RCP2-RGD4C-2.5垂直-14kg"]
[673,1,18000,{"$f":"AccVelDataLink!A751","v":748},{"$f":"A675","v":672},-1,"RCP2-RGD4C-2.5垂直-18kg"]
[674,0,10000,{"$f":"AccVelDataLink!A752","v":749},-1,{"$f":"A678","v":675},"RCP2-RGD4C-5水平-10kg"]
[675,0,20000,{"$f":"AccVelDataLink!A753","v":750},{"$f":"A677","v":674},676,"RCP2-RGD4C-5水平-20kg"]
[676,0,40000,{"$f":"AccVelDataLink!A754","v":751},675,677,"RCP2-RGD4C-5水平-40kg"]
[677,1,500,{"$f":"AccVelDataLink!A755","v":752},676,678,"RCP2-RGD4C-5垂直-00.5kg"]
[678,1,1000,{"$f":"AccVelDataLink!A756","v":753},677,679,"RCP2-RGD4C-5垂直-01kg"]
[679,1,2000,{"$f":"AccVelDataLink!A757","v":754},678,680,"RCP2-RGD4C-5垂直-02kg"]
[680,1,6000,{"$f":"AccVelDataLink!A758","v":755},679,681,"RCP2-RGD4C-5垂直-06kg"]
[681,1,11000,{"$f":"AccVelDataLink!A759","v":756},680,-1,"RCP2-RGD4C-5垂直-11kg"]
[682,0,5000,{"$f":"AccVelDataLink!A760","v":757},-1,{"$f":"A686","v":683},"RCP2-RGD4C-10水平-05kg"]
[683,0,15000,{"$f":"AccVelDataLink!A761","v":758},{"$f":"A685","v":682},684,"RCP2-RGD4C-10水平-15kg"]
[684,0,25000,{"$f":"AccVelDataLink!A762","v":759},683,685,"RCP2-RGD4C-10水平-25kg"]
[685,1,500,{"$f":"AccVelDataLink!A763","v":760},684,686,"RCP2-RGD4C-10垂直-00.5kg"]
[686,1,1000,{"$f":"AccVelDataLink!A764","v":761},685,687,"RCP2-RGD4C-10垂直-01kg"]
[687,1,2000,{"$f":"AccVelDataLink!A765","v":762},686,688,"RCP2-RGD4C-10垂直-02kg"]
[688,1,3500,{"$f":"AccVelDataLink!A766","v":763},687,-1,"RCP2-RGD4C-10垂直-03.5kg"]
[689,0,35000,{"$f":"AccVelDataLink!A767","v":764},-1,{"$f":"A693","v":690},"RCP2-RGD6C-4水平-35kg"]
[690,0,47000,{"$f":"AccVelDataLink!A768","v":765},{"$f":"A692","v":689},691,"RCP2-RGD6C-4水平-47kg"]
[691,0,55000,{"$f":"AccVelDataLink!A769","v":766},690,692,"RCP2-RGD6C-4水平-55kg"]
[692,1,500,{"$f":"AccVelDataLink!A770","v":767},691,693,"RCP2-RGD6C-4垂直-00.5kg"]
[693,1,1000,{"$f":"AccVelDataLink!A771","v":768},692,694,"RCP2-RGD6C-4垂直-01kg"]
[694,1,2000,{"$f":"AccVelDataLink!A772","v":769},693,695,"RCP2-RGD6C-4垂直-02kg"]
[695,1,13000,{"$f":"AccVelDataLink!A773","v":770},694,696,"RCP2-RGD6C-4垂直-13kg"]
[696,1,24000,{"$f":"AccVelDataLink!A774","v":771},695,-1,"RCP2-RGD6C-4垂直-24kg"]
[697,0,30000,{"$f":"AccVelDataLink!A775","v":772},-1,{"$f":"A701","v":698},"RCP2-RGD6C-8水平-30kg"]
[698,0,50000,{"$f":"AccVelDataLink!A776","v":773},{"$f":"A700","v":697},699,"RCP2-RGD6C-8水平-50kg"]
[699,1,1000,{"$f":"AccVelDataLink!A777","v":774},698,700,"RCP2-RGD6C-8垂直-01kg"]
[700,1,1500,{"$f":"AccVelDataLink!A778","v":775},699,701,"RCP2-RGD6C-8垂直-01.5kg"]
[701,1,7000,{"$f":"AccVelDataLink!A779","v":776},700,702,"RCP2-RGD6C-8垂直-07kg"]
[702,1,10000,{"$f":"AccVelDataLink!A780","v":777},701,703,"RCP2-RGD6C-8垂直-10kg"]
[703,1,16000,{"$f":"AccVelDataLink!A781","v":778},702,-1,"RCP2-RGD6C-8垂直-16kg"]
[704,0,10000,{"$f":"AccVelDataLink!A782","v":779},-1,{"$f":"A708","v":705},"RCP2-RGD6C-16水平-10kg"]
[705,0,20000,{"$f":"AccVelDataLink!A783","v":780},{"$f":"A707","v":704},706,"RCP2-RGD6C-16水平-20kg"]
[706,0,30000,{"$f":"AccVelDataLink!A784","v":781},705,707,"RCP2-RGD6C-16水平-30kg"]
[707,0,35000,{"$f":"AccVelDataLink!A785","v":782},706,708,"RCP2-RGD6C-16水平-35kg"]
[708,0,40000,{"$f":"AccVelDataLink!A786","v":783},707,709,"RCP2-RGD6C-16水平-40kg"]
[709,1,500,{"$f":"AccVelDataLink!A787","v":784},708,710,"RCP2-RGD6C-16垂直-00.5kg"]
[710,1,3000,{"$f":"AccVelDataLink!A788","v":785},709,711,"RCP2-RGD6C-16垂直-03kg"]
[711,1,4000,{"$f":"AccVelDataLink!A789","v":786},710,-1,"RCP2-RGD6C-16垂直-04kg"]
[712,0,30000,{"$f":"AccVelDataLink!A790","v":787},-1,{"$f":"A716","v":713},"RCP2-SRGD4R-2.5水平-30kg"]
[713,0,35000,{"$f":"AccVelDataLink!A791","v":788},{"$f":"A715","v":712},714,"RCP2-SRGD4R-2.5水平-35kg"]
[714,1,3000,{"$f":"AccVelDataLink!A792","v":789},713,715,"RCP2-SRGD4R-2.5垂直-03kg"]
[715,1,5500,{"$f":"AccVelDataLink!A793","v":790},714,716,"RCP2-SRGD4R-2.5垂直-05.5kg"]
[716,1,8000,{"$f":"AccVelDataLink!A794","v":791},715,717,"RCP2-SRGD4R-2.5垂直-08kg"]
[717,1,11000,{"$f":"AccVelDataLink!A795","v":792},716,718,"RCP2-SRGD4R-2.5垂直-11kg"]
[718,1,13500,{"$f":"AccVelDataLink!A796","v":793},717,719,"RCP2-SRGD4R-2.5垂直-13.5kg"]
[{"$f":"A721+1","v":719},1,15000,{"$f":"AccVelDataLink!A797","v":794},718,-1,"RCP2-SRGD4R-2.5垂直-15kg"]
[720,0,9000,{"$f":"AccVelDataLink!A798","v":795},-1,{"$f":"A724","v":721},"RCP2-SRGD4R-5水平-09kg"]
[721,0,14000,{"$f":"AccVelDataLink!A799","v":796},{"$f":"A723","v":720},722,"RCP2-SRGD4R-5水平-14kg"]
[722,0,19000,{"$f":"AccVelDataLink!A800","v":797},721,723,"RCP2-SRGD4R-5水平-19kg"]
[723,0,24000,{"$f":"AccVelDataLink!A801","v":798},722,724,"RCP2-SRGD4R-5水平-24kg"]
[724,1,1000,{"$f":"AccVelDataLink!A802","v":799},723,725,"RCP2-SRGD4R-5垂直-01kg"]
[725,1,2500,{"$f":"AccVelDataLink!A803","v":800},724,726,"RCP2-SRGD4R-5垂直-02.5kg"]
[726,1,4000,{"$f":"AccVelDataLink!A804","v":801},725,727,"RCP2-SRGD4R-5垂直-04kg"]
[727,1,6000,{"$f":"AccVelDataLink!A805","v":802},726,728,"RCP2-SRGD4R-5垂直-06kg"]
[728,1,8000,{"$f":"AccVelDataLink!A806","v":803},727,-1,"RCP2-SRGD4R-5垂直-08kg"]
[729,0,40000,{"$f":"AccVelDataLink!A807","v":804},-1,{"$f":"A733","v":730},"ERC2-RA6C-3水平-40kg"]
[730,1,4000,{"$f":"AccVelDataLink!A808","v":805},{"$f":"A732","v":729},{"$f":"A734","v":731},"ERC2-RA6C-3垂直-04kg"]
[731,1,11000,{"$f":"AccVelDataLink!A809","v":806},{"$f":"A733","v":730},{"$f":"A735","v":732},"ERC2-RA6C-3垂直-11kg"]
[732,1,18000,{"$f":"AccVelDataLink!A810","v":807},{"$f":"A734","v":731},-1,"ERC2-RA6C-3垂直-18kg"]
[733,0,12000,{"$f":"AccVelDataLink!A811","v":808},-1,{"$f":"A737","v":734},"ERC2-RA6C-6水平-12kg"]
[734,0,40000,{"$f":"AccVelDataLink!A812","v":809},{"$f":"A736","v":733},735,"ERC2-RA6C-6水平-40kg"]
[735,1,2500,{"$f":"AccVelDataLink!A813","v":810},734,736,"ERC2-RA6C-6垂直-02.5kg"]
[736,1,7000,{"$f":"AccVelDataLink!A814","v":811},735,737,"ERC2-RA6C-6垂直-07kg"]
[737,1,9000,{"$f":"AccVelDataLink!A815","v":812},736,738,"ERC2-RA6C-6垂直-09kg"]
[738,1,11000,{"$f":"AccVelDataLink!A816","v":813},737,739,"ERC2-RA6C-6垂直-11kg"]
[739,1,12000,{"$f":"AccVelDataLink!A817","v":814},738,-1,"ERC2-RA6C-6垂直-12kg"]
[740,0,2500,{"$f":"AccVelDataLink!A818","v":815},-1,{"$f":"A744","v":741},"ERC2-RA6C-12水平-02.5kg"]
[741,0,12000,{"$f":"AccVelDataLink!A819","v":816},{"$f":"A743","v":740},742,"ERC2-RA6C-12水平-12kg"]
[742,0,25000,{"$f":"AccVelDataLink!A820","v":817},741,743,"ERC2-RA6C-12水平-25kg"]
[743,1,500,{"$f":"AccVelDataLink!A821","v":818},742,744,"ERC2-RA6C-12垂直-00.5kg"]
[744,1,3000,{"$f":"AccVelDataLink!A822","v":819},743,745,"ERC2-RA6C-12垂直-03kg"]
[745,1,4300,{"$f":"AccVelDataLink!A823","v":820},744,746,"ERC2-RA6C-12垂直-04.3kg"]
[746,1,4500,{"$f":"AccVelDataLink!A824","v":821},745,-1,"ERC2-RA6C-12垂直-04.5kg"]
[747,0,25000,{"$f":"AccVelDataLink!A825","v":822},-1,{"$f":"A751","v":748},"ERC2-RA7C-4水平-25kg"]
[748,0,55000,{"$f":"AccVelDataLink!A826","v":823},{"$f":"A750","v":747},{"$f":"A752","v":749},"ERC2-RA7C-4水平-55kg"]
[749,1,2000,{"$f":"AccVelDataLink!A827","v":824},{"$f":"A751","v":748},{"$f":"A753","v":750},"ERC2-RA7C-4垂直-02kg"]
[750,1,8300,{"$f":"AccVelDataLink!A828","v":825},{"$f":"A752","v":749},{"$f":"A754","v":751},"ERC2-RA7C-4垂直-08.3kg"]
[751,1,21000,{"$f":"AccVelDataLink!A829","v":826},{"$f":"A753","v":750},{"$f":"A755","v":752},"ERC2-RA7C-4垂直-21kg"]
[752,1,25000,{"$f":"AccVelDataLink!A830","v":827},{"$f":"A754","v":751},-1,"ERC2-RA7C-4垂直-25kg"]
[753,0,3500,{"$f":"AccVelDataLink!A831","v":828},-1,{"$f":"A757","v":754},"ERC2-RA7C-8水平-03.5kg"]
[754,0,29000,{"$f":"AccVelDataLink!A832","v":829},{"$f":"A756","v":753},755,"ERC2-RA7C-8水平-29kg"]
[755,0,50000,{"$f":"AccVelDataLink!A833","v":830},754,756,"ERC2-RA7C-8水平-50kg"]
[756,1,1000,{"$f":"AccVelDataLink!A834","v":831},755,757,"ERC2-RA7C-8垂直-01kg"]
[757,1,4800,{"$f":"AccVelDataLink!A835","v":832},756,758,"ERC2-RA7C-8垂直-04.8kg"]
[758,1,5800,{"$f":"AccVelDataLink!A836","v":833},757,759,"ERC2-RA7C-8垂直-05.8kg"]
[759,1,10700,{"$f":"AccVelDataLink!A837","v":834},758,760,"ERC2-RA7C-8垂直-10.7kg"]
[760,1,17500,{"$f":"AccVelDataLink!A838","v":835},759,-1,"ERC2-RA7C-8垂直-17.5kg"]
[761,0,2000,{"$f":"AccVelDataLink!A839","v":836},-1,{"$f":"A765","v":762},"ERC2-RA7C-16水平-02kg"]
[762,0,37000,{"$f":"AccVelDataLink!A840","v":837},{"$f":"A764","v":761},{"$f":"A766","v":763},"ERC2-RA7C-16水平-37kg"]
[763,0,40000,{"$f":"AccVelDataLink!A841","v":838},{"$f":"A765","v":762},{"$f":"A767","v":764},"ERC2-RA7C-16水平-40kg"]
[764,1,500,{"$f":"AccVelDataLink!A842","v":839},{"$f":"A766","v":763},{"$f":"A768","v":765},"ERC2-RA7C-16垂直-00.5kg"]
[765,1,5000,{"$f":"AccVelDataLink!A843","v":840},{"$f":"A767","v":764},-1,"ERC2-RA7C-16垂直-05kg"]
[766,0,40000,{"$f":"AccVelDataLink!A844","v":841},-1,{"$f":"A770","v":767},"ERC2-RGS6C-3水平-40kg"]
[767,1,4000,{"$f":"AccVelDataLink!A845","v":842},{"$f":"A769","v":766},{"$f":"A771","v":768},"ERC2-RGS6C-3垂直-04kg"]
[768,1,11000,{"$f":"AccVelDataLink!A846","v":843},{"$f":"A770","v":767},{"$f":"A772","v":769},"ERC2-RGS6C-3垂直-11kg"]
[769,1,18000,{"$f":"AccVelDataLink!A847","v":844},{"$f":"A771","v":768},-1,"ERC2-RGS6C-3垂直-18kg"]
[770,0,12000,{"$f":"AccVelDataLink!A848","v":845},-1,{"$f":"A774","v":771},"ERC2-RGS6C-6水平-12kg"]
[771,0,40000,{"$f":"AccVelDataLink!A849","v":846},{"$f":"A773","v":770},772,"ERC2-RGS6C-6水平-40kg"]
[772,1,2500,{"$f":"AccVelDataLink!A850","v":847},771,773,"ERC2-RGS6C-6垂直-02.5kg"]
[773,1,7000,{"$f":"AccVelDataLink!A851","v":848},772,774,"ERC2-RGS6C-6垂直-07kg"]
[774,1,9000,{"$f":"AccVelDataLink!A852","v":849},773,775,"ERC2-RGS6C-6垂直-09kg"]
[775,1,11000,{"$f":"AccVelDataLink!A853","v":850},774,776,"ERC2-RGS6C-6垂直-11kg"]
[776,1,12000,{"$f":"AccVelDataLink!A854","v":851},775,-1,"ERC2-RGS6C-6垂直-12kg"]
[777,0,2500,{"$f":"AccVelDataLink!A855","v":852},-1,{"$f":"A781","v":778},"ERC2-RGS6C-12水平-02.5kg"]
[778,0,12000,{"$f":"AccVelDataLink!A856","v":853},{"$f":"A780","v":777},779,"ERC2-RGS6C-12水平-12kg"]
[779,0,25000,{"$f":"AccVelDataLink!A857","v":854},778,780,"ERC2-RGS6C-12水平-25kg"]
[780,1,500,{"$f":"AccVelDataLink!A858","v":855},779,781,"ERC2-RGS6C-12垂直-00.5kg"]
[781,1,3000,{"$f":"AccVelDataLink!A859","v":856},780,782,"ERC2-RGS6C-12垂直-03kg"]
[782,1,4300,{"$f":"AccVelDataLink!A860","v":857},781,783,"ERC2-RGS6C-12垂直-04.3kg"]
[{"$f":"A785+1","v":783},1,4500,{"$f":"AccVelDataLink!A861","v":858},782,-1,"ERC2-RGS6C-12垂直-04.5kg"]
[784,0,25000,{"$f":"AccVelDataLink!A862","v":859},-1,{"$f":"A788","v":785},"ERC2-RGS7C-4水平-25kg"]
[785,0,55000,{"$f":"AccVelDataLink!A863","v":860},{"$f":"A787","v":784},{"$f":"A789","v":786},"ERC2-RGS7C-4水平-55kg"]
[786,1,2000,{"$f":"AccVelDataLink!A864","v":861},{"$f":"A788","v":785},{"$f":"A790","v":787},"ERC2-RGS7C-4垂直-02kg"]
[787,1,8300,{"$f":"AccVelDataLink!A865","v":862},{"$f":"A789","v":786},{"$f":"A791","v":788},"ERC2-RGS7C-4垂直-08.3kg"]
[788,1,21000,{"$f":"AccVelDataLink!A866","v":863},{"$f":"A790","v":787},{"$f":"A792","v":789},"ERC2-RGS7C-4垂直-21kg"]
[789,1,25000,{"$f":"AccVelDataLink!A867","v":864},{"$f":"A791","v":788},-1,"ERC2-RGS7C-4垂直-25kg"]
[790,0,3500,{"$f":"AccVelDataLink!A868","v":865},-1,{"$f":"A794","v":791},"ERC2-RGS7C-8水平-03.5kg"]
[791,0,29000,{"$f":"AccVelDataLink!A869","v":866},{"$f":"A793","v":790},792,"ERC2-RGS7C-8水平-29kg"]
[792,0,50000,{"$f":"AccVelDataLink!A870","v":867},791,793,"ERC2-RGS7C-8水平-50kg"]
[793,1,1000,{"$f":"AccVelDataLink!A871","v":868},792,794,"ERC2-RGS7C-8垂直-01kg"]
[794,1,4800,{"$f":"AccVelDataLink!A872","v":869},793,795,"ERC2-RGS7C-8垂直-04.8kg"]
[795,1,5800,{"$f":"AccVelDataLink!A873","v":870},794,796,"ERC2-RGS7C-8垂直-05.8kg"]
[796,1,10700,{"$f":"AccVelDataLink!A874","v":871},795,797,"ERC2-RGS7C-8垂直-10.7kg"]
[797,1,17500,{"$f":"AccVelDataLink!A875","v":872},796,-1,"ERC2-RGS7C-8垂直-17.5kg"]
[798,0,2000,{"$f":"AccVelDataLink!A876","v":873},-1,{"$f":"A802","v":799},"ERC2-RGS7C-16水平-02kg"]
[799,0,37000,{"$f":"AccVelDataLink!A877","v":874},{"$f":"A801","v":798},{"$f":"A803","v":800},"ERC2-RGS7C-16水平-37kg"]
[800,0,40000,{"$f":"AccVelDataLink!A878","v":875},{"$f":"A802","v":799},{"$f":"A804","v":801},"ERC2-RGS7C-16水平-40kg"]
[801,1,500,{"$f":"AccVelDataLink!A879","v":876},{"$f":"A803","v":800},{"$f":"A805","v":802},"ERC2-RGS7C-16垂直-00.5kg"]
[802,1,5000,{"$f":"AccVelDataLink!A880","v":877},{"$f":"A804","v":801},-1,"ERC2-RGS7C-16垂直-05kg"]
[803,0,40000,{"$f":"AccVelDataLink!A881","v":878},-1,{"$f":"A807","v":804},"ERC2-RGD6C-3水平-40kg"]
[804,1,4000,{"$f":"AccVelDataLink!A882","v":879},{"$f":"A806","v":803},{"$f":"A808","v":805},"ERC2-RGD6C-3垂直-04kg"]
[805,1,11000,{"$f":"AccVelDataLink!A883","v":880},{"$f":"A807","v":804},{"$f":"A809","v":806},"ERC2-RGD6C-3垂直-11kg"]
[806,1,18000,{"$f":"AccVelDataLink!A884","v":881},{"$f":"A808","v":805},-1,"ERC2-RGD6C-3垂直-18kg"]
[807,0,12000,{"$f":"AccVelDataLink!A885","v":882},-1,{"$f":"A811","v":808},"ERC2-RGD6C-6水平-12kg"]
[808,0,40000,{"$f":"AccVelDataLink!A886","v":883},{"$f":"A810","v":807},809,"ERC2-RGD6C-6水平-40kg"]
[809,1,2500,{"$f":"AccVelDataLink!A887","v":884},808,810,"ERC2-RGD6C-6垂直-02.5kg"]
[810,1,7000,{"$f":"AccVelDataLink!A888","v":885},809,811,"ERC2-RGD6C-6垂直-07kg"]
[811,1,9000,{"$f":"AccVelDataLink!A889","v":886},810,812,"ERC2-RGD6C-6垂直-09kg"]
[812,1,11000,{"$f":"AccVelDataLink!A890","v":887},811,813,"ERC2-RGD6C-6垂直-11kg"]
[813,1,12000,{"$f":"AccVelDataLink!A891","v":888},812,-1,"ERC2-RGD6C-6垂直-12kg"]
[814,0,2500,{"$f":"AccVelDataLink!A892","v":889},-1,{"$f":"A818","v":815},"ERC2-RGD6C-12水平-02.5kg"]
[815,0,12000,{"$f":"AccVelDataLink!A893","v":890},{"$f":"A817","v":814},816,"ERC2-RGD6C-12水平-12kg"]
[816,0,25000,{"$f":"AccVelDataLink!A894","v":891},815,817,"ERC2-RGD6C-12水平-25kg"]
[817,1,500,{"$f":"AccVelDataLink!A895","v":892},816,818,"ERC2-RGD6C-12垂直-00.5kg"]
[818,1,3000,{"$f":"AccVelDataLink!A896","v":893},817,819,"ERC2-RGD6C-12垂直-03kg"]
[819,1,4300,{"$f":"AccVelDataLink!A897","v":894},818,820,"ERC2-RGD6C-12垂直-04.3kg"]
[820,1,4500,{"$f":"AccVelDataLink!A898","v":895},819,-1,"ERC2-RGD6C-12垂直-04.5kg"]
[821,0,25000,{"$f":"AccVelDataLink!A899","v":896},-1,{"$f":"A825","v":822},"ERC2-RGD7C-4水平-25kg"]
[822,0,55000,{"$f":"AccVelDataLink!A900","v":897},{"$f":"A824","v":821},{"$f":"A826","v":823},"ERC2-RGD7C-4水平-55kg"]
[823,1,2000,{"$f":"AccVelDataLink!A901","v":898},{"$f":"A825","v":822},{"$f":"A827","v":824},"ERC2-RGD7C-4垂直-02kg"]
[824,1,8300,{"$f":"AccVelDataLink!A902","v":899},{"$f":"A826","v":823},{"$f":"A828","v":825},"ERC2-RGD7C-4垂直-08.3kg"]
[825,1,21000,{"$f":"AccVelDataLink!A903","v":900},{"$f":"A827","v":824},{"$f":"A829","v":826},"ERC2-RGD7C-4垂直-21kg"]
[826,1,25000,{"$f":"AccVelDataLink!A904","v":901},{"$f":"A828","v":825},-1,"ERC2-RGD7C-4垂直-25kg"]
[827,0,3500,{"$f":"AccVelDataLink!A905","v":902},-1,{"$f":"A831","v":828},"ERC2-RGD7C-8水平-03.5kg"]
[828,0,29000,{"$f":"AccVelDataLink!A906","v":903},{"$f":"A830","v":827},829,"ERC2-RGD7C-8水平-29kg"]
[829,0,50000,{"$f":"AccVelDataLink!A907","v":904},828,830,"ERC2-RGD7C-8水平-50kg"]
[830,1,1000,{"$f":"AccVelDataLink!A908","v":905},829,831,"ERC2-RGD7C-8垂直-01kg"]
[831,1,4800,{"$f":"AccVelDataLink!A909","v":906},830,832,"ERC2-RGD7C-8垂直-04.8kg"]
[832,1,5800,{"$f":"AccVelDataLink!A910","v":907},831,833,"ERC2-RGD7C-8垂直-05.8kg"]
[833,1,10700,{"$f":"AccVelDataLink!A911","v":908},832,834,"ERC2-RGD7C-8垂直-10.7kg"]
[834,1,17500,{"$f":"AccVelDataLink!A912","v":909},833,-1,"ERC2-RGD7C-8垂直-17.5kg"]
[835,0,2000,{"$f":"AccVelDataLink!A913","v":910},-1,{"$f":"A839","v":836},"ERC2-RGD7C-16水平-02kg"]
[836,0,37000,{"$f":"AccVelDataLink!A914","v":911},{"$f":"A838","v":835},{"$f":"A840","v":837},"ERC2-RGD7C-16水平-37kg"]
[837,0,40000,{"$f":"AccVelDataLink!A915","v":912},{"$f":"A839","v":836},{"$f":"A841","v":838},"ERC2-RGD7C-16水平-40kg"]
[838,1,500,{"$f":"AccVelDataLink!A916","v":913},{"$f":"A840","v":837},{"$f":"A842","v":839},"ERC2-RGD7C-16垂直-00.5kg"]
[839,1,5000,{"$f":"AccVelDataLink!A917","v":914},{"$f":"A841","v":838},-1,"ERC2-RGD7C-16垂直-05kg"]
[840,0,1500,{"$f":"AccVelDataLink!A918","v":915},-1,{"$f":"A844","v":841},"RCP3-TA3C-2水平-01.5kg"]
[841,0,2000,{"$f":"AccVelDataLink!A919","v":916},{"$f":"A843","v":840},{"$f":"A845","v":842},"RCP3-TA3C-2水平-02kg"]
[842,1,700,{"$f":"AccVelDataLink!A920","v":917},{"$f":"A844","v":841},{"$f":"A846","v":843},"RCP3-TA3C-2垂直-00.7kg"]
[843,1,1000,{"$f":"AccVelDataLink!A921","v":918},{"$f":"A845","v":842},-1,"RCP3-TA3C-2垂直-01kg"]
[844,0,1000,{"$f":"AccVelDataLink!A922","v":919},-1,{"$f":"A848","v":845},"RCP3-TA3C-4水平-01kg"]
[845,0,1400,{"$f":"AccVelDataLink!A923","v":920},{"$f":"A847","v":844},{"$f":"A849","v":846},"RCP3-TA3C-4水平-01.4kg"]
[846,1,400,{"$f":"AccVelDataLink!A924","v":921},{"$f":"A848","v":845},{"$f":"A850","v":847},"RCP3-TA3C-4垂直-00.4kg"]
[{"$f":"A849+1","v":847},1,600,{"$f":"AccVelDataLink!A925","v":922},{"$f":"A849","v":846},-1,"RCP3-TA3C-4垂直-00.6kg"]
[848,0,500,{"$f":"AccVelDataLink!A926","v":923},-1,{"$f":"A852","v":849},"RCP3-TA3C-6水平-00.5kg"]
[849,0,700,{"$f":"AccVelDataLink!A927","v":924},{"$f":"A851","v":848},{"$f":"A853","v":850},"RCP3-TA3C-6水平-00.7kg"]
[850,1,200,{"$f":"AccVelDataLink!A928","v":925},{"$f":"A852","v":849},{"$f":"A854","v":851},"RCP3-TA3C-6垂直-00.2kg"]
[851,1,300,{"$f":"AccVelDataLink!A929","v":926},{"$f":"A853","v":850},-1,"RCP3-TA3C-6垂直-00.3kg"]
[852,0,2500,{"$f":"AccVelDataLink!A930","v":927},-1,{"$f":"A856","v":853},"RCP3-TA4C-2水平-02.5kg"]
[853,0,3000,{"$f":"AccVelDataLink!A931","v":928},{"$f":"A855","v":852},{"$f":"A857","v":854},"RCP3-TA4C-2水平-03kg"]
[854,1,1000,{"$f":"AccVelDataLink!A932","v":929},{"$f":"A856","v":853},{"$f":"A858","v":855},"RCP3-TA4C-2垂直-01kg"]
[855,1,1500,{"$f":"AccVelDataLink!A933","v":930},{"$f":"A857","v":854},-1,"RCP3-TA4C-2垂直-01.5kg"]
[856,0,1500,{"$f":"AccVelDataLink!A934","v":931},-1,{"$f":"A860","v":857},"RCP3-TA4C-4水平-01.5kg"]
[857,0,2000,{"$f":"AccVelDataLink!A935","v":932},{"$f":"A859","v":856},{"$f":"A861","v":858},"RCP3-TA4C-4水平-02kg"]
[858,1,700,{"$f":"AccVelDataLink!A936","v":933},{"$f":"A860","v":857},{"$f":"A862","v":859},"RCP3-TA4C-4垂直-00.7kg"]
[859,1,1000,{"$f":"AccVelDataLink!A937","v":934},{"$f":"A861","v":858},-1,"RCP3-TA4C-4垂直-01kg"]
[860,0,700,{"$f":"AccVelDataLink!A938","v":935},-1,{"$f":"A864","v":861},"RCP3-TA4C-6水平-00.7kg"]
[861,0,1000,{"$f":"AccVelDataLink!A939","v":936},{"$f":"A863","v":860},{"$f":"A865","v":862},"RCP3-TA4C-6水平-01kg"]
[862,1,300,{"$f":"AccVelDataLink!A940","v":937},{"$f":"A864","v":861},{"$f":"A866","v":863},"RCP3-TA4C-6垂直-00.3kg"]
[863,1,500,{"$f":"AccVelDataLink!A941","v":938},{"$f":"A865","v":862},-1,"RCP3-TA4C-6垂直-00.5kg"]
[864,0,2000,{"$f":"AccVelDataLink!A942","v":939},-1,{"$f":"A868","v":865},"RCP3-TA5C-2.5水平-02kg"]
[865,0,3000,{"$f":"AccVelDataLink!A943","v":940},{"$f":"A867","v":864},866,"RCP3-TA5C-2.5水平-03kg"]
[866,0,4000,{"$f":"AccVelDataLink!A944","v":941},865,867,"RCP3-TA5C-2.5水平-04kg"]
[867,0,5000,{"$f":"AccVelDataLink!A945","v":942},866,868,"RCP3-TA5C-2.5水平-05kg"]
[868,0,6000,{"$f":"AccVelDataLink!A946","v":943},867,869,"RCP3-TA5C-2.5水平-06kg"]
[869,1,1500,{"$f":"AccVelDataLink!A947","v":944},868,870,"RCP3-TA5C-2.5垂直-01.5kg"]
[870,1,2000,{"$f":"AccVelDataLink!A948","v":945},869,871,"RCP3-TA5C-2.5垂直-02kg"]
[871,1,3000,{"$f":"AccVelDataLink!A949","v":946},870,-1,"RCP3-TA5C-2.5垂直-03kg"]
[872,0,1500,{"$f":"AccVelDataLink!A950","v":947},-1,{"$f":"A876","v":873},"RCP3-TA5C-5水平-01.5kg"]
[873,0,3000,{"$f":"AccVelDataLink!A951","v":948},{"$f":"A875","v":872},{"$f":"A877","v":874},"RCP3-TA5C-5水平-03kg"]
[874,0,4000,{"$f":"AccVelDataLink!A952","v":949},{"$f":"A876","v":873},{"$f":"A878","v":875},"RCP3-TA5C-5水平-04kg"]
[875,1,500,{"$f":"AccVelDataLink!A953","v":950},{"$f":"A877","v":874},{"$f":"A879","v":876},"RCP3-TA5C-5垂直-00.5kg"]
[876,1,1000,{"$f":"AccVelDataLink!A954","v":951},{"$f":"A878","v":875},{"$f":"A880","v":877},"RCP3-TA5C-5垂直-01kg"]
[877,1,1500,{"$f":"AccVelDataLink!A955","v":952},{"$f":"A879","v":876},-1,"RCP3-TA5C-5垂直-01.5kg"]
[878,0,500,{"$f":"AccVelDataLink!A956","v":953},-1,{"$f":"A882","v":879},"RCP3-TA5C-10水平-00.5kg"]
[879,0,2000,{"$f":"AccVelDataLink!A957","v":954},{"$f":"A881","v":878},{"$f":"A883","v":880},"RCP3-TA5C-10水平-02kg"]
[880,1,500,{"$f":"AccVelDataLink!A958","v":955},{"$f":"A882","v":879},{"$f":"A884","v":881},"RCP3-TA5C-10垂直-00.5kg"]
[881,1,1000,{"$f":"AccVelDataLink!A959","v":956},{"$f":"A883","v":880},-1,"RCP3-TA5C-10垂直-01kg"]
[882,0,6000,{"$f":"AccVelDataLink!A960","v":957},-1,{"$f":"A886","v":883},"RCP3-TA6C-3水平-06kg"]
[883,0,8000,{"$f":"AccVelDataLink!A961","v":958},{"$f":"A885","v":882},{"$f":"A887","v":884},"RCP3-TA6C-3水平-08kg"]
[884,1,2000,{"$f":"AccVelDataLink!A962","v":959},{"$f":"A886","v":883},{"$f":"A888","v":885},"RCP3-TA6C-3垂直-02kg"]
[885,1,4000,{"$f":"AccVelDataLink!A963","v":960},{"$f":"A887","v":884},-1,"RCP3-TA6C-3垂直-04kg"]
[886,0,4000,{"$f":"AccVelDataLink!A964","v":961},-1,{"$f":"A890","v":887},"RCP3-TA6C-6水平-04kg"]
[887,0,6000,{"$f":"AccVelDataLink!A965","v":962},{"$f":"A889","v":886},{"$f":"A891","v":888},"RCP3-TA6C-6水平-06kg"]
[888,1,1000,{"$f":"AccVelDataLink!A966","v":963},{"$f":"A890","v":887},{"$f":"A892","v":889},"RCP3-TA6C-6垂直-01kg"]
[889,1,2000,{"$f":"AccVelDataLink!A967","v":964},{"$f":"A891","v":888},-1,"RCP3-TA6C-6垂直-02kg"]
[890,0,2000,{"$f":"AccVelDataLink!A968","v":965},-1,{"$f":"A894","v":891},"RCP3-TA6C-12水平-02kg"]
[891,0,4000,{"$f":"AccVelDataLink!A969","v":966},{"$f":"A893","v":890},{"$f":"A895","v":892},"RCP3-TA6C-12水平-04kg"]
[892,1,500,{"$f":"AccVelDataLink!A970","v":967},{"$f":"A894","v":891},{"$f":"A896","v":893},"RCP3-TA6C-12垂直-00.5kg"]
[893,1,1000,{"$f":"AccVelDataLink!A971","v":968},{"$f":"A895","v":892},-1,"RCP3-TA6C-12垂直-01kg"]
[894,0,8000,{"$f":"AccVelDataLink!A972","v":969},-1,{"$f":"A898","v":895},"RCP3-TA7C-3水平-08kg"]
[895,0,10000,{"$f":"AccVelDataLink!A973","v":970},{"$f":"A897","v":894},{"$f":"A899","v":896},"RCP3-TA7C-3水平-10kg"]
[896,1,2000,{"$f":"AccVelDataLink!A974","v":971},{"$f":"A898","v":895},{"$f":"A900","v":897},"RCP3-TA7C-3垂直-02kg"]
[897,1,4000,{"$f":"AccVelDataLink!A975","v":972},{"$f":"A899","v":896},-1,"RCP3-TA7C-3垂直-04kg"]
[898,0,6000,{"$f":"AccVelDataLink!A976","v":973},-1,{"$f":"A902","v":899},"RCP3-TA7C-6水平-06kg"]
[899,0,8000,{"$f":"AccVelDataLink!A977","v":974},{"$f":"A901","v":898},{"$f":"A903","v":900},"RCP3-TA7C-6水平-08kg"]
[900,1,1000,{"$f":"AccVelDataLink!A978","v":975},{"$f":"A902","v":899},{"$f":"A904","v":901},"RCP3-TA7C-6垂直-01kg"]
[901,1,2000,{"$f":"AccVelDataLink!A979","v":976},{"$f":"A903","v":900},-1,"RCP3-TA7C-6垂直-02kg"]
[902,0,2000,{"$f":"AccVelDataLink!A980","v":977},-1,{"$f":"A906","v":903},"RCP3-TA7C-12水平-02kg"]
[903,0,4000,{"$f":"AccVelDataLink!A981","v":978},{"$f":"A905","v":902},{"$f":"A907","v":904},"RCP3-TA7C-12水平-04kg"]
[904,0,6000,{"$f":"AccVelDataLink!A982","v":979},{"$f":"A906","v":903},{"$f":"A908","v":905},"RCP3-TA7C-12水平-06kg"]
[905,1,500,{"$f":"AccVelDataLink!A983","v":980},{"$f":"A907","v":904},{"$f":"A909","v":906},"RCP3-TA7C-12垂直-00.5kg"]
[906,1,1000,{"$f":"AccVelDataLink!A984","v":981},{"$f":"A908","v":905},-1,"RCP3-TA7C-12垂直-01kg"]
[907,0,1500,{"$f":"AccVelDataLink!A985","v":982},-1,{"$f":"A911","v":908},"RCP3-TA3R-2水平-01.5kg"]
[908,0,2000,{"$f":"AccVelDataLink!A986","v":983},{"$f":"A910","v":907},{"$f":"A912","v":909},"RCP3-TA3R-2水平-02kg"]
[909,1,700,{"$f":"AccVelDataLink!A987","v":984},{"$f":"A911","v":908},{"$f":"A913","v":910},"RCP3-TA3R-2垂直-00.7kg"]
[910,1,1000,{"$f":"AccVelDataLink!A988","v":985},{"$f":"A912","v":909},-1,"RCP3-TA3R-2垂直-01kg"]
[{"$f":"A913+1","v":911},0,1000,{"$f":"AccVelDataLink!A989","v":986},-1,{"$f":"A915","v":912},"RCP3-TA3R-4水平-01kg"]
[912,0,1400,{"$f":"AccVelDataLink!A990","v":987},{"$f":"A914","v":911},{"$f":"A916","v":913},"RCP3-TA3R-4水平-01.4kg"]
[913,1,400,{"$f":"AccVelDataLink!A991","v":988},{"$f":"A915","v":912},{"$f":"A917","v":914},"RCP3-TA3R-4垂直-00.4kg"]
[914,1,600,{"$f":"AccVelDataLink!A992","v":989},{"$f":"A916","v":913},-1,"RCP3-TA3R-4垂直-00.6kg"]
[915,0,500,{"$f":"AccVelDataLink!A993","v":990},-1,{"$f":"A919","v":916},"RCP3-TA3R-6水平-00.5kg"]
[916,0,700,{"$f":"AccVelDataLink!A994","v":991},{"$f":"A918","v":915},{"$f":"A920","v":917},"RCP3-TA3R-6水平-00.7kg"]
[917,1,200,{"$f":"AccVelDataLink!A995","v":992},{"$f":"A919","v":916},{"$f":"A921","v":918},"RCP3-TA3R-6垂直-00.2kg"]
[918,1,300,{"$f":"AccVelDataLink!A996","v":993},{"$f":"A920","v":917},-1,"RCP3-TA3R-6垂直-00.3kg"]
[919,0,2500,{"$f":"AccVelDataLink!A997","v":994},-1,{"$f":"A923","v":920},"RCP3-TA4R-2水平-02.5kg"]
[920,0,3000,{"$f":"AccVelDataLink!A998","v":995},{"$f":"A922","v":919},{"$f":"A924","v":921},"RCP3-TA4R-2水平-03kg"]
[921,1,1000,{"$f":"AccVelDataLink!A999","v":996},{"$f":"A923","v":920},{"$f":"A925","v":922},"RCP3-TA4R-2垂直-01kg"]
[922,1,1500,{"$f":"AccVelDataLink!A1000","v":997},{"$f":"A924","v":921},-1,"RCP3-TA4R-2垂直-01.5kg"]
[923,0,1500,{"$f":"AccVelDataLink!A1001","v":998},-1,{"$f":"A927","v":924},"RCP3-TA4R-4水平-01.5kg"]
[924,0,2000,{"$f":"AccVelDataLink!A1002","v":999},{"$f":"A926","v":923},{"$f":"A928","v":925},"RCP3-TA4R-4水平-02kg"]
[925,1,700,{"$f":"AccVelDataLink!A1003","v":1000},{"$f":"A927","v":924},{"$f":"A929","v":926},"RCP3-TA4R-4垂直-00.7kg"]
[926,1,1000,{"$f":"AccVelDataLink!A1004","v":1001},{"$f":"A928","v":925},-1,"RCP3-TA4R-4垂直-01kg"]
[927,0,700,{"$f":"AccVelDataLink!A1005","v":1002},-1,{"$f":"A931","v":928},"RCP3-TA4R-6水平-00.7kg"]
[928,0,1000,{"$f":"AccVelDataLink!A1006","v":1003},{"$f":"A930","v":927},{"$f":"A932","v":929},"RCP3-TA4R-6水平-01kg"]
[929,1,300,{"$f":"AccVelDataLink!A1007","v":1004},{"$f":"A931","v":928},{"$f":"A933","v":930},"RCP3-TA4R-6垂直-00.3kg"]
[930,1,500,{"$f":"AccVelDataLink!A1008","v":1005},{"$f":"A932","v":929},-1,"RCP3-TA4R-6垂直-00.5kg"]
[931,0,2000,{"$f":"AccVelDataLink!A1009","v":1006},-1,{"$f":"A935","v":932},"RCP3-TA5R-2.5水平-02kg"]
[932,0,3000,{"$f":"AccVelDataLink!A1010","v":1007},{"$f":"A934","v":931},933,"RCP3-TA5R-2.5水平-03kg"]
[933,0,4000,{"$f":"AccVelDataLink!A1011","v":1008},932,934,"RCP3-TA5R-2.5水平-04kg"]
[934,0,5000,{"$f":"AccVelDataLink!A1012","v":1009},933,935,"RCP3-TA5R-2.5水平-05kg"]
[935,0,6000,{"$f":"AccVelDataLink!A1013","v":1010},934,936,"RCP3-TA5R-2.5水平-06kg"]
[936,1,1500,{"$f":"AccVelDataLink!A1014","v":1011},935,937,"RCP3-TA5R-2.5垂直-01.5kg"]
[937,1,2000,{"$f":"AccVelDataLink!A1015","v":1012},936,938,"RCP3-TA5R-2.5垂直-02kg"]
[938,1,3000,{"$f":"AccVelDataLink!A1016","v":1013},937,-1,"RCP3-TA5R-2.5垂直-03kg"]
[939,0,1500,{"$f":"AccVelDataLink!A1017","v":1014},-1,{"$f":"A943","v":940},"RCP3-TA5R-5水平-01.5kg"]
[940,0,3000,{"$f":"AccVelDataLink!A1018","v":1015},{"$f":"A942","v":939},{"$f":"A944","v":941},"RCP3-TA5R-5水平-03kg"]
[941,0,4000,{"$f":"AccVelDataLink!A1019","v":1016},{"$f":"A943","v":940},{"$f":"A945","v":942},"RCP3-TA5R-5水平-04kg"]
[942,1,500,{"$f":"AccVelDataLink!A1020","v":1017},{"$f":"A944","v":941},{"$f":"A946","v":943},"RCP3-TA5R-5垂直-00.5kg"]
[943,1,1000,{"$f":"AccVelDataLink!A1021","v":1018},{"$f":"A945","v":942},{"$f":"A947","v":944},"RCP3-TA5R-5垂直-01kg"]
[944,1,1500,{"$f":"AccVelDataLink!A1022","v":1019},{"$f":"A946","v":943},-1,"RCP3-TA5R-5垂直-01.5kg"]
[945,0,500,{"$f":"AccVelDataLink!A1023","v":1020},-1,{"$f":"A949","v":946},"RCP3-TA5R-10水平-00.5kg"]
[946,0,2000,{"$f":"AccVelDataLink!A1024","v":1021},{"$f":"A948","v":945},{"$f":"A950","v":947},"RCP3-TA5R-10水平-02kg"]
[947,1,500,{"$f":"AccVelDataLink!A1025","v":1022},{"$f":"A949","v":946},{"$f":"A951","v":948},"RCP3-TA5R-10垂直-00.5kg"]
[948,1,1000,{"$f":"AccVelDataLink!A1026","v":1023},{"$f":"A950","v":947},-1,"RCP3-TA5R-10垂直-01kg"]
[949,0,6000,{"$f":"AccVelDataLink!A1027","v":1024},-1,{"$f":"A953","v":950},"RCP3-TA6R-3水平-06kg"]
[950,0,8000,{"$f":"AccVelDataLink!A1028","v":1025},{"$f":"A952","v":949},{"$f":"A954","v":951},"RCP3-TA6R-3水平-08kg"]
[951,1,2000,{"$f":"AccVelDataLink!A1029","v":1026},{"$f":"A953","v":950},{"$f":"A955","v":952},"RCP3-TA6R-3垂直-02kg"]
[952,1,4000,{"$f":"AccVelDataLink!A1030","v":1027},{"$f":"A954","v":951},-1,"RCP3-TA6R-3垂直-04kg"]
[953,0,4000,{"$f":"AccVelDataLink!A1031","v":1028},-1,{"$f":"A957","v":954},"RCP3-TA6R-6水平-04kg"]
[954,0,6000,{"$f":"AccVelDataLink!A1032","v":1029},{"$f":"A956","v":953},{"$f":"A958","v":955},"RCP3-TA6R-6水平-06kg"]
[955,1,1000,{"$f":"AccVelDataLink!A1033","v":1030},{"$f":"A957","v":954},{"$f":"A959","v":956},"RCP3-TA6R-6垂直-01kg"]
[956,1,2000,{"$f":"AccVelDataLink!A1034","v":1031},{"$f":"A958","v":955},-1,"RCP3-TA6R-6垂直-02kg"]
[957,0,2000,{"$f":"AccVelDataLink!A1035","v":1032},-1,{"$f":"A961","v":958},"RCP3-TA6R-12水平-02kg"]
[958,0,4000,{"$f":"AccVelDataLink!A1036","v":1033},{"$f":"A960","v":957},{"$f":"A962","v":959},"RCP3-TA6R-12水平-04kg"]
[959,1,500,{"$f":"AccVelDataLink!A1037","v":1034},{"$f":"A961","v":958},{"$f":"A963","v":960},"RCP3-TA6R-12垂直-00.5kg"]
[960,1,1000,{"$f":"AccVelDataLink!A1038","v":1035},{"$f":"A962","v":959},-1,"RCP3-TA6R-12垂直-01kg"]
[961,0,8000,{"$f":"AccVelDataLink!A1039","v":1036},-1,{"$f":"A965","v":962},"RCP3-TA7R-3水平-08kg"]
[962,0,10000,{"$f":"AccVelDataLink!A1040","v":1037},{"$f":"A964","v":961},{"$f":"A966","v":963},"RCP3-TA7R-3水平-10kg"]
[963,1,2000,{"$f":"AccVelDataLink!A1041","v":1038},{"$f":"A965","v":962},{"$f":"A967","v":964},"RCP3-TA7R-3垂直-02kg"]
[964,1,4000,{"$f":"AccVelDataLink!A1042","v":1039},{"$f":"A966","v":963},-1,"RCP3-TA7R-3垂直-04kg"]
[965,0,6000,{"$f":"AccVelDataLink!A1043","v":1040},-1,{"$f":"A969","v":966},"RCP3-TA7R-6水平-06kg"]
[966,0,8000,{"$f":"AccVelDataLink!A1044","v":1041},{"$f":"A968","v":965},{"$f":"A970","v":967},"RCP3-TA7R-6水平-08kg"]
[967,1,1000,{"$f":"AccVelDataLink!A1045","v":1042},{"$f":"A969","v":966},{"$f":"A971","v":968},"RCP3-TA7R-6垂直-01kg"]
[968,1,2000,{"$f":"AccVelDataLink!A1046","v":1043},{"$f":"A970","v":967},-1,"RCP3-TA7R-6垂直-02kg"]
[969,0,2000,{"$f":"AccVelDataLink!A1047","v":1044},-1,{"$f":"A973","v":970},"RCP3-TA7R-12水平-02kg"]
[970,0,4000,{"$f":"AccVelDataLink!A1048","v":1045},{"$f":"A972","v":969},{"$f":"A974","v":971},"RCP3-TA7R-12水平-04kg"]
[971,0,6000,{"$f":"AccVelDataLink!A1049","v":1046},{"$f":"A973","v":970},{"$f":"A975","v":972},"RCP3-TA7R-12水平-06kg"]
[972,1,500,{"$f":"AccVelDataLink!A1050","v":1047},{"$f":"A974","v":971},{"$f":"A976","v":973},"RCP3-TA7R-12垂直-00.5kg"]
[973,1,1000,{"$f":"AccVelDataLink!A1051","v":1048},{"$f":"A975","v":972},-1,"RCP3-TA7R-12垂直-01kg"]
[974,0,3500,{"$f":"AccVelDataLink!A1052","v":1049},-1,-1,"RCP2-RTBSL-45水平-3.5E-3kgm-2"]
[{"$f":"A977+1","v":975},0,2300,{"$f":"AccVelDataLink!A1053","v":1050},-1,-1,"RCP2-RTBSL-30水平-2.3E-3kgm^2"]
[976,0,3500,{"$f":"AccVelDataLink!A1054","v":1051},-1,-1,"RCP2-RTCSL-45水平-3.5E-3kgm-2"]
[977,0,2300,{"$f":"AccVelDataLink!A1055","v":1052},-1,-1,"RCP2-RTCSL-30水平-2.3E-3kgm^2"]
[978,0,7500,{"$f":"AccVelDataLink!A1056","v":1053},-1,{"$f":"A982","v":979},"RCP2-RTBL-30水平-07.5E-3kgm-2"]
[979,0,15000,{"$f":"AccVelDataLink!A1057","v":1054},{"$f":"A981","v":978},-1,"RCP2-RTBL-30水平-15.0E-3kgm-2"]
[980,0,5000,{"$f":"AccVelDataLink!A1058","v":1055},-1,{"$f":"A984","v":981},"RCP2-RTBL-20水平-05.0E-3kgm^2"]
[981,0,10000,{"$f":"AccVelDataLink!A1059","v":1056},{"$f":"A983","v":980},-1,"RCP2-RTBL-20水平-10.0E-3kgm^2"]
[982,0,7500,{"$f":"AccVelDataLink!A1060","v":1057},-1,{"$f":"A986","v":983},"RCP2-RTCL-30水平-07.5E-3kgm-2"]
[983,0,15000,{"$f":"AccVelDataLink!A1061","v":1058},{"$f":"A985","v":982},-1,"RCP2-RTCL-30水平-15.0E-3kgm-2"]
[984,0,5000,{"$f":"AccVelDataLink!A1062","v":1059},-1,{"$f":"A988","v":985},"RCP2-RTCL-20水平-05.0E-3kgm^2"]
[985,0,10000,{"$f":"AccVelDataLink!A1063","v":1060},{"$f":"A987","v":984},-1,"RCP2-RTCL-20水平-10.0E-3kgm^2"]
[986,0,11300,{"$f":"AccVelDataLink!A1064","v":1061},-1,{"$f":"A990","v":987},"RCP2-RTBBL-30水平-11.3E-3kgm-2"]
[987,0,30000,{"$f":"AccVelDataLink!A1065","v":1062},{"$f":"A989","v":986},-1,"RCP2-RTBBL-30水平-30.0E-3kgm-2"]
[988,0,7500,{"$f":"AccVelDataLink!A1066","v":1063},-1,{"$f":"A992","v":989},"RCP2-RTBBL-20水平-07.5E-3kgm^2"]
[989,0,20000,{"$f":"AccVelDataLink!A1067","v":1064},{"$f":"A991","v":988},-1,"RCP2-RTBBL-20水平-20.0E-3kgm^2"]
[990,0,11300,{"$f":"AccVelDataLink!A1068","v":1065},-1,{"$f":"A994","v":991},"RCP2-RTCBL-30水平-11.3E-3kgm-2"]
[991,0,30000,{"$f":"AccVelDataLink!A1069","v":1066},{"$f":"A993","v":990},-1,"RCP2-RTCBL-30水平-30.0E-3kgm-2"]
[992,0,7500,{"$f":"AccVelDataLink!A1070","v":1067},-1,{"$f":"A996","v":993},"RCP2-RTCBL-20水平-07.5E-3kgm^2"]
[993,0,20000,{"$f":"AccVelDataLink!A1071","v":1068},{"$f":"A995","v":992},-1,"RCP2-RTCBL-20水平-20.0E-3kgm^2"]
[994,0,8000,{"$f":"AccVelDataLink!A1072","v":1069},-1,{"$f":"A998","v":995},"RCP2CR-SA5C-3水平-08kg"]
[995,0,9000,{"$f":"AccVelDataLink!A1073","v":1070},{"$f":"A997","v":994},996,"RCP2CR-SA5C-3水平-09kg"]
[996,0,10000,{"$f":"AccVelDataLink!A1074","v":1071},995,997,"RCP2CR-SA5C-3水平-10kg"]
[997,0,11000,{"$f":"AccVelDataLink!A1076","v":1073},996,998,"RCP2CR-SA5C-3水平-11kg"]
[998,0,12000,{"$f":"AccVelDataLink!A1077","v":1074},997,999,"RCP2CR-SA5C-3水平-12kg"]
[999,0,13000,{"$f":"AccVelDataLink!A1078","v":1075},998,1000,"RCP2CR-SA5C-3水平-13kg"]
[1000,0,14000,{"$f":"AccVelDataLink!A1079","v":1076},999,1001,"RCP2CR-SA5C-3水平-14kg"]
[1001,0,16000,{"$f":"AccVelDataLink!A1081","v":1078},1000,1002,"RCP2CR-SA5C-3水平-16kg"]
[1002,1,1500,{"$f":"AccVelDataLink!A1085","v":1082},1001,1003,"RCP2CR-SA5C-3垂直-01.5kg"]
[1003,1,4500,{"$f":"AccVelDataLink!A1086","v":1083},1002,1004,"RCP2CR-SA5C-3垂直-04.5kg"]
[1004,1,5000,{"$f":"AccVelDataLink!A1087","v":1084},1003,1005,"RCP2CR-SA5C-3垂直-05kg"]
[1005,1,5500,{"$f":"AccVelDataLink!A1089","v":1086},1004,1006,"RCP2CR-SA5C-3垂直-05.5kg"]
[1006,1,6000,{"$f":"AccVelDataLink!A1090","v":1087},1005,1007,"RCP2CR-SA5C-3垂直-06kg"]
[1007,1,8000,{"$f":"AccVelDataLink!A1091","v":1088},1006,-1,"RCP2CR-SA5C-3垂直-08kg"]
[1008,0,4000,{"$f":"AccVelDataLink!A1092","v":1089},-1,{"$f":"A1012","v":1009},"RCP2CR-SA5C-6水平-04kg"]
[1009,0,5000,{"$f":"AccVelDataLink!A1093","v":1090},{"$f":"A1011","v":1008},1010,"RCP2CR-SA5C-6水平-05kg"]
[1010,0,7000,{"$f":"AccVelDataLink!A1094","v":1091},1009,1011,"RCP2CR-SA5C-6水平-07kg"]
[1011,0,8000,{"$f":"AccVelDataLink!A1095","v":1092},1010,1012,"RCP2CR-SA5C-6水平-08kg"]
[1012,0,9000,{"$f":"AccVelDataLink!A1097","v":1094},1011,1013,"RCP2CR-SA5C-6水平-09kg"]
[1013,0,12000,{"$f":"AccVelDataLink!A1098","v":1095},1012,1014,"RCP2CR-SA5C-6水平-12kg"]
[1014,0,13000,{"$f":"AccVelDataLink!A1099","v":1096},1013,1015,"RCP2CR-SA5C-6水平-13kg"]
[1015,1,1500,{"$f":"AccVelDataLink!A1101","v":1098},1014,1016,"RCP2CR-SA5C-6垂直-01.5kg"]
[1016,1,2500,{"$f":"AccVelDataLink!A1102","v":1099},1015,1017,"RCP2CR-SA5C-6垂直-02.5kg"]
[1017,1,3000,{"$f":"AccVelDataLink!A1103","v":1100},1016,1018,"RCP2CR-SA5C-6垂直-03kg"]
[1018,1,4000,{"$f":"AccVelDataLink!A1104","v":1101},1017,-1,"RCP2CR-SA5C-6垂直-04kg"]
[1019,0,1500,{"$f":"AccVelDataLink!A1106","v":1103},-1,{"$f":"A1023","v":1020},"RCP2CR-SA5C-12水平-01.5kg"]
[1020,0,2000,{"$f":"AccVelDataLink!A1107","v":1104},{"$f":"A1022","v":1019},1021,"RCP2CR-SA5C-12水平-02kg"]
[1021,0,3500,{"$f":"AccVelDataLink!A1108","v":1105},1020,1022,"RCP2CR-SA5C-12水平-03.5kg"]
[1022,0,4000,{"$f":"AccVelDataLink!A1109","v":1106},1021,1023,"RCP2CR-SA5C-12水平-04kg"]
[1023,0,5000,{"$f":"AccVelDataLink!A1111","v":1108},1022,1024,"RCP2CR-SA5C-12水平-05kg"]
[1024,0,5500,{"$f":"AccVelDataLink!A1113","v":1110},1023,1025,"RCP2CR-SA5C-12水平-05.5kg"]
[1025,0,6000,{"$f":"AccVelDataLink!A1114","v":1111},1024,1026,"RCP2CR-SA5C-12水平-06kg"]
[1026,0,7000,{"$f":"AccVelDataLink!A1115","v":1112},1025,1027,"RCP2CR-SA5C-12水平-07kg"]
[1027,0,8000,{"$f":"AccVelDataLink!A1116","v":1113},1026,1028,"RCP2CR-SA5C-12水平-08kg"]
[1028,1,500,{"$f":"AccVelDataLink!A1117","v":1114},1027,1029,"RCP2CR-SA5C-12垂直-00.5kg"]
[1029,1,1000,{"$f":"AccVelDataLink!A1118","v":1115},1028,-1,"RCP2CR-SA5C-12垂直-01kg"]
[1030,0,9000,{"$f":"AccVelDataLink!A1120","v":1117},-1,{"$f":"A1034","v":1031},"RCP2CR-SA6C-3水平-09kg"]
[1031,0,10000,{"$f":"AccVelDataLink!A1121","v":1118},{"$f":"A1033","v":1030},1032,"RCP2CR-SA6C-3水平-10kg"]
[1032,0,11000,{"$f":"AccVelDataLink!A1123","v":1120},1031,1033,"RCP2CR-SA6C-3水平-11kg"]
[1033,0,12000,{"$f":"AccVelDataLink!A1125","v":1122},1032,1034,"RCP2CR-SA6C-3水平-12kg"]
[1034,0,13000,{"$f":"AccVelDataLink!A1126","v":1123},1033,1035,"RCP2CR-SA6C-3水平-13kg"]
[1035,0,14000,{"$f":"AccVelDataLink!A1127","v":1124},1034,1036,"RCP2CR-SA6C-3水平-14kg"]
[1036,0,15000,{"$f":"AccVelDataLink!A1128","v":1125},1035,1037,"RCP2CR-SA6C-3水平-15kg"]
[1037,0,16000,{"$f":"AccVelDataLink!A1130","v":1127},1036,1038,"RCP2CR-SA6C-3水平-16kg"]
[1038,0,17000,{"$f":"AccVelDataLink!A1131","v":1128},1037,1039,"RCP2CR-SA6C-3水平-17kg"]
[{"$f":"A1041+1","v":1039},0,19000,{"$f":"AccVelDataLink!A1132","v":1129},1038,1040,"RCP2CR-SA6C-3水平-19kg"]
[1040,1,2000,{"$f":"AccVelDataLink!A1133","v":1130},1039,1041,"RCP2CR-SA6C-3垂直-02kg"]
[1041,1,4000,{"$f":"AccVelDataLink!A1134","v":1131},1040,1042,"RCP2CR-SA6C-3垂直-04kg"]
[1042,1,6000,{"$f":"AccVelDataLink!A1135","v":1132},1041,-1,"RCP2CR-SA6C-3垂直-06kg"]
[1043,0,3000,{"$f":"AccVelDataLink!A1136","v":1133},-1,{"$f":"A1047","v":1044},"RCP2CR-SA6C-6水平-03kg"]
[1044,0,4000,{"$f":"AccVelDataLink!A1137","v":1134},{"$f":"A1046","v":1043},1045,"RCP2CR-SA6C-6水平-04kg"]
[1045,0,6000,{"$f":"AccVelDataLink!A1138","v":1135},1044,1046,"RCP2CR-SA6C-6水平-06kg"]
[1046,0,8000,{"$f":"AccVelDataLink!A1139","v":1136},1045,1047,"RCP2CR-SA6C-6水平-08kg"]
[1047,0,10000,{"$f":"AccVelDataLink!A1140","v":1137},1046,1048,"RCP2CR-SA6C-6水平-10kg"]
[1048,0,12000,{"$f":"AccVelDataLink!A1141","v":1138},1047,1049,"RCP2CR-SA6C-6水平-12kg"]
[1049,0,13000,{"$f":"AccVelDataLink!A1143","v":1140},1048,1050,"RCP2CR-SA6C-6水平-13kg"]
[1050,0,15000,{"$f":"AccVelDataLink!A1144","v":1141},1049,1051,"RCP2CR-SA6C-6水平-15kg"]
[1051,0,16000,{"$f":"AccVelDataLink!A1146","v":1143},1050,1052,"RCP2CR-SA6C-6水平-16kg"]
[1052,1,1000,{"$f":"AccVelDataLink!A1147","v":1144},1051,1053,"RCP2CR-SA6C-6垂直-01kg"]
[1053,1,2000,{"$f":"AccVelDataLink!A1148","v":1145},1052,1054,"RCP2CR-SA6C-6垂直-02kg"]
[1054,1,2500,{"$f":"AccVelDataLink!A1149","v":1146},1053,1055,"RCP2CR-SA6C-6垂直-02.5kg"]
[1055,1,3000,{"$f":"AccVelDataLink!A1150","v":1147},1054,1056,"RCP2CR-SA6C-6垂直-03kg"]
[1056,1,4000,{"$f":"AccVelDataLink!A1151","v":1148},1055,-1,"RCP2CR-SA6C-6垂直-04kg"]
[1057,0,1000,{"$f":"AccVelDataLink!A1152","v":1149},-1,{"$f":"A1061","v":1058},"RCP2CR-SA6C-12水平-01kg"]
[1058,0,2000,{"$f":"AccVelDataLink!A1153","v":1150},{"$f":"A1060","v":1057},1059,"RCP2CR-SA6C-12水平-02kg"]
[1059,0,3000,{"$f":"AccVelDataLink!A1155","v":1152},1058,1060,"RCP2CR-SA6C-12水平-03kg"]
[1060,0,4000,{"$f":"AccVelDataLink!A1157","v":1154},1059,1061,"RCP2CR-SA6C-12水平-04kg"]
[1061,0,6000,{"$f":"AccVelDataLink!A1158","v":1155},1060,1062,"RCP2CR-SA6C-12水平-06kg"]
[1062,0,7000,{"$f":"AccVelDataLink!A1160","v":1157},1061,1063,"RCP2CR-SA6C-12水平-07kg"]
[1063,0,8500,{"$f":"AccVelDataLink!A1161","v":1158},1062,1064,"RCP2CR-SA6C-12水平-08.5kg"]
[1064,1,500,{"$f":"AccVelDataLink!A1162","v":1159},1063,1065,"RCP2CR-SA6C-12垂直-00.5kg"]
[1065,1,1000,{"$f":"AccVelDataLink!A1163","v":1160},1064,1066,"RCP2CR-SA6C-12垂直-01kg"]
[1066,1,1500,{"$f":"AccVelDataLink!A1164","v":1161},1065,-1,"RCP2CR-SA6C-12垂直-01.5kg"]
[1067,0,30000,{"$f":"AccVelDataLink!A1167","v":1164},-1,{"$f":"A1071","v":1068},"RCP2CR-SA7C-4水平-30kg"]
[1068,1,3000,{"$f":"AccVelDataLink!A1168","v":1165},{"$f":"A1070","v":1067},{"$f":"A1072","v":1069},"RCP2CR-SA7C-4垂直-03kg"]
[1069,1,4000,{"$f":"AccVelDataLink!A1169","v":1166},{"$f":"A1071","v":1068},{"$f":"A1073","v":1070},"RCP2CR-SA7C-4垂直-04kg"]
[1070,1,9500,{"$f":"AccVelDataLink!A1170","v":1167},{"$f":"A1072","v":1069},{"$f":"A1074","v":1071},"RCP2CR-SA7C-4垂直-09.5kg"]
[1071,1,15000,{"$f":"AccVelDataLink!A1171","v":1168},{"$f":"A1073","v":1070},-1,"RCP2CR-SA7C-4垂直-15kg"]
[1072,0,5000,{"$f":"AccVelDataLink!A1172","v":1169},-1,{"$f":"A1076","v":1073},"RCP2CR-SA7C-8水平-05kg"]
[1073,0,20000,{"$f":"AccVelDataLink!A1173","v":1170},{"$f":"A1075","v":1072},1074,"RCP2CR-SA7C-8水平-20kg"]
[1074,0,30000,{"$f":"AccVelDataLink!A1174","v":1171},1073,1075,"RCP2CR-SA7C-8水平-30kg"]
[1075,1,1000,{"$f":"AccVelDataLink!A1175","v":1172},1074,1076,"RCP2CR-SA7C-8垂直-01kg"]
[1076,1,3000,{"$f":"AccVelDataLink!A1176","v":1173},1075,1077,"RCP2CR-SA7C-8垂直-03kg"]
[1077,1,6000,{"$f":"AccVelDataLink!A1177","v":1174},1076,1078,"RCP2CR-SA7C-8垂直-06kg"]
[1078,1,10000,{"$f":"AccVelDataLink!A1178","v":1175},1077,-1,"RCP2CR-SA7C-8垂直-10kg"]
[1079,0,5000,{"$f":"AccVelDataLink!A1179","v":1176},-1,{"$f":"A1083","v":1080},"RCP2CR-SA7C-16水平-05kg"]
[1080,0,15000,{"$f":"AccVelDataLink!A1180","v":1177},{"$f":"A1082","v":1079},1081,"RCP2CR-SA7C-16水平-15kg"]
[1081,0,20000,{"$f":"AccVelDataLink!A1181","v":1178},1080,1082,"RCP2CR-SA7C-16水平-20kg"]
[1082,0,25000,{"$f":"AccVelDataLink!A1182","v":1179},1081,1083,"RCP2CR-SA7C-16水平-25kg"]
[1083,1,1000,{"$f":"AccVelDataLink!A1183","v":1180},1082,1084,"RCP2CR-SA7C-16垂直-01kg"]
[1084,1,2000,{"$f":"AccVelDataLink!A1184","v":1181},1083,1085,"RCP2CR-SA7C-16垂直-02kg"]
[1085,1,5000,{"$f":"AccVelDataLink!A1185","v":1182},1084,-1,"RCP2CR-SA7C-16垂直-05kg"]
[1086,0,20000,{"$f":"AccVelDataLink!A1186","v":1183},-1,{"$f":"A1090","v":1087},"RCP2CR-SS7C-3水平-20kg"]
[1087,0,30000,{"$f":"AccVelDataLink!A1187","v":1184},{"$f":"A1089","v":1086},{"$f":"A1091","v":1088},"RCP2CR-SS7C-3水平-30kg"]
[1088,1,1000,{"$f":"AccVelDataLink!A1188","v":1185},{"$f":"A1090","v":1087},{"$f":"A1092","v":1089},"RCP2CR-SS7C-3垂直-01kg"]
[1089,1,6000,{"$f":"AccVelDataLink!A1189","v":1186},{"$f":"A1091","v":1088},{"$f":"A1093","v":1090},"RCP2CR-SS7C-3垂直-06kg"]
[1090,1,10000,{"$f":"AccVelDataLink!A1190","v":1187},{"$f":"A1092","v":1089},{"$f":"A1094","v":1091},"RCP2CR-SS7C-3垂直-10kg"]
[1091,1,12000,{"$f":"AccVelDataLink!A1191","v":1188},{"$f":"A1093","v":1090},-1,"RCP2CR-SS7C-3垂直-12kg"]
[1092,0,20000,{"$f":"AccVelDataLink!A1192","v":1189},-1,{"$f":"A1096","v":1093},"RCP2CR-SS7C-6水平-20kg"]
[1093,0,30000,{"$f":"AccVelDataLink!A1193","v":1190},{"$f":"A1095","v":1092},{"$f":"A1097","v":1094},"RCP2CR-SS7C-6水平-30kg"]
[1094,1,2000,{"$f":"AccVelDataLink!A1194","v":1191},{"$f":"A1096","v":1093},{"$f":"A1098","v":1095},"RCP2CR-SS7C-6垂直-02kg"]
[1095,1,4000,{"$f":"AccVelDataLink!A1195","v":1192},{"$f":"A1097","v":1094},{"$f":"A1099","v":1096},"RCP2CR-SS7C-6垂直-04kg"]
[1096,1,6000,{"$f":"AccVelDataLink!A1196","v":1193},{"$f":"A1098","v":1095},{"$f":"A1100","v":1097},"RCP2CR-SS7C-6垂直-06kg"]
[1097,1,8000,{"$f":"AccVelDataLink!A1197","v":1194},{"$f":"A1099","v":1096},-1,"RCP2CR-SS7C-6垂直-08kg"]
[1098,0,3000,{"$f":"AccVelDataLink!A1198","v":1195},-1,{"$f":"A1102","v":1099},"RCP2CR-SS7C-12水平-03kg"]
[1099,0,10000,{"$f":"AccVelDataLink!A1199","v":1196},{"$f":"A1101","v":1098},1100,"RCP2CR-SS7C-12水平-10kg"]
[1100,0,18000,{"$f":"AccVelDataLink!A1200","v":1197},1099,1101,"RCP2CR-SS7C-12水平-18kg"]
[1101,0,30000,{"$f":"AccVelDataLink!A1201","v":1198},1100,1102,"RCP2CR-SS7C-12水平-30kg"]
[1102,1,500,{"$f":"AccVelDataLink!A1202","v":1199},1101,1103,"RCP2CR-SS7C-12垂直-00.5kg"]
[{"$f":"A1105+1","v":1103},1,2000,{"$f":"AccVelDataLink!A1203","v":1200},1102,1104,"RCP2CR-SS7C-12垂直-02kg"]
[1104,1,3000,{"$f":"AccVelDataLink!A1204","v":1201},1103,1105,"RCP2CR-SS7C-12垂直-03kg"]
[1105,1,4000,{"$f":"AccVelDataLink!A1205","v":1202},1104,-1,"RCP2CR-SS7C-12垂直-04kg"]
[1106,0,8000,{"$f":"AccVelDataLink!A1206","v":1203},-1,{"$f":"A1110","v":1107},"RCP2CR-SS8C-5水平-08kg"]
[1107,0,30000,{"$f":"AccVelDataLink!A1207","v":1204},{"$f":"A1109","v":1106},1108,"RCP2CR-SS8C-5水平-30kg"]
[1108,0,40000,{"$f":"AccVelDataLink!A1208","v":1205},1107,1109,"RCP2CR-SS8C-5水平-40kg"]
[1109,0,55000,{"$f":"AccVelDataLink!A1209","v":1206},1108,1110,"RCP2CR-SS8C-5水平-55kg"]
[1110,1,500,{"$f":"AccVelDataLink!A1210","v":1207},1109,1111,"RCP2CR-SS8C-5垂直-00.5kg"]
[1111,1,4000,{"$f":"AccVelDataLink!A1211","v":1208},1110,1112,"RCP2CR-SS8C-5垂直-04kg"]
[1112,1,7000,{"$f":"AccVelDataLink!A1212","v":1209},1111,1113,"RCP2CR-SS8C-5垂直-07kg"]
[1113,1,20000,{"$f":"AccVelDataLink!A1213","v":1210},1112,-1,"RCP2CR-SS8C-5垂直-20kg"]
[1114,0,4000,{"$f":"AccVelDataLink!A1214","v":1211},-1,{"$f":"A1118","v":1115},"RCP2CR-SS8C-10水平-04kg"]
[1115,0,15000,{"$f":"AccVelDataLink!A1215","v":1212},{"$f":"A1117","v":1114},1116,"RCP2CR-SS8C-10水平-15kg"]
[1116,0,40000,{"$f":"AccVelDataLink!A1216","v":1213},1115,1117,"RCP2CR-SS8C-10水平-40kg"]
[1117,0,50000,{"$f":"AccVelDataLink!A1217","v":1214},1116,1118,"RCP2CR-SS8C-10水平-50kg"]
[1118,1,500,{"$f":"AccVelDataLink!A1218","v":1215},1117,1119,"RCP2CR-SS8C-10垂直-00.5kg"]
[1119,1,4000,{"$f":"AccVelDataLink!A1219","v":1216},1118,1120,"RCP2CR-SS8C-10垂直-04kg"]
[1120,1,6000,{"$f":"AccVelDataLink!A1220","v":1217},1119,1121,"RCP2CR-SS8C-10垂直-06kg"]
[1121,1,12000,{"$f":"AccVelDataLink!A1221","v":1218},1120,-1,"RCP2CR-SS8C-10垂直-12kg"]
[1122,0,5000,{"$f":"AccVelDataLink!A1222","v":1219},-1,{"$f":"A1126","v":1123},"RCP2CR-SS8C-20水平-05kg"]
[1123,0,12000,{"$f":"AccVelDataLink!A1223","v":1220},{"$f":"A1125","v":1122},1124,"RCP2CR-SS8C-20水平-12kg"]
[1124,0,25000,{"$f":"AccVelDataLink!A1224","v":1221},1123,1125,"RCP2CR-SS8C-20水平-25kg"]
[1125,0,40000,{"$f":"AccVelDataLink!A1225","v":1222},1124,1126,"RCP2CR-SS8C-20水平-40kg"]
[1126,1,500,{"$f":"AccVelDataLink!A1226","v":1223},1125,1127,"RCP2CR-SS8C-20垂直-00.5kg"]
[1127,1,3000,{"$f":"AccVelDataLink!A1227","v":1224},1126,1128,"RCP2CR-SS8C-20垂直-03kg"]
[1128,1,5000,{"$f":"AccVelDataLink!A1228","v":1225},1127,-1,"RCP2CR-SS8C-20垂直-05kg"]
[1129,0,1000,{"$f":"AccVelDataLink!A1229","v":1226},-1,{"$f":"A1133","v":1130},"RCP2CR-HS8C-30水平-01kg"]
[1130,0,2000,{"$f":"AccVelDataLink!A1230","v":1227},{"$f":"A1132","v":1129},1131,"RCP2CR-HS8C-30水平-02kg"]
[1131,0,4000,{"$f":"AccVelDataLink!A1232","v":1229},1130,1132,"RCP2CR-HS8C-30水平-04kg"]
[1132,0,7000,{"$f":"AccVelDataLink!A1233","v":1230},1131,1133,"RCP2CR-HS8C-30水平-07kg"]
[1133,0,12000,{"$f":"AccVelDataLink!A1234","v":1231},1132,1134,"RCP2CR-HS8C-30水平-12kg"]
[1134,0,20000,{"$f":"AccVelDataLink!A1236","v":1233},1133,1135,"RCP2CR-HS8C-30水平-20kg"]
[1135,1,2000,{"$f":"AccVelDataLink!A1237","v":1234},1134,1136,"RCP2CR-HS8C-30垂直-02kg"]
[1136,1,3000,{"$f":"AccVelDataLink!A1238","v":1235},1135,-1,"RCP2CR-HS8C-30垂直-03kg"]
[1137,0,40000,{"$f":"AccVelDataLink!A1239","v":1236},-1,{"$f":"A1141","v":1138},"RCP2W-RA4C-2.5水平-40kg"]
[1138,1,2500,{"$f":"AccVelDataLink!A1240","v":1237},{"$f":"A1140","v":1137},{"$f":"A1142","v":1139},"RCP2W-RA4C-2.5垂直-02.5kg"]
[1139,1,5000,{"$f":"AccVelDataLink!A1241","v":1238},{"$f":"A1141","v":1138},{"$f":"A1143","v":1140},"RCP2W-RA4C-2.5垂直-05kg"]
[1140,1,15000,{"$f":"AccVelDataLink!A1242","v":1239},{"$f":"A1142","v":1139},{"$f":"A1144","v":1141},"RCP2W-RA4C-2.5垂直-15kg"]
[1141,1,19000,{"$f":"AccVelDataLink!A1243","v":1240},{"$f":"A1143","v":1140},-1,"RCP2W-RA4C-2.5垂直-19kg"]
[{"$f":"A1144+1","v":1142},0,40000,{"$f":"AccVelDataLink!A1244","v":1241},-1,{"$f":"A1146","v":1143},"RCP2W-RA4C-5水平-40kg"]
[{"$f":"A1145+1","v":1143},1,2500,{"$f":"AccVelDataLink!A1245","v":1242},{"$f":"A1145","v":1142},{"$f":"A1147","v":1144},"RCP2W-RA4C-5垂直-02.5kg"]
[1144,1,7000,{"$f":"AccVelDataLink!A1246","v":1243},{"$f":"A1146","v":1143},{"$f":"A1148","v":1145},"RCP2W-RA4C-5垂直-07kg"]
[1145,1,12000,{"$f":"AccVelDataLink!A1247","v":1244},{"$f":"A1147","v":1144},-1,"RCP2W-RA4C-5垂直-12kg"]
[1146,0,5000,{"$f":"AccVelDataLink!A1248","v":1245},-1,{"$f":"A1150","v":1147},"RCP2W-RA4C-10水平-05kg"]
[1147,0,15000,{"$f":"AccVelDataLink!A1249","v":1246},{"$f":"A1149","v":1146},{"$f":"A1151","v":1148},"RCP2W-RA4C-10水平-15kg"]
[1148,0,25000,{"$f":"AccVelDataLink!A1250","v":1247},{"$f":"A1150","v":1147},{"$f":"A1152","v":1149},"RCP2W-RA4C-10水平-25kg"]
[{"$f":"A1151+1","v":1149},1,2000,{"$f":"AccVelDataLink!A1251","v":1248},{"$f":"A1151","v":1148},{"$f":"A1153","v":1150},"RCP2W-RA4C-10垂直-02kg"]
[1150,1,4500,{"$f":"AccVelDataLink!A1252","v":1249},{"$f":"A1152","v":1149},-1,"RCP2W-RA4C-10垂直-04.5kg"]
[{"$f":"A1153+1","v":1151},0,55000,{"$f":"AccVelDataLink!A1253","v":1250},-1,{"$f":"A1155","v":1152},"RCP2W-RA6C-4水平-55kg"]
[{"$f":"A1154+1","v":1152},1,3000,{"$f":"AccVelDataLink!A1254","v":1251},{"$f":"A1154","v":1151},{"$f":"A1156","v":1153},"RCP2W-RA6C-4垂直-03kg"]
[1153,1,13000,{"$f":"AccVelDataLink!A1255","v":1252},{"$f":"A1155","v":1152},{"$f":"A1157","v":1154},"RCP2W-RA6C-4垂直-13kg"]
[1154,1,25000,{"$f":"AccVelDataLink!A1256","v":1253},{"$f":"A1156","v":1153},{"$f":"A1158","v":1155},"RCP2W-RA6C-4垂直-25kg"]
[1155,1,26000,{"$f":"AccVelDataLink!A1257","v":1254},{"$f":"A1157","v":1154},-1,"RCP2W-RA6C-4垂直-26kg"]
[{"$f":"A1158+1","v":1156},0,50000,{"$f":"AccVelDataLink!A1258","v":1255},-1,{"$f":"A1160","v":1157},"RCP2W-RA6C-8水平-50kg"]
[{"$f":"A1159+1","v":1157},1,2000,{"$f":"AccVelDataLink!A1259","v":1256},{"$f":"A1159","v":1156},{"$f":"A1161","v":1158},"RCP2W-RA6C-8垂直-02kg"]
[{"$f":"A1160+1","v":1158},1,6100,{"$f":"AccVelDataLink!A1260","v":1257},{"$f":"A1160","v":1157},{"$f":"A1162","v":1159},"RCP2W-RA6C-8垂直-06.1kg"]
[1159,1,10000,{"$f":"AccVelDataLink!A1261","v":1258},{"$f":"A1161","v":1158},{"$f":"A1163","v":1160},"RCP2W-RA6C-8垂直-10kg"]
[1160,1,17500,{"$f":"AccVelDataLink!A1262","v":1259},{"$f":"A1162","v":1159},-1,"RCP2W-RA6C-8垂直-17.5kg"]
[{"$f":"A1163+1","v":1161},0,20000,{"$f":"AccVelDataLink!A1263","v":1260},-1,{"$f":"A1165","v":1162},"RCP2W-RA6C-16水平-20kg"]
[1162,0,30000,{"$f":"AccVelDataLink!A1264","v":1261},{"$f":"A1164","v":1161},1163,"RCP2W-RA6C-16水平-30kg"]
[1163,0,35000,{"$f":"AccVelDataLink!A1265","v":1262},1162,1164,"RCP2W-RA6C-16水平-35kg"]
[1164,0,40000,{"$f":"AccVelDataLink!A1266","v":1263},1163,1165,"RCP2W-RA6C-16水平-40kg"]
[1165,1,1000,{"$f":"AccVelDataLink!A1267","v":1264},1164,1166,"RCP2W-RA6C-16垂直-01kg"]
[1166,1,3000,{"$f":"AccVelDataLink!A1268","v":1265},1165,1167,"RCP2W-RA6C-16垂直-03kg"]
[1167,1,5000,{"$f":"AccVelDataLink!A1269","v":1266},1166,-1,"RCP2W-RA6C-16垂直-05kg"]
[1168,0,300000,{"$f":"AccVelDataLink!A1270","v":1267},-1,{"$f":"A1172","v":1169},"RCP2W-RA10C-2.5水平-300kg"]
[1169,1,10000,{"$f":"AccVelDataLink!A1271","v":1268},{"$f":"A1171","v":1168},1170,"RCP2W-RA10C-2.5垂直-10kg"]
[1170,1,20000,{"$f":"AccVelDataLink!A1272","v":1269},1169,1171,"RCP2W-RA10C-2.5垂直-20kg"]
[1171,1,30000,{"$f":"AccVelDataLink!A1273","v":1270},1170,1172,"RCP2W-RA10C-2.5垂直-30kg"]
[1172,1,65000,{"$f":"AccVelDataLink!A1274","v":1271},1171,1173,"RCP2W-RA10C-2.5垂直-65kg"]
[1173,1,75000,{"$f":"AccVelDataLink!A1275","v":1272},1172,1174,"RCP2W-RA10C-2.5垂直-75kg"]
[1174,1,100000,{"$f":"AccVelDataLink!A1276","v":1273},1173,1175,"RCP2W-RA10C-2.5垂直-100kg"]
[1175,1,150000,{"$f":"AccVelDataLink!A1277","v":1274},1174,-1,"RCP2W-RA10C-2.5垂直-150kg"]
[1176,0,150000,{"$f":"AccVelDataLink!A1278","v":1275},-1,{"$f":"A1180","v":1177},"RCP2W-RA10C-5水平-150kg"]
[1177,1,3000,{"$f":"AccVelDataLink!A1279","v":1276},{"$f":"A1179","v":1176},1178,"RCP2W-RA10C-5垂直-03kg"]
[1178,1,7000,{"$f":"AccVelDataLink!A1280","v":1277},1177,1179,"RCP2W-RA10C-5垂直-07kg"]
[1179,1,9000,{"$f":"AccVelDataLink!A1281","v":1278},1178,1180,"RCP2W-RA10C-5垂直-09kg"]
[1180,1,13000,{"$f":"AccVelDataLink!A1282","v":1279},1179,1181,"RCP2W-RA10C-5垂直-13kg"]
[1181,1,20000,{"$f":"AccVelDataLink!A1283","v":1280},1180,1182,"RCP2W-RA10C-5垂直-20kg"]
[1182,1,25000,{"$f":"AccVelDataLink!A1284","v":1281},1181,1183,"RCP2W-RA10C-5垂直-25kg"]
[1183,1,27000,{"$f":"AccVelDataLink!A1285","v":1282},1182,1184,"RCP2W-RA10C-5垂直-27kg"]
[1184,1,29000,{"$f":"AccVelDataLink!A1286","v":1283},1183,1185,"RCP2W-RA10C-5垂直-29kg"]
[1185,1,35000,{"$f":"AccVelDataLink!A1287","v":1284},1184,1186,"RCP2W-RA10C-5垂直-35kg"]
[1186,1,37000,{"$f":"AccVelDataLink!A1288","v":1285},1185,1187,"RCP2W-RA10C-5垂直-37kg"]
[1187,1,42000,{"$f":"AccVelDataLink!A1289","v":1286},1186,1188,"RCP2W-RA10C-5垂直-42kg"]
[1188,1,51000,{"$f":"AccVelDataLink!A1290","v":1287},1187,1189,"RCP2W-RA10C-5垂直-51kg"]
[1189,1,100000,{"$f":"AccVelDataLink!A1291","v":1288},1188,-1,"RCP2W-RA10C-5垂直-100kg"]
[1190,0,15000,{"$f":"AccVelDataLink!A1292","v":1289},-1,{"$f":"A1194","v":1191},"RCP2W-RA10C-10水平-15kg"]
[1191,0,21000,{"$f":"AccVelDataLink!A1293","v":1290},{"$f":"A1193","v":1190},1192,"RCP2W-RA10C-10水平-21kg"]
[1192,0,38000,{"$f":"AccVelDataLink!A1294","v":1291},1191,1193,"RCP2W-RA10C-10水平-38kg"]
[1193,0,80000,{"$f":"AccVelDataLink!A1295","v":1292},1192,1194,"RCP2W-RA10C-10水平-80kg"]
[1194,1,6000,{"$f":"AccVelDataLink!A1296","v":1293},1193,1195,"RCP2W-RA10C-10垂直-06kg"]
[1195,1,8000,{"$f":"AccVelDataLink!A1297","v":1294},1194,1196,"RCP2W-RA10C-10垂直-08kg"]
[1196,1,10000,{"$f":"AccVelDataLink!A1298","v":1295},1195,1197,"RCP2W-RA10C-10垂直-10kg"]
[1197,1,15000,{"$f":"AccVelDataLink!A1299","v":1296},1196,1198,"RCP2W-RA10C-10垂直-15kg"]
[1198,1,20000,{"$f":"AccVelDataLink!A1300","v":1297},1197,1199,"RCP2W-RA10C-10垂直-20kg"]
[1199,1,35000,{"$f":"AccVelDataLink!A1301","v":1298},1198,1200,"RCP2W-RA10C-10垂直-35kg"]
[{"$f":"A1202+1","v":1200},1,58000,{"$f":"AccVelDataLink!A1302","v":1299},1199,1201,"RCP2W-RA10C-10垂直-58kg"]
[{"$f":"A1203+1","v":1201},1,80000,{"$f":"AccVelDataLink!A1303","v":1300},1200,-1,"RCP2W-RA10C-10垂直-80kg"]
[1202,0,2000,{"$f":"AccVelDataLink!A1304","v":1301},-1,{"$f":"A1206","v":1203},"RCP3-RA2AC-20P-1水平"]
[1203,1,750,{"$f":"AccVelDataLink!A1305","v":1302},{"$f":"A1205","v":1202},-1,"RCP3-RA2AC-20P-1垂直"]
[1204,0,1000,{"$f":"AccVelDataLink!A1306","v":1303},-1,{"$f":"A1208","v":1205},"RCP3-RA2AC-20P-2水平"]
[1205,1,375,{"$f":"AccVelDataLink!A1307","v":1304},{"$f":"A1207","v":1204},-1,"RCP3-RA2AC-20P-2垂直"]
[1206,0,500,{"$f":"AccVelDataLink!A1308","v":1305},-1,{"$f":"A1210","v":1207},"RCP3-RA2AC-20P-4水平"]
[1207,1,200,{"$f":"AccVelDataLink!A1309","v":1306},{"$f":"A1209","v":1206},-1,"RCP3-RA2AC-20P-4垂直"]
[1208,0,4000,{"$f":"AccVelDataLink!A1310","v":1307},-1,{"$f":"A1212","v":1209},"RCP3-RA2AC-20SP-1水平"]
[1209,1,1250,{"$f":"AccVelDataLink!A1311","v":1308},{"$f":"A1211","v":1208},-1,"RCP3-RA2AC-20SP-1垂直"]
[1210,0,2000,{"$f":"AccVelDataLink!A1312","v":1309},-1,{"$f":"A1214","v":1211},"RCP3-RA2AC-20SP-2水平"]
[1211,1,625,{"$f":"AccVelDataLink!A1313","v":1310},{"$f":"A1213","v":1210},-1,"RCP3-RA2AC-20SP-2垂直"]
[1212,0,1000,{"$f":"AccVelDataLink!A1314","v":1311},-1,{"$f":"A1216","v":1213},"RCP3-RA2AC-20SP-4水平"]
[1213,1,325,{"$f":"AccVelDataLink!A1315","v":1312},{"$f":"A1215","v":1212},-1,"RCP3-RA2AC-20SP-4垂直"]
[1214,0,4000,{"$f":"AccVelDataLink!A1316","v":1313},-1,{"$f":"A1218","v":1215},"RCP3-RA2BC-20P-1水平"]
[1215,1,1500,{"$f":"AccVelDataLink!A1317","v":1314},{"$f":"A1217","v":1214},-1,"RCP3-RA2BC-20P-1垂直"]
[1216,0,2000,{"$f":"AccVelDataLink!A1318","v":1315},-1,{"$f":"A1220","v":1217},"RCP3-RA2BC-20P-2水平"]
[1217,1,750,{"$f":"AccVelDataLink!A1319","v":1316},{"$f":"A1219","v":1216},-1,"RCP3-RA2BC-20P-2垂直"]
[1218,0,1000,{"$f":"AccVelDataLink!A1320","v":1317},-1,{"$f":"A1222","v":1219},"RCP3-RA2BC-20P-4水平"]
[1219,1,375,{"$f":"AccVelDataLink!A1321","v":1318},{"$f":"A1221","v":1218},-1,"RCP3-RA2BC-20P-4垂直"]
[1220,0,500,{"$f":"AccVelDataLink!A1322","v":1319},-1,{"$f":"A1224","v":1221},"RCP3-RA2BC-20P-6水平"]
[1221,1,200,{"$f":"AccVelDataLink!A1323","v":1320},{"$f":"A1223","v":1220},-1,"RCP3-RA2BC-20P-6垂直"]
[1222,0,8000,{"$f":"AccVelDataLink!A1324","v":1321},-1,{"$f":"A1226","v":1223},"RCP3-RA2BC-20SP-1水平"]
[1223,1,2500,{"$f":"AccVelDataLink!A1325","v":1322},{"$f":"A1225","v":1222},-1,"RCP3-RA2BC-20SP-1垂直"]
[1224,0,4000,{"$f":"AccVelDataLink!A1326","v":1323},-1,{"$f":"A1228","v":1225},"RCP3-RA2BC-20SP-2水平"]
[1225,1,1250,{"$f":"AccVelDataLink!A1327","v":1324},{"$f":"A1227","v":1224},-1,"RCP3-RA2BC-20SP-2垂直"]
[1226,0,2000,{"$f":"AccVelDataLink!A1328","v":1325},-1,{"$f":"A1230","v":1227},"RCP3-RA2BC-20SP-4水平"]
[1227,1,625,{"$f":"AccVelDataLink!A1329","v":1326},{"$f":"A1229","v":1226},-1,"RCP3-RA2BC-20SP-4垂直"]
[1228,0,1000,{"$f":"AccVelDataLink!A1330","v":1327},-1,{"$f":"A1232","v":1229},"RCP3-RA2BC-20SP-6水平"]
[1229,1,325,{"$f":"AccVelDataLink!A1331","v":1328},{"$f":"A1231","v":1228},-1,"RCP3-RA2BC-20SP-6垂直"]
[1230,0,2000,{"$f":"AccVelDataLink!A1332","v":1329},-1,{"$f":"A1234","v":1231},"RCP3-RA2AR-20P-1水平"]
[1231,1,750,{"$f":"AccVelDataLink!A1333","v":1330},{"$f":"A1233","v":1230},-1,"RCP3-RA2AR-20P-1垂直"]
[1232,0,1000,{"$f":"AccVelDataLink!A1334","v":1331},-1,{"$f":"A1236","v":1233},"RCP3-RA2AR-20P-2水平"]
[{"$f":"A1235+1","v":1233},1,375,{"$f":"AccVelDataLink!A1335","v":1332},{"$f":"A1235","v":1232},-1,"RCP3-RA2AR-20P-2垂直"]
[1234,0,500,{"$f":"AccVelDataLink!A1336","v":1333},-1,{"$f":"A1238","v":1235},"RCP3-RA2AR-20P-4水平"]
[1235,1,200,{"$f":"AccVelDataLink!A1337","v":1334},{"$f":"A1237","v":1234},-1,"RCP3-RA2AR-20P-4垂直"]
[1236,0,4000,{"$f":"AccVelDataLink!A1338","v":1335},-1,{"$f":"A1240","v":1237},"RCP3-RA2AR-20SP-1水平"]
[1237,1,1250,{"$f":"AccVelDataLink!A1339","v":1336},{"$f":"A1239","v":1236},-1,"RCP3-RA2AR-20SP-1垂直"]
[1238,0,2000,{"$f":"AccVelDataLink!A1340","v":1337},-1,{"$f":"A1242","v":1239},"RCP3-RA2AR-20SP-2水平"]
[1239,1,625,{"$f":"AccVelDataLink!A1341","v":1338},{"$f":"A1241","v":1238},-1,"RCP3-RA2AR-20SP-2垂直"]
[1240,0,1000,{"$f":"AccVelDataLink!A1342","v":1339},-1,{"$f":"A1244","v":1241},"RCP3-RA2AR-20SP-4水平"]
[1241,1,325,{"$f":"AccVelDataLink!A1343","v":1340},{"$f":"A1243","v":1240},-1,"RCP3-RA2AR-20SP-4垂直"]
[1242,0,4000,{"$f":"AccVelDataLink!A1344","v":1341},-1,{"$f":"A1246","v":1243},"RCP3-RA2BR-20P-1水平"]
[1243,1,1500,{"$f":"AccVelDataLink!A1345","v":1342},{"$f":"A1245","v":1242},-1,"RCP3-RA2BR-20P-1垂直"]
[1244,0,2000,{"$f":"AccVelDataLink!A1346","v":1343},-1,{"$f":"A1248","v":1245},"RCP3-RA2BR-20P-2水平"]
[1245,1,750,{"$f":"AccVelDataLink!A1347","v":1344},{"$f":"A1247","v":1244},-1,"RCP3-RA2BR-20P-2垂直"]
[1246,0,1000,{"$f":"AccVelDataLink!A1348","v":1345},-1,{"$f":"A1250","v":1247},"RCP3-RA2BR-20P-4水平"]
[1247,1,375,{"$f":"AccVelDataLink!A1349","v":1346},{"$f":"A1249","v":1246},-1,"RCP3-RA2BR-20P-4垂直"]
[1248,0,500,{"$f":"AccVelDataLink!A1350","v":1347},-1,{"$f":"A1252","v":1249},"RCP3-RA2BR-20P-6水平"]
[1249,1,200,{"$f":"AccVelDataLink!A1351","v":1348},{"$f":"A1251","v":1248},-1,"RCP3-RA2BR-20P-6垂直"]
[1250,0,8000,{"$f":"AccVelDataLink!A1352","v":1349},-1,{"$f":"A1254","v":1251},"RCP3-RA2BR-20SP-1水平"]
[1251,1,2500,{"$f":"AccVelDataLink!A1353","v":1350},{"$f":"A1253","v":1250},-1,"RCP3-RA2BR-20SP-1垂直"]
[1252,0,4000,{"$f":"AccVelDataLink!A1354","v":1351},-1,{"$f":"A1256","v":1253},"RCP3-RA2BR-20SP-2水平"]
[1253,1,1250,{"$f":"AccVelDataLink!A1355","v":1352},{"$f":"A1255","v":1252},-1,"RCP3-RA2BR-20SP-2垂直"]
[1254,0,2000,{"$f":"AccVelDataLink!A1356","v":1353},-1,{"$f":"A1258","v":1255},"RCP3-RA2BR-20SP-4水平"]
[1255,1,625,{"$f":"AccVelDataLink!A1357","v":1354},{"$f":"A1257","v":1254},-1,"RCP3-RA2BR-20SP-4垂直"]
[1256,0,1000,{"$f":"AccVelDataLink!A1358","v":1355},-1,{"$f":"A1260","v":1257},"RCP3-RA2BR-20SP-6水平"]
[1257,1,325,{"$f":"AccVelDataLink!A1359","v":1356},{"$f":"A1259","v":1256},-1,"RCP3-RA2BR-20SP-6垂直"]
[{"$f":"A1260+1","v":1258},0,{"$f":"H1261*$H$1","v":60000},{"$f":"AccVelDataLink!A1360","v":1357},-1,{"$f":"A1262","v":1259},{"$f":"AccVelDataLink!F1360","v":"RCP2-RA8C-5-水平"},{"$f":"AccVelDataLink!G1360","v":60},{"$f":"IF(E1261=-1,IF(B1261=B1260,\"切替異常\",\"○\"),IF(E1261<>A1260,\"リンク№異常\",\"○\"))","v":"○"},{"$f":"IF(F1261=-1,IF(B1261=B1262,\"切替異常\",\"○\"),IF(F1261<>A1262,\"リンク№異常\",\"○\"))","v":"○"}]
[1259,0,75000,{"$f":"AccVelDataLink!A1361","v":1358},{"$f":"A1261","v":1258},1260,{"$f":"AccVelDataLink!F1361","v":"RCP2-RA8C-5-水平"},{"$f":"AccVelDataLink!G1361","v":75},{"$f":"IF(E1262=-1,IF(B1262=B1261,\"切替異常\",\"○\"),IF(E1262<>A1261,\"リンク№異常\",\"○\"))","v":"○"},{"$f":"IF(F1262=-1,IF(B1262=B1263,\"切替異常\",\"○\"),IF(F1262<>A1263,\"リンク№異常\",\"○\"))","v":"○"}]
[1260,0,90000,{"$f":"AccVelDataLink!A1362","v":1359},1259,1261,{"$f":"AccVelDataLink!F1362","v":"RCP2-RA8C-5-水平"},{"$f":"AccVelDataLink!G1362","v":90},"○","○"]
[1261,0,100000,{"$f":"AccVelDataLink!A1363","v":1360},1260,1262,{"$f":"AccVelDataLink!F1363","v":"RCP2-RA8C-5-水平"},{"$f":"AccVelDataLink!G1363","v":100},"○","○"]
[1262,1,3000,{"$f":"AccVelDataLink!A1364","v":1361},1261,1263,{"$f":"AccVelDataLink!F1364","v":"RCP2-RA8C-5-垂直"},{"$f":"AccVelDataLink!G1364","v":3},"○","○"]
[1263,1,10000,{"$f":"AccVelDataLink!A1365","v":1362},1262,1264,{"$f":"AccVelDataLink!F1365","v":"RCP2-RA8C-5-垂直"},{"$f":"AccVelDataLink!G1365","v":10},"○","○"]
[1264,1,15000,{"$f":"AccVelDataLink!A1366","v":1363},1263,1265,{"$f":"AccVelDataLink!F1366","v":"RCP2-RA8C-5-垂直"},{"$f":"AccVelDataLink!G1366","v":15},"○","○"]
[1265,1,20000,{"$f":"AccVelDataLink!A1367","v":1364},1264,1266,{"$f":"AccVelDataLink!F1367","v":"RCP2-RA8C-5-垂直"},{"$f":"AccVelDataLink!G1367","v":20},"○","○"]
[1266,1,25000,{"$f":"AccVelDataLink!A1368","v":1365},1265,1267,{"$f":"AccVelDataLink!F1368","v":"RCP2-RA8C-5-垂直"},{"$f":"AccVelDataLink!G1368","v":25},"○","○"]
[1267,1,35000,{"$f":"AccVelDataLink!A1369","v":1366},1266,1268,{"$f":"AccVelDataLink!F1369","v":"RCP2-RA8C-5-垂直"},{"$f":"AccVelDataLink!G1369","v":35},"○","○"]
[1268,1,50000,{"$f":"AccVelDataLink!A1370","v":1367},1267,1269,{"$f":"AccVelDataLink!F1370","v":"RCP2-RA8C-5-垂直"},{"$f":"AccVelDataLink!G1370","v":50},"○","○"]
[1269,1,70000,{"$f":"AccVelDataLink!A1371","v":1368},1268,-1,{"$f":"AccVelDataLink!F1371","v":"RCP2-RA8C-5-垂直"},{"$f":"AccVelDataLink!G1371","v":70},"○","○"]
[1270,0,10000,{"$f":"AccVelDataLink!A1372","v":1369},-1,{"$f":"A1274","v":1271},{"$f":"AccVelDataLink!F1372","v":"RCP2-RA8C-10-水平"},{"$f":"AccVelDataLink!G1372","v":10},"○","○"]
[1271,0,40000,{"$f":"AccVelDataLink!A1373","v":1370},{"$f":"A1273","v":1270},1272,{"$f":"AccVelDataLink!F1373","v":"RCP2-RA8C-10-水平"},{"$f":"AccVelDataLink!G1373","v":40},"○","○"]
[1272,0,45000,{"$f":"AccVelDataLink!A1374","v":1371},1271,1273,{"$f":"AccVelDataLink!F1374","v":"RCP2-RA8C-10-水平"},{"$f":"AccVelDataLink!G1374","v":45},"○","○"]
[1273,0,60000,{"$f":"AccVelDataLink!A1375","v":1372},1272,1274,{"$f":"AccVelDataLink!F1375","v":"RCP2-RA8C-10-水平"},{"$f":"AccVelDataLink!G1375","v":60},"○","○"]
[1274,1,2000,{"$f":"AccVelDataLink!A1376","v":1373},1273,1275,{"$f":"AccVelDataLink!F1376","v":"RCP2-RA8C-10-垂直"},{"$f":"AccVelDataLink!G1376","v":2},"○","○"]
[1275,1,3000,{"$f":"AccVelDataLink!A1377","v":1374},1274,1276,{"$f":"AccVelDataLink!F1377","v":"RCP2-RA8C-10-垂直"},{"$f":"AccVelDataLink!G1377","v":3},"○","○"]
[1276,1,4000,{"$f":"AccVelDataLink!A1378","v":1375},1275,1277,{"$f":"AccVelDataLink!F1378","v":"RCP2-RA8C-10-垂直"},{"$f":"AccVelDataLink!G1378","v":4},"○","○"]
[1277,1,5000,{"$f":"AccVelDataLink!A1379","v":1376},1276,1278,{"$f":"AccVelDataLink!F1379","v":"RCP2-RA8C-10-垂直"},{"$f":"AccVelDataLink!G1379","v":5},"○","○"]
[1278,1,7000,{"$f":"AccVelDataLink!A1380","v":1377},1277,1279,{"$f":"AccVelDataLink!F1380","v":"RCP2-RA8C-10-垂直"},{"$f":"AccVelDataLink!G1380","v":7},"○","○"]
[1279,1,8000,{"$f":"AccVelDataLink!A1381","v":1378},1278,1280,{"$f":"AccVelDataLink!F1381","v":"RCP2-RA8C-10-垂直"},{"$f":"AccVelDataLink!G1381","v":8},"○","○"]
[1280,1,10000,{"$f":"AccVelDataLink!A1382","v":1379},1279,1281,{"$f":"AccVelDataLink!F1382","v":"RCP2-RA8C-10-垂直"},{"$f":"AccVelDataLink!G1382","v":10},"○","○"]
[1281,1,11000,{"$f":"AccVelDataLink!A1383","v":1380},1280,1282,{"$f":"AccVelDataLink!F1383","v":"RCP2-RA8C-10-垂直"},{"$f":"AccVelDataLink!G1383","v":11},"○","○"]
[1282,1,15000,{"$f":"AccVelDataLink!A1384","v":1381},1281,1283,{"$f":"AccVelDataLink!F1384","v":"RCP2-RA8C-10-垂直"},{"$f":"AccVelDataLink!G1384","v":15},"○","○"]
[1283,1,18000,{"$f":"AccVelDataLink!A1385","v":1382},1282,1284,{"$f":"AccVelDataLink!F1385","v":"RCP2-RA8C-10-垂直"},{"$f":"AccVelDataLink!G1385","v":18},"○","○"]
[1284,1,23000,{"$f":"AccVelDataLink!A1386","v":1383},1283,1285,{"$f":"AccVelDataLink!F1386","v":"RCP2-RA8C-10-垂直"},{"$f":"AccVelDataLink!G1386","v":23},"○","○"]
[1285,1,28000,{"$f":"AccVelDataLink!A1387","v":1384},1284,1286,{"$f":"AccVelDataLink!F1387","v":"RCP2-RA8C-10-垂直"},{"$f":"AccVelDataLink!G1387","v":28},"○","○"]
[1286,1,33000,{"$f":"AccVelDataLink!A1388","v":1385},1285,1287,{"$f":"AccVelDataLink!F1388","v":"RCP2-RA8C-10-垂直"},{"$f":"AccVelDataLink!G1388","v":33},"○","○"]
[1287,1,40000,{"$f":"AccVelDataLink!A1389","v":1386},1286,-1,{"$f":"AccVelDataLink!F1389","v":"RCP2-RA8C-10-垂直"},{"$f":"AccVelDataLink!G1389","v":40},"○","○"]
[1288,0,75000,{"$f":"AccVelDataLink!A1390","v":1387},-1,{"$f":"A1292","v":1289},{"$f":"AccVelDataLink!F1390","v":"RCP2-RA8R-5-水平"},{"$f":"AccVelDataLink!G1390","v":75},"○","○"]
[1289,0,100000,{"$f":"AccVelDataLink!A1391","v":1388},{"$f":"A1291","v":1288},1290,{"$f":"AccVelDataLink!F1391","v":"RCP2-RA8R-5-水平"},{"$f":"AccVelDataLink!G1391","v":100},"○","○"]
[{"$f":"A1292+1","v":1290},1,{"$f":"H1293*$H$1","v":15000},{"$f":"AccVelDataLink!A1392","v":1389},1289,1291,{"$f":"AccVelDataLink!F1392","v":"RCP2-RA8R-5-垂直"},{"$f":"AccVelDataLink!G1392","v":15},"○","○"]
[1291,1,20000,{"$f":"AccVelDataLink!A1393","v":1390},1290,1292,{"$f":"AccVelDataLink!F1393","v":"RCP2-RA8R-5-垂直"},{"$f":"AccVelDataLink!G1393","v":20},"○","○"]
[1292,1,25000,{"$f":"AccVelDataLink!A1394","v":1391},1291,1293,{"$f":"AccVelDataLink!F1394","v":"RCP2-RA8R-5-垂直"},{"$f":"AccVelDataLink!G1394","v":25},"○","○"]
[1293,1,35000,{"$f":"AccVelDataLink!A1395","v":1392},1292,1294,{"$f":"AccVelDataLink!F1395","v":"RCP2-RA8R-5-垂直"},{"$f":"AccVelDataLink!G1395","v":35},"○","○"]
[1294,1,50000,{"$f":"AccVelDataLink!A1396","v":1393},1293,1295,{"$f":"AccVelDataLink!F1396","v":"RCP2-RA8R-5-垂直"},{"$f":"AccVelDataLink!G1396","v":50},"○","○"]
[1295,1,70000,{"$f":"AccVelDataLink!A1397","v":1394},1294,-1,{"$f":"AccVelDataLink!F1397","v":"RCP2-RA8R-5-垂直"},{"$f":"AccVelDataLink!G1397","v":70},"○","○"]
[1296,0,12000,{"$f":"AccVelDataLink!A1398","v":1395},-1,{"$f":"A1300","v":1297},{"$f":"AccVelDataLink!F1398","v":"RCP2-RA8R-10-水平"},{"$f":"AccVelDataLink!G1398","v":12},"○","○"]
[1297,0,15000,{"$f":"AccVelDataLink!A1399","v":1396},{"$f":"A1299","v":1296},1298,{"$f":"AccVelDataLink!F1399","v":"RCP2-RA8R-10-水平"},{"$f":"AccVelDataLink!G1399","v":15},"○","○"]
[1298,0,25000,{"$f":"AccVelDataLink!A1400","v":1397},1297,1299,{"$f":"AccVelDataLink!F1400","v":"RCP2-RA8R-10-水平"},{"$f":"AccVelDataLink!G1400","v":25},"○","○"]
[1299,0,40000,{"$f":"AccVelDataLink!A1401","v":1398},1298,1300,{"$f":"AccVelDataLink!F1401","v":"RCP2-RA8R-10-水平"},{"$f":"AccVelDataLink!G1401","v":40},"○","○"]
[1300,0,60000,{"$f":"AccVelDataLink!A1402","v":1399},1299,1301,{"$f":"AccVelDataLink!F1402","v":"RCP2-RA8R-10-水平"},{"$f":"AccVelDataLink!G1402","v":60},"○","○"]
[1301,1,4000,{"$f":"AccVelDataLink!A1403","v":1400},1300,1302,{"$f":"AccVelDataLink!F1403","v":"RCP2-RA8R-10-垂直"},{"$f":"AccVelDataLink!G1403","v":4},"○","○"]
[1302,1,5000,{"$f":"AccVelDataLink!A1404","v":1401},1301,1303,{"$f":"AccVelDataLink!F1404","v":"RCP2-RA8R-10-垂直"},{"$f":"AccVelDataLink!G1404","v":5},"○","○"]
[1303,1,7000,{"$f":"AccVelDataLink!A1405","v":1402},1302,1304,{"$f":"AccVelDataLink!F1405","v":"RCP2-RA8R-10-垂直"},{"$f":"AccVelDataLink!G1405","v":7},"○","○"]
[1304,1,8000,{"$f":"AccVelDataLink!A1406","v":1403},1303,1305,{"$f":"AccVelDataLink!F1406","v":"RCP2-RA8R-10-垂直"},{"$f":"AccVelDataLink!G1406","v":8},"○","○"]
[1305,1,10000,{"$f":"AccVelDataLink!A1407","v":1404},1304,1306,{"$f":"AccVelDataLink!F1407","v":"RCP2-RA8R-10-垂直"},{"$f":"AccVelDataLink!G1407","v":10},"○","○"]
[1306,1,11000,{"$f":"AccVelDataLink!A1408","v":1405},1305,1307,{"$f":"AccVelDataLink!F1408","v":"RCP2-RA8R-10-垂直"},{"$f":"AccVelDataLink!G1408","v":11},"○","○"]
[1307,1,15000,{"$f":"AccVelDataLink!A1409","v":1406},1306,1308,{"$f":"AccVelDataLink!F1409","v":"RCP2-RA8R-10-垂直"},{"$f":"AccVelDataLink!G1409","v":15},"○","○"]
[1308,1,18000,{"$f":"AccVelDataLink!A1410","v":1407},1307,1309,{"$f":"AccVelDataLink!F1410","v":"RCP2-RA8R-10-垂直"},{"$f":"AccVelDataLink!G1410","v":18},"○","○"]
[1309,1,23000,{"$f":"AccVelDataLink!A1411","v":1408},1308,1310,{"$f":"AccVelDataLink!F1411","v":"RCP2-RA8R-10-垂直"},{"$f":"AccVelDataLink!G1411","v":23},"○","○"]
[1310,1,28000,{"$f":"AccVelDataLink!A1412","v":1409},1309,1311,{"$f":"AccVelDataLink!F1412","v":"RCP2-RA8R-10-垂直"},{"$f":"AccVelDataLink!G1412","v":28},"○","○"]
[1311,1,33000,{"$f":"AccVelDataLink!A1413","v":1410},1310,1312,{"$f":"AccVelDataLink!F1413","v":"RCP2-RA8R-10-垂直"},{"$f":"AccVelDataLink!G1413","v":33},"○","○"]
[1312,1,40000,{"$f":"AccVelDataLink!A1414","v":1411},1311,-1,{"$f":"AccVelDataLink!F1414","v":"RCP2-RA8R-10-垂直"},{"$f":"AccVelDataLink!G1414","v":40},"○","○"]

{"sheet":"AccVelDataLink","index":6,"n_rows":1414,"n_cols":11,"rows_kept":1414,"cut":false,"hidden":true,"merged":[[206,5,207,5],[206,6,207,6],[134,6,135,6],[134,5,135,5]]}
[{"$f":"LeadData!A1","v":9.8066499999999994},1,2,3,4]
["ﾃﾞｰﾀ№","水平定格加速度","最高速度","前ﾃﾞｰﾀ№","次ﾃﾞｰﾀ№","備考"]
[{"$f":"ModelData!A3","v":0},"0.001mm/s^2","㎜/s","ﾚｺｰﾄﾞ№","ﾚｺｰﾄﾞ№",null,"Weigh","G","mm/s","前№ﾁｪｯｸ","後№ﾁｪｯｸ"]
[{"$f":"A3+1","v":1},{"$f":"0.2*$A$1*1000*1000","v":1961330},50,-1,-1,"RCP3-SA2AC-20P-1S-水平"]
[2,1961330,100,-1,-1,"RCP3-SA2AC-20P-2S-水平"]
[3,1961330,200,-1,-1,"RCP3-SA2AC-20P-4S-水平"]
[4,1961330,100,-1,-1,"RCP3-SA2BC-20P-2S-水平"]
[5,1961330,200,-1,-1,"RCP3-SA2BC-20P-4S-水平"]
[6,1961330,300,-1,-1,"RCP3-SA2BC-20P-6S-水平"]
[7,1961330,100,-1,-1,"RCP3-SA3C-2-水平"]
[8,1961330,100,-1,-1,"RCP3-SA3C-2-垂直"]
[9,{"$f":"0.3*$A$1*1000*1000","v":2941995},200,-1,-1,"RCP3-SA3C-4-水平"]
[10,{"$f":"0.2*$A$1*1000*1000","v":1961330},200,-1,-1,"RCP3-SA3C-4-垂直"]
[11,{"$f":"0.3*$A$1*1000*1000","v":2941995},300,-1,-1,"RCP3-SA3C-6-水平"]
[12,{"$f":"0.2*$A$1*1000*1000","v":1961330},300,-1,-1,"RCP3-SA3C-6-垂直"]
[13,{"$f":"0.7*$A$1*1000*1000","v":6864654.9999999991},125,-1,-1,"RCP3-SA4C-2.5-水平-06kg-0.7G"]
[14,{"$f":"0.5*$A$1*1000*1000","v":4903325},125,-1,-1,"RCP3-SA4C-2.5-水平-07kg-0.5G"]
[15,{"$f":"0.3*$A$1*1000*1000","v":2941995},125,-1,{"$f":"A19","v":16},"RCP3-SA4C-2.5-水平-08kg-0.3G-125mm/s"]
[16,{"$f":"0.7*$A$1*1000*1000","v":6864654.9999999991},63,{"$f":"A18","v":15},-1,"RCP3-SA4C-2.5-水平-08kg-0.7G-063mm/s"]
[17,{"$f":"0.2*$A$1*1000*1000","v":1961330},125,-1,{"$f":"A21","v":18},"RCP3-SA4C-2.5-水平-09kg-0.2G-125mm/s"]
[18,{"$f":"0.5*$A$1*1000*1000","v":4903325},63,{"$f":"A20","v":17},-1,"RCP3-SA4C-2.5-水平-09kg-0.5G-063mm/s"]
[19,{"$f":"0.3*$A$1*1000*1000","v":2941995},63,-1,-1,"RCP3-SA4C-2.5-水平-10kg-0.3G"]
[20,{"$f":"0.2*$A$1*1000*1000","v":1961330},63,-1,-1,"RCP3-SA4C-2.5-水平-11kg-0.2G"]
[21,{"$f":"0.3*$A$1*1000*1000","v":2941995},125,-1,-1,"RCP3-SA4C-2.5-垂直-04kg-0.3G"]
[22,{"$f":"0.1*$A$1*1000*1000","v":980665},125,-1,-1,"RCP3-SA4C-2.5-垂直-05kg-0.1G"]
[23,{"$f":"0.3*$A$1*1000*1000","v":2941995},104,-1,-1,"RCP3-SA4C-2.5-垂直-06kg-0.3G"]
[24,{"$f":"0.1*$A$1*1000*1000","v":980665},104,-1,{"$f":"A28","v":25},"RCP3-SA4C-2.5-垂直-08kg-0.1G-104mm/s"]
[25,{"$f":"0.3*$A$1*1000*1000","v":2941995},83,{"$f":"A27","v":24},-1,"RCP3-SA4C-2.5-垂直-08kg-0.3G-083mm/s"]
[26,{"$f":"0.7*$A$1*1000*1000","v":6864654.9999999991},250,-1,-1,"RCP3-SA4C-5-水平-05kg-0.7G"]
[27,{"$f":"0.5*$A$1*1000*1000","v":4903325},250,-1,{"$f":"A31","v":28},"RCP3-SA4C-5-水平-06kg-0.5G-250mm/s"]
[28,{"$f":"0.7*$A$1*1000*1000","v":6864654.9999999991},208,{"$f":"A30","v":27},-1,"RCP3-SA4C-5-水平-06kg-0.7G-208mm/s"]
[29,{"$f":"0.3*$A$1*1000*1000","v":2941995},250,-1,{"$f":"A33","v":30},"RCP3-SA4C-5-水平-07kg-0.3G-250mm/s"]
[30,{"$f":"0.5*$A$1*1000*1000","v":4903325},208,{"$f":"A32","v":29},{"$f":"A34","v":31},"RCP3-SA4C-5-水平-07kg-0.5G-208mm/s"]
[31,{"$f":"0.7*$A$1*1000*1000","v":6864654.9999999991},167,{"$f":"A33","v":30},-1,"RCP3-SA4C-5-水平-07kg-0.7G-167mm/s"]
[32,{"$f":"0.2*$A$1*1000*1000","v":1961330},250,-1,{"$f":"A36","v":33},"RCP3-SA4C-5-水平-08kg-0.2G-250mm/s"]
[33,{"$f":"0.3*$A$1*1000*1000","v":2941995},208,{"$f":"A35","v":32},{"$f":"A37","v":34},"RCP3-SA4C-5-水平-08kg-0.3G-208mm/s"]
[34,{"$f":"0.5*$A$1*1000*1000","v":4903325},167,{"$f":"A36","v":33},-1,"RCP3-SA4C-5-水平-08kg-0.5G-167mm/s"]
[35,{"$f":"0.2*$A$1*1000*1000","v":1961330},208,-1,{"$f":"A39","v":36},"RCP3-SA4C-5-水平-09kg-0.2G-208mm/s"]
[36,{"$f":"0.3*$A$1*1000*1000","v":2941995},167,{"$f":"A38","v":35},-1,"RCP3-SA4C-5-水平-09kg-0.3G-167mm/s"]
[37,{"$f":"0.2*$A$1*1000*1000","v":1961330},167,-1,-1,"RCP3-SA4C-5-水平-10kg-0.2G"]
[38,{"$f":"0.3*$A$1*1000*1000","v":2941995},250,-1,-1,"RCP3-SA4C-5-垂直-02kg-0.3G"]
[39,{"$f":"0.2*$A$1*1000*1000","v":1961330},250,-1,-1,"RCP3-SA4C-5-垂直-02.5kg-0.2G"]
[40,{"$f":"0.1*$A$1*1000*1000","v":980665},250,-1,-1,"RCP3-SA4C-5-垂直-03kg-0.1G"]
[41,{"$f":"0.3*$A$1*1000*1000","v":2941995},208,-1,-1,"RCP3-SA4C-5-垂直-04kg-0.3G"]
[42,{"$f":"0.7*$A$1*1000*1000","v":6864654.9999999991},500,-1,-1,"RCP3-SA4C-10-水平-01kg-0.7G"]
[43,{"$f":"0.5*$A$1*1000*1000","v":4903325},500,-1,{"$f":"A47","v":44},"RCP3-SA4C-10-水平-02kg-0.5G-500mm/s"]
[44,{"$f":"0.7*$A$1*1000*1000","v":6864654.9999999991},417,{"$f":"A46","v":43},-1,"RCP3-SA4C-10-水平-02kg-0.7G-417mm/s"]
[45,{"$f":"0.3*$A$1*1000*1000","v":2941995},500,-1,{"$f":"A49","v":46},"RCP3-SA4C-10-水平-03kg-0.3G-500mm/s"]
[46,{"$f":"0.5*$A$1*1000*1000","v":4903325},417,{"$f":"A48","v":45},{"$f":"A50","v":47},"RCP3-SA4C-10-水平-03kg-0.5G-417mm/s"]
[47,{"$f":"0.7*$A$1*1000*1000","v":6864654.9999999991},333,{"$f":"A49","v":46},-1,"RCP3-SA4C-10-水平-03kg-0.7G-333mm/s"]
[48,{"$f":"0.2*$A$1*1000*1000","v":1961330},500,-1,{"$f":"A52","v":49},"RCP3-SA4C-10-水平-04kg-0.2G-500mm/s"]
[49,{"$f":"0.3*$A$1*1000*1000","v":2941995},417,{"$f":"A51","v":48},{"$f":"A53","v":50},"RCP3-SA4C-10-水平-04kg-0.3G-417mm/s"]
[50,{"$f":"0.5*$A$1*1000*1000","v":4903325},333,{"$f":"A52","v":49},{"$f":"A54","v":51},"RCP3-SA4C-10-水平-04kg-0.5G-333mm/s"]
[51,{"$f":"0.7*$A$1*1000*1000","v":6864654.9999999991},250,{"$f":"A53","v":50},-1,"RCP3-SA4C-10-水平-04kg-0.7G-250mm/s"]
[52,{"$f":"0.2*$A$1*1000*1000","v":1961330},417,-1,{"$f":"A56","v":53},"RCP3-SA4C-10-水平-05kg-0.2G-417mm/s"]
[53,{"$f":"0.3*$A$1*1000*1000","v":2941995},333,{"$f":"A55","v":52},{"$f":"A57","v":54},"RCP3-SA4C-10-水平-05kg-0.3G-333mm/s"]
[54,{"$f":"0.5*$A$1*1000*1000","v":4903325},250,{"$f":"A56","v":53},-1,"RCP3-SA4C-10-水平-05kg-0.5G-250mm/s"]
[55,{"$f":"0.7*$A$1*1000*1000","v":6864654.9999999991},167,-1,-1,"RCP3-SA4C-10-水平-05.5kg-0.7G"]
[56,{"$f":"0.2*$A$1*1000*1000","v":1961330},333,-1,{"$f":"A60","v":57},"RCP3-SA4C-10-水平-06kg-0.2G-333mm/s"]
[57,{"$f":"0.3*$A$1*1000*1000","v":2941995},250,{"$f":"A59","v":56},-1,"RCP3-SA4C-10-水平-06kg-0.3G-250mm/s"]
[58,{"$f":"0.5*$A$1*1000*1000","v":4903325},167,-1,-1,"RCP3-SA4C-10-水平-06.5kg-0.5G"]
[59,{"$f":"0.2*$A$1*1000*1000","v":1961330},250,-1,-1,"RCP3-SA4C-10-水平-07kg-0.2G"]
[60,{"$f":"0.3*$A$1*1000*1000","v":2941995},167,-1,-1,"RCP3-SA4C-10-水平-07.5kg-0.3G"]
[61,{"$f":"0.2*$A$1*1000*1000","v":1961330},167,-1,-1,"RCP3-SA4C-10-水平-09kg-0.2G"]
[62,{"$f":"0.3*$A$1*1000*1000","v":2941995},500,-1,-1,"RCP3-SA4C-10-垂直-00.5kg-0.3G"]
[63,{"$f":"0.1*$A$1*1000*1000","v":980665},500,-1,-1,"RCP3-SA4C-10-垂直-01kg-0.1G"]
[64,{"$f":"0.3*$A$1*1000*1000","v":2941995},417,-1,-1,"RCP3-SA4C-10-垂直-01.5kg-0.3G"]
[{"$f":"A67+1","v":65},{"$f":"0.7*$A$1*1000*1000","v":6864654.9999999991},150,-1,-1,"RCP3-SA5C-3-水平-03kg-0.7G"]
[66,{"$f":"0.5*$A$1*1000*1000","v":4903325},150,-1,{"$f":"A70","v":67},"RCP3-SA5C-3-水平-05kg-0.5G-150mm/s"]
[67,{"$f":"0.7*$A$1*1000*1000","v":6864654.9999999991},125,{"$f":"A69","v":66},-1,"RCP3-SA5C-3-水平-05kg-0.7G-125mm/s"]
[68,{"$f":"0.5*$A$1*1000*1000","v":4903325},125,-1,{"$f":"A72","v":69},"RCP3-SA5C-3-水平-07kg-0.5G-125mm/s"]
[69,{"$f":"0.7*$A$1*1000*1000","v":6864654.9999999991},100,{"$f":"A71","v":68},-1,"RCP3-SA5C-3-水平-07kg-0.7G-100mm/s"]
[70,{"$f":"0.3*$A$1*1000*1000","v":2941995},150,-1,-1,"RCP3-SA5C-3-水平-08kg-0.3G"]
[71,{"$f":"0.5*$A$1*1000*1000","v":4903325},100,-1,-1,"RCP3-SA5C-3-水平-09kg-0.5G"]
[72,{"$f":"0.3*$A$1*1000*1000","v":2941995},125,-1,-1,"RCP3-SA5C-3-水平-11kg-0.3G"]
[73,{"$f":"0.2*$A$1*1000*1000","v":1961330},150,-1,-1,"RCP3-SA5C-3-水平-12kg-0.2G"]
[74,{"$f":"0.3*$A$1*1000*1000","v":2941995},100,-1,-1,"RCP3-SA5C-3-水平-14kg-0.3G"]
[75,{"$f":"0.2*$A$1*1000*1000","v":1961330},125,-1,-1,"RCP3-SA5C-3-水平-16kg-0.2G"]
[76,{"$f":"0.2*$A$1*1000*1000","v":1961330},100,-1,-1,"RCP3-SA5C-3-水平-19kg-0.2G"]
[77,{"$f":"0.3*$A$1*1000*1000","v":2941995},150,-1,-1,"RCP3-SA5C-3-垂直-02kg-0.3G"]
[78,{"$f":"0.2*$A$1*1000*1000","v":1961330},150,-1,-1,"RCP3-SA5C-3-垂直-03kg-0.2G"]
[79,{"$f":"0.1*$A$1*1000*1000","v":980665},150,-1,-1,"RCP3-SA5C-3-垂直-04kg-0.1G"]
[80,{"$f":"0.3*$A$1*1000*1000","v":2941995},125,-1,-1,"RCP3-SA5C-3-垂直-05kg-0.3G"]
[81,{"$f":"0.2*$A$1*1000*1000","v":1961330},125,-1,-1,"RCP3-SA5C-3-垂直-06kg-0.2G"]
[82,{"$f":"0.1*$A$1*1000*1000","v":980665},125,-1,-1,"RCP3-SA5C-3-垂直-07kg-0.1G"]
[83,{"$f":"0.3*$A$1*1000*1000","v":2941995},100,-1,-1,"RCP3-SA5C-3-垂直-08kg-0.3G"]
[84,{"$f":"0.2*$A$1*1000*1000","v":1961330},100,-1,-1,"RCP3-SA5C-3-垂直-09kg-0.2G"]
[85,{"$f":"0.1*$A$1*1000*1000","v":980665},100,-1,{"$f":"A89","v":86},"RCP3-SA5C-3-垂直-10kg-0.1G"]
[86,{"$f":"0.3*$A$1*1000*1000","v":2941995},75,{"$f":"A88","v":85},-1,"RCP3-SA5C-3-垂直-10kg-0.3G"]
[87,{"$f":"0.7*$A$1*1000*1000","v":6864654.9999999991},300,-1,-1,"RCP3-SA5C-6-水平-01kg-0.7G"]
[88,{"$f":"0.5*$A$1*1000*1000","v":4903325},300,-1,-1,"RCP3-SA5C-6-水平-03kg-0.5G"]
[89,{"$f":"0.7*$A$1*1000*1000","v":6864654.9999999991},250,-1,-1,"RCP3-SA5C-6-水平-04.5kg-0.7G"]
[90,{"$f":"0.3*$A$1*1000*1000","v":2941995},300,-1,{"$f":"A94","v":91},"RCP3-SA5C-6-水平-06kg-0.3G-300mm/s"]
[91,{"$f":"0.5*$A$1*1000*1000","v":4903325},250,{"$f":"A93","v":90},{"$f":"A95","v":92},"RCP3-SA5C-6-水平-06kg-0.5G-250mm/s"]
[92,{"$f":"0.7*$A$1*1000*1000","v":6864654.9999999991},200,{"$f":"A94","v":91},-1,"RCP3-SA5C-6-水平-06kg-0.7G-200mm/s"]
[93,{"$f":"0.2*$A$1*1000*1000","v":1961330},300,-1,-1,"RCP3-SA5C-6-水平-07kg-0.2G"]
[94,{"$f":"0.5*$A$1*1000*1000","v":4903325},200,-1,-1,"RCP3-SA5C-6-水平-08kg-0.5G"]
[95,{"$f":"0.3*$A$1*1000*1000","v":2941995},250,-1,-1,"RCP3-SA5C-6-水平-08.5kg-0.3G"]
[96,{"$f":"0.2*$A$1*1000*1000","v":1961330},250,-1,{"$f":"A100","v":97},"RCP3-SA5C-6-水平-10kg-0.2G-250mm/s"]
[97,{"$f":"0.3*$A$1*1000*1000","v":2941995},200,{"$f":"A99","v":96},-1,"RCP3-SA5C-6-水平-10kg-0.3G-200mm/s"]
[98,{"$f":"0.2*$A$1*1000*1000","v":1961330},200,-1,-1,"RCP3-SA5C-6-水平-12kg-0.2G"]
[99,{"$f":"0.3*$A$1*1000*1000","v":2941995},300,-1,-1,"RCP3-SA5C-6-垂直-00.5kg-0.3G"]
[100,{"$f":"0.2*$A$1*1000*1000","v":1961330},300,-1,-1,"RCP3-SA5C-6-垂直-01.5kg-0.2G"]
[101,{"$f":"0.1*$A$1*1000*1000","v":980665},300,-1,{"$f":"A105","v":102},"RCP3-SA5C-6-垂直-02kg-0.1G-300mm/s"]
[102,{"$f":"0.3*$A$1*1000*1000","v":2941995},250,{"$f":"A104","v":101},-1,"RCP3-SA5C-6-垂直-02kg-0.3G-250mm/s"]
[103,{"$f":"0.2*$A$1*1000*1000","v":1961330},250,-1,-1,"RCP3-SA5C-6-垂直-03kg-0.2G"]
[104,{"$f":"0.1*$A$1*1000*1000","v":980665},250,-1,{"$f":"A108","v":105},"RCP3-SA5C-6-垂直-03.5kg-0.1G-250mm/s"]
[105,{"$f":"0.3*$A$1*1000*1000","v":2941995},200,{"$f":"A107","v":104},-1,"RCP3-SA5C-6-垂直-03.5kg-0.3G-200mm/s"]
[106,{"$f":"0.2*$A$1*1000*1000","v":1961330},200,-1,-1,"RCP3-SA5C-6-垂直-04.5kg-0.2G"]
[107,{"$f":"0.1*$A$1*1000*1000","v":980665},200,-1,{"$f":"A111","v":108},"RCP3-SA5C-6-垂直-05kg-0.1G-200mm/s"]
[108,{"$f":"0.3*$A$1*1000*1000","v":2941995},150,{"$f":"A110","v":107},-1,"RCP3-SA5C-6-垂直-05kg-0.3G-150mm/s"]
[109,{"$f":"0.7*$A$1*1000*1000","v":6864654.9999999991},600,-1,-1,"RCP3-SA5C-12-水平-00.5kg-0.7G"]
[110,{"$f":"0.5*$A$1*1000*1000","v":4903325},600,-1,-1,"RCP3-SA5C-12-水平-01kg-0.5G"]
[111,{"$f":"0.7*$A$1*1000*1000","v":6864654.9999999991},500,-1,-1,"RCP3-SA5C-12-水平-01.5kg-0.7G"]
[112,{"$f":"0.3*$A$1*1000*1000","v":2941995},600,-1,{"$f":"A116","v":113},"RCP3-SA5C-12-水平-02kg-0.3G-600mm/s"]
[113,{"$f":"0.5*$A$1*1000*1000","v":4903325},500,{"$f":"A115","v":112},-1,"RCP3-SA5C-12-水平-02kg-0.5G-500mm/s"]
[114,{"$f":"0.7*$A$1*1000*1000","v":6864654.9999999991},400,-1,-1,"RCP3-SA5C-12-水平-02.5kg-0.7G"]
[115,{"$f":"0.2*$A$1*1000*1000","v":1961330},600,-1,{"$f":"A119","v":116},"RCP3-SA5C-12-水平-03kg-0.2G-600mm/s"]
[116,{"$f":"0.3*$A$1*1000*1000","v":2941995},500,{"$f":"A118","v":115},{"$f":"A120","v":117},"RCP3-SA5C-12-水平-03kg-0.3G-500mm/s"]
[117,{"$f":"0.5*$A$1*1000*1000","v":4903325},400,{"$f":"A119","v":116},{"$f":"A121","v":118},"RCP3-SA5C-12-水平-03kg-0.5G-400mm/s"]
[118,{"$f":"0.7*$A$1*1000*1000","v":6864654.9999999991},300,{"$f":"A120","v":117},-1,"RCP3-SA5C-12-水平-03kg-0.7G-300mm/s"]
[119,{"$f":"0.2*$A$1*1000*1000","v":1961330},500,-1,{"$f":"A123","v":120},"RCP3-SA5C-12-水平-04kg-0.2G-500mm/s"]
[120,{"$f":"0.3*$A$1*1000*1000","v":2941995},400,{"$f":"A122","v":119},{"$f":"A124","v":121},"RCP3-SA5C-12-水平-04kg-0.3G-400mm/s"]
[121,{"$f":"0.5*$A$1*1000*1000","v":4903325},300,{"$f":"A123","v":120},-1,"RCP3-SA5C-12-水平-04kg-0.5G-300mm/s"]
[122,{"$f":"0.2*$A$1*1000*1000","v":1961330},400,-1,-1,"RCP3-SA5C-12-水平-05kg-0.2G"]
[123,{"$f":"0.3*$A$1*1000*1000","v":2941995},300,-1,-1,"RCP3-SA5C-12-水平-06kg-0.3G"]
[124,{"$f":"0.2*$A$1*1000*1000","v":1961330},200,-1,-1,"RCP3-SA5C-12-水平-08kg-0.2G"]
[125,{"$f":"0.3*$A$1*1000*1000","v":2941995},600,-1,-1,"RCP3-SA5C-12-垂直-00.5kg-0.3G"]
[126,{"$f":"0.3*$A$1*1000*1000","v":2941995},500,-1,-1,"RCP3-SA5C-12-垂直-01kg-0.3G"]
[127,{"$f":"0.3*$A$1*1000*1000","v":2941995},400,-1,-1,"RCP3-SA5C-12-垂直-02kg-0.3G"]
[128,{"$f":"H131*$A$1*1000*1000","v":6864654.9999999991},{"$f":"I131","v":1000},-1,-1,"RCP3-SA5C-20-水平",0.3,0.7,1000,{"$f":"IF(G131=0,IF(D131<>A302,\"ﾘﾝｸ不正\",\"○\"),\"○\")","v":"○"},{"$f":"IF(D132<>-1,IF(E131<>A132,\"ﾘﾝｸ不正\",\"○\"),\"○\")","v":"○"}]
[{"$f":"A131+1","v":129},4903325,1000,-1,-1,"RCP3-SA5C-20-水平",0.5,0.5,1000,{"$f":"IF(G132=0,IF(D132<>A131,\"ﾘﾝｸ不正\",\"○\"),\"○\")","v":"○"},"○"]
[130,6864654.9999999991,833,-1,-1,"RCP3-SA5C-20-水平",1,0.7,833,"○","○"]
[131,6864654.9999999991,666,-1,-1,"RCP3-SA5C-20-水平",1.5,0.7,666,"○","○"]
[132,2941995,1000,-1,{"$f":"A136","v":133},"RCP3-SA5C-20-水平",2,0.3,1000,"○","○"]
[133,6864654.9999999991,333,{"$f":"A135","v":132},-1,null,null,0.7,333,"○","○"]
[134,2941995,666,-1,-1,"RCP3-SA5C-20-水平",3,0.3,666,"○","○"]
[135,2941995,333,-1,-1,"RCP3-SA5C-20-水平",4,0.3,333,"○","○"]
[136,1961330,666,-1,-1,"RCP3-SA5C-20-垂直",0.5,0.2,666,"○",{"$f":"IF(D303<>-1,IF(E139<>A303,\"ﾘﾝｸ不正\",\"○\"),\"○\")","v":"○"}]
[137,{"$f":"0.7*$A$1*1000*1000","v":6864654.9999999991},150,-1,-1,"RCP3-SA6C-3-水平-03kg-0.7G"]
[138,{"$f":"0.5*$A$1*1000*1000","v":4903325},150,-1,{"$f":"A142","v":139},"RCP3-SA6C-3-水平-05kg-0.5G-150mm/s"]
[139,{"$f":"0.7*$A$1*1000*1000","v":6864654.9999999991},125,{"$f":"A141","v":138},-1,"RCP3-SA6C-3-水平-05kg-0.7G-125mm/s"]
[140,{"$f":"0.5*$A$1*1000*1000","v":4903325},125,-1,{"$f":"A144","v":141},"RCP3-SA6C-3-水平-07kg-0.5G-125mm/s"]
[141,{"$f":"0.7*$A$1*1000*1000","v":6864654.9999999991},100,{"$f":"A143","v":140},-1,"RCP3-SA6C-3-水平-07kg-0.7G-100mm/s"]
[142,{"$f":"0.3*$A$1*1000*1000","v":2941995},150,-1,-1,"RCP3-SA6C-3-水平-08kg-0.3G"]
[143,{"$f":"0.5*$A$1*1000*1000","v":4903325},100,-1,-1,"RCP3-SA6C-3-水平-09kg-0.5G"]
[144,{"$f":"0.3*$A$1*1000*1000","v":2941995},125,-1,-1,"RCP3-SA6C-3-水平-11kg-0.3G"]
[145,{"$f":"0.2*$A$1*1000*1000","v":1961330},150,-1,-1,"RCP3-SA6C-3-水平-12kg-0.2G"]
[146,{"$f":"0.3*$A$1*1000*1000","v":2941995},100,-1,-1,"RCP3-SA6C-3-水平-14kg-0.3G"]
[147,{"$f":"0.2*$A$1*1000*1000","v":1961330},125,-1,-1,"RCP3-SA6C-3-水平-16kg-0.2G"]
[148,{"$f":"0.2*$A$1*1000*1000","v":1961330},100,-1,-1,"RCP3-SA6C-3-水平-19kg-0.2G"]
[149,{"$f":"0.3*$A$1*1000*1000","v":2941995},150,-1,-1,"RCP3-SA6C-3-垂直-02kg-0.3G"]
[150,{"$f":"0.2*$A$1*1000*1000","v":1961330},150,-1,-1,"RCP3-SA6C-3-垂直-03kg-0.2G"]
[151,{"$f":"0.1*$A$1*1000*1000","v":980665},150,-1,-1,"RCP3-SA6C-3-垂直-04kg-0.1G"]
[152,{"$f":"0.3*$A$1*1000*1000","v":2941995},125,-1,-1,"RCP3-SA6C-3-垂直-05kg-0.3G"]
[153,{"$f":"0.2*$A$1*1000*1000","v":1961330},125,-1,-1,"RCP3-SA6C-3-垂直-06kg-0.2G"]
[154,{"$f":"0.1*$A$1*1000*1000","v":980665},125,-1,-1,"RCP3-SA6C-3-垂直-07kg-0.1G"]
[155,{"$f":"0.3*$A$1*1000*1000","v":2941995},100,-1,-1,"RCP3-SA6C-3-垂直-08kg-0.3G"]
[156,{"$f":"0.2*$A$1*1000*1000","v":1961330},100,-1,-1,"RCP3-SA6C-3-垂直-09kg-0.2G"]
[157,{"$f":"0.1*$A$1*1000*1000","v":980665},100,-1,{"$f":"A161","v":158},"RCP3-SA6C-3-垂直-10kg-0.1G"]
[158,{"$f":"0.3*$A$1*1000*1000","v":2941995},75,{"$f":"A160","v":157},-1,"RCP3-SA6C-3-垂直-10kg-0.3G"]
[159,{"$f":"0.7*$A$1*1000*1000","v":6864654.9999999991},300,-1,-1,"RCP3-SA6C-6-水平-01kg-0.7G"]
[160,{"$f":"0.5*$A$1*1000*1000","v":4903325},300,-1,-1,"RCP3-SA6C-6-水平-03kg-0.5G"]
[161,{"$f":"0.7*$A$1*1000*1000","v":6864654.9999999991},250,-1,-1,"RCP3-SA6C-6-水平-04.5kg-0.7G"]
[162,{"$f":"0.3*$A$1*1000*1000","v":2941995},300,-1,{"$f":"A166","v":163},"RCP3-SA6C-6-水平-06kg-0.3G-300mm/s"]
[163,{"$f":"0.5*$A$1*1000*1000","v":4903325},250,{"$f":"A165","v":162},{"$f":"A167","v":164},"RCP3-SA6C-6-水平-06kg-0.5G-250mm/s"]
[164,{"$f":"0.7*$A$1*1000*1000","v":6864654.9999999991},200,{"$f":"A166","v":163},-1,"RCP3-SA6C-6-水平-06kg-0.7G-200mm/s"]
[165,{"$f":"0.2*$A$1*1000*1000","v":1961330},300,-1,-1,"RCP3-SA6C-6-水平-07kg-0.2G"]
[166,{"$f":"0.5*$A$1*1000*1000","v":4903325},200,-1,-1,"RCP3-SA6C-6-水平-08kg-0.5G"]
[167,{"$f":"0.3*$A$1*1000*1000","v":2941995},250,-1,-1,"RCP3-SA6C-6-水平-08.5kg-0.3G"]
[168,{"$f":"0.2*$A$1*1000*1000","v":1961330},250,-1,{"$f":"A172","v":169},"RCP3-SA6C-6-水平-10kg-0.2G-250mm/s"]
[169,{"$f":"0.3*$A$1*1000*1000","v":2941995},200,{"$f":"A171","v":168},-1,"RCP3-SA6C-6-水平-10kg-0.3G-200mm/s"]
[170,{"$f":"0.2*$A$1*1000*1000","v":1961330},200,-1,-1,"RCP3-SA6C-6-水平-12kg-0.2G"]
[171,{"$f":"0.3*$A$1*1000*1000","v":2941995},300,-1,-1,"RCP3-SA6C-6-垂直-00.5kg-0.3G"]
[172,{"$f":"0.2*$A$1*1000*1000","v":1961330},300,-1,-1,"RCP3-SA6C-6-垂直-01.5kg-0.2G"]
[173,{"$f":"0.1*$A$1*1000*1000","v":980665},300,-1,{"$f":"A177","v":174},"RCP3-SA6C-6-垂直-02kg-0.1G-300mm/s"]
[174,{"$f":"0.3*$A$1*1000*1000","v":2941995},250,{"$f":"A176","v":173},-1,"RCP3-SA6C-6-垂直-02kg-0.3G-250mm/s"]
[175,{"$f":"0.2*$A$1*1000*1000","v":1961330},250,-1,-1,"RCP3-SA6C-6-垂直-03kg-0.2G"]
[176,{"$f":"0.1*$A$1*1000*1000","v":980665},250,-1,{"$f":"A180","v":177},"RCP3-SA6C-6-垂直-03.5kg-0.1G-250mm/s"]
[177,{"$f":"0.3*$A$1*1000*1000","v":2941995},200,{"$f":"A179","v":176},-1,"RCP3-SA6C-6-垂直-03.5kg-0.3G-200mm/s"]
[178,{"$f":"0.2*$A$1*1000*1000","v":1961330},200,-1,-1,"RCP3-SA6C-6-垂直-04.5kg-0.2G"]
[179,{"$f":"0.1*$A$1*1000*1000","v":980665},200,-1,{"$f":"A183","v":180},"RCP3-SA6C-6-垂直-05kg-0.1G-200mm/s"]
[180,{"$f":"0.3*$A$1*1000*1000","v":2941995},150,{"$f":"A182","v":179},-1,"RCP3-SA6C-6-垂直-05kg-0.3G-150mm/s"]
[181,{"$f":"0.7*$A$1*1000*1000","v":6864654.9999999991},600,-1,-1,"RCP3-SA6C-12-水平-00.5kg-0.7G"]
[182,{"$f":"0.5*$A$1*1000*1000","v":4903325},600,-1,-1,"RCP3-SA6C-12-水平-01kg-0.5G"]
[183,{"$f":"0.7*$A$1*1000*1000","v":6864654.9999999991},500,-1,-1,"RCP3-SA6C-12-水平-01.5kg-0.7G"]
[184,{"$f":"0.3*$A$1*1000*1000","v":2941995},600,-1,{"$f":"A188","v":185},"RCP3-SA6C-12-水平-02kg-0.3G-600mm/s"]
[185,{"$f":"0.5*$A$1*1000*1000","v":4903325},500,{"$f":"A187","v":184},-1,"RCP3-SA6C-12-水平-02kg-0.5G-500mm/s"]
[186,{"$f":"0.7*$A$1*1000*1000","v":6864654.9999999991},400,-1,-1,"RCP3-SA6C-12-水平-02.5kg-0.7G"]
[187,{"$f":"0.2*$A$1*1000*1000","v":1961330},600,-1,{"$f":"A191","v":188},"RCP3-SA6C-12-水平-03kg-0.2G-600mm/s"]
[188,{"$f":"0.3*$A$1*1000*1000","v":2941995},500,{"$f":"A190","v":187},{"$f":"A192","v":189},"RCP3-SA6C-12-水平-03kg-0.3G-500mm/s"]
[189,{"$f":"0.5*$A$1*1000*1000","v":4903325},400,{"$f":"A191","v":188},{"$f":"A193","v":190},"RCP3-SA6C-12-水平-03kg-0.5G-400mm/s"]
[190,{"$f":"0.7*$A$1*1000*1000","v":6864654.9999999991},300,{"$f":"A192","v":189},-1,"RCP3-SA6C-12-水平-03kg-0.7G-300mm/s"]
[191,{"$f":"0.2*$A$1*1000*1000","v":1961330},500,-1,{"$f":"A195","v":192},"RCP3-SA6C-12-水平-04kg-0.2G-500mm/s"]
[192,{"$f":"0.3*$A$1*1000*1000","v":2941995},400,{"$f":"A194","v":191},{"$f":"A196","v":193},"RCP3-SA6C-12-水平-04kg-0.3G-400mm/s"]
[{"$f":"A195+1","v":193},{"$f":"0.5*$A$1*1000*1000","v":4903325},300,{"$f":"A195","v":192},-1,"RCP3-SA6C-12-水平-04kg-0.5G-300mm/s"]
[194,{"$f":"0.2*$A$1*1000*1000","v":1961330},400,-1,-1,"RCP3-SA6C-12-水平-05kg-0.2G"]
[195,{"$f":"0.3*$A$1*1000*1000","v":2941995},300,-1,-1,"RCP3-SA6C-12-水平-06kg-0.3G"]
[196,{"$f":"0.2*$A$1*1000*1000","v":1961330},200,-1,-1,"RCP3-SA6C-12-水平-08kg-0.2G"]
[197,{"$f":"0.3*$A$1*1000*1000","v":2941995},600,-1,-1,"RCP3-SA6C-12-垂直-00.5kg-0.3G"]
[198,{"$f":"0.3*$A$1*1000*1000","v":2941995},500,-1,-1,"RCP3-SA6C-12-垂直-01kg-0.3G"]
[199,{"$f":"0.3*$A$1*1000*1000","v":2941995},400,-1,-1,"RCP3-SA6C-12-垂直-02kg-0.3G"]
[200,{"$f":"H203*$A$1*1000*1000","v":6864654.9999999991},{"$f":"I203","v":1000},-1,-1,"RCP3-SA6C-20-水平",0.3,0.7,1000,{"$f":"IF(G203=0,IF(D203<>A349,\"ﾘﾝｸ不正\",\"○\"),\"○\")","v":"○"},{"$f":"IF(D204<>-1,IF(E203<>A204,\"ﾘﾝｸ不正\",\"○\"),\"○\")","v":"○"}]
[201,4903325,1000,-1,-1,"RCP3-SA6C-20-水平",0.5,0.5,1000,{"$f":"IF(G204=0,IF(D204<>A203,\"ﾘﾝｸ不正\",\"○\"),\"○\")","v":"○"},"○"]
[202,6864654.9999999991,833,-1,-1,"RCP3-SA6C-20-水平",1,0.7,833,"○","○"]
[203,6864654.9999999991,666,-1,-1,"RCP3-SA6C-20-水平",1.5,0.7,666,"○","○"]
[204,2941995,1000,-1,{"$f":"A208","v":205},"RCP3-SA6C-20-水平",2,0.3,1000,"○","○"]
[205,6864654.9999999991,333,{"$f":"A207","v":204},-1,null,null,0.7,333,"○","○"]
[206,2941995,666,-1,-1,"RCP3-SA6C-20-水平",3,0.3,666,"○","○"]
[207,2941995,333,-1,-1,"RCP3-SA6C-20-水平",4,0.3,333,"○","○"]
[208,1961330,666,-1,-1,"RCP3-SA6C-20-垂直",0.5,0.2,666,"○",{"$f":"IF(D350<>-1,IF(E211<>A350,\"ﾘﾝｸ不正\",\"○\"),\"○\")","v":"○"}]
[209,{"$f":"0.2*$A$1*1000*1000","v":1961330},50,-1,-1,"RCP3-SA2AR-20P-1S-水平"]
[210,1961330,100,-1,-1,"RCP3-SA2AR-20P-2S-水平"]
[211,1961330,200,-1,-1,"RCP3-SA2AR-20P-4S-水平"]
[212,1961330,100,-1,-1,"RCP3-SA2BR-20P-2S-水平"]
[213,1961330,200,-1,-1,"RCP3-SA2BR-20P-4S-水平"]
[214,1961330,300,-1,-1,"RCP3-SA2BR-20P-6S-水平"]
[215,1961330,100,-1,-1,"RCP3-SA3R-2-水平"]
[216,1961330,100,-1,-1,"RCP3-SA3R-2-垂直"]
[217,{"$f":"0.3*$A$1*1000*1000","v":2941995},200,-1,-1,"RCP3-SA3R-4-水平"]
[218,{"$f":"0.2*$A$1*1000*1000","v":1961330},200,-1,-1,"RCP3-SA3R-4-垂直"]
[219,{"$f":"0.3*$A$1*1000*1000","v":2941995},300,-1,-1,"RCP3-SA3R-6-水平"]
[220,{"$f":"0.2*$A$1*1000*1000","v":1961330},300,-1,-1,"RCP3-SA3R-6-垂直"]
[221,{"$f":"0.2*$A$1*1000*1000","v":1961330},125,-1,-1,"RCP3-SA4R-2.5-水平","←Ver.Dまで使用していたデータ．販売部から機械諸元をストレートタイプと揃える依頼があり，参照先をストレートタイプと同一データへ移動．"]
[222,{"$f":"0.2*$A$1*1000*1000","v":1961330},125,-1,-1,"RCP3-SA4R-2.5-垂直","←Ver.Dまで使用していたデータ．販売部から機械諸元をストレートタイプと揃える依頼があり，参照先をストレートタイプと同一データへ移動．"]
[223,{"$f":"0.3*$A$1*1000*1000","v":2941995},250,-1,-1,"RCP3-SA4R-5-水平","←Ver.Dまで使用していたデータ．販売部から機械諸元をストレートタイプと揃える依頼があり，参照先をストレートタイプと同一データへ移動．"]
[224,{"$f":"0.2*$A$1*1000*1000","v":1961330},250,-1,-1,"RCP3-SA4R-5-垂直","←Ver.Dまで使用していたデータ．販売部から機械諸元をストレートタイプと揃える依頼があり，参照先をストレートタイプと同一データへ移動．"]
[225,{"$f":"0.3*$A$1*1000*1000","v":2941995},500,-1,-1,"RCP3-SA4R-10-水平","←Ver.Dまで使用していたデータ．販売部から機械諸元をストレートタイプと揃える依頼があり，参照先をストレートタイプと同一データへ移動．"]
[226,{"$f":"0.2*$A$1*1000*1000","v":1961330},500,-1,-1,"RCP3-SA4R-10-垂直-00.5kg-0.2G","←Ver.Dまで使用していたデータ．販売部から機械諸元をストレートタイプと揃える依頼があり，参照先をストレートタイプと同一データへ移動．"]
[227,{"$f":"0.2*$A$1*1000*1000","v":1961330},417,-1,-1,"RCP3-SA4R-10-垂直-01kg-0.2G","←Ver.Dまで使用していたデータ．販売部から機械諸元をストレートタイプと揃える依頼があり，参照先をストレートタイプと同一データへ移動．"]
[228,{"$f":"0.2*$A$1*1000*1000","v":1961330},150,-1,-1,"RCP3-SA5R-3-水平","←Ver.Dまで使用していたデータ．販売部から機械諸元をストレートタイプと揃える依頼があり，参照先をストレートタイプと同一データへ移動．"]
[229,{"$f":"0.2*$A$1*1000*1000","v":1961330},150,-1,-1,"RCP3-SA5R-3-垂直-02kg-0.2G","←Ver.Dまで使用していたデータ．販売部から機械諸元をストレートタイプと揃える依頼があり，参照先をストレートタイプと同一データへ移動．"]
[230,{"$f":"0.2*$A$1*1000*1000","v":1961330},125,-1,-1,"RCP3-SA5R-3-垂直-04kg-0.2G","←Ver.Dまで使用していたデータ．販売部から機械諸元をストレートタイプと揃える依頼があり，参照先をストレートタイプと同一データへ移動．"]
[231,{"$f":"0.3*$A$1*1000*1000","v":2941995},300,-1,-1,"RCP3-SA5R-6-水平-06kg-0.3G","←Ver.Dまで使用していたデータ．販売部から機械諸元をストレートタイプと揃える依頼があり，参照先をストレートタイプと同一データへ移動．"]
[232,{"$f":"0.3*$A$1*1000*1000","v":2941995},250,-1,-1,"RCP3-SA5R-6-水平-08kg-0.3G","←Ver.Dまで使用していたデータ．販売部から機械諸元をストレートタイプと揃える依頼があり，参照先をストレートタイプと同一データへ移動．"]
[233,{"$f":"0.2*$A$1*1000*1000","v":1961330},300,-1,-1,"RCP3-SA5R-6-垂直-01kg-0.2G","←Ver.Dまで使用していたデータ．販売部から機械諸元をストレートタイプと揃える依頼があり，参照先をストレートタイプと同一データへ移動．"]
[234,{"$f":"0.2*$A$1*1000*1000","v":1961330},250,-1,-1,"RCP3-SA5R-6-垂直-02kg-0.2G","←Ver.Dまで使用していたデータ．販売部から機械諸元をストレートタイプと揃える依頼があり，参照先をストレートタイプと同一データへ移動．"]
[235,{"$f":"0.3*$A$1*1000*1000","v":2941995},600,-1,-1,"RCP3-SA5R-12-水平-02kg-0.3G","←Ver.Dまで使用していたデータ．販売部から機械諸元をストレートタイプと揃える依頼があり，参照先をストレートタイプと同一データへ移動．"]
[236,{"$f":"0.3*$A$1*1000*1000","v":2941995},400,-1,-1,"RCP3-SA5R-12-水平-04kg-0.3G","←Ver.Dまで使用していたデータ．販売部から機械諸元をストレートタイプと揃える依頼があり，参照先をストレートタイプと同一データへ移動．"]
[237,{"$f":"0.3*$A$1*1000*1000","v":2941995},300,-1,-1,"RCP3-SA5R-12-水平-06kg-0.3G","←Ver.Dまで使用していたデータ．販売部から機械諸元をストレートタイプと揃える依頼があり，参照先をストレートタイプと同一データへ移動．"]
[238,{"$f":"0.2*$A$1*1000*1000","v":1961330},600,-1,-1,"RCP3-SA5R-12-垂直-00.5kg-0.2G","←Ver.Dまで使用していたデータ．販売部から機械諸元をストレートタイプと揃える依頼があり，参照先をストレートタイプと同一データへ移動．"]
[239,{"$f":"0.2*$A$1*1000*1000","v":1961330},400,-1,-1,"RCP3-SA5R-12-垂直-01kg-0.2G","←Ver.Dまで使用していたデータ．販売部から機械諸元をストレートタイプと揃える依頼があり，参照先をストレートタイプと同一データへ移動．"]
[240,{"$f":"0.2*$A$1*1000*1000","v":1961330},150,-1,-1,"RCP3-SA6R-3-水平","←Ver.Dまで使用していたデータ．販売部から機械諸元をストレートタイプと揃える依頼があり，参照先をストレートタイプと同一データへ移動．"]
[241,{"$f":"0.2*$A$1*1000*1000","v":1961330},150,-1,-1,"RCP3-SA6R-3-垂直-02kg-0.2G","←Ver.Dまで使用していたデータ．販売部から機械諸元をストレートタイプと揃える依頼があり，参照先をストレートタイプと同一データへ移動．"]
[242,{"$f":"0.2*$A$1*1000*1000","v":1961330},125,-1,-1,"RCP3-SA6R-3-垂直-04kg-0.2G","←Ver.Dまで使用していたデータ．販売部から機械諸元をストレートタイプと揃える依頼があり，参照先をストレートタイプと同一データへ移動．"]
[243,{"$f":"0.3*$A$1*1000*1000","v":2941995},300,-1,-1,"RCP3-SA6R-6-水平-06kg-0.3G","←Ver.Dまで使用していたデータ．販売部から機械諸元をストレートタイプと揃える依頼があり，参照先をストレートタイプと同一データへ移動．"]
[244,{"$f":"0.3*$A$1*1000*1000","v":2941995},250,-1,-1,"RCP3-SA6R-6-水平-08kg-0.3G","←Ver.Dまで使用していたデータ．販売部から機械諸元をストレートタイプと揃える依頼があり，参照先をストレートタイプと同一データへ移動．"]
[245,{"$f":"0.2*$A$1*1000*1000","v":1961330},300,-1,-1,"RCP3-SA6R-6-垂直-01kg-0.2G","←Ver.Dまで使用していたデータ．販売部から機械諸元をストレートタイプと揃える依頼があり，参照先をストレートタイプと同一データへ移動．"]
[246,{"$f":"0.2*$A$1*1000*1000","v":1961330},250,-1,-1,"RCP3-SA6R-6-垂直-02kg-0.2G","←Ver.Dまで使用していたデータ．販売部から機械諸元をストレートタイプと揃える依頼があり，参照先をストレートタイプと同一データへ移動．"]
[247,{"$f":"0.3*$A$1*1000*1000","v":2941995},600,-1,-1,"RCP3-SA6R-12-水平-02kg-0.3G","←Ver.Dまで使用していたデータ．販売部から機械諸元をストレートタイプと揃える依頼があり，参照先をストレートタイプと同一データへ移動．"]
[248,{"$f":"0.3*$A$1*1000*1000","v":2941995},400,-1,-1,"RCP3-SA6R-12-水平-04kg-0.3G","←Ver.Dまで使用していたデータ．販売部から機械諸元をストレートタイプと揃える依頼があり，参照先をストレートタイプと同一データへ移動．"]
[249,{"$f":"0.3*$A$1*1000*1000","v":2941995},300,-1,-1,"RCP3-SA6R-12-水平-06kg-0.3G","←Ver.Dまで使用していたデータ．販売部から機械諸元をストレートタイプと揃える依頼があり，参照先をストレートタイプと同一データへ移動．"]
[250,{"$f":"0.2*$A$1*1000*1000","v":1961330},600,-1,-1,"RCP3-SA6R-12-垂直-00.5kg-0.2G","←Ver.Dまで使用していたデータ．販売部から機械諸元をストレートタイプと揃える依頼があり，参照先をストレートタイプと同一データへ移動．"]
[251,{"$f":"0.2*$A$1*1000*1000","v":1961330},400,-1,-1,"RCP3-SA6R-12-垂直-01kg-0.2G","←Ver.Dまで使用していたデータ．販売部から機械諸元をストレートタイプと揃える依頼があり，参照先をストレートタイプと同一データへ移動．"]
[252,{"$f":"0.7*$A$1*1000*1000","v":6864654.9999999991},150,-1,-1,"RCP2-SA5C-3-水平-08kg-0.7G"]
[253,{"$f":"0.5*$A$1*1000*1000","v":4903325},150,-1,-1,"RCP2-SA5C-3-水平-09kg-0.5G"]
[254,{"$f":"0.3*$A$1*1000*1000","v":2941995},150,-1,{"$f":"A258","v":255},"RCP2-SA5C-3-水平-10kg-0.3G-150mm/s"]
[255,{"$f":"0.7*$A$1*1000*1000","v":6864654.9999999991},125,{"$f":"A257","v":254},-1,"RCP2-SA5C-3-水平-10kg-0.7G-125mm/s"]
[256,{"$f":"0.5*$A$1*1000*1000","v":4903325},125,-1,-1,"RCP2-SA5C-3-水平-11kg-0.5G"]
[{"$f":"A259+1","v":257},{"$f":"0.7*$A$1*1000*1000","v":6864654.9999999991},100,-1,-1,"RCP2-SA5C-3-水平-12kg-0.7G"]
[258,{"$f":"0.3*$A$1*1000*1000","v":2941995},125,-1,-1,"RCP2-SA5C-3-水平-13kg-0.3G"]
[259,{"$f":"0.5*$A$1*1000*1000","v":4903325},100,-1,{"$f":"A263","v":260},"RCP2-SA5C-3-水平-14kg-0.5G-100mm/s"]
[260,{"$f":"0.7*$A$1*1000*1000","v":6864654.9999999991},75,{"$f":"A262","v":259},-1,"RCP2-SA5C-3-水平-14kg-0.7G-75mm/s"]
[261,{"$f":"0.2*$A$1*1000*1000","v":1961330},150,-1,{"$f":"A265","v":262},"RCP2-SA5C-3-水平-16kg-0.2G-150mm/s"]
[262,{"$f":"0.3*$A$1*1000*1000","v":2941995},100,{"$f":"A264","v":261},{"$f":"A266","v":263},"RCP2-SA5C-3-水平-16kg-0.3G-100mm/s"]
[263,{"$f":"0.5*$A$1*1000*1000","v":4903325},75,{"$f":"A265","v":262},{"$f":"A267","v":264},"RCP2-SA5C-3-水平-16kg-0.5G-75mm/s"]
[264,{"$f":"0.7*$A$1*1000*1000","v":6864654.9999999991},50,{"$f":"A266","v":263},-1,"RCP2-SA5C-3-水平-16kg-0.7G-50mm/s"]
[265,{"$f":"0.3*$A$1*1000*1000","v":2941995},150,-1,-1,"RCP2-SA5C-3-垂直-01.5kg-0.3G"]
[266,{"$f":"0.2*$A$1*1000*1000","v":1961330},150,-1,-1,"RCP2-SA5C-3-垂直-04.5kg-0.2G"]
[267,{"$f":"0.1*$A$1*1000*1000","v":980665},150,-1,{"$f":"A271","v":268},"RCP2-SA5C-3-垂直-05kg-0.1G-150mm/s"]
[268,{"$f":"0.3*$A$1*1000*1000","v":2941995},125,{"$f":"A270","v":267},-1,"RCP2-SA5C-3-垂直-05kg-0.3G-125mm/s"]
[269,{"$f":"0.2*$A$1*1000*1000","v":1961330},125,-1,-1,"RCP2-SA5C-3-垂直-05.5kg-0.2G"]
[270,{"$f":"0.1*$A$1*1000*1000","v":980665},125,-1,-1,"RCP2-SA5C-3-垂直-06kg-0.1G"]
[271,{"$f":"0.3*$A$1*1000*1000","v":2941995},100,-1,-1,"RCP2-SA5C-3-垂直-08kg-0.3G"]
[272,{"$f":"0.7*$A$1*1000*1000","v":6864654.9999999991},300,-1,-1,"RCP2-SA5C-6-水平-04kg-0.7G"]
[273,{"$f":"0.5*$A$1*1000*1000","v":4903325},300,-1,-1,"RCP2-SA5C-6-水平-05kg-0.5G"]
[274,{"$f":"0.7*$A$1*1000*1000","v":6864654.9999999991},250,-1,-1,"RCP2-SA5C-6-水平-07kg-0.7G"]
[275,{"$f":"0.3*$A$1*1000*1000","v":2941995},300,-1,{"$f":"A279","v":276},"RCP2-SA5C-6-水平-08kg-0.3G-300mm/s"]
[276,{"$f":"0.5*$A$1*1000*1000","v":4903325},250,{"$f":"A278","v":275},-1,"RCP2-SA5C-6-水平-08kg-0.5G-250mm/s"]
[277,{"$f":"0.3*$A$1*1000*1000","v":2941995},250,-1,-1,"RCP2-SA5C-6-水平-09kg-0.3G"]
[278,{"$f":"0.7*$A$1*1000*1000","v":6864654.9999999991},200,-1,-1,"RCP2-SA5C-6-水平-12kg-0.7G"]
[279,{"$f":"0.2*$A$1*1000*1000","v":1961330},300,-1,{"$f":"A283","v":280},"RCP2-SA5C-6-水平-13kg-0.2G-300mm/s"]
[280,{"$f":"0.5*$A$1*1000*1000","v":4903325},200,{"$f":"A282","v":279},-1,"RCP2-SA5C-6-水平-13kg-0.5G-200mm/s"]
[281,{"$f":"0.3*$A$1*1000*1000","v":2941995},300,-1,-1,"RCP2-SA5C-6-垂直-01.5kg-0.3G"]
[282,{"$f":"0.2*$A$1*1000*1000","v":1961330},300,-1,-1,"RCP2-SA5C-6-垂直-02.5kg-0.2G"]
[283,{"$f":"0.3*$A$1*1000*1000","v":2941995},250,-1,-1,"RCP2-SA5C-6-垂直-03kg-0.3G"]
[284,{"$f":"0.2*$A$1*1000*1000","v":1961330},250,-1,{"$f":"A288","v":285},"RCP2-SA5C-6-垂直-04kg-0.2G-250mm/s"]
[285,{"$f":"0.3*$A$1*1000*1000","v":2941995},200,{"$f":"A287","v":284},-1,"RCP2-SA5C-6-垂直-04kg-0.3G-200mm/s"]
[286,{"$f":"0.7*$A$1*1000*1000","v":6864654.9999999991},600,-1,-1,"RCP2-SA5C-12-水平-01.5kg-0.7G"]
[287,{"$f":"0.5*$A$1*1000*1000","v":4903325},600,-1,-1,"RCP2-SA5C-12-水平-02kg-0.5G"]
[288,{"$f":"0.7*$A$1*1000*1000","v":6864654.9999999991},400,-1,-1,"RCP2-SA5C-12-水平-03.5kg-0.7G"]
[289,{"$f":"0.3*$A$1*1000*1000","v":2941995},600,-1,{"$f":"A293","v":290},"RCP2-SA5C-12-水平-04kg-0.3G-600mm/s"]
[290,{"$f":"0.5*$A$1*1000*1000","v":4903325},400,{"$f":"A292","v":289},-1,"RCP2-SA5C-12-水平-04kg-0.5G-400mm/s"]
[291,{"$f":"0.3*$A$1*1000*1000","v":2941995},500,-1,{"$f":"A295","v":292},"RCP2-SA5C-12-水平-05kg-0.3G-500mm/s"]
[292,{"$f":"0.7*$A$1*1000*1000","v":6864654.9999999991},300,{"$f":"A294","v":291},-1,"RCP2-SA5C-12-水平-05kg-0.7G-300mm/s"]
[293,{"$f":"0.5*$A$1*1000*1000","v":4903325},300,-1,-1,"RCP2-SA5C-12-水平-05.5kg-0.5G"]
[294,{"$f":"0.3*$A$1*1000*1000","v":2941995},400,-1,-1,"RCP2-SA5C-12-水平-06kg-0.3G"]
[295,{"$f":"0.2*$A$1*1000*1000","v":1961330},500,-1,-1,"RCP2-SA5C-12-水平-07kg-0.2G"]
[296,{"$f":"0.2*$A$1*1000*1000","v":1961330},400,-1,-1,"RCP2-SA5C-12-水平-08kg-0.2G"]
[297,{"$f":"0.3*$A$1*1000*1000","v":2941995},600,-1,-1,"RCP2-SA5C-12-垂直-00.5kg-0.3G"]
[298,{"$f":"0.2*$A$1*1000*1000","v":1961330},600,-1,{"$f":"A302","v":299},"RCP2-SA5C-12-垂直-01kg-0.2G"]
[299,{"$f":"0.3*$A$1*1000*1000","v":2941995},500,{"$f":"A301","v":298},-1,"RCP2-SA5C-12-垂直-01kg-0.3G"]
[300,{"$f":"0.7*$A$1*1000*1000","v":6864654.9999999991},150,-1,-1,"RCP2-SA6C-3-水平-09kg-0.7G"]
[301,{"$f":"0.5*$A$1*1000*1000","v":4903325},150,-1,{"$f":"A305","v":302},"RCP2-SA6C-3-水平-10kg-0.5G-150mm/s"]
[302,{"$f":"0.7*$A$1*1000*1000","v":6864654.9999999991},125,{"$f":"A304","v":301},-1,"RCP2-SA6C-3-水平-10kg-0.7G-125mm/s"]
[303,{"$f":"0.5*$A$1*1000*1000","v":4903325},125,-1,{"$f":"A307","v":304},"RCP2-SA6C-3-水平-11kg-0.5G-125mm/s"]
[304,{"$f":"0.7*$A$1*1000*1000","v":6864654.9999999991},100,{"$f":"A306","v":303},-1,"RCP2-SA6C-3-水平-11kg-0.7G-100mm/s"]
[305,{"$f":"0.5*$A$1*1000*1000","v":4903325},100,-1,-1,"RCP2-SA6C-3-水平-12kg-0.5G"]
[306,{"$f":"0.3*$A$1*1000*1000","v":2941995},150,-1,-1,"RCP2-SA6C-3-水平-13kg-0.3G"]
[307,{"$f":"0.3*$A$1*1000*1000","v":2941995},125,-1,-1,"RCP2-SA6C-3-水平-14kg-0.4G"]
[308,{"$f":"0.2*$A$1*1000*1000","v":1961330},150,-1,{"$f":"A312","v":309},"RCP2-SA6C-3-水平-15kg-0.2G-150mm/s"]
[309,{"$f":"0.3*$A$1*1000*1000","v":2941995},100,{"$f":"A311","v":308},-1,"RCP2-SA6C-3-水平-15kg-0.3G-100mm/s"]
[310,{"$f":"0.2*$A$1*1000*1000","v":1961330},125,-1,-1,"RCP2-SA6C-3-水平-16kg-0.2G"]
[311,{"$f":"0.2*$A$1*1000*1000","v":1961330},100,-1,-1,"RCP2-SA6C-3-水平-17kg-0.2G"]
[312,{"$f":"0.7*$A$1*1000*1000","v":6864654.9999999991},75,-1,-1,"RCP2-SA6C-3-水平-19kg-0.7G"]
[313,{"$f":"0.3*$A$1*1000*1000","v":2941995},150,-1,-1,"RCP2-SA6C-3-垂直-02kg-0.3G"]
[314,{"$f":"0.2*$A$1*1000*1000","v":1961330},150,-1,-1,"RCP2-SA6C-3-垂直-04kg-0.2G"]
[315,{"$f":"0.3*$A$1*1000*1000","v":2941995},125,-1,-1,"RCP2-SA6C-3-垂直-06kg-0.3G"]
[316,{"$f":"0.7*$A$1*1000*1000","v":6864654.9999999991},300,-1,-1,"RCP2-SA6C-6-水平-03kg-0.7G"]
[317,{"$f":"0.5*$A$1*1000*1000","v":4903325},300,-1,-1,"RCP2-SA6C-6-水平-04kg-0.5G"]
[318,{"$f":"0.7*$A$1*1000*1000","v":6864654.9999999991},250,-1,-1,"RCP2-SA6C-6-水平-06kg-0.7G"]
[319,{"$f":"0.5*$A$1*1000*1000","v":4903325},250,-1,-1,"RCP2-SA6C-6-水平-08kg-0.5G"]
[320,{"$f":"0.7*$A$1*1000*1000","v":6864654.9999999991},200,-1,-1,"RCP2-SA6C-6-水平-10kg-0.7G"]
[{"$f":"A323+1","v":321},{"$f":"0.3*$A$1*1000*1000","v":2941995},300,-1,{"$f":"A325","v":322},"RCP2-SA6C-6-水平-12kg-0.3G-300mm/s"]
[322,{"$f":"0.5*$A$1*1000*1000","v":4903325},200,{"$f":"A324","v":321},-1,"RCP2-SA6C-6-水平-12kg-0.5G-200mm/s"]
[323,{"$f":"0.2*$A$1*1000*1000","v":1961330},300,-1,-1,"RCP2-SA6C-6-水平-13kg-0.2G"]
[324,{"$f":"0.2*$A$1*1000*1000","v":1961330},250,-1,{"$f":"A328","v":325},"RCP2-SA6C-6-水平-15kg-0.2G-250mm/s"]
[325,{"$f":"0.3*$A$1*1000*1000","v":2941995},200,{"$f":"A327","v":324},-1,"RCP2-SA6C-6-水平-15kg-0.3G-200mm/s"]
[326,{"$f":"0.2*$A$1*1000*1000","v":1961330},200,-1,-1,"RCP2-SA6C-6-水平-16kg-0.2G"]
[327,{"$f":"0.3*$A$1*1000*1000","v":2941995},300,-1,-1,"RCP2-SA6C-6-垂直-01kg-0.3G"]
[328,{"$f":"0.3*$A$1*1000*1000","v":2941995},250,-1,-1,"RCP2-SA6C-6-垂直-02kg-0.3G"]
[329,{"$f":"0.2*$A$1*1000*1000","v":1961330},300,-1,-1,"RCP2-SA6C-6-垂直-02.5kg-0.2G"]
[330,{"$f":"0.3*$A$1*1000*1000","v":2941995},200,-1,-1,"RCP2-SA6C-6-垂直-03kg-0.3G"]
[331,{"$f":"0.3*$A$1*1000*1000","v":2941995},150,-1,-1,"RCP2-SA6C-6-垂直-04kg-0.3G"]
[332,{"$f":"0.7*$A$1*1000*1000","v":6864654.9999999991},600,-1,-1,"RCP2-SA6C-12-水平-01kg-0.7G"]
[333,{"$f":"0.5*$A$1*1000*1000","v":4903325},600,-1,{"$f":"A337","v":334},"RCP2-SA6C-12-水平-02kg-0.5G-600mm/s"]
[334,{"$f":"0.7*$A$1*1000*1000","v":6864654.9999999991},500,{"$f":"A336","v":333},-1,"RCP2-SA6C-12-水平-02kg-0.7G-500mm/s"]
[335,{"$f":"0.5*$A$1*1000*1000","v":4903325},500,-1,{"$f":"A339","v":336},"RCP2-SA6C-12-水平-03kg-0.5G-500mm/s"]
[336,{"$f":"0.7*$A$1*1000*1000","v":6864654.9999999991},400,{"$f":"A338","v":335},-1,"RCP2-SA6C-12-水平-03kg-0.7G-400mm/s"]
[337,{"$f":"0.5*$A$1*1000*1000","v":4903325},400,-1,-1,"RCP2-SA6C-12-水平-04kg-0.5G"]
[338,{"$f":"0.3*$A$1*1000*1000","v":2941995},600,-1,{"$f":"A342","v":339},"RCP2-SA6C-12-水平-06kg-0.3G-600mm/s"]
[339,{"$f":"0.7*$A$1*1000*1000","v":6864654.9999999991},300,{"$f":"A341","v":338},-1,"RCP2-SA6C-12-水平-06kg-0.7G-300mm/s"]
[340,{"$f":"0.5*$A$1*1000*1000","v":4903325},300,-1,-1,"RCP2-SA6C-12-水平-07kg-0.5G"]
[341,{"$f":"0.3*$A$1*1000*1000","v":2941995},300,-1,-1,"RCP2-SA6C-12-水平-08.5kg-0.3G"]
[342,{"$f":"0.3*$A$1*1000*1000","v":2941995},600,-1,-1,"RCP2-SA6C-12-垂直-00.5kg-0.3G"]
[343,{"$f":"0.2*$A$1*1000*1000","v":1961330},600,-1,-1,"RCP2-SA6C-12-垂直-01kg-0.2G"]
[344,{"$f":"0.1*$A$1*1000*1000","v":980665},500,-1,{"$f":"A348","v":345},"RCP2-SA6C-12-垂直-01.5kg-0.1G-500mm/s"]
[345,{"$f":"0.2*$A$1*1000*1000","v":1961330},400,{"$f":"A347","v":344},{"$f":"A349","v":346},"RCP2-SA6C-12-垂直-01.5kg-0.2G-400mm/s"]
[346,{"$f":"0.3*$A$1*1000*1000","v":2941995},300,{"$f":"A348","v":345},-1,"RCP2-SA6C-12-垂直-01.5kg-0.3G-300mm/s"]
[347,{"$f":"0.2*$A$1*1000*1000","v":1961330},133,-1,-1,"RCP2-SA7C-4-水平-40kg-0.2G"]
[348,{"$f":"0.2*$A$1*1000*1000","v":1961330},133,-1,-1,"RCP2-SA7C-4-垂直-05kg-0.2G"]
[349,{"$f":"0.2*$A$1*1000*1000","v":1961330},100,-1,-1,"RCP2-SA7C-4-垂直-10kg-0.2G"]
[350,{"$f":"0.2*$A$1*1000*1000","v":1961330},67,-1,-1,"RCP2-SA7C-4-垂直-15kg-0.2G"]
[351,{"$f":"0.3*$A$1*1000*1000","v":2941995},266,-1,-1,"RCP2-SA7C-8-水平-10kg-0.3G"]
[352,{"$f":"0.3*$A$1*1000*1000","v":2941995},200,-1,-1,"RCP2-SA7C-8-水平-25kg-0.3G"]
[353,{"$f":"0.3*$A$1*1000*1000","v":2941995},133,-1,-1,"RCP2-SA7C-8-水平-40kg-0.3G"]
[354,{"$f":"0.2*$A$1*1000*1000","v":1961330},266,-1,-1,"RCP2-SA7C-8-垂直-01.5kg-0.2G"]
[355,{"$f":"0.2*$A$1*1000*1000","v":1961330},200,-1,-1,"RCP2-SA7C-8-垂直-04kg-0.2G"]
[356,{"$f":"0.2*$A$1*1000*1000","v":1961330},133,-1,-1,"RCP2-SA7C-8-垂直-07kg-0.2G"]
[357,{"$f":"0.2*$A$1*1000*1000","v":1961330},67,-1,-1,"RCP2-SA7C-8-垂直-10kg-0.2G"]
[358,{"$f":"0.3*$A$1*1000*1000","v":2941995},533,-1,-1,"RCP2-SA7C-16-水平-07kg-0.3G"]
[359,{"$f":"0.3*$A$1*1000*1000","v":2941995},400,-1,-1,"RCP2-SA7C-16-水平-15kg-0.3G"]
[360,{"$f":"0.3*$A$1*1000*1000","v":2941995},267,-1,-1,"RCP2-SA7C-16-水平-25kg-0.3G"]
[361,{"$f":"0.3*$A$1*1000*1000","v":2941995},133,-1,-1,"RCP2-SA7C-16-水平-35kg-0.3G"]
[362,{"$f":"0.2*$A$1*1000*1000","v":1961330},533,-1,-1,"RCP2-SA7C-16-垂直-00.5kg-0.2G"]
[363,1961330,400,-1,-1,"RCP2-SA7C-16-垂直-01.5kg-0.2G"]
[364,1961330,267,-1,-1,"RCP2-SA7C-16-垂直-03kg-0.2G"]
[365,1961330,133,-1,-1,"RCP2-SA7C-16-垂直-05kg-0.2G"]
[366,1961330,150,-1,-1,"RCP2-SS7C-3-水平-20kg-0.2G"]
[367,1961330,113,-1,-1,"RCP2-SS7C-3-水平-30kg-0.2G"]
[368,1961330,150,-1,-1,"RCP2-SS7C-3-垂直-04kg-0.2G"]
[369,1961330,113,-1,-1,"RCP2-SS7C-3-垂直-08kg-0.2G"]
[370,1961330,75,-1,-1,"RCP2-SS7C-3-垂直-12kg-0.2G"]
[371,{"$f":"0.3*$A$1*1000*1000","v":2941995},300,-1,-1,"RCP2-SS7C-6-水平-20kg-0.3G"]
[372,{"$f":"0.3*$A$1*1000*1000","v":2941995},225,-1,-1,"RCP2-SS7C-6-水平-30kg-0.3G"]
[373,{"$f":"0.2*$A$1*1000*1000","v":1961330},300,-1,-1,"RCP2-SS7C-6-垂直-02kg-0.2G"]
[374,{"$f":"0.2*$A$1*1000*1000","v":1961330},225,-1,-1,"RCP2-SS7C-6-垂直-04kg-0.2G"]
[375,{"$f":"0.2*$A$1*1000*1000","v":1961330},150,-1,-1,"RCP2-SS7C-6-垂直-06kg-0.2G"]
[376,{"$f":"0.2*$A$1*1000*1000","v":1961330},75,-1,-1,"RCP2-SS7C-6-垂直-08kg-0.2G"]
[377,{"$f":"0.3*$A$1*1000*1000","v":2941995},600,-1,-1,"RCP2-SS7C-12-水平-06kg-0.3G"]
[378,{"$f":"0.3*$A$1*1000*1000","v":2941995},450,-1,-1,"RCP2-SS7C-12-水平-10kg-0.3G"]
[379,{"$f":"0.3*$A$1*1000*1000","v":2941995},300,-1,-1,"RCP2-SS7C-12-水平-18kg-0.3G"]
[380,{"$f":"0.3*$A$1*1000*1000","v":2941995},150,-1,-1,"RCP2-SS7C-12-水平-30kg-0.3G"]
[381,{"$f":"0.2*$A$1*1000*1000","v":1961330},600,-1,-1,"RCP2-SS7C-12-垂直-01kg-0.2G"]
[382,1961330,450,-1,-1,"RCP2-SS7C-12-垂直-02kg-0.2G"]
[383,1961330,300,-1,-1,"RCP2-SS7C-12-垂直-03kg-0.2G"]
[384,1961330,150,-1,-1,"RCP2-SS7C-12-垂直-04kg-0.2G"]
[{"$f":"A387+1","v":385},1961330,165,-1,-1,"RCP2-SS8C-5-水平-10kg-0.2G"]
[386,1961330,125,-1,-1,"RCP2-SS8C-5-水平-30kg-0.2G"]
[387,1961330,83,-1,-1,"RCP2-SS8C-5-水平-40kg-0.2G"]
[388,1961330,42,-1,-1,"RCP2-SS8C-5-水平-55kg-0.2G"]
[389,1961330,150,-1,-1,"RCP2-SS8C-5-垂直-00.5kg-0.2G"]
[390,1961330,125,-1,-1,"RCP2-SS8C-5-垂直-04kg-0.2G"]
[391,1961330,83,-1,-1,"RCP2-SS8C-5-垂直-07kg-0.2G"]
[392,1961330,42,-1,-1,"RCP2-SS8C-5-垂直-20kg-0.2G"]
[393,{"$f":"0.3*$A$1*1000*1000","v":2941995},333,-1,-1,"RCP2-SS8C-10-水平-04kg-0.3G"]
[394,{"$f":"0.3*$A$1*1000*1000","v":2941995},250,-1,-1,"RCP2-SS8C-10-水平-15kg-0.3G"]
[395,{"$f":"0.3*$A$1*1000*1000","v":2941995},167,-1,-1,"RCP2-SS8C-10-水平-40kg-0.3G"]
[396,{"$f":"0.3*$A$1*1000*1000","v":2941995},83,-1,-1,"RCP2-SS8C-10-水平-50kg-0.3G"]
[397,{"$f":"0.2*$A$1*1000*1000","v":1961330},300,-1,-1,"RCP2-SS8C-10-垂直-02kg-0.2G"]
[398,{"$f":"0.2*$A$1*1000*1000","v":1961330},250,-1,-1,"RCP2-SS8C-10-垂直-04kg-0.2G"]
[399,{"$f":"0.2*$A$1*1000*1000","v":1961330},167,-1,-1,"RCP2-SS8C-10-垂直-06kg-0.2G"]
[400,{"$f":"0.2*$A$1*1000*1000","v":1961330},83,-1,-1,"RCP2-SS8C-10-垂直-12kg-0.2G"]
[401,{"$f":"0.3*$A$1*1000*1000","v":2941995},666,-1,-1,"RCP2-SS8C-20-水平-10kg-0.3G"]
[402,{"$f":"0.3*$A$1*1000*1000","v":2941995},500,-1,-1,"RCP2-SS8C-20-水平-17kg-0.3G"]
[403,{"$f":"0.3*$A$1*1000*1000","v":2941995},333,-1,-1,"RCP2-SS8C-20-水平-25kg-0.3G"]
[404,{"$f":"0.3*$A$1*1000*1000","v":2941995},167,-1,-1,"RCP2-SS8C-20-水平-40kg-0.3G"]
[405,{"$f":"0.2*$A$1*1000*1000","v":1961330},600,-1,-1,"RCP2-SS8C-20-垂直-00.5kg-0.2G"]
[406,{"$f":"0.2*$A$1*1000*1000","v":1961330},500,-1,-1,"RCP2-SS8C-20-垂直-01g-0.2G"]
[407,{"$f":"0.2*$A$1*1000*1000","v":1961330},333,-1,-1,"RCP2-SS8C-20-垂直-02kg-0.2G"]
[408,{"$f":"0.2*$A$1*1000*1000","v":1961330},167,-1,-1,"RCP2-SS8C-20-垂直-05kg-0.2G"]
[409,{"$f":"0.5*$A$1*1000*1000","v":4903325},1200,-1,-1,"RCP2-HS8C-30-水平-01kg-0.5G"]
[410,{"$f":"0.3*$A$1*1000*1000","v":2941995},1200,-1,{"$f":"A414","v":411},"RCP2-HS8C-30-水平-02kg-0.3G-1200mm/s"]
[411,{"$f":"0.5*$A$1*1000*1000","v":4903325},1000,{"$f":"A413","v":410},-1,"RCP2-HS8C-30-水平-02kg-0.5G-1000mm/s"]
[412,{"$f":"0.3*$A$1*1000*1000","v":2941995},1000,-1,-1,"RCP2-HS8C-30-水平-04kg-0.3G"]
[413,{"$f":"0.5*$A$1*1000*1000","v":4903325},750,-1,-1,"RCP2-HS8C-30-水平-07kg-0.5G"]
[414,{"$f":"0.3*$A$1*1000*1000","v":2941995},750,-1,{"$f":"A418","v":415},"RCP2-HS8C-30-水平-12kg-0.3G-750mm/s"]
[415,{"$f":"0.5*$A$1*1000*1000","v":4903325},500,{"$f":"A417","v":414},-1,"RCP2-HS8C-30-水平-12kg-0.5G-500mm/s"]
[416,{"$f":"0.3*$A$1*1000*1000","v":2941995},500,-1,-1,"RCP2-HS8C-30-水平-20kg-0.3G"]
[417,{"$f":"0.2*$A$1*1000*1000","v":1961330},750,-1,-1,"RCP2-HS8C-30-垂直-02kg-0.2G"]
[418,{"$f":"0.2*$A$1*1000*1000","v":1961330},500,-1,-1,"RCP2-HS8C-30-垂直-03kg-0.2G"]
[419,{"$f":"0.2*$A$1*1000*1000","v":1961330},150,-1,-1,"RCP2-SA5R-3-水平"]
[420,{"$f":"0.2*$A$1*1000*1000","v":1961330},150,-1,-1,"RCP2-SA5R-3-垂直"]
[421,{"$f":"0.3*$A$1*1000*1000","v":2941995},300,-1,-1,"RCP2-SA5R-6-水平"]
[422,{"$f":"0.2*$A$1*1000*1000","v":1961330},300,-1,-1,"RCP2-SA5R-6-垂直"]
[423,{"$f":"0.3*$A$1*1000*1000","v":2941995},600,-1,-1,"RCP2-SA5R-12-水平"]
[424,{"$f":"0.2*$A$1*1000*1000","v":1961330},600,-1,-1,"RCP2-SA5R-12-垂直"]
[425,{"$f":"0.2*$A$1*1000*1000","v":1961330},150,-1,-1,"RCP2-SA6R-3-水平-12kg-0.2G"]
[426,{"$f":"0.2*$A$1*1000*1000","v":1961330},150,-1,-1,"RCP2-SA6R-3-垂直-04kg-0.2G"]
[427,{"$f":"0.2*$A$1*1000*1000","v":1961330},125,-1,-1,"RCP2-SA6R-3-垂直-06kg-0.2G"]
[428,{"$f":"0.3*$A$1*1000*1000","v":2941995},300,-1,-1,"RCP2-SA6R-6-水平-12kg-0.3G"]
[429,{"$f":"0.2*$A$1*1000*1000","v":1961330},300,-1,-1,"RCP2-SA6R-6-垂直-02kg-0.2G"]
[430,{"$f":"0.2*$A$1*1000*1000","v":1961330},250,-1,-1,"RCP2-SA6R-6-垂直-02.5kg-0.2G"]
[431,{"$f":"0.2*$A$1*1000*1000","v":1961330},200,-1,-1,"RCP2-SA6R-6-垂直-03kg-0.2G"]
[432,{"$f":"0.3*$A$1*1000*1000","v":2941995},600,-1,-1,"RCP2-SA6R-12-水平-06kg-0.3G"]
[433,{"$f":"0.2*$A$1*1000*1000","v":1961330},600,-1,-1,"RCP2-SA6R-12-垂直-00.5kg-0.2G"]
[434,1961330,500,-1,-1,"RCP2-SA6R-12-垂直-01kg-0.2G"]
[435,1961330,400,-1,-1,"RCP2-SA6R-12-垂直-01.5kg-0.2G"]
[436,1961330,133,-1,-1,"RCP2-SA7R-4-水平-20kg-0.2G"]
[437,1961330,100,-1,-1,"RCP2-SA7R-4-水平-35kg-0.2G"]
[438,1961330,133,-1,-1,"RCP2-SA7R-4-垂直-03kg-0.2G"]
[439,1961330,100,-1,-1,"RCP2-SA7R-4-垂直-09kg-0.2G"]
[440,1961330,67,-1,-1,"RCP2-SA7R-4-垂直-15kg-0.2G"]
[441,{"$f":"0.3*$A$1*1000*1000","v":2941995},266,-1,-1,"RCP2-SA7R-8-水平-07kg-0.3G"]
[442,{"$f":"0.3*$A$1*1000*1000","v":2941995},200,-1,-1,"RCP2-SA7R-8-水平-25kg-0.3G"]
[443,{"$f":"0.3*$A$1*1000*1000","v":2941995},133,-1,-1,"RCP2-SA7R-8-水平-35kg-0.3G"]
[444,{"$f":"0.2*$A$1*1000*1000","v":1961330},266,-1,-1,"RCP2-SA7R-8-垂直-01.5kg-0.2G"]
[445,{"$f":"0.2*$A$1*1000*1000","v":1961330},200,-1,-1,"RCP2-SA7R-8-垂直-04.5kg-0.2G"]
[446,{"$f":"0.2*$A$1*1000*1000","v":1961330},133,-1,-1,"RCP2-SA7R-8-垂直-07.5kg-0.2G"]
[447,{"$f":"0.2*$A$1*1000*1000","v":1961330},67,-1,-1,"RCP2-SA7R-8-垂直-10kg-0.2G"]
[448,{"$f":"0.3*$A$1*1000*1000","v":2941995},533,-1,-1,"RCP2-SA7R-16-水平-04kg-0.3G"]
[{"$f":"A451+1","v":449},{"$f":"0.3*$A$1*1000*1000","v":2941995},400,-1,-1,"RCP2-SA7R-16-水平-12kg-0.3G"]
[450,{"$f":"0.3*$A$1*1000*1000","v":2941995},267,-1,-1,"RCP2-SA7R-16-水平-20kg-0.3G"]
[451,{"$f":"0.3*$A$1*1000*1000","v":2941995},133,-1,-1,"RCP2-SA7R-16-水平-25kg-0.3G"]
[452,{"$f":"0.2*$A$1*1000*1000","v":1961330},400,-1,-1,"RCP2-SA7R-16-垂直-01kg-0.2G"]
[453,1961330,267,-1,-1,"RCP2-SA7R-16-垂直-03.5kg-0.2G"]
[454,1961330,133,-1,-1,"RCP2-SA7R-16-垂直-05kg-0.2G"]
[455,1961330,105,-1,-1,"RCP2-SS7R-3-水平-20kg-0.2G"]
[456,1961330,75,-1,-1,"RCP2-SS7R-3-水平-30kg-0.2G"]
[457,1961330,105,-1,-1,"RCP2-SS7R-3-垂直-01.5kg-0.2G"]
[458,1961330,75,-1,-1,"RCP2-SS7R-3-垂直-05kg-0.2G"]
[459,1961330,38,-1,-1,"RCP2-SS7R-3-垂直-10kg-0.2G"]
[460,{"$f":"0.3*$A$1*1000*1000","v":2941995},250,-1,-1,"RCP2-SS7R-6-水平-02.5kg-0.3G"]
[461,{"$f":"0.3*$A$1*1000*1000","v":2941995},150,-1,-1,"RCP2-SS7R-6-水平-12kg-0.3G"]
[462,{"$f":"0.3*$A$1*1000*1000","v":2941995},75,-1,-1,"RCP2-SS7R-6-水平-20kg-0.3G"]
[463,{"$f":"0.2*$A$1*1000*1000","v":1961330},250,-1,-1,"RCP2-SS7R-6-垂直-00.5kg-0.2G"]
[464,{"$f":"0.2*$A$1*1000*1000","v":1961330},150,-1,-1,"RCP2-SS7R-6-垂直-04kg-0.2G"]
[465,{"$f":"0.2*$A$1*1000*1000","v":1961330},75,-1,-1,"RCP2-SS7R-6-垂直-05kg-0.2G"]
[466,{"$f":"0.3*$A$1*1000*1000","v":2941995},600,-1,-1,"RCP2-SS7R-12-水平-05.5kg-0.3G"]
[467,{"$f":"0.3*$A$1*1000*1000","v":2941995},450,-1,-1,"RCP2-SS7R-12-水平-07kg-0.3G"]
[468,{"$f":"0.3*$A$1*1000*1000","v":2941995},300,-1,-1,"RCP2-SS7R-12-水平-012.5kg-0.3G"]
[469,{"$f":"0.3*$A$1*1000*1000","v":2941995},150,-1,-1,"RCP2-SS7R-12-水平-20kg-0.3G"]
[470,{"$f":"0.2*$A$1*1000*1000","v":1961330},440,-1,-1,"RCP2-SS7R-12-垂直-00.5kg-0.2G"]
[471,1961330,300,-1,-1,"RCP2-SS7R-12-垂直-02kg-0.2G"]
[472,1961330,150,-1,-1,"RCP2-SS7R-12-垂直-04kg-0.2G"]
[473,1961330,160,-1,-1,"RCP2-SS8R-5-水平-01.5kg-0.2G"]
[474,1961330,125,-1,-1,"RCP2-SS8R-5-水平-23kg-0.2G"]
[475,1961330,83,-1,-1,"RCP2-SS8R-5-水平-40kg-0.2G"]
[476,1961330,42,-1,-1,"RCP2-SS8R-5-水平-55kg-0.2G"]
[477,1961330,140,-1,-1,"RCP2-SS8R-5-垂直-00.5kg-0.2G"]
[478,1961330,83,-1,-1,"RCP2-SS8R-5-垂直-05kg-0.2G"]
[479,1961330,42,-1,-1,"RCP2-SS8R-5-垂直-15kg-0.2G"]
[480,1961330,20,-1,-1,"RCP2-SS8R-5-垂直-20kg-0.2G"]
[481,{"$f":"0.3*$A$1*1000*1000","v":2941995},300,-1,-1,"RCP2-SS8R-10-水平-04kg-0.3G"]
[482,{"$f":"0.3*$A$1*1000*1000","v":2941995},250,-1,-1,"RCP2-SS8R-10-水平-10kg-0.3G"]
[483,{"$f":"0.3*$A$1*1000*1000","v":2941995},167,-1,-1,"RCP2-SS8R-10-水平-23kg-0.3G"]
[484,{"$f":"0.3*$A$1*1000*1000","v":2941995},83,-1,-1,"RCP2-SS8R-10-水平-28kg-0.3G"]
[485,{"$f":"0.2*$A$1*1000*1000","v":1961330},250,-1,-1,"RCP2-SS8R-10-垂直-00.5kg-0.2G"]
[486,{"$f":"0.2*$A$1*1000*1000","v":1961330},167,-1,-1,"RCP2-SS8R-10-垂直-03kg-0.2G"]
[487,{"$f":"0.2*$A$1*1000*1000","v":1961330},83,-1,-1,"RCP2-SS8R-10-垂直-09kg-0.2G"]
[488,{"$f":"0.3*$A$1*1000*1000","v":2941995},600,-1,-1,"RCP2-SS8R-20-水平-01kg-0.3G"]
[489,{"$f":"0.3*$A$1*1000*1000","v":2941995},500,-1,-1,"RCP2-SS8R-20-水平-04kg-0.3G"]
[490,{"$f":"0.3*$A$1*1000*1000","v":2941995},333,-1,-1,"RCP2-SS8R-20-水平-08kg-0.3G"]
[491,{"$f":"0.3*$A$1*1000*1000","v":2941995},167,-1,-1,"RCP2-SS8R-20-水平-23kg-0.3G"]
[492,{"$f":"0.2*$A$1*1000*1000","v":1961330},333,-1,-1,"RCP2-SS8R-20-垂直-00.5kg-0.2G"]
[493,{"$f":"0.2*$A$1*1000*1000","v":1961330},167,-1,-1,"RCP2-SS8R-20-垂直-03kg-0.2G"]
[494,{"$f":"0.5*$A$1*1000*1000","v":4903325},1200,-1,-1,"RCP2-HS8R-30-水平-00.5kg-0.5G"]
[495,{"$f":"0.3*$A$1*1000*1000","v":2941995},1200,-1,{"$f":"A499","v":496},"RCP2-HS8R-30-水平-01kg-0.3G-1200mm/s"]
[496,{"$f":"0.5*$A$1*1000*1000","v":4903325},1000,{"$f":"A498","v":495},-1,"RCP2-HS8R-30-水平-01kg-0.5G-1000mm/s"]
[497,{"$f":"0.3*$A$1*1000*1000","v":2941995},1000,-1,-1,"RCP2-HS8R-30-水平-03kg-0.3G"]
[498,{"$f":"0.5*$A$1*1000*1000","v":4903325},750,-1,-1,"RCP2-HS8R-30-水平-06kg-0.5G"]
[499,{"$f":"0.3*$A$1*1000*1000","v":2941995},750,-1,-1,"RCP2-HS8R-30-水平-10kg-0.3G"]
[500,{"$f":"0.5*$A$1*1000*1000","v":4903325},500,-1,-1,"RCP2-HS8R-30-水平-12kg-0.5G"]
[501,{"$f":"0.3*$A$1*1000*1000","v":2941995},500,-1,-1,"RCP2-HS8R-30-水平-20kg-0.3G"]
[502,{"$f":"0.2*$A$1*1000*1000","v":1961330},750,-1,-1,"RCP2-HS8R-30-垂直-01kg-0.2G"]
[503,{"$f":"0.2*$A$1*1000*1000","v":1961330},500,-1,-1,"RCP2-HS8R-30-垂直-03kg-0.2G"]
[504,{"$f":"0.5*$A$1*1000*1000","v":4903325},1000,-1,-1,"RCP2-BA6-54-水平-02kg-0.5G"]
[505,4903325,750,-1,-1,"RCP2-BA6-54-水平-03kg-0.5G"]
[506,4903325,500,-1,-1,"RCP2-BA6-54-水平-04kg-0.5G"]
[507,4903325,1500,-1,-1,"RCP2-BA7-54-水平-02kg-0.5G"]
[508,4903325,1250,-1,-1,"RCP2-BA7-54-水平-03.5kg-0.5G"]
[509,4903325,1000,-1,-1,"RCP2-BA7-54-水平-05kg-0.5G"]
[510,4903325,750,-1,-1,"RCP2-BA7-54-水平-06.5kg-0.5G"]
[511,4903325,500,-1,-1,"RCP2-BA7-54-水平-08kg-0.5G"]
[512,{"$f":"0.2*$A$1*1000*1000","v":1961330},150,-1,-1,"ERC2-SA6C-3-水平-12kg-0.2G"]
[{"$f":"A515+1","v":513},{"$f":"0.2*$A$1*1000*1000","v":1961330},150,-1,-1,"ERC2-SA6C-3-垂直-04kg-0.2G"]
[514,{"$f":"0.2*$A$1*1000*1000","v":1961330},125,-1,-1,"ERC2-SA6C-3-垂直-06kg-0.2G"]
[515,{"$f":"0.3*$A$1*1000*1000","v":2941995},300,-1,-1,"ERC2-SA6C-6-水平-12kg-0.3G"]
[516,{"$f":"0.2*$A$1*1000*1000","v":1961330},300,-1,-1,"ERC2-SA6C-6-垂直-02.5kg-0.2G"]
[517,{"$f":"0.2*$A$1*1000*1000","v":1961330},250,-1,-1,"ERC2-SA6C-6-垂直-03kg-0.2G"]
[518,{"$f":"0.3*$A$1*1000*1000","v":2941995},600,-1,-1,"ERC2-SA6C-12-水平-02kg-0.3G"]
[519,{"$f":"0.3*$A$1*1000*1000","v":2941995},500,-1,-1,"ERC2-SA6C-12-水平-04kg-0.3G"]
[520,{"$f":"0.3*$A$1*1000*1000","v":2941995},400,-1,-1,"ERC2-SA6C-12-水平-06kg-0.3G"]
[521,{"$f":"0.2*$A$1*1000*1000","v":1961330},600,-1,-1,"ERC2-SA6C-12-垂直-01kg-0.2G"]
[522,{"$f":"0.2*$A$1*1000*1000","v":1961330},400,-1,-1,"ERC2-SA6C-12-垂直-01.5kg-0.2G"]
[523,{"$f":"0.2*$A$1*1000*1000","v":1961330},125,-1,-1,"ERC2-SA7C-4-水平-20kg-0.2G"]
[524,{"$f":"0.2*$A$1*1000*1000","v":1961330},125,-1,-1,"ERC2-SA7C-4-垂直-02kg-0.2G"]
[525,{"$f":"0.2*$A$1*1000*1000","v":1961330},90,-1,-1,"ERC2-SA7C-4-垂直-10kg-0.2G"]
[526,{"$f":"0.3*$A$1*1000*1000","v":2941995},250,-1,-1,"ERC2-SA7C-8-水平-03.5kg-0.3G"]
[527,{"$f":"0.3*$A$1*1000*1000","v":2941995},180,-1,-1,"ERC2-SA7C-8-水平-20kg-0.3G"]
[528,{"$f":"0.2*$A$1*1000*1000","v":1961330},250,-1,-1,"ERC2-SA7C-8-垂直-00.5kg-0.2G"]
[529,{"$f":"0.2*$A$1*1000*1000","v":1961330},180,-1,-1,"ERC2-SA7C-8-垂直-01kg-0.2G"]
[530,{"$f":"0.2*$A$1*1000*1000","v":1961330},153,-1,-1,"ERC2-SA7C-8-垂直-05kg-0.2G"]
[531,{"$f":"0.3*$A$1*1000*1000","v":2941995},450,-1,-1,"ERC2-SA7C-16-水平-02kg-0.3G"]
[532,{"$f":"0.3*$A$1*1000*1000","v":2941995},400,-1,-1,"ERC2-SA7C-16-水平-05kg-0.3G"]
[533,{"$f":"0.3*$A$1*1000*1000","v":2941995},307,-1,-1,"ERC2-SA7C-16-水平-10kg-0.3G"]
[534,{"$f":"0.2*$A$1*1000*1000","v":1961330},400,-1,-1,"ERC2-SA7C-16-垂直-00.5kg-0.2G"]
[535,1961330,307,-1,-1,"ERC2-SA7C-16-垂直-02.5kg-0.2G"]
[536,1961330,50,-1,-1,"RCP3-RA2AC-20P-1S-水平"]
[537,1961330,50,-1,-1,"RCP3-RA2AC-20P-1S-垂直"]
[538,1961330,100,-1,-1,"RCP3-RA2AC-20P-2S-水平"]
[539,1961330,100,-1,-1,"RCP3-RA2AC-20P-2S-垂直"]
[540,1961330,200,-1,-1,"RCP3-RA2AC-20P-4S-水平"]
[541,1961330,200,-1,-1,"RCP3-RA2AC-20P-4S-垂直"]
[542,1961330,100,-1,-1,"RCP3-RA2BC-20P-2S-水平"]
[543,1961330,100,-1,-1,"RCP3-RA2BC-20P-2S-垂直"]
[544,1961330,200,-1,-1,"RCP3-RA2BC-20P-4S-水平"]
[545,1961330,200,-1,-1,"RCP3-RA2BC-20P-4S-垂直"]
[546,1961330,300,-1,-1,"RCP3-RA2BC-20P-6S-水平"]
[547,1961330,300,-1,-1,"RCP3-RA2BC-20P-6S-垂直"]
[548,1961330,50,-1,-1,"RCP3-RA2AR-20P-1S-水平"]
[549,1961330,50,-1,-1,"RCP3-RA2AR-20P-1S-垂直"]
[550,1961330,100,-1,-1,"RCP3-RA2AR-20P-2S-水平"]
[551,1961330,100,-1,-1,"RCP3-RA2AR-20P-2S-垂直"]
[552,1961330,200,-1,-1,"RCP3-RA2AR-20P-4S-水平"]
[553,1961330,200,-1,-1,"RCP3-RA2AR-20P-4S-垂直"]
[554,1961330,100,-1,-1,"RCP3-RA2BR-20P-2S-水平"]
[555,1961330,100,-1,-1,"RCP3-RA2BR-20P-2S-垂直"]
[556,1961330,200,-1,-1,"RCP3-RA2BR-20P-4S-水平"]
[557,1961330,200,-1,-1,"RCP3-RA2BR-20P-4S-垂直"]
[558,1961330,300,-1,-1,"RCP3-RA2BR-20P-6S-水平"]
[559,1961330,300,-1,-1,"RCP3-RA2BR-20P-6S-垂直"]
[560,{"$f":"0.05*$A$1*1000*1000","v":490332.5},25,-1,-1,"RCP2-RA2C-1-水平"]
[561,{"$f":"0.05*$A$1*1000*1000","v":490332.5},25,-1,-1,"RCP2-RA2C-1-垂直"]
[562,{"$f":"0.2*$A$1*1000*1000","v":1961330},114,-1,-1,"RCP2-RA3C-2.5-水平-04kg-0.2G"]
[563,1961330,93,-1,-1,"RCP2-RA3C-2.5-水平-15kg-0.2G"]
[564,1961330,62,-1,-1,"RCP2-RA3C-2.5-水平-30kg-0.2G"]
[565,1961330,114,-1,-1,"RCP2-RA3C-2.5-垂直-02kg-0.2G"]
[566,1961330,93,-1,-1,"RCP2-RA3C-2.5-垂直-03kg-0.2G"]
[567,1961330,62,-1,-1,"RCP2-RA3C-2.5-垂直-05kg-0.2G"]
[568,1961330,31,-1,-1,"RCP2-RA3C-2.5-垂直-10kg-0.2G"]
[569,1961330,187,-1,-1,"RCP2-RA3C-5-水平-02kg-0.2G"]
[570,1961330,125,-1,-1,"RCP2-RA3C-5-水平-08kg-0.2G"]
[571,1961330,62,-1,-1,"RCP2-RA3C-5-水平-13kg-0.2G"]
[572,1961330,31,-1,-1,"RCP2-RA3C-5-水平-15kg-0.2G"]
[573,1961330,187,-1,-1,"RCP2-RA3C-5-垂直-01kg-0.2G"]
[574,1961330,125,-1,-1,"RCP2-RA3C-5-垂直-03kg-0.2G"]
[575,1961330,62,-1,-1,"RCP2-RA3C-5-垂直-05kg-0.2G"]
[576,1961330,31,-1,-1,"RCP2-RA3C-5-垂直-06kg-0.2G"]
[{"$f":"A579+1","v":577},1961330,125,-1,-1,"RCP2-RA4C-2.5-水平-40kg-0.2G"]
[578,1961330,114,-1,-1,"RCP2-RA4C-2.5-垂直-02.5kg-0.2G"]
[579,1961330,93,-1,-1,"RCP2-RA4C-2.5-垂直-05kg-0.2G"]
[580,1961330,62,-1,-1,"RCP2-RA4C-2.5-垂直-15kg-0.2G"]
[581,1961330,31,-1,-1,"RCP2-RA4C-2.5-垂直-19kg-0.2G"]
[582,1961330,250,-1,-1,"RCP2-RA4C-5-水平-10kg-0.2G"]
[583,1961330,230,-1,-1,"RCP2-RA4C-5-水平-20kg-0.2G"]
[584,1961330,187,-1,-1,"RCP2-RA4C-5-水平-40kg-0.2G"]
[585,1961330,250,-1,-1,"RCP2-RA4C-5-垂直-02kg-0.2G"]
[586,1961330,230,-1,-1,"RCP2-RA4C-5-垂直-03kg-0.2G"]
[587,1961330,125,-1,-1,"RCP2-RA4C-5-垂直-07kg-0.2G"]
[588,1961330,62,-1,-1,"RCP2-RA4C-5-垂直-12kg-0.2G"]
[589,1961330,458,-1,-1,"RCP2-RA4C-10-水平-05kg-0.2G"]
[590,1961330,375,-1,-1,"RCP2-RA4C-10-水平-15kg-0.2G"]
[591,1961330,250,-1,-1,"RCP2-RA4C-10-水平-25kg-0.2G"]
[592,1961330,458,-1,-1,"RCP2-RA4C-10-垂直-00.5kg-0.2G"]
[593,1961330,375,-1,-1,"RCP2-RA4C-10-垂直-02kg-0.2G"]
[594,{"$f":"0.2*$A$1*1000*1000","v":1961330},125,-1,-1,"RCP2-RA4C-10-垂直-04.5kg-0.2G"]
[595,1961330,130,-1,-1,"RCP2-RA6C-4-水平-35kg-0.2G"]
[596,1961330,114,-1,-1,"RCP2-RA6C-4-水平-47kg-0.2G"]
[597,1961330,93,-1,-1,"RCP2-RA6C-4-水平-55kg-0.2G"]
[598,1961330,130,-1,-1,"RCP2-RA6C-4-垂直-01.5kg-0.2G"]
[599,1961330,114,-1,-1,"RCP2-RA6C-4-垂直-02kg-0.2G"]
[600,1961330,93,-1,-1,"RCP2-RA6C-4-垂直-03kg-0.2G"]
[601,1961330,62,-1,-1,"RCP2-RA6C-4-垂直-13kg-0.2G"]
[602,1961330,31,-1,-1,"RCP2-RA6C-4-垂直-25kg-0.2G"]
[603,1961330,15,-1,-1,"RCP2-RA6C-4-垂直-26kg-0.2G"]
[604,1961330,210,-1,-1,"RCP2-RA6C-8-水平-30kg-0.2G"]
[605,1961330,200,-1,-1,"RCP2-RA6C-8-水平-50kg-0.2G"]
[606,1961330,210,-1,-1,"RCP2-RA6C-8-垂直-01.5kg-0.2G"]
[607,1961330,200,-1,-1,"RCP2-RA6C-8-垂直-02.3kg-0.2G"]
[608,1961330,133,-1,-1,"RCP2-RA6C-8-垂直-06.1kg-0.2G"]
[609,1961330,66,-1,-1,"RCP2-RA6C-8-垂直-10kg-0.2G"]
[610,1961330,33,-1,-1,"RCP2-RA6C-8-垂直-17.5kg-0.2G"]
[611,1961330,450,-1,-1,"RCP2-RA6C-16-水平-10kg-0.2G"]
[612,1961330,400,-1,-1,"RCP2-RA6C-16-水平-20kg-0.2G"]
[613,1961330,266,-1,-1,"RCP2-RA6C-16-水平-30kg-0.2G"]
[614,1961330,133,-1,-1,"RCP2-RA6C-16-水平-35kg-0.2G"]
[615,1961330,66,-1,-1,"RCP2-RA6C-16-水平-40kg-0.2G"]
[616,1961330,400,-1,-1,"RCP2-RA6C-16-垂直-01kg-0.2G"]
[617,1961330,266,-1,-1,"RCP2-RA6C-16-垂直-03kg-0.2G"]
[618,1961330,66,-1,-1,"RCP2-RA6C-16-垂直-05kg-0.2G"]
[619,{"$f":"0.01*$A$1*1000*1000","v":98066.5},63,-1,-1,"RCP2-RA10C-2.5-水平-300kg-0.01G"]
[620,98066.5,63,-1,-1,"RCP2-RA10C-2.5-垂直-10kg-0.01G"]
[621,98066.5,55,-1,-1,"RCP2-RA10C-2.5-垂直-20kg-0.01G"]
[622,98066.5,50,-1,-1,"RCP2-RA10C-2.5-垂直-30kg-0.01G"]
[623,98066.5,37,-1,-1,"RCP2-RA10C-2.5-垂直-65kg-0.01G"]
[624,98066.5,35,-1,-1,"RCP2-RA10C-2.5-垂直-75kg-0.01G"]
[625,98066.5,30,-1,-1,"RCP2-RA10C-2.5-垂直-100kg-0.01G"]
[626,98066.5,20,-1,-1,"RCP2-RA10C-2.5-垂直-150kg-0.01G"]
[627,{"$f":"0.02*$A$1*1000*1000","v":196133},125,-1,-1,"RCP2-RA10C-5-水平-150kg-0.02G"]
[628,196133,125,-1,-1,"RCP2-RA10C-5-垂直-03kg-0.02G"]
[629,196133,105,-1,-1,"RCP2-RA10C-5-垂直-07kg-0.02G"]
[630,196133,100,-1,-1,"RCP2-RA10C-5-垂直-09kg-0.02G"]
[631,196133,90,-1,-1,"RCP2-RA10C-5-垂直-13kg-0.02G"]
[632,196133,77,-1,-1,"RCP2-RA10C-5-垂直-20kg-0.02G"]
[633,196133,70,-1,-1,"RCP2-RA10C-5-垂直-25kg-0.02G"]
[634,196133,68,-1,-1,"RCP2-RA10C-5-垂直-27kg-0.02G"]
[635,196133,65,-1,-1,"RCP2-RA10C-5-垂直-29kg-0.02G"]
[636,196133,60,-1,-1,"RCP2-RA10C-5-垂直-35kg-0.02G"]
[637,196133,58,-1,-1,"RCP2-RA10C-5-垂直-37kg-0.02G"]
[638,196133,55,-1,-1,"RCP2-RA10C-5-垂直-42kg-0.02G"]
[639,196133,50,-1,-1,"RCP2-RA10C-5-垂直-51kg-0.02G"]
[640,196133,40,-1,-1,"RCP2-RA10C-5-垂直-100kg-0.02G"]
[{"$f":"A643+1","v":641},{"$f":"0.04*$A$1*1000*1000","v":392266},250,-1,-1,"RCP2-RA10C-10-水平-15kg-0.04G"]
[642,392266,240,-1,-1,"RCP2-RA10C-10-水平-21kg-0.04G"]
[643,392266,225,-1,-1,"RCP2-RA10C-10-水平-38kg-0.04G"]
[644,392266,200,-1,-1,"RCP2-RA10C-10-水平-80kg-0.04G"]
[645,392266,167,-1,-1,"RCP2-RA10C-10-垂直-06kg-0.04G"]
[646,392266,152,-1,-1,"RCP2-RA10C-10-垂直-08kg-0.04G"]
[647,392266,140,-1,-1,"RCP2-RA10C-10-垂直-10kg-0.04G"]
[648,392266,120,-1,-1,"RCP2-RA10C-10-垂直-15kg-0.04G"]
[649,392266,105,-1,-1,"RCP2-RA10C-10-垂直-20kg-0.04G"]
[650,392266,75,-1,-1,"RCP2-RA10C-10-垂直-35kg-0.04G"]
[651,392266,55,-1,-1,"RCP2-RA10C-10-垂直-58kg-0.04G"]
[652,392266,45,-1,-1,"RCP2-RA10C-10-垂直-80kg-0.04G"]
[653,{"$f":"0.2*$A$1*1000*1000","v":1961330},125,-1,-1,"RCP2-SRA4R-2.5-水平-30kg-0.2G"]
[654,1961330,100,-1,-1,"RCP2-SRA4R-2.5-水平-35kg-0.2G"]
[655,1961330,125,-1,-1,"RCP2-SRA4R-2.5-垂直-03kg-0.2G"]
[656,1961330,100,-1,-1,"RCP2-SRA4R-2.5-垂直-05.5kg-0.2G"]
[657,1961330,75,-1,-1,"RCP2-SRA4R-2.5-垂直-08kg-0.2G"]
[658,1961330,50,-1,-1,"RCP2-SRA4R-2.5-垂直-11kg-0.2G"]
[659,1961330,25,-1,-1,"RCP2-SRA4R-2.5-垂直-13.5kg-0.2G"]
[660,1961330,13,-1,-1,"RCP2-SRA4R-2.5-垂直-15kg-0.2G"]
[661,{"$f":"0.3*$A$1*1000*1000","v":2941995},250,-1,-1,"RCP2-SRA4R-5-水平-10kg-0.3G"]
[662,{"$f":"0.3*$A$1*1000*1000","v":2941995},200,-1,-1,"RCP2-SRA4R-5-水平-15kg-0.3G"]
[663,{"$f":"0.3*$A$1*1000*1000","v":2941995},150,-1,-1,"RCP2-SRA4R-5-水平-20kg-0.3G"]
[664,{"$f":"0.3*$A$1*1000*1000","v":2941995},100,-1,-1,"RCP2-SRA4R-5-水平-25kg-0.3G"]
[665,1961330,250,-1,-1,"RCP2-SRA4R-5-垂直-02kg-0.2G"]
[666,1961330,200,-1,-1,"RCP2-SRA4R-5-垂直-03.5kg-0.2G"]
[667,1961330,150,-1,-1,"RCP2-SRA4R-5-垂直-05kg-0.2G"]
[668,1961330,100,-1,-1,"RCP2-SRA4R-5-垂直-07kg-0.2G"]
[669,1961330,50,-1,-1,"RCP2-SRA4R-5-垂直-09kg-0.2G"]
[670,1961330,125,-1,-1,"RCP2-RGS4C-2.5-水平-40kg-0.2G"]
[671,1961330,114,-1,-1,"RCP2-RGS4C-2.5-垂直-01.5kg-0.2G"]
[672,1961330,93,-1,-1,"RCP2-RGS4C-2.5-垂直-04kg-0.2G"]
[673,1961330,62,-1,-1,"RCP2-RGS4C-2.5-垂直-14kg-0.2G"]
[674,1961330,31,-1,-1,"RCP2-RGS4C-2.5-垂直-18kg-0.2G"]
[675,1961330,250,-1,-1,"RCP2-RGS4C-5-水平-10kg-0.2G"]
[676,1961330,230,-1,-1,"RCP2-RGS4C-5-水平-20kg-0.2G"]
[677,1961330,187,-1,-1,"RCP2-RGS4C-5-水平-40kg-0.2G"]
[678,1961330,250,-1,-1,"RCP2-RGS4C-5-垂直-00.5kg-0.2G"]
[679,1961330,230,-1,-1,"RCP2-RGS4C-5-垂直-01kg-0.2G"]
[680,1961330,187,-1,-1,"RCP2-RGS4C-5-垂直-02kg-0.2G"]
[681,1961330,125,-1,-1,"RCP2-RGS4C-5-垂直-06kg-0.2G"]
[682,1961330,62,-1,-1,"RCP2-RGS4C-5-垂直-11kg-0.2G"]
[683,1961330,458,-1,-1,"RCP2-RGS4C-10-水平-05kg-0.2G"]
[684,1961330,375,-1,-1,"RCP2-RGS4C-10-水平-15kg-0.2G"]
[685,{"$f":"0.2*$A$1*1000*1000","v":1961330},250,-1,-1,"RCP2-RGS4C-10-水平-25kg-0.2G"]
[686,1961330,458,-1,-1,"RCP2-RGS4C-10-垂直-00.5kg-0.2G"]
[687,1961330,375,-1,-1,"RCP2-RGS4C-10-垂直-01kg-0.2G"]
[688,1961330,250,-1,-1,"RCP2-RGS4C-10-垂直-02kg-0.2G"]
[689,1961330,125,-1,-1,"RCP2-RGS4C-10-垂直-03.5kg-0.2G"]
[690,1961330,130,-1,-1,"RCP2-RGS6C-4-水平-35kg-0.2G"]
[691,1961330,114,-1,-1,"RCP2-RGS6C-4-水平-47kg-0.2G"]
[692,1961330,93,-1,-1,"RCP2-RGS6C-4-水平-55kg-0.2G"]
[693,1961330,130,-1,-1,"RCP2-RGS6C-4-垂直-00.5kg-0.2G"]
[694,1961330,114,-1,-1,"RCP2-RGS6C-4-垂直-01kg-0.2G"]
[695,1961330,93,-1,-1,"RCP2-RGS6C-4-垂直-02kg-0.2G"]
[696,1961330,62,-1,-1,"RCP2-RGS6C-4-垂直-13kg-0.2G"]
[697,1961330,31,-1,-1,"RCP2-RGS6C-4-垂直-24kg-0.2G"]
[698,1961330,210,-1,-1,"RCP2-RGS6C-8-水平-30kg-0.2G"]
[699,1961330,200,-1,-1,"RCP2-RGS6C-8-水平-50kg-0.2G"]
[700,1961330,210,-1,-1,"RCP2-RGS6C-8-垂直-01kg-0.2G"]
[701,1961330,200,-1,-1,"RCP2-RGS6C-8-垂直-01.5kg-0.2G"]
[702,1961330,133,-1,-1,"RCP2-RGS6C-8-垂直-07kg-0.2G"]
[703,1961330,66,-1,-1,"RCP2-RGS6C-8-垂直-10kg-0.2G"]
[704,1961330,33,-1,-1,"RCP2-RGS6C-8-垂直-16kg-0.2G"]
[{"$f":"A707+1","v":705},1961330,450,-1,-1,"RCP2-RGS6C-16-水平-10kg-0.2G"]
[706,1961330,400,-1,-1,"RCP2-RGS6C-16-水平-20kg-0.2G"]
[707,1961330,266,-1,-1,"RCP2-RGS6C-16-水平-30kg-0.2G"]
[708,1961330,133,-1,-1,"RCP2-RGS6C-16-水平-35kg-0.2G"]
[709,1961330,66,-1,-1,"RCP2-RGS6C-16-水平-40kg-0.2G"]
[710,1961330,400,-1,-1,"RCP2-RGS6C-16-垂直-00.5kg-0.2G"]
[711,1961330,266,-1,-1,"RCP2-RGS6C-16-垂直-03kg-0.2G"]
[712,1961330,66,-1,-1,"RCP2-RGS6C-16-垂直-04kg-0.2G"]
[713,1961330,125,-1,-1,"RCP2-SRGS4R-2.5-水平-30kg-0.2G"]
[714,1961330,100,-1,-1,"RCP2-SRGS4R-2.5-水平-35kg-0.2G"]
[715,1961330,125,-1,-1,"RCP2-SRGS4R-2.5-垂直-03kg-0.2G"]
[716,1961330,100,-1,-1,"RCP2-SRGS4R-2.5-垂直-05.5kg-0.2G"]
[717,{"$f":"0.2*$A$1*1000*1000","v":1961330},75,-1,-1,"RCP2-SRGS4R-2.5-垂直-08kg-0.2G"]
[718,1961330,50,-1,-1,"RCP2-SRGS4R-2.5-垂直-11kg-0.2G"]
[719,1961330,25,-1,-1,"RCP2-SRGS4R-2.5-垂直-13.5kg-0.2G"]
[720,1961330,13,-1,-1,"RCP2-SRGS4R-2.5-垂直-15kg-0.2G"]
[721,{"$f":"0.3*$A$1*1000*1000","v":2941995},250,-1,-1,"RCP2-SRGS4R-5-水平-09kg-0.3G"]
[722,{"$f":"0.3*$A$1*1000*1000","v":2941995},200,-1,-1,"RCP2-SRGS4R-5-水平-14kg-0.3G"]
[723,{"$f":"0.3*$A$1*1000*1000","v":2941995},150,-1,-1,"RCP2-SRGS4R-5-水平-19kg-0.3G"]
[724,{"$f":"0.3*$A$1*1000*1000","v":2941995},100,-1,-1,"RCP2-SRGS4R-5-水平-24kg-0.3G"]
[725,1961330,250,-1,-1,"RCP2-SRGS4R-5-垂直-01kg-0.2G"]
[726,1961330,200,-1,-1,"RCP2-SRGS4R-5-垂直-02.5kg-0.2G"]
[727,1961330,150,-1,-1,"RCP2-SRGS4R-5-垂直-04kg-0.2G"]
[728,1961330,100,-1,-1,"RCP2-SRGS4R-5-垂直-06kg-0.2G"]
[729,1961330,50,-1,-1,"RCP2-SRGS4R-5-垂直-08kg-0.2G"]
[730,1961330,114,-1,-1,"RCP2-RGD3C-2.5-水平-04kg-0.2G"]
[731,1961330,93,-1,-1,"RCP2-RGD3C-2.5-水平-15kg-0.2G"]
[732,1961330,62,-1,-1,"RCP2-RGD3C-2.5-水平-30kg-0.2G"]
[733,1961330,93,-1,-1,"RCP2-RGD3C-2.5-垂直-01kg-0.2G"]
[734,1961330,62,-1,-1,"RCP2-RGD3C-2.5-垂直-04kg-0.2G"]
[735,1961330,31,-1,-1,"RCP2-RGD3C-2.5-垂直-09kg-0.2G"]
[736,1961330,187,-1,-1,"RCP2-RGD3C-5-水平-02kg-0.2G"]
[737,1961330,125,-1,-1,"RCP2-RGD3C-5-水平-08kg-0.2G"]
[738,1961330,62,-1,-1,"RCP2-RGD3C-5-水平-13kg-0.2G"]
[739,1961330,31,-1,-1,"RCP2-RGD3C-5-水平-15kg-0.2G"]
[740,1961330,187,-1,-1,"RCP2-RGD3C-5-垂直-00.5kg-0.2G"]
[741,1961330,125,-1,-1,"RCP2-RGD3C-5-垂直-02kg-0.2G"]
[742,1961330,62,-1,-1,"RCP2-RGD3C-5-垂直-04kg-0.2G"]
[743,1961330,31,-1,-1,"RCP2-RGD3C-5-垂直-05kg-0.2G"]
[744,1961330,125,-1,-1,"RCP2-RGD4C-2.5-水平-40kg-0.2G"]
[745,1961330,114,-1,-1,"RCP2-RGD4C-2.5-垂直-01.5kg-0.2G"]
[746,1961330,93,-1,-1,"RCP2-RGD4C-2.5-垂直-04kg-0.2G"]
[747,1961330,62,-1,-1,"RCP2-RGD4C-2.5-垂直-14kg-0.2G"]
[748,{"$f":"0.2*$A$1*1000*1000","v":1961330},31,-1,-1,"RCP2-RGD4C-2.5-垂直-18kg-0.2G"]
[749,1961330,250,-1,-1,"RCP2-RGD4C-5-水平-10kg-0.2G"]
[750,1961330,230,-1,-1,"RCP2-RGD4C-5-水平-20kg-0.2G"]
[751,1961330,187,-1,-1,"RCP2-RGD4C-5-水平-40kg-0.2G"]
[752,1961330,250,-1,-1,"RCP2-RGD4C-5-垂直-00.5kg-0.2G"]
[753,1961330,230,-1,-1,"RCP2-RGD4C-5-垂直-01kg-0.2G"]
[754,1961330,187,-1,-1,"RCP2-RGD4C-5-垂直-02kg-0.2G"]
[755,1961330,125,-1,-1,"RCP2-RGD4C-5-垂直-06kg-0.2G"]
[756,1961330,62,-1,-1,"RCP2-RGD4C-5-垂直-11kg-0.2G"]
[757,1961330,458,-1,-1,"RCP2-RGD4C-10-水平-05kg-0.2G"]
[758,1961330,375,-1,-1,"RCP2-RGD4C-10-水平-15kg-0.2G"]
[759,1961330,250,-1,-1,"RCP2-RGD4C-10-水平-25kg-0.2G"]
[760,1961330,458,-1,-1,"RCP2-RGD4C-10-垂直-00.5kg-0.2G"]
[761,1961330,375,-1,-1,"RCP2-RGD4C-10-垂直-01kg-0.2G"]
[762,1961330,250,-1,-1,"RCP2-RGD4C-10-垂直-02kg-0.2G"]
[763,1961330,125,-1,-1,"RCP2-RGD4C-10-垂直-03.5kg-0.2G"]
[764,1961330,130,-1,-1,"RCP2-RGD6C-4-水平-35kg-0.2G"]
[765,1961330,114,-1,-1,"RCP2-RGD6C-4-水平-47kg-0.2G"]
[766,1961330,93,-1,-1,"RCP2-RGD6C-4-水平-55kg-0.2G"]
[767,1961330,130,-1,-1,"RCP2-RGD6C-4-垂直-00.5kg-0.2G"]
[768,1961330,114,-1,-1,"RCP2-RGD6C-4-垂直-01kg-0.2G"]
[{"$f":"A771+1","v":769},1961330,93,-1,-1,"RCP2-RGD6C-4-垂直-02kg-0.2G"]
[770,1961330,62,-1,-1,"RCP2-RGD6C-4-垂直-13kg-0.2G"]
[771,1961330,31,-1,-1,"RCP2-RGD6C-4-垂直-24kg-0.2G"]
[772,1961330,210,-1,-1,"RCP2-RGD6C-8-水平-30kg-0.2G"]
[773,1961330,200,-1,-1,"RCP2-RGD6C-8-水平-50kg-0.2G"]
[774,1961330,210,-1,-1,"RCP2-RGD6C-8-垂直-01kg-0.2G"]
[775,1961330,200,-1,-1,"RCP2-RGD6C-8-垂直-01.5kg-0.2G"]
[776,1961330,133,-1,-1,"RCP2-RGD6C-8-垂直-07kg-0.2G"]
[777,1961330,66,-1,-1,"RCP2-RGD6C-8-垂直-10kg-0.2G"]
[778,1961330,33,-1,-1,"RCP2-RGD6C-8-垂直-16kg-0.2G"]
[779,1961330,450,-1,-1,"RCP2-RGD6C-16-水平-10kg-0.2G"]
[780,{"$f":"0.2*$A$1*1000*1000","v":1961330},400,-1,-1,"RCP2-RGD6C-16-水平-20kg-0.2G"]
[781,1961330,266,-1,-1,"RCP2-RGD6C-16-水平-30kg-0.2G"]
[782,1961330,133,-1,-1,"RCP2-RGD6C-16-水平-35kg-0.2G"]
[783,1961330,66,-1,-1,"RCP2-RGD6C-16-水平-40kg-0.2G"]
[784,1961330,400,-1,-1,"RCP2-RGD6C-16-垂直-00.5kg-0.2G"]
[785,1961330,266,-1,-1,"RCP2-RGD6C-16-垂直-03kg-0.2G"]
[786,1961330,66,-1,-1,"RCP2-RGD6C-16-垂直-04kg-0.2G"]
[787,1961330,125,-1,-1,"RCP2-SRGD4R-2.5-水平-30kg-0.2G"]
[788,1961330,100,-1,-1,"RCP2-SRGD4R-2.5-水平-35kg-0.2G"]
[789,1961330,125,-1,-1,"RCP2-SRGD4R-2.5-垂直-03kg-0.2G"]
[790,1961330,100,-1,-1,"RCP2-SRGD4R-2.5-垂直-05.5kg-0.2G"]
[791,1961330,75,-1,-1,"RCP2-SRGD4R-2.5-垂直-08kg-0.2G"]
[792,1961330,50,-1,-1,"RCP2-SRGD4R-2.5-垂直-11kg-0.2G"]
[793,1961330,25,-1,-1,"RCP2-SRGD4R-2.5-垂直-13.5kg-0.2G"]
[794,1961330,13,-1,-1,"RCP2-SRGD4R-2.5-垂直-15kg-0.2G"]
[795,{"$f":"0.3*$A$1*1000*1000","v":2941995},250,-1,-1,"RCP2-SRGD4R-5-水平-09kg-0.3G"]
[796,{"$f":"0.3*$A$1*1000*1000","v":2941995},200,-1,-1,"RCP2-SRGD4R-5-水平-14kg-0.3G"]
[797,{"$f":"0.3*$A$1*1000*1000","v":2941995},150,-1,-1,"RCP2-SRGD4R-5-水平-19kg-0.3G"]
[798,{"$f":"0.3*$A$1*1000*1000","v":2941995},100,-1,-1,"RCP2-SRGD4R-5-水平-24kg-0.3G"]
[799,1961330,250,-1,-1,"RCP2-SRGD4R-5-垂直-01kg-0.2G"]
[800,1961330,200,-1,-1,"RCP2-SRGD4R-5-垂直-02.5kg-0.2G"]
[801,1961330,150,-1,-1,"RCP2-SRGD4R-5-垂直-04kg-0.2G"]
[802,1961330,100,-1,-1,"RCP2-SRGD4R-5-垂直-06kg-0.2G"]
[803,1961330,50,-1,-1,"RCP2-SRGD4R-5-垂直-08kg-0.2G"]
[804,1961330,150,-1,-1,"ERC2-RA6C-3-水平-40kg-0.2G"]
[805,1961330,150,-1,-1,"ERC2-RA6C-3-垂直-04kg-0.2G"]
[806,1961330,113,-1,-1,"ERC2-RA6C-3-垂直-11kg-0.2G"]
[807,1961330,75,-1,-1,"ERC2-RA6C-3-垂直-18kg-0.2G"]
[808,{"$f":"0.3*$A$1*1000*1000","v":2941995},300,-1,-1,"ERC2-RA6C-6-水平-12kg-0.3G"]
[809,{"$f":"0.3*$A$1*1000*1000","v":2941995},200,-1,-1,"ERC2-RA6C-6-水平-40kg-0.3G"]
[810,{"$f":"0.2*$A$1*1000*1000","v":1961330},300,-1,-1,"ERC2-RA6C-6-垂直-02.5kg-0.2G"]
[811,{"$f":"0.2*$A$1*1000*1000","v":1961330},200,-1,-1,"ERC2-RA6C-6-垂直-07kg-0.2G"]
[812,{"$f":"0.2*$A$1*1000*1000","v":1961330},150,-1,-1,"ERC2-RA6C-6-垂直-09kg-0.2G"]
[813,{"$f":"0.2*$A$1*1000*1000","v":1961330},100,-1,-1,"ERC2-RA6C-6-垂直-11kg-0.2G"]
[814,{"$f":"0.2*$A$1*1000*1000","v":1961330},80,-1,-1,"ERC2-RA6C-6-垂直-12kg-0.2G"]
[815,{"$f":"0.3*$A$1*1000*1000","v":2941995},600,-1,-1,"ERC2-RA6C-12-水平-02.5kg-0.3G"]
[816,{"$f":"0.3*$A$1*1000*1000","v":2941995},300,-1,-1,"ERC2-RA6C-12-水平-12kg-0.3G"]
[817,{"$f":"0.3*$A$1*1000*1000","v":2941995},150,-1,-1,"ERC2-RA6C-12-水平-25kg-0.3G"]
[818,{"$f":"0.2*$A$1*1000*1000","v":1961330},600,-1,-1,"ERC2-RA6C-12-垂直-00.5kg-0.2G"]
[819,1961330,300,-1,-1,"ERC2-RA6C-12-垂直-03kg-0.2G"]
[820,1961330,150,-1,-1,"ERC2-RA6C-12-垂直-04.3kg-0.2G"]
[821,1961330,125,-1,-1,"ERC2-RA6C-12-垂直-04.5kg-0.2G"]
[822,1961330,125,-1,-1,"ERC2-RA7C-4-水平-25kg-0.2G"]
[823,1961330,100,-1,-1,"ERC2-RA7C-4-水平-55kg-0.2G"]
[824,1961330,125,-1,-1,"ERC2-RA7C-4-垂直-02kg-0.2G"]
[825,1961330,100,-1,-1,"ERC2-RA7C-4-垂直-08.3kg-0.2G"]
[826,1961330,50,-1,-1,"ERC2-RA7C-4-垂直-21kg-0.2G"]
[827,1961330,35,-1,-1,"ERC2-RA7C-4-垂直-25kg-0.2G"]
[828,{"$f":"0.3*$A$1*1000*1000","v":2941995},250,-1,-1,"ERC2-RA7C-8-水平-03.5kg-0.3G"]
[829,{"$f":"0.3*$A$1*1000*1000","v":2941995},200,-1,-1,"ERC2-RA7C-8-水平-29kg-0.3G"]
[830,{"$f":"0.3*$A$1*1000*1000","v":2941995},160,-1,-1,"ERC2-RA7C-8-水平-50kg-0.3G"]
[831,{"$f":"0.2*$A$1*1000*1000","v":1961330},200,-1,-1,"ERC2-RA7C-8-垂直-01kg-0.2G"]
[832,{"$f":"0.2*$A$1*1000*1000","v":1961330},160,-1,-1,"ERC2-RA7C-8-垂直-04.8kg-0.2G"]
[{"$f":"A835+1","v":833},{"$f":"0.2*$A$1*1000*1000","v":1961330},150,-1,-1,"ERC2-RA7C-8-垂直-05.8kg-0.2G"]
[834,{"$f":"0.2*$A$1*1000*1000","v":1961330},100,-1,-1,"ERC2-RA7C-8-垂直-10.7kg-0.2G"]
[835,{"$f":"0.2*$A$1*1000*1000","v":1961330},30,-1,-1,"ERC2-RA7C-8-垂直-17.5kg-0.2G"]
[836,{"$f":"0.3*$A$1*1000*1000","v":2941995},450,-1,-1,"ERC2-RA7C-16-水平-02kg-0.3G"]
[837,{"$f":"0.3*$A$1*1000*1000","v":2941995},150,-1,-1,"ERC2-RA7C-16-水平-37kg-0.3G"]
[838,{"$f":"0.3*$A$1*1000*1000","v":2941995},125,-1,-1,"ERC2-RA7C-16-水平-40kg-0.3G"]
[839,{"$f":"0.2*$A$1*1000*1000","v":1961330},400,-1,-1,"ERC2-RA7C-16-垂直-00.5kg-0.2G"]
[840,1961330,150,-1,-1,"ERC2-RA7C-16-垂直-05kg-0.2G"]
[841,1961330,150,-1,-1,"ERC2-RGS6C-3-水平-40kg-0.2G"]
[842,1961330,150,-1,-1,"ERC2-RGS6C-3-垂直-04kg-0.2G"]
[843,1961330,113,-1,-1,"ERC2-RGS6C-3-垂直-11kg-0.2G"]
[844,1961330,75,-1,-1,"ERC2-RGS6C-3-垂直-18kg-0.2G"]
[845,{"$f":"0.3*$A$1*1000*1000","v":2941995},300,-1,-1,"ERC2-RGS6C-6-水平-12kg-0.3G"]
[846,{"$f":"0.3*$A$1*1000*1000","v":2941995},200,-1,-1,"ERC2-RGS6C-6-水平-40kg-0.3G"]
[847,{"$f":"0.2*$A$1*1000*1000","v":1961330},300,-1,-1,"ERC2-RGS6C-6-垂直-02.5kg-0.2G"]
[848,{"$f":"0.2*$A$1*1000*1000","v":1961330},200,-1,-1,"ERC2-RGS6C-6-垂直-07kg-0.2G"]
[849,{"$f":"0.2*$A$1*1000*1000","v":1961330},150,-1,-1,"ERC2-RGS6C-6-垂直-09kg-0.2G"]
[850,{"$f":"0.2*$A$1*1000*1000","v":1961330},100,-1,-1,"ERC2-RGS6C-6-垂直-11kg-0.2G"]
[851,{"$f":"0.2*$A$1*1000*1000","v":1961330},80,-1,-1,"ERC2-RGS6C-6-垂直-12kg-0.2G"]
[852,{"$f":"0.3*$A$1*1000*1000","v":2941995},600,-1,-1,"ERC2-RGS6C-12-水平-02.5kg-0.3G"]
[853,{"$f":"0.3*$A$1*1000*1000","v":2941995},300,-1,-1,"ERC2-RGS6C-12-水平-12kg-0.3G"]
[854,{"$f":"0.3*$A$1*1000*1000","v":2941995},150,-1,-1,"ERC2-RGS6C-12-水平-25kg-0.3G"]
[855,{"$f":"0.2*$A$1*1000*1000","v":1961330},600,-1,-1,"ERC2-RGS6C-12-垂直-00.5kg-0.2G"]
[856,1961330,300,-1,-1,"ERC2-RGS6C-12-垂直-03kg-0.2G"]
[857,1961330,150,-1,-1,"ERC2-RGS6C-12-垂直-04.3kg-0.2G"]
[858,1961330,125,-1,-1,"ERC2-RGS6C-12-垂直-04.5kg-0.2G"]
[859,1961330,125,-1,-1,"ERC2-RGS7C-4-水平-25kg-0.2G"]
[860,1961330,100,-1,-1,"ERC2-RGS7C-4-水平-55kg-0.2G"]
[861,1961330,125,-1,-1,"ERC2-RGS7C-4-垂直-02kg-0.2G"]
[862,1961330,100,-1,-1,"ERC2-RGS7C-4-垂直-08.3kg-0.2G"]
[863,1961330,50,-1,-1,"ERC2-RGS7C-4-垂直-21kg-0.2G"]
[864,1961330,35,-1,-1,"ERC2-RGS7C-4-垂直-25kg-0.2G"]
[865,{"$f":"0.3*$A$1*1000*1000","v":2941995},250,-1,-1,"ERC2-RGS7C-8-水平-03.5kg-0.3G"]
[866,{"$f":"0.3*$A$1*1000*1000","v":2941995},200,-1,-1,"ERC2-RGS7C-8-水平-29kg-0.3G"]
[867,{"$f":"0.3*$A$1*1000*1000","v":2941995},160,-1,-1,"ERC2-RGS7C-8-水平-50kg-0.3G"]
[868,{"$f":"0.2*$A$1*1000*1000","v":1961330},200,-1,-1,"ERC2-RGS7C-8-垂直-01kg-0.2G"]
[869,{"$f":"0.2*$A$1*1000*1000","v":1961330},160,-1,-1,"ERC2-RGS7C-8-垂直-04.8kg-0.2G"]
[870,{"$f":"0.2*$A$1*1000*1000","v":1961330},150,-1,-1,"ERC2-RGS7C-8-垂直-05.8kg-0.2G"]
[871,{"$f":"0.2*$A$1*1000*1000","v":1961330},100,-1,-1,"ERC2-RGS7C-8-垂直-10.7kg-0.2G"]
[872,{"$f":"0.2*$A$1*1000*1000","v":1961330},30,-1,-1,"ERC2-RGS7C-8-垂直-17.5kg-0.2G"]
[873,{"$f":"0.3*$A$1*1000*1000","v":2941995},450,-1,-1,"ERC2-RGS7C-16-水平-02kg-0.3G"]
[874,{"$f":"0.3*$A$1*1000*1000","v":2941995},150,-1,-1,"ERC2-RGS7C-16-水平-37kg-0.3G"]
[875,{"$f":"0.3*$A$1*1000*1000","v":2941995},125,-1,-1,"ERC2-RGS7C-16-水平-40kg-0.3G"]
[876,{"$f":"0.2*$A$1*1000*1000","v":1961330},400,-1,-1,"ERC2-RGS7C-16-垂直-00.5kg-0.2G"]
[877,1961330,150,-1,-1,"ERC2-RGS7C-16-垂直-05kg-0.2G"]
[878,1961330,150,-1,-1,"ERC2-RGD6C-3-水平-40kg-0.2G"]
[879,1961330,150,-1,-1,"ERC2-RGD6C-3-垂直-04kg-0.2G"]
[880,1961330,113,-1,-1,"ERC2-RGD6C-3-垂直-11kg-0.2G"]
[881,1961330,75,-1,-1,"ERC2-RGD6C-3-垂直-18kg-0.2G"]
[882,{"$f":"0.3*$A$1*1000*1000","v":2941995},300,-1,-1,"ERC2-RGD6C-6-水平-12kg-0.3G"]
[883,{"$f":"0.3*$A$1*1000*1000","v":2941995},200,-1,-1,"ERC2-RGD6C-6-水平-40kg-0.3G"]
[884,{"$f":"0.2*$A$1*1000*1000","v":1961330},300,-1,-1,"ERC2-RGD6C-6-垂直-02.5kg-0.2G"]
[885,{"$f":"0.2*$A$1*1000*1000","v":1961330},200,-1,-1,"ERC2-RGD6C-6-垂直-07kg-0.2G"]
[886,{"$f":"0.2*$A$1*1000*1000","v":1961330},150,-1,-1,"ERC2-RGD6C-6-垂直-09kg-0.2G"]
[887,{"$f":"0.2*$A$1*1000*1000","v":1961330},100,-1,-1,"ERC2-RGD6C-6-垂直-11kg-0.2G"]
[888,{"$f":"0.2*$A$1*1000*1000","v":1961330},80,-1,-1,"ERC2-RGD6C-6-垂直-12kg-0.2G"]
[889,{"$f":"0.3*$A$1*1000*1000","v":2941995},600,-1,-1,"ERC2-RGD6C-12-水平-02.5kg-0.3G"]
[890,{"$f":"0.3*$A$1*1000*1000","v":2941995},300,-1,-1,"ERC2-RGD6C-12-水平-12kg-0.3G"]
[891,{"$f":"0.3*$A$1*1000*1000","v":2941995},150,-1,-1,"ERC2-RGD6C-12-水平-25kg-0.3G"]
[892,{"$f":"0.2*$A$1*1000*1000","v":1961330},600,-1,-1,"ERC2-RGD6C-12-垂直-00.5kg-0.2G"]
[893,1961330,300,-1,-1,"ERC2-RGD6C-12-垂直-03kg-0.2G"]
[894,1961330,150,-1,-1,"ERC2-RGD6C-12-垂直-04.3kg-0.2G"]
[895,1961330,125,-1,-1,"ERC2-RGD6C-12-垂直-04.5kg-0.2G"]
[896,1961330,125,-1,-1,"ERC2-RGD7C-4-水平-25kg-0.2G"]
[{"$f":"A899+1","v":897},1961330,100,-1,-1,"ERC2-RGD7C-4-水平-55kg-0.2G"]
[898,1961330,125,-1,-1,"ERC2-RGD7C-4-垂直-02kg-0.2G"]
[899,1961330,100,-1,-1,"ERC2-RGD7C-4-垂直-08.3kg-0.2G"]
[900,1961330,50,-1,-1,"ERC2-RGD7C-4-垂直-21kg-0.2G"]
[901,1961330,35,-1,-1,"ERC2-RGD7C-4-垂直-25kg-0.2G"]
[902,{"$f":"0.3*$A$1*1000*1000","v":2941995},250,-1,-1,"ERC2-RGD7C-8-水平-03.5kg-0.3G"]
[903,{"$f":"0.3*$A$1*1000*1000","v":2941995},200,-1,-1,"ERC2-RGD7C-8-水平-29kg-0.3G"]
[904,{"$f":"0.3*$A$1*1000*1000","v":2941995},160,-1,-1,"ERC2-RGD7C-8-水平-50kg-0.3G"]
[905,{"$f":"0.2*$A$1*1000*1000","v":1961330},200,-1,-1,"ERC2-RGD7C-8-垂直-01kg-0.2G"]
[906,{"$f":"0.2*$A$1*1000*1000","v":1961330},160,-1,-1,"ERC2-RGD7C-8-垂直-04.8kg-0.2G"]
[907,{"$f":"0.2*$A$1*1000*1000","v":1961330},150,-1,-1,"ERC2-RGD7C-8-垂直-05.8kg-0.2G"]
[908,{"$f":"0.2*$A$1*1000*1000","v":1961330},100,-1,-1,"ERC2-RGD7C-8-垂直-10.7kg-0.2G"]
[909,{"$f":"0.2*$A$1*1000*1000","v":1961330},30,-1,-1,"ERC2-RGD7C-8-垂直-17.5kg-0.2G"]
[910,{"$f":"0.3*$A$1*1000*1000","v":2941995},450,-1,-1,"ERC2-RGD7C-16-水平-02kg-0.3G"]
[911,{"$f":"0.3*$A$1*1000*1000","v":2941995},150,-1,-1,"ERC2-RGD7C-16-水平-37kg-0.3G"]
[912,{"$f":"0.3*$A$1*1000*1000","v":2941995},125,-1,-1,"ERC2-RGD7C-16-水平-40kg-0.3G"]
[913,{"$f":"0.2*$A$1*1000*1000","v":1961330},400,-1,-1,"ERC2-RGD7C-16-垂直-00.5kg-0.2G"]
[914,1961330,150,-1,-1,"ERC2-RGD7C-16-垂直-05kg-0.2G"]
[915,1961330,100,-1,-1,"RCP3-TA3C-2-水平-01.5kg-0.2G"]
[916,1961330,33,-1,-1,"RCP3-TA3C-2-水平-02kg-0.2G"]
[917,1961330,67,-1,-1,"RCP3-TA3C-2-垂直-00.7kg-0.2G"]
[918,1961330,33,-1,-1,"RCP3-TA3C-2-垂直-01kg-0.2G"]
[919,{"$f":"0.3*$A$1*1000*1000","v":2941995},200,-1,-1,"RCP3-TA3C-4-水平-01kg-0.3G"]
[920,{"$f":"0.3*$A$1*1000*1000","v":2941995},67,-1,-1,"RCP3-TA3C-4-水平-01.4kg-0.3G"]
[921,{"$f":"0.2*$A$1*1000*1000","v":1961330},133,-1,-1,"RCP3-TA3C-4-垂直-00.4kg-0.2G"]
[922,{"$f":"0.2*$A$1*1000*1000","v":1961330},67,-1,-1,"RCP3-TA3C-4-垂直-00.6kg-0.2G"]
[923,{"$f":"0.3*$A$1*1000*1000","v":2941995},300,-1,-1,"RCP3-TA3C-6-水平-00.5kg-0.3G"]
[924,{"$f":"0.3*$A$1*1000*1000","v":2941995},100,-1,-1,"RCP3-TA3C-6-水平-00.7kg-0.3G"]
[925,{"$f":"0.2*$A$1*1000*1000","v":1961330},200,-1,-1,"RCP3-TA3C-6-垂直-00.2kg-0.2G"]
[926,1961330,100,-1,-1,"RCP3-TA3C-6-垂直-00.3kg-0.2G"]
[927,1961330,100,-1,-1,"RCP3-TA4C-2-水平-02.5kg-0.2G"]
[928,1961330,33,-1,-1,"RCP3-TA4C-2-水平-03kg-0.2G"]
[929,1961330,100,-1,-1,"RCP3-TA4C-2-垂直-01kg-0.2G"]
[930,1961330,33,-1,-1,"RCP3-TA4C-2-垂直-01.5kg-0.2G"]
[931,{"$f":"0.3*$A$1*1000*1000","v":2941995},200,-1,-1,"RCP3-TA4C-4-水平-01.5kg-0.3G"]
[932,{"$f":"0.3*$A$1*1000*1000","v":2941995},67,-1,-1,"RCP3-TA4C-4-水平-02kg-0.3G"]
[933,{"$f":"0.2*$A$1*1000*1000","v":1961330},200,-1,-1,"RCP3-TA4C-4-垂直-00.7kg-0.2G"]
[934,{"$f":"0.2*$A$1*1000*1000","v":1961330},67,-1,-1,"RCP3-TA4C-4-垂直-01kg-0.2G"]
[935,{"$f":"0.3*$A$1*1000*1000","v":2941995},300,-1,-1,"RCP3-TA4C-6-水平-00.7kg-0.3G"]
[936,{"$f":"0.3*$A$1*1000*1000","v":2941995},100,-1,-1,"RCP3-TA4C-6-水平-01kg-0.3G"]
[937,{"$f":"0.2*$A$1*1000*1000","v":1961330},300,-1,-1,"RCP3-TA4C-6-垂直-00.3kg-0.2G"]
[938,1961330,100,-1,-1,"RCP3-TA4C-6-垂直-00.5kg-0.2G"]
[939,1961330,125,-1,-1,"RCP3-TA5C-2.5-水平-02kg-0.2G"]
[940,1961330,104,-1,-1,"RCP3-TA5C-2.5-水平-03kg-0.2G"]
[941,1961330,63,-1,-1,"RCP3-TA5C-2.5-水平-04kg-0.2G"]
[942,1961330,42,-1,-1,"RCP3-TA5C-2.5-水平-05kg-0.2G"]
[943,1961330,21,-1,-1,"RCP3-TA5C-2.5-水平-06kg-0.2G"]
[944,1961330,125,-1,-1,"RCP3-TA5C-2.5-垂直-01.5kg-0.2G"]
[945,1961330,104,-1,-1,"RCP3-TA5C-2.5-垂直-02kg-0.2G"]
[946,1961330,63,-1,-1,"RCP3-TA5C-2.5-垂直-03kg-0.2G"]
[947,{"$f":"0.3*$A$1*1000*1000","v":2941995},250,-1,-1,"RCP3-TA5C-5-水平-01.5kg-0.3G"]
[948,{"$f":"0.3*$A$1*1000*1000","v":2941995},208,-1,-1,"RCP3-TA5C-5-水平-03kg-0.3G"]
[949,{"$f":"0.3*$A$1*1000*1000","v":2941995},83,-1,-1,"RCP3-TA5C-5-水平-04kg-0.3G"]
[950,{"$f":"0.2*$A$1*1000*1000","v":1961330},250,-1,-1,"RCP3-TA5C-5-垂直-00.5kg-0.2G"]
[951,{"$f":"0.2*$A$1*1000*1000","v":1961330},208,-1,-1,"RCP3-TA5C-5-垂直-01kg-0.2G"]
[952,{"$f":"0.2*$A$1*1000*1000","v":1961330},167,-1,-1,"RCP3-TA5C-5-垂直-01.5kg-0.2G"]
[953,{"$f":"0.3*$A$1*1000*1000","v":2941995},465,-1,-1,"RCP3-TA5C-10-水平-00.5kg-0.3G"]
[954,{"$f":"0.3*$A$1*1000*1000","v":2941995},417,-1,-1,"RCP3-TA5C-10-水平-02kg-0.3G"]
[955,{"$f":"0.2*$A$1*1000*1000","v":1961330},400,-1,-1,"RCP3-TA5C-10-垂直-00.5kg-0.2G"]
[956,1961330,333,-1,-1,"RCP3-TA5C-10-垂直-01kg-0.2G"]
[957,1961330,150,-1,-1,"RCP3-TA6C-3-水平-06kg-0.2G"]
[958,1961330,50,-1,-1,"RCP3-TA6C-3-水平-08kg-0.2G"]
[959,1961330,150,-1,-1,"RCP3-TA6C-3-垂直-02kg-0.2G"]
[960,1961330,125,-1,-1,"RCP3-TA6C-3-垂直-04kg-0.2G"]
[{"$f":"A963+1","v":961},{"$f":"0.3*$A$1*1000*1000","v":2941995},300,-1,-1,"RCP3-TA6C-6-水平-04kg-0.3G"]
[962,{"$f":"0.3*$A$1*1000*1000","v":2941995},150,-1,-1,"RCP3-TA6C-6-水平-06kg-0.3G"]
[963,{"$f":"0.2*$A$1*1000*1000","v":1961330},300,-1,-1,"RCP3-TA6C-6-垂直-01kg-0.2G"]
[964,{"$f":"0.2*$A$1*1000*1000","v":1961330},250,-1,-1,"RCP3-TA6C-6-垂直-02kg-0.2G"]
[965,{"$f":"0.3*$A$1*1000*1000","v":2941995},560,-1,-1,"RCP3-TA6C-12-水平-02kg-0.3G"]
[966,{"$f":"0.3*$A$1*1000*1000","v":2941995},500,-1,-1,"RCP3-TA6C-12-水平-04kg-0.3G"]
[967,{"$f":"0.2*$A$1*1000*1000","v":1961330},500,-1,-1,"RCP3-TA6C-12-垂直-00.5kg-0.2G"]
[968,1961330,400,-1,-1,"RCP3-TA6C-12-垂直-01kg-0.2G"]
[969,1961330,150,-1,-1,"RCP3-TA7C-3-水平-08kg-0.2G"]
[970,1961330,50,-1,-1,"RCP3-TA7C-3-水平-10kg-0.2G"]
[971,1961330,150,-1,-1,"RCP3-TA7C-3-垂直-02kg-0.2G"]
[972,1961330,125,-1,-1,"RCP3-TA7C-3-垂直-04kg-0.2G"]
[973,{"$f":"0.3*$A$1*1000*1000","v":2941995},300,-1,-1,"RCP3-TA7C-6-水平-06kg-0.3G"]
[974,{"$f":"0.3*$A$1*1000*1000","v":2941995},125,-1,-1,"RCP3-TA7C-6-水平-08kg-0.3G"]
[975,{"$f":"0.2*$A$1*1000*1000","v":1961330},300,-1,-1,"RCP3-TA7C-6-垂直-01kg-0.2G"]
[976,{"$f":"0.2*$A$1*1000*1000","v":1961330},250,-1,-1,"RCP3-TA7C-6-垂直-02kg-0.2G"]
[977,{"$f":"0.3*$A$1*1000*1000","v":2941995},600,-1,-1,"RCP3-TA7C-12-水平-02kg-0.3G"]
[978,{"$f":"0.3*$A$1*1000*1000","v":2941995},500,-1,-1,"RCP3-TA7C-12-水平-04kg-0.3G"]
[979,{"$f":"0.3*$A$1*1000*1000","v":2941995},400,-1,-1,"RCP3-TA7C-12-水平-06kg-0.3G"]
[980,{"$f":"0.2*$A$1*1000*1000","v":1961330},580,-1,-1,"RCP3-TA7C-12-垂直-00.5kg-0.2G"]
[981,1961330,266,-1,-1,"RCP3-TA7C-12-垂直-01kg-0.2G"]
[982,1961330,100,-1,-1,"RCP3-TA3R-2-水平-01.5kg-0.2G"]
[983,1961330,33,-1,-1,"RCP3-TA3R-2-水平-02kg-0.2G"]
[984,1961330,67,-1,-1,"RCP3-TA3R-2-垂直-00.7kg-0.2G"]
[985,1961330,33,-1,-1,"RCP3-TA3R-2-垂直-01kg-0.2G"]
[986,{"$f":"0.3*$A$1*1000*1000","v":2941995},200,-1,-1,"RCP3-TA3R-4-水平-01kg-0.3G"]
[987,{"$f":"0.3*$A$1*1000*1000","v":2941995},67,-1,-1,"RCP3-TA3R-4-水平-01.4kg-0.3G"]
[988,{"$f":"0.2*$A$1*1000*1000","v":1961330},133,-1,-1,"RCP3-TA3R-4-垂直-00.4kg-0.2G"]
[989,{"$f":"0.2*$A$1*1000*1000","v":1961330},67,-1,-1,"RCP3-TA3R-4-垂直-00.6kg-0.2G"]
[990,{"$f":"0.3*$A$1*1000*1000","v":2941995},300,-1,-1,"RCP3-TA3R-6-水平-00.5kg-0.3G"]
[991,{"$f":"0.3*$A$1*1000*1000","v":2941995},100,-1,-1,"RCP3-TA3R-6-水平-00.7kg-0.3G"]
[992,{"$f":"0.2*$A$1*1000*1000","v":1961330},200,-1,-1,"RCP3-TA3R-6-垂直-00.2kg-0.2G"]
[993,1961330,100,-1,-1,"RCP3-TA3R-6-垂直-00.3kg-0.2G"]
[994,1961330,100,-1,-1,"RCP3-TA4R-2-水平-02.5kg-0.2G"]
[995,1961330,33,-1,-1,"RCP3-TA4R-2-水平-03kg-0.2G"]
[996,1961330,100,-1,-1,"RCP3-TA4R-2-垂直-01kg-0.2G"]
[997,1961330,33,-1,-1,"RCP3-TA4R-2-垂直-01.5kg-0.2G"]
[998,{"$f":"0.3*$A$1*1000*1000","v":2941995},200,-1,-1,"RCP3-TA4R-4-水平-01.5kg-0.3G"]
[999,{"$f":"0.3*$A$1*1000*1000","v":2941995},67,-1,-1,"RCP3-TA4R-4-水平-02kg-0.3G"]
[1000,{"$f":"0.2*$A$1*1000*1000","v":1961330},200,-1,-1,"RCP3-TA4R-4-垂直-00.7kg-0.2G"]
[1001,{"$f":"0.2*$A$1*1000*1000","v":1961330},67,-1,-1,"RCP3-TA4R-4-垂直-01kg-0.2G"]
[1002,{"$f":"0.3*$A$1*1000*1000","v":2941995},300,-1,-1,"RCP3-TA4R-6-水平-00.7kg-0.3G"]
[1003,{"$f":"0.3*$A$1*1000*1000","v":2941995},100,-1,-1,"RCP3-TA4R-6-水平-01kg-0.3G"]
[1004,{"$f":"0.2*$A$1*1000*1000","v":1961330},300,-1,-1,"RCP3-TA4R-6-垂直-00.3kg-0.2G"]
[1005,1961330,100,-1,-1,"RCP3-TA4R-6-垂直-00.5kg-0.2G"]
[1006,1961330,125,-1,-1,"RCP3-TA5R-2.5-水平-02kg-0.2G"]
[1007,1961330,104,-1,-1,"RCP3-TA5R-2.5-水平-03kg-0.2G"]
[1008,1961330,63,-1,-1,"RCP3-TA5R-2.5-水平-04kg-0.2G"]
[1009,1961330,42,-1,-1,"RCP3-TA5R-2.5-水平-05kg-0.2G"]
[1010,1961330,21,-1,-1,"RCP3-TA5R-2.5-水平-06kg-0.2G"]
[1011,1961330,125,-1,-1,"RCP3-TA5R-2.5-垂直-01.5kg-0.2G"]
[1012,1961330,104,-1,-1,"RCP3-TA5R-2.5-垂直-02kg-0.2G"]
[1013,1961330,63,-1,-1,"RCP3-TA5R-2.5-垂直-03kg-0.2G"]
[1014,{"$f":"0.3*$A$1*1000*1000","v":2941995},250,-1,-1,"RCP3-TA5R-5-水平-01.5kg-0.3G"]
[1015,{"$f":"0.3*$A$1*1000*1000","v":2941995},208,-1,-1,"RCP3-TA5R-5-水平-03kg-0.3G"]
[1016,{"$f":"0.3*$A$1*1000*1000","v":2941995},83,-1,-1,"RCP3-TA5R-5-水平-04kg-0.3G"]
[1017,{"$f":"0.2*$A$1*1000*1000","v":1961330},250,-1,-1,"RCP3-TA5R-5-垂直-00.5kg-0.2G"]
[1018,{"$f":"0.2*$A$1*1000*1000","v":1961330},208,-1,-1,"RCP3-TA5R-5-垂直-01kg-0.2G"]
[1019,{"$f":"0.2*$A$1*1000*1000","v":1961330},167,-1,-1,"RCP3-TA5R-5-垂直-01.5kg-0.2G"]
[1020,{"$f":"0.3*$A$1*1000*1000","v":2941995},465,-1,-1,"RCP3-TA5R-10-水平-00.5kg-0.3G"]
[1021,{"$f":"0.3*$A$1*1000*1000","v":2941995},417,-1,-1,"RCP3-TA5R-10-水平-02kg-0.3G"]
[1022,{"$f":"0.2*$A$1*1000*1000","v":1961330},400,-1,-1,"RCP3-TA5R-10-垂直-00.5kg-0.2G"]
[1023,1961330,333,-1,-1,"RCP3-TA5R-10-垂直-01kg-0.2G"]
[1024,1961330,150,-1,-1,"RCP3-TA6R-3-水平-06kg-0.2G"]
[{"$f":"A1027+1","v":1025},1961330,50,-1,-1,"RCP3-TA6R-3-水平-08kg-0.2G"]
[1026,1961330,150,-1,-1,"RCP3-TA6R-3-垂直-02kg-0.2G"]
[1027,1961330,125,-1,-1,"RCP3-TA6R-3-垂直-04kg-0.2G"]
[1028,{"$f":"0.3*$A$1*1000*1000","v":2941995},300,-1,-1,"RCP3-TA6R-6-水平-04kg-0.3G"]
[1029,{"$f":"0.3*$A$1*1000*1000","v":2941995},150,-1,-1,"RCP3-TA6R-6-水平-06kg-0.3G"]
[1030,{"$f":"0.2*$A$1*1000*1000","v":1961330},300,-1,-1,"RCP3-TA6R-6-垂直-01kg-0.2G"]
[1031,{"$f":"0.2*$A$1*1000*1000","v":1961330},250,-1,-1,"RCP3-TA6R-6-垂直-02kg-0.2G"]
[1032,{"$f":"0.3*$A$1*1000*1000","v":2941995},560,-1,-1,"RCP3-TA6R-12-水平-02kg-0.3G"]
[1033,{"$f":"0.3*$A$1*1000*1000","v":2941995},500,-1,-1,"RCP3-TA6R-12-水平-04kg-0.3G"]
[1034,{"$f":"0.2*$A$1*1000*1000","v":1961330},500,-1,-1,"RCP3-TA6R-12-垂直-00.5kg-0.2G"]
[1035,1961330,400,-1,-1,"RCP3-TA6R-12-垂直-01kg-0.2G"]
[1036,1961330,150,-1,-1,"RCP3-TA7R-3-水平-08kg-0.2G"]
[1037,1961330,50,-1,-1,"RCP3-TA7R-3-水平-10kg-0.2G"]
[1038,1961330,150,-1,-1,"RCP3-TA7R-3-垂直-02kg-0.2G"]
[1039,1961330,125,-1,-1,"RCP3-TA7R-3-垂直-04kg-0.2G"]
[1040,{"$f":"0.3*$A$1*1000*1000","v":2941995},300,-1,-1,"RCP3-TA7R-6-水平-06kg-0.3G"]
[1041,{"$f":"0.3*$A$1*1000*1000","v":2941995},125,-1,-1,"RCP3-TA7R-6-水平-08kg-0.3G"]
[1042,{"$f":"0.2*$A$1*1000*1000","v":1961330},300,-1,-1,"RCP3-TA7R-6-垂直-01kg-0.2G"]
[1043,{"$f":"0.2*$A$1*1000*1000","v":1961330},250,-1,-1,"RCP3-TA7R-6-垂直-02kg-0.2G"]
[1044,{"$f":"0.3*$A$1*1000*1000","v":2941995},600,-1,-1,"RCP3-TA7R-12-水平-02kg-0.3G"]
[1045,{"$f":"0.3*$A$1*1000*1000","v":2941995},500,-1,-1,"RCP3-TA7R-12-水平-04kg-0.3G"]
[1046,{"$f":"0.3*$A$1*1000*1000","v":2941995},400,-1,-1,"RCP3-TA7R-12-水平-06kg-0.3G"]
[1047,{"$f":"0.2*$A$1*1000*1000","v":1961330},580,-1,-1,"RCP3-TA7R-12-垂直-00.5kg-0.2G"]
[1048,1961330,266,-1,-1,"RCP3-TA7R-12-垂直-01kg-0.2G"]
[1049,1961330,266,-1,-1,"RCP2-RTBSL-45-水平-3.5E-3kgm^2"]
[1050,1961330,400,-1,-1,"RCP2-RTBSL-30-水平-2.3E-3kgm^2"]
[1051,1961330,266,-1,-1,"RCP2-RTCSL-45-水平-3.5E-3kgm^2"]
[1052,1961330,400,-1,-1,"RCP2-RTCSL-30-水平-2.3E-3kgm^2"]
[1053,{"$f":"0.3*$A$1*1000*1000","v":2941995},400,-1,-1,"RCP2-RTBL-30-水平-07.5E-3kgm^2"]
[1054,2941995,80,-1,-1,"RCP2-RTBL-30-水平-15.0E-3kgm^2"]
[1055,2941995,600,-1,-1,"RCP2-RTBL-20-水平-05.0E-3kgm^2"]
[1056,2941995,120,-1,-1,"RCP2-RTBL-20-水平-10.0E-3kgm^2"]
[1057,2941995,400,-1,-1,"RCP2-RTCL-30-水平-07.5E-3kgm^2"]
[1058,2941995,80,-1,-1,"RCP2-RTCL-30-水平-15.0E-3kgm^2"]
[1059,2941995,600,-1,-1,"RCP2-RTCL-20-水平-05.0E-3kgm^2"]
[1060,2941995,120,-1,-1,"RCP2-RTCL-20-水平-10.0E-3kgm^2"]
[1061,2941995,400,-1,-1,"RCP2-RTBBL-30-水平-11.3E-3kgm^2"]
[1062,2941995,130,-1,-1,"RCP2-RTBBL-30-水平-30.0E-3kgm^2"]
[1063,2941995,600,-1,-1,"RCP2-RTBBL-20-水平-07.5E-3kgm^2"]
[1064,2941995,200,-1,-1,"RCP2-RTBBL-20-水平-20.0E-3kgm^2"]
[1065,2941995,400,-1,-1,"RCP2-RTCBL-30-水平-11.3E-3kgm^2"]
[1066,2941995,130,-1,-1,"RCP2-RTCBL-30-水平-30.0E-3kgm^2"]
[1067,2941995,600,-1,-1,"RCP2-RTCBL-20-水平-07.5E-3kgm^2"]
[1068,2941995,200,-1,-1,"RCP2-RTCBL-20-水平-20.0E-3kgm^2"]
[1069,{"$f":"0.7*$A$1*1000*1000","v":6864654.9999999991},150,-1,-1,"RCP2CR-SA5C-3-水平-08kg-0.7G"]
[1070,{"$f":"0.5*$A$1*1000*1000","v":4903325},150,-1,-1,"RCP2CR-SA5C-3-水平-09kg-0.5G"]
[1071,{"$f":"0.3*$A$1*1000*1000","v":2941995},150,-1,{"$f":"A1075","v":1072},"RCP2CR-SA5C-3-水平-10kg-0.3G-150mm/s"]
[1072,{"$f":"0.7*$A$1*1000*1000","v":6864654.9999999991},125,{"$f":"A1074","v":1071},-1,"RCP2CR-SA5C-3-水平-10kg-0.7G-125mm/s"]
[1073,{"$f":"0.5*$A$1*1000*1000","v":4903325},125,-1,-1,"RCP2CR-SA5C-3-水平-11kg-0.5G"]
[1074,{"$f":"0.7*$A$1*1000*1000","v":6864654.9999999991},100,-1,-1,"RCP2CR-SA5C-3-水平-12kg-0.7G"]
[1075,{"$f":"0.3*$A$1*1000*1000","v":2941995},125,-1,-1,"RCP2CR-SA5C-3-水平-13kg-0.3G"]
[1076,{"$f":"0.5*$A$1*1000*1000","v":4903325},100,-1,{"$f":"A1080","v":1077},"RCP2CR-SA5C-3-水平-14kg-0.5G-100mm/s"]
[1077,{"$f":"0.7*$A$1*1000*1000","v":6864654.9999999991},75,{"$f":"A1079","v":1076},-1,"RCP2CR-SA5C-3-水平-14kg-0.7G-75mm/s"]
[1078,{"$f":"0.2*$A$1*1000*1000","v":1961330},150,-1,{"$f":"A1082","v":1079},"RCP2CR-SA5C-3-水平-16kg-0.2G-150mm/s"]
[1079,{"$f":"0.3*$A$1*1000*1000","v":2941995},100,{"$f":"A1081","v":1078},{"$f":"A1083","v":1080},"RCP2CR-SA5C-3-水平-16kg-0.3G-100mm/s"]
[1080,{"$f":"0.5*$A$1*1000*1000","v":4903325},75,{"$f":"A1082","v":1079},{"$f":"A1084","v":1081},"RCP2CR-SA5C-3-水平-16kg-0.5G-75mm/s"]
[1081,{"$f":"0.7*$A$1*1000*1000","v":6864654.9999999991},50,{"$f":"A1083","v":1080},-1,"RCP2CR-SA5C-3-水平-16kg-0.7G-50mm/s"]
[1082,{"$f":"0.3*$A$1*1000*1000","v":2941995},150,-1,-1,"RCP2CR-SA5C-3-垂直-01.5kg-0.3G"]
[1083,{"$f":"0.2*$A$1*1000*1000","v":1961330},150,-1,-1,"RCP2CR-SA5C-3-垂直-04.5kg-0.2G"]
[1084,{"$f":"0.1*$A$1*1000*1000","v":980665},150,-1,{"$f":"A1088","v":1085},"RCP2CR-SA5C-3-垂直-05kg-0.1G-150mm/s"]
[1085,{"$f":"0.3*$A$1*1000*1000","v":2941995},125,{"$f":"A1087","v":1084},-1,"RCP2CR-SA5C-3-垂直-05kg-0.3G-125mm/s"]
[1086,{"$f":"0.2*$A$1*1000*1000","v":1961330},125,-1,-1,"RCP2CR-SA5C-3-垂直-05.5kg-0.2G"]
[1087,{"$f":"0.1*$A$1*1000*1000","v":980665},125,-1,-1,"RCP2CR-SA5C-3-垂直-06kg-0.1G"]
[1088,{"$f":"0.3*$A$1*1000*1000","v":2941995},100,-1,-1,"RCP2CR-SA5C-3-垂直-08kg-0.3G"]
[{"$f":"A1091+1","v":1089},{"$f":"0.7*$A$1*1000*1000","v":6864654.9999999991},300,-1,-1,"RCP2CR-SA5C-6-水平-04kg-0.7G"]
[1090,{"$f":"0.5*$A$1*1000*1000","v":4903325},300,-1,-1,"RCP2CR-SA5C-6-水平-05kg-0.5G"]
[1091,{"$f":"0.7*$A$1*1000*1000","v":6864654.9999999991},250,-1,-1,"RCP2CR-SA5C-6-水平-07kg-0.7G"]
[1092,{"$f":"0.3*$A$1*1000*1000","v":2941995},300,-1,{"$f":"A1096","v":1093},"RCP2CR-SA5C-6-水平-08kg-0.3G-300mm/s"]
[1093,{"$f":"0.5*$A$1*1000*1000","v":4903325},250,{"$f":"A1095","v":1092},-1,"RCP2CR-SA5C-6-水平-08kg-0.5G-250mm/s"]
[1094,{"$f":"0.3*$A$1*1000*1000","v":2941995},250,-1,-1,"RCP2CR-SA5C-6-水平-09kg-0.3G"]
[1095,{"$f":"0.7*$A$1*1000*1000","v":6864654.9999999991},200,-1,-1,"RCP2CR-SA5C-6-水平-12kg-0.7G"]
[1096,{"$f":"0.2*$A$1*1000*1000","v":1961330},300,-1,{"$f":"A1100","v":1097},"RCP2CR-SA5C-6-水平-13kg-0.2G-300mm/s"]
[1097,{"$f":"0.5*$A$1*1000*1000","v":4903325},200,{"$f":"A1099","v":1096},-1,"RCP2CR-SA5C-6-水平-13kg-0.5G-200mm/s"]
[1098,{"$f":"0.3*$A$1*1000*1000","v":2941995},300,-1,-1,"RCP2CR-SA5C-6-垂直-01.5kg-0.3G"]
[1099,{"$f":"0.2*$A$1*1000*1000","v":1961330},300,-1,-1,"RCP2CR-SA5C-6-垂直-02.5kg-0.2G"]
[1100,{"$f":"0.3*$A$1*1000*1000","v":2941995},250,-1,-1,"RCP2CR-SA5C-6-垂直-03kg-0.3G"]
[1101,{"$f":"0.2*$A$1*1000*1000","v":1961330},250,-1,{"$f":"A1105","v":1102},"RCP2CR-SA5C-6-垂直-04kg-0.2G-250mm/s"]
[1102,{"$f":"0.3*$A$1*1000*1000","v":2941995},200,{"$f":"A1104","v":1101},-1,"RCP2CR-SA5C-6-垂直-04kg-0.3G-200mm/s"]
[1103,{"$f":"0.7*$A$1*1000*1000","v":6864654.9999999991},600,-1,-1,"RCP2CR-SA5C-12-水平-01.5kg-0.7G"]
[1104,{"$f":"0.5*$A$1*1000*1000","v":4903325},600,-1,-1,"RCP2CR-SA5C-12-水平-02kg-0.5G"]
[1105,{"$f":"0.7*$A$1*1000*1000","v":6864654.9999999991},400,-1,-1,"RCP2CR-SA5C-12-水平-03.5kg-0.7G"]
[1106,{"$f":"0.3*$A$1*1000*1000","v":2941995},600,-1,{"$f":"A1110","v":1107},"RCP2CR-SA5C-12-水平-04kg-0.3G-600mm/s"]
[1107,{"$f":"0.5*$A$1*1000*1000","v":4903325},400,{"$f":"A1109","v":1106},-1,"RCP2CR-SA5C-12-水平-04kg-0.5G-400mm/s"]
[1108,{"$f":"0.3*$A$1*1000*1000","v":2941995},500,-1,{"$f":"A1112","v":1109},"RCP2CR-SA5C-12-水平-05kg-0.3G-500mm/s"]
[1109,{"$f":"0.7*$A$1*1000*1000","v":6864654.9999999991},300,{"$f":"A1111","v":1108},-1,"RCP2CR-SA5C-12-水平-05kg-0.7G-300mm/s"]
[1110,{"$f":"0.5*$A$1*1000*1000","v":4903325},300,-1,-1,"RCP2CR-SA5C-12-水平-05.5kg-0.5G"]
[1111,{"$f":"0.3*$A$1*1000*1000","v":2941995},400,-1,-1,"RCP2CR-SA5C-12-水平-06kg-0.3G"]
[1112,{"$f":"0.2*$A$1*1000*1000","v":1961330},500,-1,-1,"RCP2CR-SA5C-12-水平-07kg-0.2G"]
[1113,{"$f":"0.2*$A$1*1000*1000","v":1961330},400,-1,-1,"RCP2CR-SA5C-12-水平-08kg-0.2G"]
[1114,{"$f":"0.3*$A$1*1000*1000","v":2941995},600,-1,-1,"RCP2CR-SA5C-12-垂直-00.5kg-0.3G"]
[1115,{"$f":"0.2*$A$1*1000*1000","v":1961330},600,-1,{"$f":"A1119","v":1116},"RCP2CR-SA5C-12-垂直-01kg-0.2G"]
[1116,{"$f":"0.3*$A$1*1000*1000","v":2941995},500,{"$f":"A1118","v":1115},-1,"RCP2CR-SA5C-12-垂直-01kg-0.3G"]
[1117,{"$f":"0.7*$A$1*1000*1000","v":6864654.9999999991},150,-1,-1,"RCP2CR-SA6C-3-水平-09kg-0.7G"]
[1118,{"$f":"0.5*$A$1*1000*1000","v":4903325},150,-1,{"$f":"A1122","v":1119},"RCP2CR-SA6C-3-水平-10kg-0.5G-150mm/s"]
[1119,{"$f":"0.7*$A$1*1000*1000","v":6864654.9999999991},125,{"$f":"A1121","v":1118},-1,"RCP2CR-SA6C-3-水平-10kg-0.7G-125mm/s"]
[1120,{"$f":"0.5*$A$1*1000*1000","v":4903325},125,-1,{"$f":"A1124","v":1121},"RCP2CR-SA6C-3-水平-11kg-0.5G-125mm/s"]
[1121,{"$f":"0.7*$A$1*1000*1000","v":6864654.9999999991},100,{"$f":"A1123","v":1120},-1,"RCP2CR-SA6C-3-水平-11kg-0.7G-100mm/s"]
[1122,{"$f":"0.5*$A$1*1000*1000","v":4903325},100,-1,-1,"RCP2CR-SA6C-3-水平-12kg-0.5G"]
[1123,{"$f":"0.3*$A$1*1000*1000","v":2941995},150,-1,-1,"RCP2CR-SA6C-3-水平-13kg-0.3G"]
[1124,{"$f":"0.3*$A$1*1000*1000","v":2941995},125,-1,-1,"RCP2CR-SA6C-3-水平-14kg-0.4G"]
[1125,{"$f":"0.2*$A$1*1000*1000","v":1961330},150,-1,{"$f":"A1129","v":1126},"RCP2CR-SA6C-3-水平-15kg-0.2G-150mm/s"]
[1126,{"$f":"0.3*$A$1*1000*1000","v":2941995},100,{"$f":"A1128","v":1125},-1,"RCP2CR-SA6C-3-水平-15kg-0.3G-100mm/s"]
[1127,{"$f":"0.2*$A$1*1000*1000","v":1961330},125,-1,-1,"RCP2CR-SA6C-3-水平-16kg-0.2G"]
[1128,{"$f":"0.2*$A$1*1000*1000","v":1961330},100,-1,-1,"RCP2CR-SA6C-3-水平-17kg-0.2G"]
[1129,{"$f":"0.7*$A$1*1000*1000","v":6864654.9999999991},75,-1,-1,"RCP2CR-SA6C-3-水平-19kg-0.7G"]
[1130,{"$f":"0.3*$A$1*1000*1000","v":2941995},150,-1,-1,"RCP2CR-SA6C-3-垂直-02kg-0.3G"]
[1131,{"$f":"0.2*$A$1*1000*1000","v":1961330},150,-1,-1,"RCP2CR-SA6C-3-垂直-04kg-0.2G"]
[1132,{"$f":"0.3*$A$1*1000*1000","v":2941995},125,-1,-1,"RCP2CR-SA6C-3-垂直-06kg-0.3G"]
[1133,{"$f":"0.7*$A$1*1000*1000","v":6864654.9999999991},300,-1,-1,"RCP2CR-SA6C-6-水平-03kg-0.7G"]
[1134,{"$f":"0.5*$A$1*1000*1000","v":4903325},300,-1,-1,"RCP2CR-SA6C-6-水平-04kg-0.5G"]
[1135,{"$f":"0.7*$A$1*1000*1000","v":6864654.9999999991},250,-1,-1,"RCP2CR-SA6C-6-水平-06kg-0.7G"]
[1136,{"$f":"0.5*$A$1*1000*1000","v":4903325},250,-1,-1,"RCP2CR-SA6C-6-水平-08kg-0.5G"]
[1137,{"$f":"0.7*$A$1*1000*1000","v":6864654.9999999991},200,-1,-1,"RCP2CR-SA6C-6-水平-10kg-0.7G"]
[1138,{"$f":"0.3*$A$1*1000*1000","v":2941995},300,-1,{"$f":"A1142","v":1139},"RCP2CR-SA6C-6-水平-12kg-0.3G-300mm/s"]
[1139,{"$f":"0.5*$A$1*1000*1000","v":4903325},200,{"$f":"A1141","v":1138},-1,"RCP2CR-SA6C-6-水平-12kg-0.5G-200mm/s"]
[1140,{"$f":"0.2*$A$1*1000*1000","v":1961330},300,-1,-1,"RCP2CR-SA6C-6-水平-13kg-0.2G"]
[1141,{"$f":"0.2*$A$1*1000*1000","v":1961330},250,-1,{"$f":"A1145","v":1142},"RCP2CR-SA6C-6-水平-15kg-0.2G-250mm/s"]
[1142,{"$f":"0.3*$A$1*1000*1000","v":2941995},200,{"$f":"A1144","v":1141},-1,"RCP2CR-SA6C-6-水平-15kg-0.3G-200mm/s"]
[1143,{"$f":"0.2*$A$1*1000*1000","v":1961330},200,-1,-1,"RCP2CR-SA6C-6-水平-16kg-0.2G"]
[1144,{"$f":"0.3*$A$1*1000*1000","v":2941995},300,-1,-1,"RCP2CR-SA6C-6-垂直-01kg-0.3G"]
[1145,{"$f":"0.3*$A$1*1000*1000","v":2941995},250,-1,-1,"RCP2CR-SA6C-6-垂直-02kg-0.3G"]
[1146,{"$f":"0.2*$A$1*1000*1000","v":1961330},300,-1,-1,"RCP2CR-SA6C-6-垂直-02.5kg-0.2G"]
[1147,{"$f":"0.3*$A$1*1000*1000","v":2941995},200,-1,-1,"RCP2CR-SA6C-6-垂直-03kg-0.3G"]
[1148,{"$f":"0.3*$A$1*1000*1000","v":2941995},150,-1,-1,"RCP2CR-SA6C-6-垂直-04kg-0.3G"]
[1149,{"$f":"0.7*$A$1*1000*1000","v":6864654.9999999991},600,-1,-1,"RCP2CR-SA6C-12-水平-01kg-0.7G"]
[1150,{"$f":"0.5*$A$1*1000*1000","v":4903325},600,-1,{"$f":"A1154","v":1151},"RCP2CR-SA6C-12-水平-02kg-0.5G-600mm/s"]
[1151,{"$f":"0.7*$A$1*1000*1000","v":6864654.9999999991},500,{"$f":"A1153","v":1150},-1,"RCP2CR-SA6C-12-水平-02kg-0.7G-500mm/s"]
[1152,{"$f":"0.5*$A$1*1000*1000","v":4903325},500,-1,{"$f":"A1156","v":1153},"RCP2CR-SA6C-12-水平-03kg-0.5G-500mm/s"]
[{"$f":"A1155+1","v":1153},{"$f":"0.7*$A$1*1000*1000","v":6864654.9999999991},400,{"$f":"A1155","v":1152},-1,"RCP2CR-SA6C-12-水平-03kg-0.7G-400mm/s"]
[1154,{"$f":"0.5*$A$1*1000*1000","v":4903325},400,-1,-1,"RCP2CR-SA6C-12-水平-04kg-0.5G"]
[1155,{"$f":"0.3*$A$1*1000*1000","v":2941995},600,-1,{"$f":"A1159","v":1156},"RCP2CR-SA6C-12-水平-06kg-0.3G-600mm/s"]
[1156,{"$f":"0.7*$A$1*1000*1000","v":6864654.9999999991},300,{"$f":"A1158","v":1155},-1,"RCP2CR-SA6C-12-水平-06kg-0.7G-300mm/s"]
[1157,{"$f":"0.5*$A$1*1000*1000","v":4903325},300,-1,-1,"RCP2CR-SA6C-12-水平-07kg-0.5G"]
[1158,{"$f":"0.3*$A$1*1000*1000","v":2941995},300,-1,-1,"RCP2CR-SA6C-12-水平-08.5kg-0.3G"]
[1159,{"$f":"0.3*$A$1*1000*1000","v":2941995},600,-1,-1,"RCP2CR-SA6C-12-垂直-00.5kg-0.3G"]
[1160,{"$f":"0.2*$A$1*1000*1000","v":1961330},600,-1,-1,"RCP2CR-SA6C-12-垂直-01kg-0.2G"]
[1161,{"$f":"0.1*$A$1*1000*1000","v":980665},500,-1,{"$f":"A1165","v":1162},"RCP2CR-SA6C-12-垂直-01.5kg-0.1G-500mm/s"]
[1162,{"$f":"0.2*$A$1*1000*1000","v":1961330},400,{"$f":"A1164","v":1161},{"$f":"A1166","v":1163},"RCP2CR-SA6C-12-垂直-01.5kg-0.2G-400mm/s"]
[1163,{"$f":"0.3*$A$1*1000*1000","v":2941995},300,{"$f":"A1165","v":1162},-1,"RCP2CR-SA6C-12-垂直-01.5kg-0.3G-300mm/s"]
[1164,{"$f":"0.2*$A$1*1000*1000","v":1961330},133,-1,-1,"RCP2CR-SA7C-4-水平-30kg-0.2G"]
[1165,{"$f":"0.2*$A$1*1000*1000","v":1961330},133,-1,-1,"RCP2CR-SA7C-4-垂直-03kg-0.2G"]
[1166,{"$f":"0.2*$A$1*1000*1000","v":1961330},100,-1,-1,"RCP2CR-SA7C-4-垂直-04kg-0.2G"]
[1167,{"$f":"0.2*$A$1*1000*1000","v":1961330},67,-1,-1,"RCP2CR-SA7C-4-垂直-09.5kg-0.2G"]
[1168,{"$f":"0.2*$A$1*1000*1000","v":1961330},33,-1,-1,"RCP2CR-SA7C-4-垂直-15kg-0.2G"]
[1169,{"$f":"0.3*$A$1*1000*1000","v":2941995},266,-1,-1,"RCP2CR-SA7C-8-水平-05kg-0.3G"]
[1170,{"$f":"0.3*$A$1*1000*1000","v":2941995},200,-1,-1,"RCP2CR-SA7C-8-水平-20kg-0.3G"]
[1171,{"$f":"0.3*$A$1*1000*1000","v":2941995},133,-1,-1,"RCP2CR-SA7C-8-水平-30kg-0.3G"]
[1172,{"$f":"0.2*$A$1*1000*1000","v":1961330},266,-1,-1,"RCP2CR-SA7C-8-垂直-01kg-0.2G"]
[1173,{"$f":"0.2*$A$1*1000*1000","v":1961330},200,-1,-1,"RCP2CR-SA7C-8-垂直-03kg-0.2G"]
[1174,{"$f":"0.2*$A$1*1000*1000","v":1961330},133,-1,-1,"RCP2CR-SA7C-8-垂直-06kg-0.2G"]
[1175,{"$f":"0.2*$A$1*1000*1000","v":1961330},67,-1,-1,"RCP2CR-SA7C-8-垂直-10kg-0.2G"]
[1176,{"$f":"0.3*$A$1*1000*1000","v":2941995},533,-1,-1,"RCP2CR-SA7C-16-水平-05kg-0.3G"]
[1177,{"$f":"0.3*$A$1*1000*1000","v":2941995},400,-1,-1,"RCP2CR-SA7C-16-水平-15kg-0.3G"]
[1178,{"$f":"0.3*$A$1*1000*1000","v":2941995},267,-1,-1,"RCP2CR-SA7C-16-水平-20kg-0.3G"]
[1179,{"$f":"0.3*$A$1*1000*1000","v":2941995},133,-1,-1,"RCP2CR-SA7C-16-水平-25kg-0.3G"]
[1180,{"$f":"0.2*$A$1*1000*1000","v":1961330},400,-1,-1,"RCP2CR-SA7C-16-垂直-01kg-0.2G"]
[1181,1961330,267,-1,-1,"RCP2CR-SA7C-16-垂直-02kg-0.2G"]
[1182,1961330,133,-1,-1,"RCP2CR-SA7C-16-垂直-05kg-0.2G"]
[1183,1961330,150,-1,-1,"RCP2CR-SS7C-3-水平-20kg-0.2G"]
[1184,1961330,113,-1,-1,"RCP2CR-SS7C-3-水平-30kg-0.2G"]
[1185,1961330,150,-1,-1,"RCP2CR-SS7C-3-垂直-01kg-0.2G"]
[1186,1961330,113,-1,-1,"RCP2CR-SS7C-3-垂直-06kg-0.2G"]
[1187,1961330,75,-1,-1,"RCP2CR-SS7C-3-垂直-10kg-0.2G"]
[1188,1961330,38,-1,-1,"RCP2CR-SS7C-3-垂直-12kg-0.2G"]
[1189,{"$f":"0.3*$A$1*1000*1000","v":2941995},300,-1,-1,"RCP2CR-SS7C-6-水平-20kg-0.3G"]
[1190,{"$f":"0.3*$A$1*1000*1000","v":2941995},225,-1,-1,"RCP2CR-SS7C-6-水平-30kg-0.3G"]
[1191,{"$f":"0.2*$A$1*1000*1000","v":1961330},300,-1,-1,"RCP2CR-SS7C-6-垂直-02kg-0.2G"]
[1192,{"$f":"0.2*$A$1*1000*1000","v":1961330},225,-1,-1,"RCP2CR-SS7C-6-垂直-04kg-0.2G"]
[1193,{"$f":"0.2*$A$1*1000*1000","v":1961330},150,-1,-1,"RCP2CR-SS7C-6-垂直-06kg-0.2G"]
[1194,{"$f":"0.2*$A$1*1000*1000","v":1961330},75,-1,-1,"RCP2CR-SS7C-6-垂直-08kg-0.2G"]
[1195,{"$f":"0.3*$A$1*1000*1000","v":2941995},600,-1,-1,"RCP2CR-SS7C-12-水平-03kg-0.3G"]
[1196,{"$f":"0.3*$A$1*1000*1000","v":2941995},450,-1,-1,"RCP2CR-SS7C-12-水平-10kg-0.3G"]
[1197,{"$f":"0.3*$A$1*1000*1000","v":2941995},300,-1,-1,"RCP2CR-SS7C-12-水平-18kg-0.3G"]
[1198,{"$f":"0.3*$A$1*1000*1000","v":2941995},150,-1,-1,"RCP2CR-SS7C-12-水平-30kg-0.3G"]
[1199,{"$f":"0.2*$A$1*1000*1000","v":1961330},600,-1,-1,"RCP2CR-SS7C-12-垂直-00.5kg-0.2G"]
[1200,1961330,450,-1,-1,"RCP2CR-SS7C-12-垂直-02kg-0.2G"]
[1201,1961330,300,-1,-1,"RCP2CR-SS7C-12-垂直-03kg-0.2G"]
[1202,1961330,150,-1,-1,"RCP2CR-SS7C-12-垂直-04kg-0.2G"]
[1203,1961330,165,-1,-1,"RCP2CR-SS8C-5-水平-08kg-0.2G"]
[1204,1961330,125,-1,-1,"RCP2CR-SS8C-5-水平-30kg-0.2G"]
[1205,1961330,83,-1,-1,"RCP2CR-SS8C-5-水平-40kg-0.2G"]
[1206,1961330,42,-1,-1,"RCP2CR-SS8C-5-水平-55kg-0.2G"]
[1207,1961330,150,-1,-1,"RCP2CR-SS8C-5-垂直-00.5kg-0.2G"]
[1208,1961330,125,-1,-1,"RCP2CR-SS8C-5-垂直-04kg-0.2G"]
[1209,1961330,83,-1,-1,"RCP2CR-SS8C-5-垂直-07kg-0.2G"]
[1210,1961330,42,-1,-1,"RCP2CR-SS8C-5-垂直-20kg-0.2G"]
[1211,{"$f":"0.3*$A$1*1000*1000","v":2941995},333,-1,-1,"RCP2CR-SS8C-10-水平-04kg-0.3G"]
[1212,{"$f":"0.3*$A$1*1000*1000","v":2941995},250,-1,-1,"RCP2CR-SS8C-10-水平-15kg-0.3G"]
[1213,{"$f":"0.3*$A$1*1000*1000","v":2941995},167,-1,-1,"RCP2CR-SS8C-10-水平-40kg-0.3G"]
[1214,{"$f":"0.3*$A$1*1000*1000","v":2941995},83,-1,-1,"RCP2CR-SS8C-10-水平-50kg-0.3G"]
[1215,{"$f":"0.2*$A$1*1000*1000","v":1961330},300,-1,-1,"RCP2CR-SS8C-10-垂直-00.5kg-0.2G"]
[1216,{"$f":"0.2*$A$1*1000*1000","v":1961330},250,-1,-1,"RCP2CR-SS8C-10-垂直-04kg-0.2G"]
[{"$f":"A1219+1","v":1217},{"$f":"0.2*$A$1*1000*1000","v":1961330},167,-1,-1,"RCP2CR-SS8C-10-垂直-06kg-0.2G"]
[1218,{"$f":"0.2*$A$1*1000*1000","v":1961330},83,-1,-1,"RCP2CR-SS8C-10-垂直-12kg-0.2G"]
[1219,{"$f":"0.3*$A$1*1000*1000","v":2941995},666,-1,-1,"RCP2CR-SS8C-20-水平-05kg-0.3G"]
[1220,{"$f":"0.3*$A$1*1000*1000","v":2941995},500,-1,-1,"RCP2CR-SS8C-20-水平-12kg-0.3G"]
[1221,{"$f":"0.3*$A$1*1000*1000","v":2941995},333,-1,-1,"RCP2CR-SS8C-20-水平-25kg-0.3G"]
[1222,{"$f":"0.3*$A$1*1000*1000","v":2941995},167,-1,-1,"RCP2CR-SS8C-20-水平-40kg-0.3G"]
[1223,{"$f":"0.2*$A$1*1000*1000","v":1961330},500,-1,-1,"RCP2CR-SS8C-20-垂直-00.5kg-0.2G"]
[1224,{"$f":"0.2*$A$1*1000*1000","v":1961330},333,-1,-1,"RCP2CR-SS8C-20-垂直-03g-0.2G"]
[1225,{"$f":"0.2*$A$1*1000*1000","v":1961330},167,-1,-1,"RCP2CR-SS8C-20-垂直-05kg-0.2G"]
[1226,{"$f":"0.5*$A$1*1000*1000","v":4903325},1200,-1,-1,"RCP2CR-HS8C-30-水平-01kg-0.5G"]
[1227,{"$f":"0.3*$A$1*1000*1000","v":2941995},1200,-1,{"$f":"A1231","v":1228},"RCP2CR-HS8C-30-水平-02kg-0.3G-1200mm/s"]
[1228,{"$f":"0.5*$A$1*1000*1000","v":4903325},1000,{"$f":"A1230","v":1227},-1,"RCP2CR-HS8C-30-水平-02kg-0.5G-1000mm/s"]
[1229,{"$f":"0.3*$A$1*1000*1000","v":2941995},1000,-1,-1,"RCP2CR-HS8C-30-水平-04kg-0.3G"]
[1230,{"$f":"0.5*$A$1*1000*1000","v":4903325},750,-1,-1,"RCP2CR-HS8C-30-水平-07kg-0.5G"]
[1231,{"$f":"0.3*$A$1*1000*1000","v":2941995},750,-1,{"$f":"A1235","v":1232},"RCP2CR-HS8C-30-水平-12kg-0.3G-750mm/s"]
[1232,{"$f":"0.5*$A$1*1000*1000","v":4903325},500,{"$f":"A1234","v":1231},-1,"RCP2CR-HS8C-30-水平-12kg-0.5G-500mm/s"]
[1233,{"$f":"0.3*$A$1*1000*1000","v":2941995},500,-1,-1,"RCP2CR-HS8C-30-水平-20kg-0.3G"]
[1234,{"$f":"0.2*$A$1*1000*1000","v":1961330},750,-1,-1,"RCP2CR-HS8C-30-垂直-02kg-0.2G"]
[1235,1961330,500,-1,-1,"RCP2CR-HS8C-30-垂直-03kg-0.2G"]
[1236,1961330,125,-1,-1,"RCP2W-RA4C-2.5-水平-40kg-0.2G"]
[1237,1961330,115,-1,-1,"RCP2W-RA4C-2.5-垂直-02.5kg-0.2G"]
[1238,1961330,93,-1,-1,"RCP2W-RA4C-2.5-垂直-05kg-0.2G"]
[1239,1961330,62,-1,-1,"RCP2W-RA4C-2.5-垂直-15kg-0.2G"]
[1240,1961330,31,-1,-1,"RCP2W-RA4C-2.5-垂直-19kg-0.2G"]
[1241,1961330,190,-1,-1,"RCP2W-RA4C-5-水平-40kg-0.2G"]
[1242,1961330,190,-1,-1,"RCP2W-RA4C-5-垂直-02.5kg-0.2G"]
[1243,1961330,125,-1,-1,"RCP2W-RA4C-5-垂直-07kg-0.2G"]
[1244,1961330,62,-1,-1,"RCP2W-RA4C-5-垂直-12kg-0.2G"]
[1245,1961330,450,-1,-1,"RCP2W-RA4C-10-水平-05kg-0.2G"]
[1246,1961330,375,-1,-1,"RCP2W-RA4C-10-水平-15kg-0.2G"]
[1247,1961330,250,-1,-1,"RCP2W-RA4C-10-水平-25kg-0.2G"]
[1248,1961330,250,-1,-1,"RCP2W-RA4C-10-垂直-02kg-0.2G"]
[1249,1961330,125,-1,-1,"RCP2W-RA4C-10-垂直-04.5kg-0.2G"]
[1250,1961330,100,-1,-1,"RCP2W-RA6C-4-水平-55kg-0.2G"]
[1251,1961330,100,-1,-1,"RCP2W-RA6C-4-垂直-03kg-0.2G"]
[1252,1961330,62,-1,-1,"RCP2W-RA6C-4-垂直-13kg-0.2G"]
[1253,1961330,31,-1,-1,"RCP2W-RA6C-4-垂直-25kg-0.2G"]
[1254,1961330,15,-1,-1,"RCP2W-RA6C-4-垂直-26kg-0.2G"]
[1255,1961330,200,-1,-1,"RCP2W-RA6C-8-水平-50kg-0.2G"]
[1256,1961330,200,-1,-1,"RCP2W-RA6C-8-垂直-02kg-0.2G"]
[1257,1961330,133,-1,-1,"RCP2W-RA6C-8-垂直-06.1kg-0.2G"]
[1258,1961330,66,-1,-1,"RCP2W-RA6C-8-垂直-10kg-0.2G"]
[1259,1961330,33,-1,-1,"RCP2W-RA6C-8-垂直-17.5kg-0.2G"]
[1260,1961330,320,-1,-1,"RCP2W-RA6C-16-水平-20kg-0.2G"]
[1261,1961330,265,-1,-1,"RCP2W-RA6C-16-水平-30kg-0.2G"]
[1262,1961330,133,-1,-1,"RCP2W-RA6C-16-水平-35kg-0.2G"]
[1263,1961330,66,-1,-1,"RCP2W-RA6C-16-水平-40kg-0.2G"]
[1264,1961330,265,-1,-1,"RCP2W-RA6C-16-垂直-01kg-0.2G"]
[1265,1961330,133,-1,-1,"RCP2W-RA6C-16-垂直-03kg-0.2G"]
[1266,1961330,66,-1,-1,"RCP2W-RA6C-16-垂直-05kg-0.2G"]
[1267,{"$f":"0.01*$A$1*1000*1000","v":98066.5},63,-1,-1,"RCP2W-RA10C-2.5-水平-300kg-0.01G"]
[1268,98066.5,63,-1,-1,"RCP2W-RA10C-2.5-垂直-10kg-0.01G"]
[1269,98066.5,55,-1,-1,"RCP2W-RA10C-2.5-垂直-20kg-0.01G"]
[1270,98066.5,50,-1,-1,"RCP2W-RA10C-2.5-垂直-30kg-0.01G"]
[1271,98066.5,37,-1,-1,"RCP2W-RA10C-2.5-垂直-65kg-0.01G"]
[1272,98066.5,35,-1,-1,"RCP2W-RA10C-2.5-垂直-75kg-0.01G"]
[1273,98066.5,30,-1,-1,"RCP2W-RA10C-2.5-垂直-100kg-0.01G"]
[1274,98066.5,20,-1,-1,"RCP2W-RA10C-2.5-垂直-150kg-0.01G"]
[1275,{"$f":"0.02*$A$1*1000*1000","v":196133},125,-1,-1,"RCP2W-RA10C-5-水平-150kg-0.02G"]
[1276,196133,125,-1,-1,"RCP2W-RA10C-5-垂直-03kg-0.02G"]
[1277,196133,105,-1,-1,"RCP2W-RA10C-5-垂直-07kg-0.02G"]
[1278,196133,100,-1,-1,"RCP2W-RA10C-5-垂直-09kg-0.02G"]
[1279,196133,90,-1,-1,"RCP2W-RA10C-5-垂直-13kg-0.02G"]
[1280,196133,77,-1,-1,"RCP2W-RA10C-5-垂直-20kg-0.02G"]
[{"$f":"A1283+1","v":1281},196133,70,-1,-1,"RCP2W-RA10C-5-垂直-25kg-0.02G"]
[1282,196133,68,-1,-1,"RCP2W-RA10C-5-垂直-27kg-0.02G"]
[1283,196133,65,-1,-1,"RCP2W-RA10C-5-垂直-29kg-0.02G"]
[1284,196133,60,-1,-1,"RCP2W-RA10C-5-垂直-35kg-0.02G"]
[1285,196133,58,-1,-1,"RCP2W-RA10C-5-垂直-37kg-0.02G"]
[1286,196133,55,-1,-1,"RCP2W-RA10C-5-垂直-42kg-0.02G"]
[1287,196133,50,-1,-1,"RCP2W-RA10C-5-垂直-51kg-0.02G"]
[1288,196133,40,-1,-1,"RCP2W-RA10C-5-垂直-100kg-0.02G"]
[1289,{"$f":"0.04*$A$1*1000*1000","v":392266},250,-1,-1,"RCP2W-RA10C-10-水平-15kg-0.04G"]
[1290,392266,240,-1,-1,"RCP2W-RA10C-10-水平-21kg-0.04G"]
[1291,392266,225,-1,-1,"RCP2W-RA10C-10-水平-38kg-0.04G"]
[1292,392266,200,-1,-1,"RCP2W-RA10C-10-水平-80kg-0.04G"]
[1293,392266,167,-1,-1,"RCP2W-RA10C-10-垂直-06kg-0.04G"]
[1294,392266,152,-1,-1,"RCP2W-RA10C-10-垂直-08kg-0.04G"]
[1295,392266,140,-1,-1,"RCP2W-RA10C-10-垂直-10kg-0.04G"]
[1296,392266,120,-1,-1,"RCP2W-RA10C-10-垂直-15kg-0.04G"]
[1297,392266,105,-1,-1,"RCP2W-RA10C-10-垂直-20kg-0.04G"]
[1298,392266,75,-1,-1,"RCP2W-RA10C-10-垂直-35kg-0.04G"]
[1299,392266,55,-1,-1,"RCP2W-RA10C-10-垂直-58kg-0.04G"]
[1300,392266,45,-1,-1,"RCP2W-RA10C-10-垂直-80kg-0.04G"]
[1301,{"$f":"0.3*$A$1*1000*1000","v":2941995},50,-1,-1,"RCP3-RA2AC-20P-1-水平"]
[1302,{"$f":"0.2*$A$1*1000*1000","v":1961330},50,-1,-1,"RCP3-RA2AC-20P-1-垂直"]
[1303,{"$f":"0.3*$A$1*1000*1000","v":2941995},100,-1,-1,"RCP3-RA2AC-20P-2-水平"]
[1304,1961330,100,-1,-1,"RCP3-RA2AC-20P-2-垂直"]
[1305,{"$f":"0.3*$A$1*1000*1000","v":2941995},200,-1,-1,"RCP3-RA2AC-20P-4-水平"]
[1306,1961330,200,-1,-1,"RCP3-RA2AC-20P-4-垂直"]
[1307,{"$f":"0.3*$A$1*1000*1000","v":2941995},50,-1,-1,"RCP3-RA2AC-20SP-1-水平"]
[1308,1961330,50,-1,-1,"RCP3-RA2AC-20SP-1-垂直"]
[1309,{"$f":"0.3*$A$1*1000*1000","v":2941995},100,-1,-1,"RCP3-RA2AC-20SP-2-水平"]
[1310,1961330,100,-1,-1,"RCP3-RA2AC-20SP-2-垂直"]
[1311,{"$f":"0.3*$A$1*1000*1000","v":2941995},200,-1,-1,"RCP3-RA2AC-20SP-4-水平"]
[1312,1961330,200,-1,-1,"RCP3-RA2AC-20SP-4-垂直"]
[1313,{"$f":"0.3*$A$1*1000*1000","v":2941995},50,-1,-1,"RCP3-RA2BC-20P-1-水平"]
[1314,1961330,50,-1,-1,"RCP3-RA2BC-20P-1-垂直"]
[1315,{"$f":"0.3*$A$1*1000*1000","v":2941995},100,-1,-1,"RCP3-RA2BC-20P-2-水平"]
[1316,1961330,100,-1,-1,"RCP3-RA2BC-20P-2-垂直"]
[1317,{"$f":"0.3*$A$1*1000*1000","v":2941995},200,-1,-1,"RCP3-RA2BC-20P-4-水平"]
[1318,1961330,200,-1,-1,"RCP3-RA2BC-20P-4-垂直"]
[1319,{"$f":"0.3*$A$1*1000*1000","v":2941995},300,-1,-1,"RCP3-RA2BC-20P-6-水平"]
[1320,1961330,300,-1,-1,"RCP3-RA2BC-20P-6-垂直"]
[1321,{"$f":"0.3*$A$1*1000*1000","v":2941995},50,-1,-1,"RCP3-RA2BC-20SP-1-水平"]
[1322,1961330,50,-1,-1,"RCP3-RA2BC-20SP-1-垂直"]
[1323,{"$f":"0.3*$A$1*1000*1000","v":2941995},100,-1,-1,"RCP3-RA2BC-20SP-2-水平"]
[1324,1961330,100,-1,-1,"RCP3-RA2BC-20SP-2-垂直"]
[1325,{"$f":"0.3*$A$1*1000*1000","v":2941995},200,-1,-1,"RCP3-RA2BC-20SP-4-水平"]
[1326,1961330,200,-1,-1,"RCP3-RA2BC-20SP-4-垂直"]
[1327,{"$f":"0.3*$A$1*1000*1000","v":2941995},300,-1,-1,"RCP3-RA2BC-20SP-6-水平"]
[1328,1961330,300,-1,-1,"RCP3-RA2BC-20SP-6-垂直"]
[1329,{"$f":"0.3*$A$1*1000*1000","v":2941995},50,-1,-1,"RCP3-RA2AR-20P-1-水平"]
[1330,1961330,50,-1,-1,"RCP3-RA2AR-20P-1-垂直"]
[1331,{"$f":"0.3*$A$1*1000*1000","v":2941995},100,-1,-1,"RCP3-RA2AR-20P-2-水平"]
[1332,1961330,100,-1,-1,"RCP3-RA2AR-20P-2-垂直"]
[1333,{"$f":"0.3*$A$1*1000*1000","v":2941995},200,-1,-1,"RCP3-RA2AR-20P-4-水平"]
[1334,{"$f":"0.2*$A$1*1000*1000","v":1961330},200,-1,-1,"RCP3-RA2AR-20P-4-垂直"]
[1335,{"$f":"0.3*$A$1*1000*1000","v":2941995},50,-1,-1,"RCP3-RA2AR-20SP-1-水平"]
[1336,1961330,50,-1,-1,"RCP3-RA2AR-20SP-1-垂直"]
[1337,{"$f":"0.3*$A$1*1000*1000","v":2941995},100,-1,-1,"RCP3-RA2AR-20SP-2-水平"]
[1338,1961330,100,-1,-1,"RCP3-RA2AR-20SP-2-垂直"]
[1339,{"$f":"0.3*$A$1*1000*1000","v":2941995},200,-1,-1,"RCP3-RA2AR-20SP-4-水平"]
[1340,1961330,200,-1,-1,"RCP3-RA2AR-20SP-4-垂直"]
[1341,{"$f":"0.3*$A$1*1000*1000","v":2941995},50,-1,-1,"RCP3-RA2BR-20P-1-水平"]
[1342,1961330,50,-1,-1,"RCP3-RA2BR-20P-1-垂直"]
[1343,{"$f":"0.3*$A$1*1000*1000","v":2941995},100,-1,-1,"RCP3-RA2BR-20P-2-水平"]
[1344,1961330,100,-1,-1,"RCP3-RA2BR-20P-2-垂直"]
[{"$f":"A1347+1","v":1345},{"$f":"0.3*$A$1*1000*1000","v":2941995},200,-1,-1,"RCP3-RA2BR-20P-4-水平"]
[1346,1961330,200,-1,-1,"RCP3-RA2BR-20P-4-垂直"]
[1347,{"$f":"0.3*$A$1*1000*1000","v":2941995},300,-1,-1,"RCP3-RA2BR-20P-6-水平"]
[1348,1961330,300,-1,-1,"RCP3-RA2BR-20P-6-垂直"]
[1349,{"$f":"0.3*$A$1*1000*1000","v":2941995},50,-1,-1,"RCP3-RA2BR-20SP-1-水平"]
[1350,1961330,50,-1,-1,"RCP3-RA2BR-20SP-1-垂直"]
[1351,{"$f":"0.3*$A$1*1000*1000","v":2941995},100,-1,-1,"RCP3-RA2BR-20SP-2-水平"]
[1352,1961330,100,-1,-1,"RCP3-RA2BR-20SP-2-垂直"]
[1353,{"$f":"0.3*$A$1*1000*1000","v":2941995},200,-1,-1,"RCP3-RA2BR-20SP-4-水平"]
[1354,1961330,200,-1,-1,"RCP3-RA2BR-20SP-4-垂直"]
[1355,{"$f":"0.3*$A$1*1000*1000","v":2941995},300,-1,-1,"RCP3-RA2BR-20SP-6-水平"]
[1356,1961330,300,-1,-1,"RCP3-RA2BR-20SP-6-垂直"]
[1357,{"$f":"H1360*$A$1*1000*1000","v":980665},{"$f":"I1360","v":150},-1,-1,"RCP2-RA8C-5-水平",60,0.1,150,{"$f":"IF(G1360=0,IF(D1360<>A1359,\"ﾘﾝｸ不正\",\"○\"),\"○\")","v":"○"},{"$f":"IF(D1361<>-1,IF(E1360<>A1361,\"ﾘﾝｸ不正\",\"○\"),\"○\")","v":"○"}]
[1358,980665,140,-1,-1,"RCP2-RA8C-5-水平",75,0.1,140,{"$f":"IF(G1361=0,IF(D1361<>A1360,\"ﾘﾝｸ不正\",\"○\"),\"○\")","v":"○"},{"$f":"IF(D1362<>-1,IF(E1361<>A1362,\"ﾘﾝｸ不正\",\"○\"),\"○\")","v":"○"}]
[1359,980665,130,-1,-1,"RCP2-RA8C-5-水平",90,0.1,130,"○","○"]
[1360,980665,120,-1,-1,"RCP2-RA8C-5-水平",100,0.1,120,"○","○"]
[1361,980665,150,-1,-1,"RCP2-RA8C-5-垂直",3,0.1,150,"○","○"]
[1362,980665,120,-1,-1,"RCP2-RA8C-5-垂直",10,0.1,120,"○","○"]
[1363,980665,100,-1,-1,"RCP2-RA8C-5-垂直",15,0.1,100,"○","○"]
[1364,980665,90,-1,-1,"RCP2-RA8C-5-垂直",20,0.1,90,"○","○"]
[1365,980665,80,-1,-1,"RCP2-RA8C-5-垂直",25,0.1,80,"○","○"]
[1366,980665,70,-1,-1,"RCP2-RA8C-5-垂直",35,0.1,70,"○","○"]
[1367,980665,60,-1,-1,"RCP2-RA8C-5-垂直",50,0.1,60,"○","○"]
[1368,980665,50,-1,-1,"RCP2-RA8C-5-垂直",70,0.1,50,"○","○"]
[1369,1961330,300,-1,-1,"RCP2-RA8C-10-水平",10,0.2,300,"○","○"]
[1370,1961330,240,-1,-1,"RCP2-RA8C-10-水平",40,0.2,240,"○","○"]
[1371,1961330,200,-1,-1,"RCP2-RA8C-10-水平",45,0.2,200,"○","○"]
[1372,1961330,150,-1,-1,"RCP2-RA8C-10-水平",60,0.2,150,"○","○"]
[1373,1961330,300,-1,-1,"RCP2-RA8C-10-垂直",2,0.2,300,"○","○"]
[1374,1961330,240,-1,-1,"RCP2-RA8C-10-垂直",3,0.2,240,"○","○"]
[1375,1961330,200,-1,-1,"RCP2-RA8C-10-垂直",4,0.2,200,"○","○"]
[1376,1961330,190,-1,-1,"RCP2-RA8C-10-垂直",5,0.2,190,"○","○"]
[1377,1961330,180,-1,-1,"RCP2-RA8C-10-垂直",7,0.2,180,"○","○"]
[1378,1961330,170,-1,-1,"RCP2-RA8C-10-垂直",8,0.2,170,"○","○"]
[1379,1961330,160,-1,-1,"RCP2-RA8C-10-垂直",10,0.2,160,"○","○"]
[1380,1961330,150,-1,-1,"RCP2-RA8C-10-垂直",11,0.2,150,"○","○"]
[1381,1961330,140,-1,-1,"RCP2-RA8C-10-垂直",15,0.2,140,"○","○"]
[1382,1961330,130,-1,-1,"RCP2-RA8C-10-垂直",18,0.2,130,"○","○"]
[1383,1961330,120,-1,-1,"RCP2-RA8C-10-垂直",23,0.2,120,"○","○"]
[1384,1961330,110,-1,-1,"RCP2-RA8C-10-垂直",28,0.2,110,"○","○"]
[1385,1961330,100,-1,-1,"RCP2-RA8C-10-垂直",33,0.2,100,"○","○"]
[1386,1961330,90,-1,-1,"RCP2-RA8C-10-垂直",40,0.2,90,"○","○"]
[1387,980665,100,-1,-1,"RCP2-RA8R-5-水平",75,0.1,100,"○","○"]
[1388,980665,90,-1,-1,"RCP2-RA8R-5-水平",100,0.1,90,"○","○"]
[1389,980665,100,-1,-1,"RCP2-RA8R-5-垂直",15,0.1,100,"○","○"]
[1390,980665,90,-1,-1,"RCP2-RA8R-5-垂直",20,0.1,90,"○","○"]
[1391,980665,80,-1,-1,"RCP2-RA8R-5-垂直",25,0.1,80,"○","○"]
[1392,980665,70,-1,-1,"RCP2-RA8R-5-垂直",35,0.1,70,"○","○"]
[1393,980665,60,-1,-1,"RCP2-RA8R-5-垂直",50,0.1,60,"○","○"]
[1394,980665,50,-1,-1,"RCP2-RA8R-5-垂直",70,0.1,50,"○","○"]
[1395,1961330,200,-1,-1,"RCP2-RA8R-10-水平",12,0.2,200,"○","○"]
[1396,1961330,190,-1,-1,"RCP2-RA8R-10-水平",15,0.2,190,"○","○"]
[1397,1961330,180,-1,-1,"RCP2-RA8R-10-水平",25,0.2,180,"○","○"]
[1398,1961330,170,-1,-1,"RCP2-RA8R-10-水平",40,0.2,170,"○","○"]
[1399,1961330,160,-1,-1,"RCP2-RA8R-10-水平",60,0.2,160,"○","○"]
[1400,1961330,200,-1,-1,"RCP2-RA8R-10-垂直",4,0.2,200,"○","○"]
[1401,1961330,190,-1,-1,"RCP2-RA8R-10-垂直",5,0.2,190,"○","○"]
[1402,1961330,180,-1,-1,"RCP2-RA8R-10-垂直",7,0.2,180,"○","○"]
[1403,1961330,170,-1,-1,"RCP2-RA8R-10-垂直",8,0.2,170,"○","○"]
[1404,1961330,160,-1,-1,"RCP2-RA8R-10-垂直",10,0.2,160,"○","○"]
[1405,1961330,150,-1,-1,"RCP2-RA8R-10-垂直",11,0.2,150,"○","○"]
[1406,1961330,140,-1,-1,"RCP2-RA8R-10-垂直",15,0.2,140,"○","○"]
[1407,1961330,130,-1,-1,"RCP2-RA8R-10-垂直",18,0.2,130,"○","○"]
[1408,1961330,120,-1,-1,"RCP2-RA8R-10-垂直",23,0.2,120,"○","○"]
[1409,1961330,110,-1,-1,"RCP2-RA8R-10-垂直",28,0.2,110,"○","○"]
[1410,1961330,100,-1,-1,"RCP2-RA8R-10-垂直",33,0.2,100,"○","○"]
[1411,1961330,90,-1,-1,"RCP2-RA8R-10-垂直",40,0.2,90,"○","ﾘﾝｸ不正"]

{"sheet":"Message","index":7,"n_rows":82,"n_cols":4,"rows_kept":82,"cut":false,"hidden":true,"merged":[]}
["No.","元データ","リンク用文字体裁込み"]
[1,"Ver4.1",{"$f":"B2","v":"Ver4.1"},"C列書式変更禁止 (リンク先テキストボックスの書式にも影響する為)"]
[2,"节拍计算","节拍计算","C列書式変更禁止 (リンク先テキストボックスの書式にも影響する為)"]
[3,"PULSE-MotorSeries","PULSE-MotorSeries","C列書式変更禁止 (リンク先テキストボックスの書式にも影響する為)"]
[4,"通过速度・加减速度・移动距离自动计算单轴机械手的定位时间（Cycle Time）。\n请在以下<a>～<e>项目中选择使用的产品。　在<1>～<5>中输入需要的运行条件。\n点击「最快运行设定」按钮后，将根据移动距离与负载质量，计算速度与加减速度。","通过速度・加减速度・移动距离自动计算单轴机械手的定位时间（Cycle Time）。\n请在以下<a>～<e>项目中选择使用的产品。　在<1>～<5>中输入需要的运行条件。\n点击「最快运行设定」按钮后，将根据移动距离与负载质量，计算速度与加减速度。"]
[5,"系列","系列"]
[6,"型号","型号"]
[7,"导程","导程"]
[8,"减速比","减速比"]
[9,"行程","行程"]
[10,"安装姿态","安装姿态"]
[11,"移动距离[mm]","移动距离[mm]"]
[12,"移动距离[deg]","移动距离[deg]"]
[13,"负载质量[kg]","负载质量[kg]"]
[14,"负载转动惯量[kgm^2]","负载转动惯量[kgm^2]"]
[15,"速度[㎜/s]","速度[㎜/s]"]
[16,"速度[deg/s]","速度[deg/s]"]
[17,"加速度[G]","加速度[G]"]
[18,"减速度[G]","减速度[G]"]
[19,"定位宽度 [㎜]","定位宽度 [㎜]"]
[20,"定位宽度 [deg]","定位宽度 [deg]"]
[21,"未能正确计算定位时间","未能正确计算定位时间"]
[22,"※代表进入定位宽度范围内需要的时间","※代表进入定位宽度范围内需要的时间"]
[23,"※计算结果供参考。 根据负载情况变化，实际的定位时间也会发生变化。\n※伺服增益调整后，可能比计算结果更快定位完成。\n　 详情请参考控制器的使用说明书。","※计算结果供参考。 根据负载情况变化，实际的定位时间也会发生变化。\n※伺服增益调整后，可能比计算结果更快定位完成。\n　 详情请参考控制器的使用说明书。"]
[24,"●计算结果","●计算结果"]
[25,"定位时间 [s]","定位时间 [s]"]
[26,"最快运行设定",{"$f":"B27","v":"最快运行设定"}]
[27,"选择型号",{"$f":"B28","v":"选择型号"},"VBA用"]
[28,"请从列表选择型号","请从列表选择型号","VBA用"]
[29,"选择导程","选择导程","VBA用"]
[30,"请从列表选择导程","请从列表选择导程","VBA用"]
[31,"选择行程","选择行程","VBA用"]
[32,"请从列表选择行程。如果是特殊行程，请选择大于且最接近驱动轴行程的标准行程。","请从列表选择行程。如果是特殊行程，请选择大于且最接近驱动轴行程的标准行程。","VBA用"]
[33,"运行姿态选择","运行姿态选择","VBA用"]
[34,"请从列表选择运行姿态","请从列表选择运行姿态","VBA用"]
[35,"筛选负载质量","筛选负载质量","VBA用"]
[36,"请从列表选择负载质量","请从列表选择负载质量","VBA用"]
[37,"请再从候选列表中选择","请再从候选列表中选择","VBA用"]
[38,"移动距离为有效行程(","移动距离为有效行程(","VBA用"]
[39,"@UNIT)内","@UNIT)内","VBA用"]
[40,"设定值需大于定位宽度。","设定值需大于定位宽度。","VBA用"]
[41,"负载质量超范围。","负载质量超范围。","VBA用"]
[42,"负载質量的上限为","负载質量的上限为","VBA用"]
[43,"kg。","kg。","VBA用"]
[44,"负载转动惯量超范围。","负载转动惯量超范围。","VBA用"]
[45,"负载转动惯量的上限为","负载转动惯量的上限为","VBA用"]
[46,"kgm^2。","kgm^2。","VBA用"]
[47,"速度超范围。","速度超范围。","VBA用"]
[48,"速度的上限为","速度的上限为","VBA用"]
[49,"@UNIT/s。","@UNIT/s。","VBA用"]
[50,"加速度超范围。","加速度超范围。","VBA用"]
[51,"加速度的上限为","加速度的上限为","VBA用"]
[52,"G。","G。","VBA用"]
[53,"减速度超范围。","减速度超范围。","VBA用"]
[54,"减速度的上限为","减速度的上限为","VBA用"]
[55,"G。","G。","VBA用"]
[56,"相对负载和速度设定，加速度超范围。","相对负载和速度设定，加速度超范围。","VBA用"]
[57,"加速度的上限为","加速度的上限为","VBA用"]
[58,"G。","G。","VBA用"]
[59,"相对负载和速度设定，加速度超范围。","相对负载和速度设定，加速度超范围。","VBA用"]
[60,"减速度的上限为","减速度的上限为","VBA用"]
[61,"G。","G。","VBA用"]
[62,"相对负载的设定，速度超范围。","相对负载的设定，速度超范围。","VBA用"]
[63,"速度的上限为","速度的上限为","VBA用"]
[64,"@UNIT/s。","@UNIT/s。","VBA用"]
[65,"负载超范围。","负载超范围。","VBA用"]
[66,"负载的上限为","负载的上限为","VBA用"]
[67,"。","。","VBA用"]
[68,"定位宽度超范围。","定位宽度超范围。","VBA用"]
[69,"设定值需大于0.001@UNIT，小于移动距离。","设定值需大于0.001@UNIT，小于移动距离。","VBA用"]
[70,"更新速度、加减速度。","更新速度、加减速度。","VBA用"]
[71,"确认吗 ?","确认吗 ?","VBA用"]
[72,"最快运行设定","最快运行设定","VBA用"]
[73,"相对于负载设定","相对于负载设定","VBA用"]
[74,"相对于负载与速度设定","相对于负载与速度设定","VBA用"]
[75,"速度 ","速度 ","VBA用"]
[76,"加速度 ","加速度 ","VBA用"]
[77,"减速度 ","减速度 ","VBA用"]
[78,"超出范围。","超出范围。","VBA用"]
[79,"确认更新运行条件吗？","确认更新运行条件吗？","VBA用"]
[80,"水平","水平"]
[81,"垂直","垂直"]

{"sheet":"LangData","index":8,"n_rows":83,"n_cols":6,"rows_kept":83,"cut":false,"hidden":true,"merged":[]}
["言語設定\n(0=日本語\n/1=英語\n/2=中国語)","No.","日本語","英語","中国"]
[2,1,"Ver4.1","Ver4.1","Ver4.1"]
[null,2,"サイクルタイム計算","Cycle time calculation","节拍计算"]
[null,3,"PULSE-MotorSeries","PULSE-MotorSeries","PULSE-MotorSeries"]
["※VBA用文字列を追加した場合は\n　 VBAにも値セット処理を追加すること",4,"速度・加減速度・移動距離から単軸ロボットの位置決め時間（サイクルタイム）を自動で算出します。\n以下の<a>～<e>で使用する製品を選択してください。　<1>～<5>に使用する時の運転条件を入力してください。\n「最速運転設定」ボタンを押すと、移動距離と搬送負荷から、速度と加減速度を設定します。","The cycle time of single axis robot can be calculated automatically from velocity, acceleration, deceleration and cycle-time.\nPlease select the product used from the following from <a> to <e>. Please input the operation conditions from <1> to <5>. \nBy pushing the \"Fastest operation setting\" button, the velocity, acceleration and deceleration are calculated\nfrom moving distance and transfer load.","通过速度・加减速度・移动距离自动计算单轴机械手的定位时间（Cycle Time）。\n请在以下<a>～<e>项目中选择使用的产品。　在<1>～<5>中输入需要的运行条件。\n点击「最快运行设定」按钮后，将根据移动距离与负载质量，计算速度与加减速度。"]
[null,5,"シリーズ","Series","系列"]
[null,6,"型式","Model","型号"]
[null,7,"リード","Lead","导程"]
[null,8,"減速比","Reduction ratio","减速比"]
[null,9,"ストローク","Stroke","行程"]
[null,10,"設置姿勢","Installation Posture","安装姿态"]
[null,11,"移動距離[㎜]","Moving distance [㎜]","移动距离[mm]"]
[null,12,"移動距離[deg]","Moving distance [deg]","移动距离[deg]"]
[null,13,"搬送質量[kg]","Transfer weight [kg]","负载质量[kg]"]
[null,14,"搬送ｲﾅｰｼｬ[kgm^2]","Inertia moment [kgm^2]","负载转动惯量[kgm^2]"]
[null,15,"速度[㎜/s]","Velocity [㎜/s]","速度[㎜/s]"]
[null,16,"速度[deg/s]","Velocity [deg/s]","速度[deg/s]"]
[null,17,"加速度[G]","Acceleration [G]","加速度[G]"]
[null,18,"減速度[G]","Deceleration [G]","减速度[G]"]
[null,19,"位置決め幅 [㎜]","Positioning distance [㎜]","定位宽度 [㎜]"]
[null,20,"位置決め幅 [deg]","Positioning distance [deg]","定位宽度 [deg]"]
[null,21,"位置決め時間を正しく計算できていません","Cycle-time is not calculating correctly.","未能正确计算定位时间"]
[null,22,"※位置決め幅に到達するまでの時間を表します。","※ Time to reach positioning distance","※代表进入定位宽度范围内需要的时间"]
[null,23,"※計算結果は参考値です。　負荷状況により実際の位置決め時間とは異なる場合があります。\n※ゲイン調整により計算結果より早く位置決めできる場合があります。\n　 詳しくは使用するコントローラーの取扱説明書をご確認ください。","※The calculation result is a reference value.\n　 The actual positioning time may differ depending on the load conditions.\n※By adjusting the servo gain, it may be possible to position faster than the calculation result.\n　 For details, please refer to the instruction manual of the controller to be used. ","※计算结果供参考。 根据负载情况变化，实际的定位时间也会发生变化。\n※伺服增益调整后，可能比计算结果更快定位完成。\n　 详情请参考控制器的使用说明书。"]
[null,24,"●計算結果","●Calculation result","●计算结果"]
[null,25,"位置決め時間 [s]","Cycle-time [s]","定位时间 [s]"]
[null,26,"最速運転設定","Fastest operating setting","最快运行设定"]
[null,27,"型式選択","Select Model","选择型号","VBA用"]
[null,28,"リストから、型式を選択してください。","Select Model from the List.","请从列表选择型号","VBA用"]
[null,29,"リード選択","Select Lead","选择导程","VBA用"]
[null,30,"リストから、リードを選択してください。","Select Lead from the List.","请从列表选择导程","VBA用"]
[null,31,"ストローク選択","Select Stroke","选择行程","VBA用"]
[null,32,"ﾘｽﾄから、ｽﾄﾛｰｸを選択してください。半端ｽﾄﾛｰｸ(ｽﾄﾛｰｸ特殊)の場合、そのｱｸﾁｭｴｰﾀのｽﾄﾛｰｸに最も近い、それ以上の標準ｽﾄﾛｰｸを選択してください。","Select Stroke from the List. In case of odd stroke (special stoke), please select the nearest stroke (longer standard-stroke).","请从列表选择行程。如果是特殊行程，请选择大于且最接近驱动轴行程的标准行程。","VBA用"]
[null,33,"運転姿勢選択","Select installation posture","运行姿态选择","VBA用"]
[null,34,"リストから、運転姿勢を選択してください。","Select installation posture from the List.","请从列表选择运行姿态","VBA用"]
[null,35,"搬送質量絞込み","Specify Transfer Weight","筛选负载质量","VBA用"]
[null,36,"ﾘｽﾄから、搬送質量を選択してください。","Select Transfer Weight from the List.","请从列表选择负载质量","VBA用"]
[null,37,"候補から再度選択して下さい。","Select again from the other options.","请再从候选列表中选择","VBA用"]
[null,38,"移動距離は、有効ストローク(","Moving distance should be within the effective stroke","移动距离为有效行程(","VBA用"]
[null,39,"@UNIT)以内で、","(@UNIT).","@UNIT)内","VBA用"]
[null,40,"位置決め幅より大きい値を設定して下さい。","Please set much longer than the positioning distance.","设定值需大于定位宽度。","VBA用"]
[null,41,"搬送質量が範囲外です。","The transfer weight is out of range.","负载质量超范围。","VBA用"]
[null,42,"搬送質量の上限は","The limit of transfer weight is","负载質量的上限为","VBA用"]
[null,43,"kgです。","kg,","kg。","VBA用"]
[null,44,"搬送ｲﾅｰｼｬが範囲外です。","The inertia moment is out of range.","负载转动惯量超范围。","VBA用"]
[null,45,"搬送ｲﾅｰｼｬの上限は","The limit of inertia moment is","负载转动惯量的上限为","VBA用"]
[null,46,"kgm^2です。","kgm^2.","kgm^2。","VBA用"]
[null,47,"速度が範囲外です。","The velocity is out of range.","速度超范围。","VBA用"]
[null,48,"速度の上限は","The limit of velocity is","速度的上限为","VBA用"]
[null,49,"@UNIT/sです。","@UNIT/s.","@UNIT/s。","VBA用"]
[null,50,"加速度が範囲外です。","The acceleration is out of range.","加速度超范围。","VBA用"]
[null,51,"加速度の上限は","The limit of acceleration is","加速度的上限为","VBA用"]
[null,52,"Gです。","G.","G。","VBA用"]
[null,53,"減速度が範囲外です。","The deceleration is out of range.","减速度超范围。","VBA用"]
[null,54,"減速度の上限は","The limit of deceleration is","减速度的上限为","VBA用"]
[null,55,"Gです。","G.","G。","VBA用"]
[null,56,"搬送負荷と速度の設定に対して加速度が範囲外です。","The acceleration is out of range for the setting of transfer load and velocity.","相对负载和速度设定，加速度超范围。","VBA用"]
[null,57,"加速度の上限は","The limit of acceleration is","加速度的上限为","VBA用"]
[null,58,"Gです。","G.","G。","VBA用"]
[null,59,"搬送負荷と速度の設定に対して減速度が範囲外です。","The deceleration is out of range for the setting of transfer load and velocity.","相对负载和速度设定，加速度超范围。","VBA用"]
[null,60,"減速度の上限は","The limit of deceleration is","减速度的上限为","VBA用"]
[null,61,"Gです。","G.","G。","VBA用"]
[null,62,"搬送負荷の設定に対して速度が範囲外です。","The velocity is out of range for the setting of transfer load.","相对负载的设定，速度超范围。","VBA用"]
[null,63,"速度の上限は","The limit of velocity is","速度的上限为","VBA用"]
[null,64,"@UNIT/sです。","@UNIT/s.","@UNIT/s。","VBA用"]
[null,65,"搬送負荷が範囲外です。","The transfer load is out of range ","负载超范围。","VBA用"]
[null,66,"搬送負荷の上限は","The limit of transfer load is","负载的上限为","VBA用"]
[null,67,"です。","kg.","。","VBA用"]
[null,68,"位置決め幅が範囲外です。","The positioning distance is out of range ","定位宽度超范围。","VBA用"]
[null,69,"0.001@UNIT以上、移動距離未満で設定して下さい。","Please set the poisoning distance longer than 0.001@UNIT and shorter than moving distance.","设定值需大于0.001@UNIT，小于移动距离。","VBA用"]
[null,70,"速度、加減速度を上書きします。","Overwrite the velocity, acceleration and deceleration.","更新速度、加减速度。","VBA用"]
[null,71,"よろしいですか ?","Is it OK to overwrite?","确认吗 ?","VBA用"]
[null,72,"最速運転設定","Setting fastest driving. ","最快运行设定","VBA用"]
[null,73,"搬送負荷の設定に対して、","For setting of the transfer load,","相对于负载设定","VBA用"]
[null,74,"搬送負荷と速度の設定に対して","For setting of the transfer load and velocity,","相对于负载与速度设定","VBA用"]
[null,75,"速度 ","Velocity","速度 ","VBA用"]
[null,76,"加速度 ","Acceleration","加速度 ","VBA用"]
[null,77,"減速度 ","deceleration ","减速度 ","VBA用"]
[null,78,"が、範囲外です。","is out of range.","超出范围。","VBA用"]
[null,79,"運転条件を上書きして、よろしいですか？","Is it Ok to overwrite the operating conditions?","确认更新运行条件吗？","VBA用"]
[null,80,"水平","Horizontal","水平"]
[null,81,"垂直","Vertical","垂直"]
[null,"EOF"]

{"sheet":"LangData_Model","index":9,"n_rows":88,"n_cols":4,"rows_kept":88,"cut":false,"hidden":true,"merged":[]}
["No.","日本語","英語","中国"]
[1,"RCP3-SA2AC-20P-*S","RCP3-SA2AC-20P-*S","RCP3-SA2AC-20P-*S"]
[2,"RCP3-SA2BC-20P-*S","RCP3-SA2BC-20P-*S","RCP3-SA2BC-20P-*S"]
[3,"RCP3-SA3C","RCP3-SA3C","RCP3-SA3C"]
[4,"RCP3-SA4C","RCP3-SA4C","RCP3-SA4C"]
[5,"RCP3-SA5C","RCP3-SA5C","RCP3-SA5C"]
[6,"RCP3-SA6C","RCP3-SA6C","RCP3-SA6C"]
[7,"RCP3-SA2AR-20P-*S","RCP3-SA2AR-20P-*S","RCP3-SA2AR-20P-*S"]
[8,"RCP3-SA2BR-20P-*S","RCP3-SA2BR-20P-*S","RCP3-SA2BR-20P-*S"]
[9,"RCP3-SA3R","RCP3-SA3R","RCP3-SA3R"]
[10,"RCP3-SA4R","RCP3-SA4R","RCP3-SA4R"]
[11,"RCP3-SA5R","RCP3-SA5R","RCP3-SA5R"]
[12,"RCP3-SA6R","RCP3-SA6R","RCP3-SA6R"]
[13,"RCP2-SA5C","RCP2-SA5C","RCP2-SA5C"]
[14,"RCP2-SA6C","RCP2-SA6C","RCP2-SA6C"]
[15,"RCP2-SA7C","RCP2-SA7C","RCP2-SA7C"]
[16,"RCP2-SS7C","RCP2-SS7C","RCP2-SS7C"]
[17,"RCP2-SS8C","RCP2-SS8C","RCP2-SS8C"]
[18,"RCP2-HS8C","RCP2-HS8C","RCP2-HS8C"]
[19,"RCP2-SA5R","RCP2-SA5R","RCP2-SA5R"]
[20,"RCP2-SA6R","RCP2-SA6R","RCP2-SA6R"]
[21,"RCP2-SA7R","RCP2-SA7R","RCP2-SA7R"]
[22,"RCP2-SS7R","RCP2-SS7R","RCP2-SS7R"]
[23,"RCP2-SS8R","RCP2-SS8R","RCP2-SS8R"]
[24,"RCP2-HS8R","RCP2-HS8R","RCP2-HS8R"]
[25,"RCP2-BA6","RCP2-BA6","RCP2-BA6"]
[26,"RCP2-BA7","RCP2-BA7","RCP2-BA7"]
[27,"ERC2-SA6C","ERC2-SA6C","ERC2-SA6C"]
[28,"ERC2-SA7C","ERC2-SA7C","ERC2-SA7C"]
[29,"RCP3-RA2AC-20P-*S","RCP3-RA2AC-20P-*S","RCP3-RA2AC-20P-*S"]
[30,"RCP3-RA2BC-20P-*S","RCP3-RA2BC-20P-*S","RCP3-RA2BC-20P-*S"]
[31,"RCP3-RA2AR-20P-*S","RCP3-RA2AR-20P-*S","RCP3-RA2AR-20P-*S"]
[32,"RCP3-RA2BR-20P-*S","RCP3-RA2BR-20P-*S","RCP3-RA2BR-20P-*S"]
[33,"RCP2-RA2C","RCP2-RA2C","RCP2-RA2C"]
[34,"RCP2-RA3C","RCP2-RA3C","RCP2-RA3C"]
[35,"RCP2-RA4C","RCP2-RA4C","RCP2-RA4C"]
[36,"RCP2-RA6C","RCP2-RA6C","RCP2-RA6C"]
[37,"RCP2-RA10C","RCP2-RA10C","RCP2-RA10C"]
[38,"RCP2-SRA4R","RCP2-SRA4R","RCP2-SRA4R"]
[39,"RCP2-RGS4C","RCP2-RGS4C","RCP2-RGS4C"]
[40,"RCP2-RGS6C","RCP2-RGS6C","RCP2-RGS6C"]
[41,"RCP2-SRGS4R","RCP2-SRGS4R","RCP2-SRGS4R"]
[42,"RCP2-RGD3C","RCP2-RGD3C","RCP2-RGD3C"]
[43,"RCP2-RGD4C","RCP2-RGD4C","RCP2-RGD4C"]
[44,"RCP2-RGD6C","RCP2-RGD6C","RCP2-RGD6C"]
[45,"RCP2-SRGD4R","RCP2-SRGD4R","RCP2-SRGD4R"]
[46,"ERC2-RA6C","ERC2-RA6C","ERC2-RA6C"]
[47,"ERC2-RA7C","ERC2-RA7C","ERC2-RA7C"]
[48,"ERC2-RGS6C","ERC2-RGS6C","ERC2-RGS6C"]
[49,"ERC2-RGS7C","ERC2-RGS7C","ERC2-RGS7C"]
[50,"ERC2-RGD6C","ERC2-RGD6C","ERC2-RGD6C"]
[51,"ERC2-RGD7C","ERC2-RGD7C","ERC2-RGD7C"]
[52,"RCP3-TA3C","RCP3-TA3C","RCP3-TA3C"]
[53,"RCP3-TA4C","RCP3-TA4C","RCP3-TA4C"]
[54,"RCP3-TA5C","RCP3-TA5C","RCP3-TA5C"]
[55,"RCP3-TA6C","RCP3-TA6C","RCP3-TA6C"]
[56,"RCP3-TA7C","RCP3-TA7C","RCP3-TA7C"]
[57,"RCP3-TA3R","RCP3-TA3R","RCP3-TA3R"]
[58,"RCP3-TA4R","RCP3-TA4R","RCP3-TA4R"]
[59,"RCP3-TA5R","RCP3-TA5R","RCP3-TA5R"]
[60,"RCP3-TA6R","RCP3-TA6R","RCP3-TA6R"]
[61,"RCP3-TA7R","RCP3-TA7R","RCP3-TA7R"]
[62,"RCP2-RTBSL","RCP2-RTBSL","RCP2-RTBSL"]
[63,"RCP2-RTCSL","RCP2-RTCSL","RCP2-RTCSL"]
[64,"RCP2-RTBL","RCP2-RTBL","RCP2-RTBL"]
[65,"RCP2-RTCL","RCP2-RTCL","RCP2-RTCL"]
[66,"RCP2-RTBBL","RCP2-RTBBL","RCP2-RTBBL"]
[67,"RCP2-RTCBL","RCP2-RTCBL","RCP2-RTCBL"]
[68,"RCP2CR-SA5C","RCP2CR-SA5C","RCP2CR-SA5C"]
[69,"RCP2CR-SA6C","RCP2CR-SA6C","RCP2CR-SA6C"]
[70,"RCP2CR-SA7C","RCP2CR-SA7C","RCP2CR-SA7C"]
[71,"RCP2CR-SS7C","RCP2CR-SS7C","RCP2CR-SS7C"]
[72,"RCP2CR-SS8C","RCP2CR-SS8C","RCP2CR-SS8C"]
[73,"RCP2CR-HS8C","RCP2CR-HS8C","RCP2CR-HS8C"]
[74,"RCP2W-RA4C","RCP2W-RA4C","RCP2W-RA4C"]
[75,"RCP2W-RA6C","RCP2W-RA6C","RCP2W-RA6C"]
[76,"RCP2W-RA10C","RCP2W-RA10C","RCP2W-RA10C"]
[77,"RCP3-RA2AC-20P","RCP3-RA2AC-20P","RCP3-RA2AC-20P"]
[78,"RCP3-RA2AC-20SP","RCP3-RA2AC-20SP","RCP3-RA2AC-20SP"]
[79,"RCP3-RA2BC-20P","RCP3-RA2BC-20P","RCP3-RA2BC-20P"]
[80,"RCP3-RA2BC-20SP","RCP3-RA2BC-20SP","RCP3-RA2BC-20SP"]
[81,"RCP3-RA2AR-20P","RCP3-RA2AR-20P","RCP3-RA2AR-20P"]
[82,"RCP3-RA2AR-20SP","RCP3-RA2AR-20SP","RCP3-RA2AR-20SP"]
[83,"RCP3-RA2BR-20P","RCP3-RA2BR-20P","RCP3-RA2BR-20P"]
[84,"RCP3-RA2BR-20SP","RCP3-RA2BR-20SP","RCP3-RA2BR-20SP"]
[85,"RCP2-RA8C","RCP2-RA8C","RCP2-RA8C"]
[86,"RCP2-RA8R","RCP2-RA8R","RCP2-RA8R"]
["EOF"]